{"text_format":"1","workbook":"xlsx","n_sheets":13,"sheets":["Alle Armaturen","IC40","FCU 500","PFU","PFS_PFD","BCU400","UVS","->Tools","PFS_PFD_SelectionTool","BCU400_Selection_Tool","BCU400_Database","Tabelle1","Tabelle3"],"not_rendered":{"charts":0,"images":0,"macros":0,"external_links":0,"defined_names":28,"comments":0,"pivot_tables":0},"unopened":[],"bounds":{"document_bytes":16777216,"sheet_cells":100000,"rows_first":2000,"rows_last":500,"rows_between":2000,"halvings":0,"cell_chars":16384,"cell_head_chars":4096},"cells_cut":0,"cells_raw":0,"read":"whole","date_system":"1900"}

{"sheet":"Alle Armaturen","index":0,"n_rows":2397,"n_cols":6,"rows_kept":2397,"cut":false,"hidden":false,"merged":[]}
["f","TXT_OLD","ID_NEW","TXT_NEW","Hinweis","Remark"]
[85204560,"VG 10/15R02LK31D",88000561,"VAS110R/LK"]
[85204702,"VG 10/15R02LK61CPS6",88004852,"VAS110R/LKSR"]
[85204791,"VG 10/15R02LK61S",88004852,"VAS110R/LKSR"]
[85204670,"VG 10/15R02LQ31D",88000017,"VAS110R/LQ"]
[85204520,"VG 10/15R02LT31D",88000007,"VAS110R/LW"]
[85212530,"VG 10/15R03LT31D",88000007,"VAS110R/LW"]
[85204571,"VG 10/15R02LT6L1D",88000579,"VAS110R/LW"]
[85204460,"VG 10/15R02NK31D",88000086,"VAS110R/NK"]
[85212450,"VG 10/15R03NK31D",88000086,"VAS110R/NK"]
[85204490,"VG 10/15R02NK61D",88000610,"VAS110R/NK"]
[85204491,"VG 10/15R02NK6L1D",88000610,"VAS110R/NK"]
[85204741,"VG 10/15R02NK31CPS",88004853,"VAS110R/NKSR"]
[85204450,"VG 10/15R02NM31D",88000012,"VAS110R/NQ"]
[85204620,"VG 10/15R02NQ31D",88000012,"VAS110R/NQ"]
[85212455,"VG 10/15R03NQ31D",88000012,"VAS110R/NQ"]
[85204621,"VG 10/15R02NQ61D",88000588,"VAS110R/NQ"]
[85204622,"VG 10/15R02NQ6L1D",88000588,"VAS110R/NQ"]
[85204704,"VG 10/15R02NQ6L1CPS6",88004854,"VAS110R/NQSR"]
[85204735,"VG 10/15R03NQ61CPS6",88004854,"VAS110R/NQSR"]
[85204430,"VG 10/15R02NT31D",88000002,"VAS110R/NW"]
[85212430,"VG 10/15R03NT31D",88000002,"VAS110R/NW"]
[85204470,"VG 10/15R02NT61D",88000569,"VAS110R/NW"]
[85204441,"VG 10/15R02NT65DM",88000569,"VAS110R/NW"]
[85204472,"VG 10/15R02NT6L1D",88000569,"VAS110R/NW"]
[85212433,"VG 10/15R03NT61D",88000569,"VAS110R/NW"]
[85212431,"VG 10/15R03NT6L1D",88000569,"VAS110R/NW"]
[85204703,"VG 10/15R02NT31CPS",88003619,"VAS110R/NWSR"]
[85204733,"VG 10/15R03NT31CPS",88003619,"VAS110R/NWSR"]
[85212432,"VG 10/15R03NT31DS",88003619,"VAS110R/NWSR"]
[85204730,"VG 10/15R03NT31S",88003619,"VAS110R/NWSR"]
[85213140,"VG 15R03LK31D",88000562,"VAS115R/LK"]
[85205190,"VG 15R02LK61D",88000621,"VAS115R/LK"]
[85205144,"VG 15R02LK61DM",88000621,"VAS115R/LK"]
[85205191,"VG 15R02LK6L1D",88000621,"VAS115R/LK"]
[85213152,"VG 15R03LK6L1DM",88000621,"VAS115R/LK"]
[85205391,"VG 15R02LK6L1CPS6",88004793,"VAS115R/LKSR"]
[85205331,"VG 15R03LK61CPS6",88004793,"VAS115R/LKSR"]
[85205316,"VG 15R03LK61S",88004793,"VAS115R/LKSR"]
[85205150,"VG 15R02LM31D",88000018,"VAS115R/LQ"]
[85213160,"VG 15R03LQ31D",88000018,"VAS115R/LQ"]
[85205180,"VG 15R02LM61D",88000600,"VAS115R/LQ"]
[85205271,"VG 15R02LQ61D",88000600,"VAS115R/LQ"]
[85205332,"VG 15R02LQ31CPS",88004842,"VAS115R/LQSR"]
[85213120,"VG 15R03LT31D",88000008,"VAS115R/LW"]
[85213150,"VG 15R03LT31DM",88000008,"VAS115R/LW"]
[85205170,"VG 15R02LT61D",88000580,"VAS115R/LW"]
[85205171,"VG 15R02LT6L1D",88000580,"VAS115R/LW"]
[85205146,"VG 15R02LT6L1DM",88000580,"VAS115R/LW"]
[85213123,"VG 15R03LT61D",88000580,"VAS115R/LW"]
[85213124,"VG 15R03LT6L1D",88000580,"VAS115R/LW"]
[85205172,"VG 15R02LT51D",88002229,"VAS115R/LW"]
[85205113,"VG 15R02LT6L1DG",88004982,"VAS115R/LWGR"]
[85205308,"VG 15R02LT31CPS",88003247,"VAS115R/LWSR"]
[85205350,"VG 15R02LT31S",88003247,"VAS115R/LWSR"]
[85205334,"VG 15R03LT31CPS",88003247,"VAS115R/LWSR"]
[85205352,"VG 15R02LT6L1CPS6",88004794,"VAS115R/LWSR"]
[85205351,"VG 15R02LT6L1S",88004794,"VAS115R/LWSR"]
[85213060,"VG 15R03NK31D",88000087,"VAS115R/NK"]
[85205090,"VG 15R02NK61D",88000131,"VAS115R/NK"]
[85205038,"VG 15R02NK61DM",88000131,"VAS115R/NK"]
[85205091,"VG 15R02NK6L1D",88000131,"VAS115R/NK"]
[85205043,"VG 15R02NK6L1DM",88000131,"VAS115R/NK"]
[85213061,"VG 15R03NK61D",88000131,"VAS115R/NK"]
[85213063,"VG 15R03NK6L1D",88000131,"VAS115R/NK"]
[85213071,"VG 15R03NK6L1DM",88000131,"VAS115R/NK"]
[85213065,"VG 15R03NK61DG",88003437,"VAS115R/NKGR"]
[85213066,"VG 15R03NK6L1DG",88003437,"VAS115R/NKGR"]
[85205343,"VG 15R02NK6L1CPS6",88004790,"VAS115R/NKSR"]
[85205325,"VG 15R03NK6L1CPS6",88004790,"VAS115R/NKSR"]
[85205344,"VG 15R02NK31CPS",88004791,"VAS115R/NKSR"]
[85205340,"VG 15R02NK31S",88004791,"VAS115R/NKSR"]
[85205328,"VG 15R03NK31CPS",88004791,"VAS115R/NKSR"]
[85205050,"VG 15R02NM31D",88000013,"VAS115R/NQ"]
[85213050,"VG 15R03NM31D",88000013,"VAS115R/NQ"]
[85213080,"VG 15R03NQ31D",88000013,"VAS115R/NQ"]
[85213083,"VG 15R03NQ41D",88000013,"VAS115R/NQ"]
[85205080,"VG 15R02NM61D",88000589,"VAS115R/NQ"]
[85205081,"VG 15R02NM6L1D",88000589,"VAS115R/NQ"]
[85205222,"VG 15R02NQ61D",88000589,"VAS115R/NQ"]
[85205221,"VG 15R02NQ6L1D",88000589,"VAS115R/NQ"]
[85213082,"VG 15R03NQ6L1D",88000589,"VAS115R/NQ"]
[85205223,"VG 15R02NQ51D",88004978,"VAS115R/NQ"]
[85205051,"VG 15R02NM31DS",88000100,"VAS115R/NQSR"]
[85205323,"VG 15R02NQ31CPS",88000100,"VAS115R/NQSR"]
[85205322,"VG 15R02NQ31S",88000100,"VAS115R/NQSR"]
[85205324,"VG 15R03NQ31CPS",88000100,"VAS115R/NQSR"]
[85205327,"VG 15R02NQ6L1CPS6",88004792,"VAS115R/NQSR"]
[85213030,"VG 15R03NT31D",88000003,"VAS115R/NW"]
[85213070,"VG 15R03NT31DM",88000003,"VAS115R/NW"]
[85205070,"VG 15R02NT61D",88000139,"VAS115R/NW"]
[85205045,"VG 15R02NT61DM",88000139,"VAS115R/NW"]
[85205072,"VG 15R02NT6L1D",88000139,"VAS115R/NW"]
[85205046,"VG 15R02NT6L1DM",88000139,"VAS115R/NW"]
[85205026,"VG 15R02NT6L1M",88000139,"VAS115R/NW"]
[85213032,"VG 15R03NT61D",88000139,"VAS115R/NW"]
[85213073,"VG 15R03NT61DM",88000139,"VAS115R/NW"]
[85213034,"VG 15R03NT6L1D",88000139,"VAS115R/NW"]
[85205073,"VG 15R02NT51D",88002027,"VAS115R/NW"]
[85205306,"VG 15R02NT31CPS",88002940,"VAS115R/NWSR"]
[85205330,"VG 15R02NT31CPSM",88002940,"VAS115R/NWSR"]
[85205300,"VG 15R02NT31S",88002940,"VAS115R/NWSR"]
[85205326,"VG 15R03NT31CPS",88002940,"VAS115R/NWSR"]
[85213033,"VG 15R03NT31DS",88002940,"VAS115R/NWSR"]
[85205310,"VG 15R03NT31S",88002940,"VAS115R/NWSR"]
[85205305,"VG 15R02NT61CPS6",88003876,"VAS115R/NWSR"]
[85205304,"VG 15R02NT6L1CPS",88003876,"VAS115R/NWSR"]
[85205309,"VG 15R02NT6L1CPS6",88003876,"VAS115R/NWSR"]
[85205303,"VG 15R02NT6L1S",88003876,"VAS115R/NWSR"]
[85205319,"VG 15R03NT6L1CPS",88003876,"VAS115R/NWSR"]
[85214150,"VG 20R03LK31D",88000563,"VAS120R/LK"]
[85206190,"VG 20R02LK61D",88000622,"VAS120R/LK"]
[85206191,"VG 20R02LK6L1D",88000622,"VAS120R/LK"]
[85206354,"VG 20R02LK31CPS",88004981,"VAS120R/LKSR"]
[85206150,"VG 20R02LM31D",88000019,"VAS120R/LQ"]
[85214180,"VG 20R03LQ31D",88000019,"VAS120R/LQ"]
[85206373,"VG 20R02LQ31CPS",88004796,"VAS120R/LQSR"]
[85214120,"VG 20R03LT31D",88000009,"VAS120R/LW"]
[85206170,"VG 20R02LT61D",88000326,"VAS120R/LW"]
[85206171,"VG 20R02LT6L1D",88000326,"VAS120R/LW"]
[85214123,"VG 20R03LT61D",88000326,"VAS120R/LW"]
[85206172,"VG 20R02LT51D",88004976,"VAS120R/LW"]
[85206353,"VG 20R02LT31CPS",88002397,"VAS120R/LWSR"]
[85206350,"VG 20R02LT31S",88002397,"VAS120R/LWSR"]
[85206374,"VG 20R02LT6L1CPS6M",88004797,"VAS120R/LWSR"]
[85214050,"VG 20R03NK31D",88000088,"VAS120R/NK"]
[85206090,"VG 20R02NK61D",88000611,"VAS120R/NK"]
[85206095,"VG 20R02NK61DM",88000611,"VAS120R/NK"]
[85206091,"VG 20R02NK6L1D",88000611,"VAS120R/NK"]
[85206047,"VG 20R02NK6L1DM",88000611,"VAS120R/NK"]
[85214053,"VG 20R03NK61D",88000611,"VAS120R/NK"]
[85206346,"VG 20R02NK31CPS",88004798,"VAS120R/NKSR"]
[85206340,"VG 20R02NK31S",88004798,"VAS120R/NKSR"]
[85206319,"VG 20R03NK31CPS",88004798,"VAS120R/NKSR"]
[85206310,"VG 20R03NK31S",88004798,"VAS120R/NKSR"]
[85206342,"VG 20R02NK61S",88004799,"VAS120R/NKSR"]
[85206345,"VG 20R02NK6L1CPS6",88004799,"VAS120R/NKSR"]
[85206318,"VG 20R03NK61CPS6",88004799,"VAS120R/NKSR"]
[85206315,"VG 20R03NK6L1CPS6",88004799,"VAS120R/NKSR"]
[85206050,"VG 20R02NM31D",88000014,"VAS120R/NQ"]
[85214080,"VG 20R03NQ31D",88000014,"VAS120R/NQ"]
[85206080,"VG 20R02NM61D",88000590,"VAS120R/NQ"]
[85206081,"VG 20R02NM6L1D",88000590,"VAS120R/NQ"]
[85206222,"VG 20R02NQ61D",88000590,"VAS120R/NQ"]
[85206221,"VG 20R02NQ6L1D",88000590,"VAS120R/NQ"]
[85214084,"VG 20R03NQ61D",88000590,"VAS120R/NQ"]
[85214082,"VG 20R03NQ6L1D",88000590,"VAS120R/NQ"]
[85206322,"VG 20R02NQ31CPS",88002054,"VAS120R/NQSR"]
[85206312,"VG 20R03NM31S",88002054,"VAS120R/NQSR"]
[85206316,"VG 20R03NQ31CPS",88002054,"VAS120R/NQSR"]
[85206324,"VG 20R02NQ61CPS6",88004800,"VAS120R/NQSR"]
[85206326,"VG 20R02NQ6L1CPS6",88004800,"VAS120R/NQSR"]
[85206330,"VG 20R03NQ61CPS6",88004800,"VAS120R/NQSR"]
[85214030,"VG 20R03NT31D",88000004,"VAS120R/NW"]
[85214060,"VG 20R03NT31DM",88000004,"VAS120R/NW"]
[85206070,"VG 20R02NT61D",88000570,"VAS120R/NW"]
[85206042,"VG 20R02NT61DM",88000570,"VAS120R/NW"]
[85206072,"VG 20R02NT6L1D",88000570,"VAS120R/NW"]
[85214032,"VG 20R03NT61D",88000570,"VAS120R/NW"]
[85214061,"VG 20R03NT61DM",88000570,"VAS120R/NW"]
[85214033,"VG 20R03NT6L1D",88000570,"VAS120R/NW"]
[85206073,"VG 20R02NT51D",88002558,"VAS120R/NW"]
[85206304,"VG 20R02NT31CPS",88002183,"VAS120R/NWSR"]
[85206300,"VG 20R02NT31S",88002183,"VAS120R/NWSR"]
[85206317,"VG 20R03NT31CPS",88002183,"VAS120R/NWSR"]
[85206306,"VG 20R02NT61CPS6",88004802,"VAS120R/NWSR"]
[85206122,"VG 20R02LT6L1DZ",88000326,"VAS120R/LW"]
[85206038,"VG 20R02NT6L1DZ",88000570,"VAS120R/NW"]
[85215160,"VG 25R03LK31D",88000564,"VAS125R/LK"]
[85207190,"VG 25R02LK61D",88000623,"VAS125R/LK"]
[85207191,"VG 25R02LK6L1D",88000623,"VAS125R/LK"]
[85215162,"VG 25R03LK61D",88000623,"VAS125R/LK"]
[85207393,"VG 25R02LK31CPS",88004803,"VAS125R/LKSR"]
[85207398,"VG 25R03LK31CPS",88004803,"VAS125R/LKSR"]
[85207150,"VG 25R02LM31D",88000020,"VAS125R/LQ"]
[85215180,"VG 25R03LQ31D",88000020,"VAS125R/LQ"]
[85207271,"VG 25R02LQ6L1D",88000602,"VAS125R/LQ"]
[85215181,"VG 25R03LQ61D",88000602,"VAS125R/LQ"]
[85207372,"VG 25R02LQ31CPS",88004805,"VAS125R/LQSR"]
[85207371,"VG 25R02LQ31S",88004805,"VAS125R/LQSR"]
[85215120,"VG 25R03LT31D",88000010,"VAS125R/LW"]
[85207170,"VG 25R02LT61D",88000581,"VAS125R/LW"]
[85207171,"VG 25R02LT6L1D",88000581,"VAS125R/LW"]
[85215121,"VG 25R03LT61D",88000581,"VAS125R/LW"]
[85215123,"VG 25R03LT6L1D",88000581,"VAS125R/LW"]
[85207125,"VG 25R02LT51D",88004977,"VAS125R/LW"]
[85207354,"VG 25R02LT31CPS",88003746,"VAS125R/LWSR"]
[85207110,"VG 25R02LT31DS",88003746,"VAS125R/LWSR"]
[85207350,"VG 25R02LT31S",88003746,"VAS125R/LWSR"]
[85207394,"VG 25R03LT31CPS",88003746,"VAS125R/LWSR"]
[85207384,"VG 25R03LT31S",88003746,"VAS125R/LWSR"]
[85207355,"VG 25R02LT61CPS6",88004806,"VAS125R/LWSR"]
[85207351,"VG 25R02LT6L1S",88004806,"VAS125R/LWSR"]
[85215060,"VG 25R03NK31D",88000089,"VAS125R/NK"]
[85207090,"VG 25R02NK61D",88000612,"VAS125R/NK"]
[85207047,"VG 25R02NK61DM",88000612,"VAS125R/NK"]
[85207092,"VG 25R02NK6L1D",88000612,"VAS125R/NK"]
[85207048,"VG 25R02NK6L1DM",88000612,"VAS125R/NK"]
[85215064,"VG 25R03NK61D",88000612,"VAS125R/NK"]
[85215061,"VG 25R03NK6L1D",88000612,"VAS125R/NK"]
[85207062,"VG 25R02NK6L1DG",88004316,"VAS125R/NKGR"]
[85215062,"VG 25R03NK61DG",88004316,"VAS125R/NKGR"]
[85215065,"VG 25R03NK6L1DG",88004316,"VAS125R/NKGR"]
[85207345,"VG 25R02NK31CPS",88004004,"VAS125R/NKSR"]
[85207400,"VG 25R03NK31CPS",88004004,"VAS125R/NKSR"]
[85207381,"VG 25R03NK31S",88004004,"VAS125R/NKSR"]
[85207346,"VG 25R02NK61CPS6",88004807,"VAS125R/NKSR"]
[85207344,"VG 25R02NK6L1CPS6",88004807,"VAS125R/NKSR"]
[85207389,"VG 25R03NK61CPS6",88004807,"VAS125R/NKSR"]
[85207388,"VG 25R03NK6L1CPS",88004807,"VAS125R/NKSR"]
[85207386,"VG 25R03NK6L1S",88004807,"VAS125R/NKSR"]
[85207050,"VG 25R02NM31D",88000015,"VAS125R/NQ"]
[85207041,"VG 25R02NM31DM",88000015,"VAS125R/NQ"]
[85215080,"VG 25R03NQ31D",88000015,"VAS125R/NQ"]
[85207082,"VG 25R02NM51D",88000591,"VAS125R/NQ"]
[85207080,"VG 25R02NM61D",88000591,"VAS125R/NQ"]
[85207222,"VG 25R02NQ61D",88000591,"VAS125R/NQ"]
[85207221,"VG 25R02NQ6L1D",88000591,"VAS125R/NQ"]
[85215081,"VG 25R03NQ6L1D",88000591,"VAS125R/NQ"]
[85207323,"VG 25R02NQ31CPS",88003961,"VAS125R/NQSR"]
[85207322,"VG 25R02NQ31S",88003961,"VAS125R/NQSR"]
[85207324,"VG 25R02NQ6L1CPS6",88004808,"VAS125R/NQSR"]
[85207396,"VG 25R03NQ61CPS6",88004808,"VAS125R/NQSR"]
[85215030,"VG 25R03NT31D",88000005,"VAS125R/NW"]
[85215040,"VG 25R03NT31DM",88000005,"VAS125R/NW"]
[85207070,"VG 25R02NT61D",88000571,"VAS125R/NW"]
[85207044,"VG 25R02NT61DM",88000571,"VAS125R/NW"]
[85207071,"VG 25R02NT62D",88000571,"VAS125R/NW"]
[85207072,"VG 25R02NT6L1D",88000571,"VAS125R/NW"]
[85207045,"VG 25R02NT6L1DM",88000571,"VAS125R/NW"]
[85215032,"VG 25R03NT61D",88000571,"VAS125R/NW"]
[85215031,"VG 25R03NT6L1D",88000571,"VAS125R/NW"]
[85207074,"VG 25R02NT51D",88003421,"VAS125R/NW"]
[85207049,"VG 25R02NT6L5DM",88003421,"VAS125R/NW"]
[85207304,"VG 25R02NT31CPS",88001019,"VAS125R/NWSR"]
[85207305,"VG 25R02NT31CPSM",88001019,"VAS125R/NWSR"]
[85207300,"VG 25R02NT31S",88001019,"VAS125R/NWSR"]
[85207387,"VG 25R03NT31CPS",88001019,"VAS125R/NWSR"]
[85207397,"VG 25R03NT61CPS6",88004809,"VAS125R/NWSR"]
[85207306,"VG 25R02NT61CPS6",88004809,"VAS125R/NWSR"]
[85207392,"VG 25R02NT6L1CPS6",88004809,"VAS125R/NWSR"]
[85235303,"VG 15TN02LQ92",88001857,"VAS1T15N/LQ"]
[85235301,"VG 15TN02LQ92D",88001857,"VAS1T15N/LQ"]
[85235103,"VG 15TN03LQ92",88001857,"VAS1T15N/LQ"]
[85235101,"VG 15TN03LQ92D",88001857,"VAS1T15N/LQ"]
[85235017,"VG 15TN03NQ92",88001832,"VAS1T15N/NQ"]
[85235011,"VG 15TN03NQ92D",88001832,"VAS1T15N/NQ"]
[85235014,"VG 15TN03NQ92CPS",88003880,"VAS1T15N/NQSR"]
[85236303,"VG 20TN02LQ92",88001858,"VAS1T20N/LQ"]
[85236301,"VG 20TN02LQ92D",88001858,"VAS1T20N/LQ"]
[85236103,"VG 20TN03LQ92",88001858,"VAS1T20N/LQ"]
[85236101,"VG 20TN03LQ92D",88001858,"VAS1T20N/LQ"]
[85236104,"VG 20TN03LQ92OCS",88002567,"VAS1T20N/LQSR"]
[85236203,"VG 20TN02NQ92",88001842,"VAS1T20N/NQ"]
[85236201,"VG 20TN02NQ92D",88001842,"VAS1T20N/NQ"]
[85236017,"VG 20TN03NQ92",88001842,"VAS1T20N/NQ"]
[85236011,"VG 20TN03NQ92D",88001842,"VAS1T20N/NQ"]
[85236206,"VG 20TN02NQ92CPS",88002294,"VAS1T20N/NQSR"]
[85236400,"VG 20TN02NQ92OCS",88002294,"VAS1T20N/NQSR"]
[85236018,"VG 20TN03NQ92CPS",88002294,"VAS1T20N/NQSR"]
[85236450,"VG 20TN03NQ92OCS",88002294,"VAS1T20N/NQSR"]
[85236451,"VG 20TN03NQ92OCSG",88002294,"VAS1T20N/NQSR"]
[85237303,"VG 25TN02LQ92",88001859,"VAS1T25N/LQ"]
[85237301,"VG 25TN02LQ92D",88001859,"VAS1T25N/LQ"]
[85237103,"VG 25TN03LQ92",88001859,"VAS1T25N/LQ"]
[85237101,"VG 25TN03LQ92D",88001859,"VAS1T25N/LQ"]
[85237304,"VG 25TN02LQ92CPS",88004849,"VAS1T25N/LQSR"]
[85237104,"VG 25TN03LQ92OCS",88004849,"VAS1T25N/LQSR"]
[85237202,"VG 25TN02NQ92",88001830,"VAS1T25N/NQ"]
[85237201,"VG 25TN02NQ92D",88001830,"VAS1T25N/NQ"]
[85237017,"VG 25TN03NQ92",88001830,"VAS1T25N/NQ"]
[85237011,"VG 25TN03NQ92D",88001830,"VAS1T25N/NQ"]
[85237203,"VG 25TN02NQ92CPS",88003879,"VAS1T25N/NQSR"]
[85237400,"VG 25TN02NQ92OCS",88003879,"VAS1T25N/NQSR"]
[85237013,"VG 25TN03NQ92CPS",88003879,"VAS1T25N/NQSR"]
[85237450,"VG 25TN03NQ92OCS",88003879,"VAS1T25N/NQSR"]
[85237451,"VG 25TN03NQ92OCSG",88003879,"VAS1T25N/NQSR"]
[85270750,"VG 40F02LK33",88004873,"VAS240F/LK"]
[85270751,"VG 40F02LK63",88004875,"VAS240F/LK"]
[85270752,"VG 40F02LK6L3",88004875,"VAS240F/LK"]
[85275095,"VG 40F03LK33CPS",88004874,"VAS240F/LKSR"]
[85270670,"VG 40F02LQ33",88004438,"VAS240F/LQ"]
[85256675,"VG 40F03LQ33",88004438,"VAS240F/LQ"]
[85256676,"VG 40F03LQ63",88004878,"VAS240F/LQ"]
[85275054,"VG 40F02LQ33CPS",88004877,"VAS240F/LQSR"]
[85270550,"VG 40F02LT33",88004434,"VAS240F/LW"]
[85270950,"VG 40F02LT33D",88004434,"VAS240F/LW"]
[85270952,"VG 40F02LT33DM",88004434,"VAS240F/LW"]
[85270570,"VG 40F02LT33M",88004434,"VAS240F/LW"]
[85256550,"VG 40F03LT33",88004434,"VAS240F/LW"]
[85256950,"VG 40F03LT33D",88004434,"VAS240F/LW"]
[85270551,"VG 40F02LT63",88004881,"VAS240F/LW"]
[85270572,"VG 40F02LT63M",88004881,"VAS240F/LW"]
[85270554,"VG 40F02LT6L3",88004881,"VAS240F/LW"]
[85270951,"VG 40F02LT6L3D",88004881,"VAS240F/LW"]
[85256554,"VG 40F03LT6L3",88004881,"VAS240F/LW"]
[85275049,"VG 40F02LT63CPS6M",88004501,"VAS240F/LWSR"]
[85275050,"VG 40F02LT33CPS",88004880,"VAS240F/LWSR"]
[85275060,"VG 40F02LT33S",88004880,"VAS240F/LWSR"]
[85275092,"VG 40F03LT33CPS",88004880,"VAS240F/LWSR"]
[85270350,"VG 40F02NK33",88004869,"VAS240F/NK"]
[85256350,"VG 40F03NK33",88004869,"VAS240F/NK"]
[85270893,"VG 40F02NK63D",88004871,"VAS240F/NK"]
[85270892,"VG 40F02NK63DM",88004871,"VAS240F/NK"]
[85256353,"VG 40F03NK63",88004871,"VAS240F/NK"]
[85275013,"VG 40F02NK33CPS",88004870,"VAS240F/NKSR"]
[85275086,"VG 40F03NK33CPS",88004870,"VAS240F/NKSR"]
[85275077,"VG 40F03NK33S",88004870,"VAS240F/NKSR"]
[85275085,"VG 40F03NK63CPS6",88004872,"VAS240F/NKSR"]
[85270270,"VG 40F02NQ33",88004436,"VAS240F/NQ"]
[85256450,"VG 40F03NQ33",88004436,"VAS240F/NQ"]
[85270272,"VG 40F02NQ63",88004867,"VAS240F/NQ"]
[85256452,"VG 40F03NQ63",88004867,"VAS240F/NQ"]
[85270150,"VG 40F02NT33",88004432,"VAS240F/NW"]
[85270850,"VG 40F02NT33D",88004432,"VAS240F/NW"]
[85270851,"VG 40F02NT33DM",88004432,"VAS240F/NW"]
[85270170,"VG 40F02NT33M",88004432,"VAS240F/NW"]
[85256150,"VG 40F03NT33",88004432,"VAS240F/NW"]
[85256156,"VG 40F03NT35",88004432,"VAS240F/NW"]
[85270152,"VG 40F02NT63",88004864,"VAS240F/NW"]
[85270853,"VG 40F02NT63D",88004864,"VAS240F/NW"]
[85270172,"VG 40F02NT63M",88004864,"VAS240F/NW"]
[85270153,"VG 40F02NT6L3",88004864,"VAS240F/NW"]
[85270852,"VG 40F02NT6L3D",88004864,"VAS240F/NW"]
[85256153,"VG 40F03NT63",88004864,"VAS240F/NW"]
[85256151,"VG 40F03NT6L3",88004864,"VAS240F/NW"]
[85256851,"VG 40F03NT6L3D",88004864,"VAS240F/NW"]
[85275047,"VG 40F02NT33CPS",88004863,"VAS240F/NWSR"]
[85275084,"VG 40F03NT33CPS",88004863,"VAS240F/NWSR"]
[85275048,"VG 40F02NT63CPS6M",88004865,"VAS240F/NWSR"]
[85275046,"VG 40F02NT6L3CPS6",88004865,"VAS240F/NWSR"]
[85275089,"VG 40F03NT6L3CPS6",88004865,"VAS240F/NWSR"]
[85270700,"VG 40R02LK33",88000567,"VAS240R/LK"]
[85270940,"VG 40R02LK33D",88000567,"VAS240R/LK"]
[85270522,"VG 40R02LK33M",88000567,"VAS240R/LK"]
[85256940,"VG 40R03LK33D",88000567,"VAS240R/LK"]
[85270703,"VG 40R02LK6L3",88000626,"VAS240R/LK"]
[85275030,"VG 40R02LK63CPS6",88004810,"VAS240R/LKSR"]
[85208150,"VG 40/32R02LM31D",88000039,"VAS240R/LQ"]
[85270620,"VG 40R02LQ33",88000039,"VAS240R/LQ"]
[85270922,"VG 40R02LQ33D",88000039,"VAS240R/LQ"]
[85256660,"VG 40R03LQ33",88000039,"VAS240R/LQ"]
[85270621,"VG 40R02LQ63",88000605,"VAS240R/LQ"]
[85208271,"VG 40/32R02LQ6L1D",88000605,"VAS240R/LQ"]
[85275025,"VG 40R02LQ33S",88004811,"VAS240R/LQSR"]
[85275031,"VG 40R02LQ33CPS",88004811,"VAS240R/LQSR"]
[85208353,"VG 40/32R02LQ31CPS",88004811,"VAS240R/LQSR"]
[85270500,"VG 40R02LT33",88000029,"VAS240R/LW"]
[85270900,"VG 40R02LT33D",88000029,"VAS240R/LW"]
[85270902,"VG 40R02LT33DM",88000029,"VAS240R/LW"]
[85270520,"VG 40R02LT33M",88000029,"VAS240R/LW"]
[85256500,"VG 40R03LT33",88000029,"VAS240R/LW"]
[85256900,"VG 40R03LT33D",88000029,"VAS240R/LW"]
[85270508,"VG 40R02LT53",88000382,"VAS240R/LW"]
[85270503,"VG 40R02LT63",88000382,"VAS240R/LW"]
[85270903,"VG 40R02LT63D",88000382,"VAS240R/LW"]
[85270901,"VG 40R02LT63DM",88000382,"VAS240R/LW"]
[85270504,"VG 40R02LT6L3",88000382,"VAS240R/LW"]
[85270904,"VG 40R02LT6L3D",88000382,"VAS240R/LW"]
[85256503,"VG 40R03LT63",88000382,"VAS240R/LW"]
[85208170,"VG 40/32R02LT61D",88000382,"VAS240R/LW"]
[85208143,"VG 40/32R02LT61DM",88000382,"VAS240R/LW"]
[85275026,"VG 40R02LT33CPS",88002424,"VAS240R/LWSR"]
[85270505,"VG 40R02LT33DS",88002424,"VAS240R/LWSR"]
[85275020,"VG 40R02LT33S",88002424,"VAS240R/LWSR"]
[85275090,"VG 40R03LT33CPS",88002424,"VAS240R/LWSR"]
[85275027,"VG 40R02LT63CPS6",88004812,"VAS240R/LWSR"]
[85275023,"VG 40R02LT63S",88004812,"VAS240R/LWSR"]
[85275029,"VG 40R02LT6L3CPS6",88004812,"VAS240R/LWSR"]
[85275096,"VG 40R03LT63CPS6M",88004812,"VAS240R/LWSR"]
[85208352,"VG 40/32R02LT31CPS",88002424,"VAS240R/LWSR"]
[85208354,"VG 40/32R02LT61CPS6",88004812,"VAS240R/LWSR"]
[85208351,"VG 40/32R02LT61S",88004812,"VAS240R/LWSR"]
[85270300,"VG 40R02NK33",88000556,"VAS240R/NK"]
[85270840,"VG 40R02NK33D",88000556,"VAS240R/NK"]
[85270310,"VG 40R02NK33M",88000556,"VAS240R/NK"]
[85256300,"VG 40R03NK33",88000556,"VAS240R/NK"]
[85256840,"VG 40R03NK33D",88000556,"VAS240R/NK"]
[85270301,"VG 40R02NK63",88000615,"VAS240R/NK"]
[85270842,"VG 40R02NK63D",88000615,"VAS240R/NK"]
[85270302,"VG 40R02NK6L3",88000615,"VAS240R/NK"]
[85270841,"VG 40R02NK6L3D",88000615,"VAS240R/NK"]
[85270806,"VG 40R02NK6L3DM",88000615,"VAS240R/NK"]
[85256301,"VG 40R03NK63",88000615,"VAS240R/NK"]
[85208090,"VG 40/32R02NK61D",88000615,"VAS240R/NK"]
[85208091,"VG 40/32R02NK6L1D",88000615,"VAS240R/NK"]
[85256303,"VG 40R03NK63DG",88003439,"VAS240R/NKGR"]
[85275012,"VG 40R02NK33CPS",88004813,"VAS240R/NKSR"]
[85275028,"VG 40R02NK33CPSM",88004813,"VAS240R/NKSR"]
[85275003,"VG 40R02NK33S",88004813,"VAS240R/NKSR"]
[85275094,"VG 40R03NK33CPS",88004813,"VAS240R/NKSR"]
[85275078,"VG 40R03NK33S",88004813,"VAS240R/NKSR"]
[85275011,"VG 40R02NK6L3CPS6",88004814,"VAS240R/NKSR"]
[85208341,"VG 40/32R02NK31CPS",88004813,"VAS240R/NKSR"]
[85208340,"VG 40/32R02NK31S",88004813,"VAS240R/NKSR"]
[85270200,"VG 40R02NM33",88000034,"VAS240R/NQ"]
[85256200,"VG 40R03NM33",88000034,"VAS240R/NQ"]
[85208050,"VG 40/32R02NM31D",88000034,"VAS240R/NQ"]
[85270220,"VG 40R02NQ33",88000034,"VAS240R/NQ"]
[85270823,"VG 40R02NQ33D",88000034,"VAS240R/NQ"]
[85270222,"VG 40R02NQ33M",88000034,"VAS240R/NQ"]
[85256400,"VG 40R03NQ33",88000034,"VAS240R/NQ"]
[85270221,"VG 40R02NQ63",88000594,"VAS240R/NQ"]
[85270822,"VG 40R02NQ6L3D",88000594,"VAS240R/NQ"]
[85256821,"VG 40R03NQ6L3D",88000594,"VAS240R/NQ"]
[85208221,"VG 40/32R02NQ61D",88000594,"VAS240R/NQ"]
[85275010,"VG 40R02NQ33CPS",88003958,"VAS240R/NQSR"]
[85275087,"VG 40R03NQ33CPS",88003958,"VAS240R/NQSR"]
[85275088,"VG 40R03NQ63CPS6",88004815,"VAS240R/NQSR"]
[85208322,"VG 40/32R02NQ31CPS",88003958,"VAS240R/NQSR"]
[85270100,"VG 40R02NT33",88000024,"VAS240R/NW"]
[85270800,"VG 40R02NT33D",88000024,"VAS240R/NW"]
[85270803,"VG 40R02NT33DM",88000024,"VAS240R/NW"]
[85270120,"VG 40R02NT33M",88000024,"VAS240R/NW"]
[85256100,"VG 40R03NT33",88000024,"VAS240R/NW"]
[85256800,"VG 40R03NT33D",88000024,"VAS240R/NW"]
[85256802,"VG 40R03NT33DM",88000024,"VAS240R/NW"]
[85256120,"VG 40R03NT33M",88000024,"VAS240R/NW"]
[85270805,"VG 40R02NT53D",88000574,"VAS240R/NW"]
[85270102,"VG 40R02NT63",88000574,"VAS240R/NW"]
[85270801,"VG 40R02NT63D",88000574,"VAS240R/NW"]
[85270121,"VG 40R02NT63M",88000574,"VAS240R/NW"]
[85270103,"VG 40R02NT6L3",88000574,"VAS240R/NW"]
[85270802,"VG 40R02NT6L3D",88000574,"VAS240R/NW"]
[85270124,"VG 40R02NT6L3M",88000574,"VAS240R/NW"]
[85256102,"VG 40R03NT63",88000574,"VAS240R/NW"]
[85256103,"VG 40R03NT6L3",88000574,"VAS240R/NW"]
[85256803,"VG 40R03NT6L3D",88000574,"VAS240R/NW"]
[85208070,"VG 40/32R02NT61D",88000574,"VAS240R/NW"]
[85208071,"VG 40/32R02NT62D",88000574,"VAS240R/NW"]
[85208072,"VG 40/32R02NT6L1D",88000574,"VAS240R/NW"]
[85208049,"VG 40/32R02NT6L1DM",88000574,"VAS240R/NW"]
[85208042,"VG 40/32R02NT6L5DM",88000574,"VAS240R/NW"]
[85208046,"VG 40/32R02NT6L5M",88000574,"VAS240R/NW"]
[85275014,"VG 40R02NT33CPS",88001020,"VAS240R/NWSR"]
[85275052,"VG 40R02NT33CPSM",88001020,"VAS240R/NWSR"]
[85275000,"VG 40R02NT33S",88001020,"VAS240R/NWSR"]
[85275083,"VG 40R03NT33CPS",88001020,"VAS240R/NWSR"]
[85275070,"VG 40R03NT33S",88001020,"VAS240R/NWSR"]
[85275051,"VG 40R02NT63CPS6",88004816,"VAS240R/NWSR"]
[85275015,"VG 40R02NT6L3CPS6",88004816,"VAS240R/NWSR"]
[85275008,"VG 40R02NT6L3S",88004816,"VAS240R/NWSR"]
[85275091,"VG 40R03NT63CPS6",88004816,"VAS240R/NWSR"]
[85208303,"VG 40/32R02NT31CPS",88001020,"VAS240R/NWSR"]
[85208300,"VG 40/32R02NT31S",88001020,"VAS240R/NWSR"]
[85208305,"VG 40/32R02NT61CPS6",88004816,"VAS240R/NWSR"]
[85238302,"VG 40/32TN02LQ92",88001862,"VAS2T40N/LQ"]
[85238301,"VG 40/32TN02LQ92D",88001862,"VAS2T40N/LQ"]
[85238306,"VG 40/32TN02LQ92CPS",88004980,"VAS2T40N/LQSR"]
[85238207,"VG 40/32TN02NQ92",88001851,"VAS2T40N/NQ"]
[85238201,"VG 40/32TN02NQ92D",88001851,"VAS2T40N/NQ"]
[85238203,"VG 40/32TN02NQ92CPS",88002368,"VAS2T40N/NQSR"]
[85238400,"VG 40/32TN02NQ92OCS",88002368,"VAS2T40N/NQSR"]
[85271750,"VG 50F02LK33",88004888,"VAS350F/LK"]
[85271990,"VG 50F02LK33D",88004888,"VAS350F/LK"]
[85271993,"VG 50F02LK63D",88004890,"VAS350F/LK"]
[85271991,"VG 50F02LK6L3D",88004890,"VAS350F/LK"]
[85275174,"VG 50F03LK33CPS",88004889,"VAS350F/LKSR"]
[85271650,"VG 50F02LM33",88004439,"VAS350F/LQ"]
[85271971,"VG 50F02LM6L3D",88004886,"VAS350F/LQ"]
[85271670,"VG 50F02LQ33",88004439,"VAS350F/LQ"]
[85257675,"VG 50F03LQ33",88004439,"VAS350F/LQ"]
[85271972,"VG 50F02LQ6L3D",88004886,"VAS350F/LQ"]
[85257676,"VG 50F03LQ63",88004886,"VAS350F/LQ"]
[85271550,"VG 50F02LT33",88004435,"VAS350F/LW"]
[85271950,"VG 50F02LT33D",88004435,"VAS350F/LW"]
[85271952,"VG 50F02LT33DM",88004435,"VAS350F/LW"]
[85271570,"VG 50F02LT33M",88004435,"VAS350F/LW"]
[85257550,"VG 50F03LT33",88004435,"VAS350F/LW"]
[85257950,"VG 50F03LT33D",88004435,"VAS350F/LW"]
[85271554,"VG 50F02LT63",88004883,"VAS350F/LW"]
[85271951,"VG 50F02LT63D",88004883,"VAS350F/LW"]
[85271555,"VG 50F02LT6L3",88004883,"VAS350F/LW"]
[85271953,"VG 50F02LT6L3D",88004883,"VAS350F/LW"]
[85257553,"VG 50F03LT63",88004883,"VAS350F/LW"]
[85257554,"VG 50F03LT6L3",88004883,"VAS350F/LW"]
[85275165,"VG 50F02LT33CPS",88004882,"VAS350F/LWSR"]
[85275170,"VG 50F03LT33CPS",88004882,"VAS350F/LWSR"]
[85275197,"VG 50F03LT33CPSM",88004882,"VAS350F/LWSR"]
[85275164,"VG 50F02LT63CPS6",88004884,"VAS350F/LWSR"]
[85275116,"VG 50F02LT6L3CPS6",88004884,"VAS350F/LWSR"]
[85275172,"VG 50F03LT63CPS6",88004884,"VAS350F/LWSR"]
[85271350,"VG 50F02NK33",88004892,"VAS350F/NK"]
[85271890,"VG 50F02NK33D",88004892,"VAS350F/NK"]
[85271174,"VG 50F02NK33M",88004892,"VAS350F/NK"]
[85257350,"VG 50F03NK33",88004892,"VAS350F/NK"]
[85271352,"VG 50F02NK63",88004894,"VAS350F/NK"]
[85271891,"VG 50F02NK6L3D",88004894,"VAS350F/NK"]
[85257355,"VG 50F03NK63",88004894,"VAS350F/NK"]
[85275198,"VG 50F02NK33CPS",88004893,"VAS350F/NKSR"]
[85275193,"VG 50F03NK33CPS",88004893,"VAS350F/NKSR"]
[85271870,"VG 50F02NM33D",88004437,"VAS350F/NQ"]
[85271270,"VG 50F02NQ33",88004437,"VAS350F/NQ"]
[85271826,"VG 50F02NQ33D",88004437,"VAS350F/NQ"]
[85257450,"VG 50F03NQ33",88004437,"VAS350F/NQ"]
[85271271,"VG 50F02NQ6L3",88004897,"VAS350F/NQ"]
[85257451,"VG 50F03NQ63",88004897,"VAS350F/NQ"]
[85275115,"VG 50F02NQ33CPS",88004896,"VAS350F/NQSR"]
[85275118,"VG 50F02NQ6L3CPS6",88004898,"VAS350F/NQSR"]
[85271150,"VG 50F02NT33",88004433,"VAS350F/NW"]
[85271850,"VG 50F02NT33D",88004433,"VAS350F/NW"]
[85271855,"VG 50F02NT33DM",88004433,"VAS350F/NW"]
[85271170,"VG 50F02NT33M",88004433,"VAS350F/NW"]
[85257150,"VG 50F03NT33",88004433,"VAS350F/NW"]
[85257850,"VG 50F03NT33D",88004433,"VAS350F/NW"]
[85257170,"VG 50F03NT33M",88004433,"VAS350F/NW"]
[85257157,"VG 50F03NT35",88004433,"VAS350F/NW"]
[85271151,"VG 50F02NT63",88004900,"VAS350F/NW"]
[85271851,"VG 50F02NT63D",88004900,"VAS350F/NW"]
[85271852,"VG 50F02NT63DM",88004900,"VAS350F/NW"]
[85271153,"VG 50F02NT6L3",88004900,"VAS350F/NW"]
[85271853,"VG 50F02NT6L3D",88004900,"VAS350F/NW"]
[85257152,"VG 50F03NT63",88004900,"VAS350F/NW"]
[85257153,"VG 50F03NT6L3",88004900,"VAS350F/NW"]
[85275167,"VG 50F02NT6L3CPS6",88004500,"VAS350F/NWSR"]
[85275149,"VG 50F02NT33CPS",88004899,"VAS350F/NWSR"]
[85275113,"VG 50F02NT33CPSM",88004899,"VAS350F/NWSR"]
[85275140,"VG 50F02NT33S",88004899,"VAS350F/NWSR"]
[85275194,"VG 50F03NT33CPS",88004899,"VAS350F/NWSR"]
[85275199,"VG 50F03NT33CPSM",88004899,"VAS350F/NWSR"]
[85271700,"VG 50R02LK33",88000092,"VAS350R/LK"]
[85271940,"VG 50R02LK33D",88000092,"VAS350R/LK"]
[85271522,"VG 50R02LK33M",88000092,"VAS350R/LK"]
[85257701,"VG 50R03LK6L3",88000629,"VAS350R/LK"]
[85275169,"VG 50R02LK33CPS",88004818,"VAS350R/LKSR"]
[85275123,"VG 50R02LK33S",88004818,"VAS350R/LKSR"]
[85271620,"VG 50R02LQ33",88000055,"VAS350R/LQ"]
[85271921,"VG 50R02LQ33D",88000055,"VAS350R/LQ"]
[85271922,"VG 50R02LQ33DM",88000055,"VAS350R/LQ"]
[85257660,"VG 50R03LQ33",88000055,"VAS350R/LQ"]
[85271621,"VG 50R02LQ63",88000608,"VAS350R/LQ"]
[85271622,"VG 50R02LQ6L3",88000608,"VAS350R/LQ"]
[85272801,"VG 50/65R02LQ33",88000055,"VAS350R/LQ"]
[85275119,"VG 50R02LQ33CPS",88004817,"VAS350R/LQSR"]
[85271500,"VG 50R02LT33",88000047,"VAS350R/LW"]
[85271900,"VG 50R02LT33D",88000047,"VAS350R/LW"]
[85271902,"VG 50R02LT33DM",88000047,"VAS350R/LW"]
[85271520,"VG 50R02LT33M",88000047,"VAS350R/LW"]
[85257500,"VG 50R03LT33",88000047,"VAS350R/LW"]
[85257900,"VG 50R03LT33D",88000047,"VAS350R/LW"]
[85271509,"VG 50R02LT53",88000586,"VAS350R/LW"]
[85271502,"VG 50R02LT63",88000586,"VAS350R/LW"]
[85271903,"VG 50R02LT63D",88000586,"VAS350R/LW"]
[85271524,"VG 50R02LT63M",88000586,"VAS350R/LW"]
[85271503,"VG 50R02LT6L3",88000586,"VAS350R/LW"]
[85271901,"VG 50R02LT6L3D",88000586,"VAS350R/LW"]
[85272902,"VG 50/65R02LT6L3D",88000586,"VAS350R/LW"]
[85275126,"VG 50R02LT33CPS",88002426,"VAS350R/LWSR"]
[85275175,"VG 50R03LT33CPS",88002426,"VAS350R/LWSR"]
[85275168,"VG 50R02LT6L3CPS6",88004819,"VAS350R/LWSR"]
[85275122,"VG 50R02LT6L3S",88004819,"VAS350R/LWSR"]
[85275176,"VG 50R03LT63CPS6M",88004819,"VAS350R/LWSR"]
[85275173,"VG 50R03LT6L3CPS6",88004819,"VAS350R/LWSR"]
[85271300,"VG 50R02NK33",88000559,"VAS350R/NK"]
[85271840,"VG 50R02NK33D",88000559,"VAS350R/NK"]
[85271122,"VG 50R02NK33M",88000559,"VAS350R/NK"]
[85257300,"VG 50R03NK33",88000559,"VAS350R/NK"]
[85257840,"VG 50R03NK33D",88000559,"VAS350R/NK"]
[85271301,"VG 50R02NK63",88000618,"VAS350R/NK"]
[85271841,"VG 50R02NK63D",88000618,"VAS350R/NK"]
[85271303,"VG 50R02NK6L3",88000618,"VAS350R/NK"]
[85272407,"VG 50/65R02NK33",88000559,"VAS350R/NK"]
[85275111,"VG 50R02NK33CPS",88004820,"VAS350R/NKSR"]
[85271305,"VG 50R02NK33S",88004820,"VAS350R/NKSR"]
[85275177,"VG 50R03NK33CPS",88004820,"VAS350R/NKSR"]
[85271200,"VG 50R02NM33",88000051,"VAS350R/NQ"]
[85271220,"VG 50R02NQ33",88000051,"VAS350R/NQ"]
[85271825,"VG 50R02NQ33D",88000051,"VAS350R/NQ"]
[85271221,"VG 50R02NQ33M",88000051,"VAS350R/NQ"]
[85257400,"VG 50R03NQ33",88000051,"VAS350R/NQ"]
[85257821,"VG 50R03NQ33D",88000051,"VAS350R/NQ"]
[85271222,"VG 50R02NQ63",88000597,"VAS350R/NQ"]
[85271824,"VG 50R02NQ63D",88000597,"VAS350R/NQ"]
[85271823,"VG 50R02NQ6L3D",88000597,"VAS350R/NQ"]
[85272406,"VG 50/65R02NQ33",88000051,"VAS350R/NQ"]
[85272405,"VG 50/65R02NQ63",88000597,"VAS350R/NQ"]
[85271223,"VG 50R02NQ33CPS",88004821,"VAS350R/NQSR"]
[85275109,"VG 50R02NQ33S",88004821,"VAS350R/NQSR"]
[85275114,"VG 50R02NQ6L3CPS6",88004822,"VAS350R/NQSR"]
[85271100,"VG 50R02NT33",88000043,"VAS350R/NW"]
[85271800,"VG 50R02NT33D",88000043,"VAS350R/NW"]
[85271803,"VG 50R02NT33DM",88000043,"VAS350R/NW"]
[85271120,"VG 50R02NT33M",88000043,"VAS350R/NW"]
[85257100,"VG 50R03NT33",88000043,"VAS350R/NW"]
[85257800,"VG 50R03NT33D",88000043,"VAS350R/NW"]
[85271106,"VG 50R02NT53",88000578,"VAS350R/NW"]
[85271102,"VG 50R02NT63",88000578,"VAS350R/NW"]
[85271802,"VG 50R02NT63D",88000578,"VAS350R/NW"]
[85271109,"VG 50R02NT63M",88000578,"VAS350R/NW"]
[85271103,"VG 50R02NT6L3",88000578,"VAS350R/NW"]
[85271801,"VG 50R02NT6L3D",88000578,"VAS350R/NW"]
[85257108,"VG 50R03NT63M",88000578,"VAS350R/NW"]
[85257104,"VG 50R03NT6L3",88000578,"VAS350R/NW"]
[85257801,"VG 50R03NT6L3D",88000578,"VAS350R/NW"]
[85272400,"VG 50/65R02NT33",88000043,"VAS350R/NW"]
[85272401,"VG 50/65R02NT63",88000578,"VAS350R/NW"]
[85272404,"VG 50/65R02NT6L3",88000578,"VAS350R/NW"]
[85275110,"VG 50R02NT33CPS",88001021,"VAS350R/NWSR"]
[85275196,"VG 50R02NT33CPSM",88001021,"VAS350R/NWSR"]
[85271101,"VG 50R02NT33DS",88001021,"VAS350R/NWSR"]
[85275100,"VG 50R02NT33S",88001021,"VAS350R/NWSR"]
[85275108,"VG 50R02NT33SM",88001021,"VAS350R/NWSR"]
[85275195,"VG 50R03NT33CPSM",88001021,"VAS350R/NWSR"]
[85275117,"VG 50R02NT63CPS6",88004823,"VAS350R/NWSR"]
[85275112,"VG 50R02NT6L3CPS6",88004823,"VAS350R/NWSR"]
[85272940,"VG 65R02LK33D",88000093,"VAS365R/LK","Durchfluss überprüfen.","Check flow rate."]
[85272600,"VG 65R02LM33",88000056,"VAS365R/LQ","Durchfluss überprüfen.","Check flow rate."]
[85272620,"VG 65R02LQ33",88000056,"VAS365R/LQ","Durchfluss überprüfen.","Check flow rate."]
[85272921,"VG 65R02LQ33D",88000056,"VAS365R/LQ","Durchfluss überprüfen.","Check flow rate."]
[85258620,"VG 65R03LQ33",88000056,"VAS365R/LQ","Durchfluss überprüfen.","Check flow rate."]
[85275296,"VG 65R03LQ33CPS",88004703,"VAS365R/LQSR","Durchfluss überprüfen.","Check flow rate."]
[85272500,"VG 65R02LT33",88000048,"VAS365R/LW","Durchfluss überprüfen.","Check flow rate."]
[85272900,"VG 65R02LT33D",88000048,"VAS365R/LW","Durchfluss überprüfen.","Check flow rate."]
[85272520,"VG 65R02LT33M",88000048,"VAS365R/LW","Durchfluss überprüfen.","Check flow rate."]
[85258500,"VG 65R03LT33",88000048,"VAS365R/LW","Durchfluss überprüfen.","Check flow rate."]
[85272501,"VG 65R02LT63",88000587,"VAS365R/LW","Durchfluss überprüfen.","Check flow rate."]
[85272901,"VG 65R02LT63D",88000587,"VAS365R/LW","Durchfluss überprüfen.","Check flow rate."]
[85258501,"VG 65R03LT63",88000587,"VAS365R/LW","Durchfluss überprüfen.","Check flow rate."]
[85258503,"VG 65R03LT6L3",88000587,"VAS365R/LW","Durchfluss überprüfen.","Check flow rate."]
[85275212,"VG 65R02LT33CPS",88004824,"VAS365R/LWSR","Durchfluss überprüfen.","Check flow rate."]
[85272300,"VG 65R02NK33",88000560,"VAS365R/NK","Durchfluss überprüfen.","Check flow rate."]
[85272840,"VG 65R02NK33D",88000560,"VAS365R/NK","Durchfluss überprüfen.","Check flow rate."]
[85272121,"VG 65R02NK33M",88000560,"VAS365R/NK","Durchfluss überprüfen.","Check flow rate."]
[85258300,"VG 65R03NK33",88000560,"VAS365R/NK","Durchfluss überprüfen.","Check flow rate."]
[85272302,"VG 65R02NK6L3",88000619,"VAS365R/NK","Durchfluss überprüfen.","Check flow rate."]
[85272200,"VG 65R02NM33",88000052,"VAS365R/NQ","Durchfluss überprüfen.","Check flow rate."]
[85272220,"VG 65R02NQ33",88000052,"VAS365R/NQ","Durchfluss überprüfen.","Check flow rate."]
[85272826,"VG 65R02NQ33D",88000052,"VAS365R/NQ","Durchfluss überprüfen.","Check flow rate."]
[85258220,"VG 65R03NQ33",88000052,"VAS365R/NQ","Durchfluss überprüfen.","Check flow rate."]
[85275216,"VG 65R02NQ33CPS",88004851,"VAS365R/NQSR","Durchfluss überprüfen.","Check flow rate."]
[85272100,"VG 65R02NT33",88000044,"VAS365R/NW","Durchfluss überprüfen.","Check flow rate."]
[85272810,"VG 65R02NT33D",88000044,"VAS365R/NW","Durchfluss überprüfen.","Check flow rate."]
[85272811,"VG 65R02NT33DM",88000044,"VAS365R/NW","Durchfluss überprüfen.","Check flow rate."]
[85272120,"VG 65R02NT33M",88000044,"VAS365R/NW","Durchfluss überprüfen.","Check flow rate."]
[85258100,"VG 65R03NT33",88000044,"VAS365R/NW","Durchfluss überprüfen.","Check flow rate."]
[85258810,"VG 65R03NT33D",88000044,"VAS365R/NW","Durchfluss überprüfen.","Check flow rate."]
[85272103,"VG 65R02NT63",88000576,"VAS365R/NW","Durchfluss überprüfen.","Check flow rate."]
[85272102,"VG 65R02NT6L3",88000576,"VAS365R/NW","Durchfluss überprüfen.","Check flow rate."]
[85275203,"VG 65R02NT33CPS",88003293,"VAS365R/NWSR","Durchfluss überprüfen.","Check flow rate."]
[85275202,"VG 65R02NT33CPSM",88003293,"VAS365R/NWSR","Durchfluss überprüfen.","Check flow rate."]
[85275200,"VG 65R02NT33S",88003293,"VAS365R/NWSR","Durchfluss überprüfen.","Check flow rate."]
[85275290,"VG 65R03NT33CPS",88003293,"VAS365R/NWSR","Durchfluss überprüfen.","Check flow rate."]
[85272750,"VG 65F02LK33",88203137,"VAS 665F05LK3B/PP/PP","Kürzere Baulänge beachten!","Note the shorter overall length!"]
[85272990,"VG 65F02LK33D",88203137,"VAS 665F05LK3B/PP/PP","Kürzere Baulänge beachten!","Note the shorter overall length!"]
[85272751,"VG 65F02LK6L3",88204139,"VAS 665F05LKB/PP/PP","Kürzere Baulänge beachten!","Note the shorter overall length!"]
[85275298,"VG 65F03LK33CPS",88203236,"VAS 665F05LKSR3B/PP/PP","Kürzere Baulänge beachten!","Note the shorter overall length!"]
[85275214,"VG 65F02LK6L3CPS6",88204140,"VAS 665F05LKSRB/PP/PP","Kürzere Baulänge beachten!","Note the shorter overall length!"]
[85275297,"VG 65F03LK6L3CPS6",88204140,"VAS 665F05LKSRB/PP/PP","Kürzere Baulänge beachten!","Note the shorter overall length!"]
[85272670,"VG 65F02LQ33",88202719,"VAS 665F05LQ3B/PP/PP","Kürzere Baulänge beachten!","Note the shorter overall length!"]
[85272972,"VG 65F02LQ33D",88202719,"VAS 665F05LQ3B/PP/PP","Kürzere Baulänge beachten!","Note the shorter overall length!"]
[85272672,"VG 65F02LQ33M",88202719,"VAS 665F05LQ3B/PP/PP","Kürzere Baulänge beachten!","Note the shorter overall length!"]
[85258670,"VG 65F03LQ33",88202719,"VAS 665F05LQ3B/PP/PP","Kürzere Baulänge beachten!","Note the shorter overall length!"]
[85272971,"VG 65F02LQ63D",88204141,"VAS 665F05LQB/PP/PP","Kürzere Baulänge beachten!","Note the shorter overall length!"]
[85272671,"VG 65F02LQ6L3",88204141,"VAS 665F05LQB/PP/PP","Kürzere Baulänge beachten!","Note the shorter overall length!"]
[85275209,"VG 65F02LQ33CPS",88203936,"VAS 665F05LQSR3B/PP/PP","Kürzere Baulänge beachten!","Note the shorter overall length!"]
[85275224,"VG 65F03LQ33CPS",88203936,"VAS 665F05LQSR3B/PP/PP","Kürzere Baulänge beachten!","Note the shorter overall length!"]
[85272550,"VG 65F02LT33",88202695,"VAS 665F05LW3B/PP/PP","Kürzere Baulänge beachten!","Note the shorter overall length!"]
[85272950,"VG 65F02LT33D",88202695,"VAS 665F05LW3B/PP/PP","Kürzere Baulänge beachten!","Note the shorter overall length!"]
[85272951,"VG 65F02LT33DM",88202695,"VAS 665F05LW3B/PP/PP","Kürzere Baulänge beachten!","Note the shorter overall length!"]
[85272570,"VG 65F02LT33M",88202695,"VAS 665F05LW3B/PP/PP","Kürzere Baulänge beachten!","Note the shorter overall length!"]
[85258550,"VG 65F03LT33",88202695,"VAS 665F05LW3B/PP/PP","Kürzere Baulänge beachten!","Note the shorter overall length!"]
[85258950,"VG 65F03LT33D",88202695,"VAS 665F05LW3B/PP/PP","Kürzere Baulänge beachten!","Note the shorter overall length!"]
[85272555,"VG 65F02LT63",88203020,"VAS 665F05LWB/PP/PP","Kürzere Baulänge beachten!","Note the shorter overall length!"]
[85272952,"VG 65F02LT63D",88203020,"VAS 665F05LWB/PP/PP","Kürzere Baulänge beachten!","Note the shorter overall length!"]
[85272552,"VG 65F02LT6L3",88203020,"VAS 665F05LWB/PP/PP","Kürzere Baulänge beachten!","Note the shorter overall length!"]
[85258553,"VG 65F03LT63",88203020,"VAS 665F05LWB/PP/PP","Kürzere Baulänge beachten!","Note the shorter overall length!"]
[85258552,"VG 65F03LT6L3",88203020,"VAS 665F05LWB/PP/PP","Kürzere Baulänge beachten!","Note the shorter overall length!"]
[85275206,"VG 65F02LT33CPS",88203198,"VAS 665F05LWSR3B/PP/PP","Kürzere Baulänge beachten!","Note the shorter overall length!"]
[85275260,"VG 65F02LT33S",88203198,"VAS 665F05LWSR3B/PP/PP","Kürzere Baulänge beachten!","Note the shorter overall length!"]
[85275225,"VG 65F03LT33CPS",88203198,"VAS 665F05LWSR3B/PP/PP","Kürzere Baulänge beachten!","Note the shorter overall length!"]
[85275282,"VG 65F03LT35S",88203198,"VAS 665F05LWSR3B/PP/PP","Kürzere Baulänge beachten!","Note the shorter overall length!"]
[85275207,"VG 65F02LT6L3CPS6",88203419,"VAS 665F05LWSRB/PP/PP","Kürzere Baulänge beachten!","Note the shorter overall length!"]
[85272350,"VG 65F02NK33",88203001,"VAS 665F05NK3B/PP/PP","Kürzere Baulänge beachten!","Note the shorter overall length!"]
[85272890,"VG 65F02NK33D",88203001,"VAS 665F05NK3B/PP/PP","Kürzere Baulänge beachten!","Note the shorter overall length!"]
[85272172,"VG 65F02NK33M",88203001,"VAS 665F05NK3B/PP/PP","Kürzere Baulänge beachten!","Note the shorter overall length!"]
[85258350,"VG 65F03NK33",88203001,"VAS 665F05NK3B/PP/PP","Kürzere Baulänge beachten!","Note the shorter overall length!"]
[85258890,"VG 65F03NK33D",88203001,"VAS 665F05NK3B/PP/PP","Kürzere Baulänge beachten!","Note the shorter overall length!"]
[85272354,"VG 65F02NK63",88203094,"VAS 665F05NKB/PP/PP","Kürzere Baulänge beachten!","Note the shorter overall length!"]
[85272353,"VG 65F02NK6L3",88203094,"VAS 665F05NKB/PP/PP","Kürzere Baulänge beachten!","Note the shorter overall length!"]
[85272173,"VG 65F02NK6L3M",88203094,"VAS 665F05NKB/PP/PP","Kürzere Baulänge beachten!","Note the shorter overall length!"]
[85275213,"VG 65F02NK33CPS",88203007,"VAS 665F05NKSR3B/PP/PP","Kürzere Baulänge beachten!","Note the shorter overall length!"]
[85275255,"VG 65F02NK33S",88203007,"VAS 665F05NKSR3B/PP/PP","Kürzere Baulänge beachten!","Note the shorter overall length!"]
[85275292,"VG 65F03NK33CPS",88203007,"VAS 665F05NKSR3B/PP/PP","Kürzere Baulänge beachten!","Note the shorter overall length!"]
[85275285,"VG 65F03NK33S",88203007,"VAS 665F05NKSR3B/PP/PP","Kürzere Baulänge beachten!","Note the shorter overall length!"]
[85272270,"VG 65F02NQ33",88202706,"VAS 665F05NQ3B/PP/PP","Kürzere Baulänge beachten!","Note the shorter overall length!"]
[85272871,"VG 65F02NQ33D",88202706,"VAS 665F05NQ3B/PP/PP","Kürzere Baulänge beachten!","Note the shorter overall length!"]
[85258270,"VG 65F03NQ33",88202706,"VAS 665F05NQ3B/PP/PP","Kürzere Baulänge beachten!","Note the shorter overall length!"]
[85272872,"VG 65F02NQ63D",88203697,"VAS 665F05NQB/PP/PP","Kürzere Baulänge beachten!","Note the shorter overall length!"]
[85272271,"VG 65F02NQ6L3",88203697,"VAS 665F05NQB/PP/PP","Kürzere Baulänge beachten!","Note the shorter overall length!"]
[85258271,"VG 65F03NQ63",88203697,"VAS 665F05NQB/PP/PP","Kürzere Baulänge beachten!","Note the shorter overall length!"]
[85275210,"VG 65F02NQ33CPS",88203859,"VAS 665F05NQSR3B/PP/PP","Kürzere Baulänge beachten!","Note the shorter overall length!"]
[85275294,"VG 65F03NQ33CPS",88203859,"VAS 665F05NQSR3B/PP/PP","Kürzere Baulänge beachten!","Note the shorter overall length!"]
[85275217,"VG 65F02NQ63CPS6",88204142,"VAS 665F05NQSRB/PP/PP","Kürzere Baulänge beachten!","Note the shorter overall length!"]
[85272150,"VG 65F02NT33",88202653,"VAS 665F05NW3B/PP/PP","Kürzere Baulänge beachten!","Note the shorter overall length!"]
[85272850,"VG 65F02NT33D",88202654,"VAS 665F05NW3B/PP/PP","Kürzere Baulänge beachten!","Note the shorter overall length!"]
[85272852,"VG 65F02NT33DM",88202655,"VAS 665F05NW3B/PP/PP","Kürzere Baulänge beachten!","Note the shorter overall length!"]
[85272170,"VG 65F02NT33M",88202656,"VAS 665F05NW3B/PP/PP","Kürzere Baulänge beachten!","Note the shorter overall length!"]
[85258150,"VG 65F03NT33",88202657,"VAS 665F05NW3B/PP/PP","Kürzere Baulänge beachten!","Note the shorter overall length!"]
[85258850,"VG 65F03NT33D",88202658,"VAS 665F05NW3B/PP/PP","Kürzere Baulänge beachten!","Note the shorter overall length!"]
[85258371,"VG 65F03NT33M",88202659,"VAS 665F05NW3B/PP/PP","Kürzere Baulänge beachten!","Note the shorter overall length!"]
[85272152,"VG 65F02NT63",88203048,"VAS 665F05NWB/PP/PP","Kürzere Baulänge beachten!","Note the shorter overall length!"]
[85272853,"VG 65F02NT63D",88203048,"VAS 665F05NWB/PP/PP","Kürzere Baulänge beachten!","Note the shorter overall length!"]
[85272154,"VG 65F02NT6L3",88203048,"VAS 665F05NWB/PP/PP","Kürzere Baulänge beachten!","Note the shorter overall length!"]
[85272851,"VG 65F02NT6L3D",88203048,"VAS 665F05NWB/PP/PP","Kürzere Baulänge beachten!","Note the shorter overall length!"]
[85258152,"VG 65F03NT6L3",88203048,"VAS 665F05NWB/PP/PP","Kürzere Baulänge beachten!","Note the shorter overall length!"]
[85275205,"VG 65F02NT33CPS",88203197,"VAS 665F05NWSR3B/PP/PP","Kürzere Baulänge beachten!","Note the shorter overall length!"]
[85275240,"VG 65F02NT33S",88203197,"VAS 665F05NWSR3B/PP/PP","Kürzere Baulänge beachten!","Note the shorter overall length!"]
[85275291,"VG 65F03NT33CPS",88203197,"VAS 665F05NWSR3B/PP/PP","Kürzere Baulänge beachten!","Note the shorter overall length!"]
[85275211,"VG 65F02NT63CPS6",88203555,"VAS 665F05NWSRB/PP/PP","Kürzere Baulänge beachten!","Note the shorter overall length!"]
[85275204,"VG 65F02NT6L3CPS6",88203555,"VAS 665F05NWSRB/PP/PP","Kürzere Baulänge beachten!","Note the shorter overall length!"]
[85275245,"VG 65F02NT6L3S",88203555,"VAS 665F05NWSRB/PP/PP","Kürzere Baulänge beachten!","Note the shorter overall length!"]
[85273750,"VG 80F02LK33",88203386,"VAS 780F05LK3B/PP/PP","Kürzere Baulänge beachten!","Note the shorter overall length!"]
[85273990,"VG 80F02LK33D",88203386,"VAS 780F05LK3B/PP/PP","Kürzere Baulänge beachten!","Note the shorter overall length!"]
[85259750,"VG 80F03LK33",88203386,"VAS 780F05LK3B/PP/PP","Kürzere Baulänge beachten!","Note the shorter overall length!"]
[85273754,"VG 80F02LK63",88204143,"VAS 780F05LKB/PP/PP","Kürzere Baulänge beachten!","Note the shorter overall length!"]
[85273755,"VG 80F02LK6L3",88204143,"VAS 780F05LKB/PP/PP","Kürzere Baulänge beachten!","Note the shorter overall length!"]
[85259751,"VG 80F03LK6L3",88204143,"VAS 780F05LKB/PP/PP","Kürzere Baulänge beachten!","Note the shorter overall length!"]
[85275345,"VG 80F02LK33CPS",88204150,"VAS 780F05LKSR3B/PP/PP","Kürzere Baulänge beachten!","Note the shorter overall length!"]
[85275339,"VG 80F03LK33CPS",88204150,"VAS 780F05LKSR3B/PP/PP","Kürzere Baulänge beachten!","Note the shorter overall length!"]
[85273670,"VG 80F02LQ33",88202720,"VAS 780F05LQ3B/PP/PP","Kürzere Baulänge beachten!","Note the shorter overall length!"]
[85273671,"VG 80F02LQ33D",88202720,"VAS 780F05LQ3B/PP/PP","Kürzere Baulänge beachten!","Note the shorter overall length!"]
[85259670,"VG 80F03LQ33",88202720,"VAS 780F05LQ3B/PP/PP","Kürzere Baulänge beachten!","Note the shorter overall length!"]
[85259671,"VG 80F03LQ33D",88202720,"VAS 780F05LQ3B/PP/PP","Kürzere Baulänge beachten!","Note the shorter overall length!"]
[85275321,"VG 80F02LM33S",88203821,"VAS 780F05LQSR3B/PP/PP","Kürzere Baulänge beachten!","Note the shorter overall length!"]
[85275340,"VG 80F02LQ33CPS",88203821,"VAS 780F05LQSR3B/PP/PP","Kürzere Baulänge beachten!","Note the shorter overall length!"]
[85275336,"VG 80F03LQ33CPS",88203821,"VAS 780F05LQSR3B/PP/PP","Kürzere Baulänge beachten!","Note the shorter overall length!"]
[85273550,"VG 80F02LT33",88202696,"VAS 780F05LW3B/PP/PP","Kürzere Baulänge beachten!","Note the shorter overall length!"]
[85273950,"VG 80F02LT33D",88202696,"VAS 780F05LW3B/PP/PP","Kürzere Baulänge beachten!","Note the shorter overall length!"]
[85273951,"VG 80F02LT33DM",88202696,"VAS 780F05LW3B/PP/PP","Kürzere Baulänge beachten!","Note the shorter overall length!"]
[85273570,"VG 80F02LT33M",88202696,"VAS 780F05LW3B/PP/PP","Kürzere Baulänge beachten!","Note the shorter overall length!"]
[85259550,"VG 80F03LT33",88202696,"VAS 780F05LW3B/PP/PP","Kürzere Baulänge beachten!","Note the shorter overall length!"]
[85259850,"VG 80F03LT33D",88202696,"VAS 780F05LW3B/PP/PP","Kürzere Baulänge beachten!","Note the shorter overall length!"]
[85273555,"VG 80F02LT63",88203283,"VAS 780F05LWB/PP/PP","Kürzere Baulänge beachten!","Note the shorter overall length!"]
[85273552,"VG 80F02LT6L3",88203283,"VAS 780F05LWB/PP/PP","Kürzere Baulänge beachten!","Note the shorter overall length!"]
[85273952,"VG 80F02LT6L3D",88203283,"VAS 780F05LWB/PP/PP","Kürzere Baulänge beachten!","Note the shorter overall length!"]
[85259554,"VG 80F03LT6L3",88203283,"VAS 780F05LWB/PP/PP","Kürzere Baulänge beachten!","Note the shorter overall length!"]
[85275327,"VG 80F02LT33CPS",88203189,"VAS 780F05LWSR3B/PP/PP","Kürzere Baulänge beachten!","Note the shorter overall length!"]
[85275320,"VG 80F02LT33S",88203189,"VAS 780F05LWSR3B/PP/PP","Kürzere Baulänge beachten!","Note the shorter overall length!"]
[85275333,"VG 80F03LT33CPS",88203189,"VAS 780F05LWSR3B/PP/PP","Kürzere Baulänge beachten!","Note the shorter overall length!"]
[85275335,"VG 80F03LT35CPS",88203189,"VAS 780F05LWSR3B/PP/PP","Kürzere Baulänge beachten!","Note the shorter overall length!"]
[85275314,"VG 80F03LT35S",88203189,"VAS 780F05LWSR3B/PP/PP","Kürzere Baulänge beachten!","Note the shorter overall length!"]
[85275342,"VG 80F02LT6L3CPS6",88204144,"VAS 780F05LWSRB/PP/PP","Kürzere Baulänge beachten!","Note the shorter overall length!"]
[85275329,"VG 80F02LT6L3CPS6M",88204144,"VAS 780F05LWSRB/PP/PP","Kürzere Baulänge beachten!","Note the shorter overall length!"]
[85273350,"VG 80F02NK33",88203250,"VAS 780F05NK3B/PP/PP","Kürzere Baulänge beachten!","Note the shorter overall length!"]
[85273840,"VG 80F02NK33D",88203250,"VAS 780F05NK3B/PP/PP","Kürzere Baulänge beachten!","Note the shorter overall length!"]
[85273172,"VG 80F02NK33M",88203250,"VAS 780F05NK3B/PP/PP","Kürzere Baulänge beachten!","Note the shorter overall length!"]
[85259350,"VG 80F03NK33",88203250,"VAS 780F05NK3B/PP/PP","Kürzere Baulänge beachten!","Note the shorter overall length!"]
[85259840,"VG 80F03NK33D",88203250,"VAS 780F05NK3B/PP/PP","Kürzere Baulänge beachten!","Note the shorter overall length!"]
[85273352,"VG 80F02NK63",88203461,"VAS 780F05NKB/PP/PP","Kürzere Baulänge beachten!","Note the shorter overall length!"]
[85273353,"VG 80F02NK6L3",88203461,"VAS 780F05NKB/PP/PP","Kürzere Baulänge beachten!","Note the shorter overall length!"]
[85275325,"VG 80F02NK33CPS",88202997,"VAS 780F05NKSR3B/PP/PP","Kürzere Baulänge beachten!","Note the shorter overall length!"]
[85275301,"VG 80F02NK33S",88202997,"VAS 780F05NKSR3B/PP/PP","Kürzere Baulänge beachten!","Note the shorter overall length!"]
[85275337,"VG 80F03NK33CPS",88202997,"VAS 780F05NKSR3B/PP/PP","Kürzere Baulänge beachten!","Note the shorter overall length!"]
[85273250,"VG 80F02NM33",88202707,"VAS 780F05NQ3B/PP/PP","Kürzere Baulänge beachten!","Note the shorter overall length!"]
[85273270,"VG 80F02NQ33",88202707,"VAS 780F05NQ3B/PP/PP","Kürzere Baulänge beachten!","Note the shorter overall length!"]
[85273805,"VG 80F02NQ33D",88202707,"VAS 780F05NQ3B/PP/PP","Kürzere Baulänge beachten!","Note the shorter overall length!"]
[85259270,"VG 80F03NQ33",88202707,"VAS 780F05NQ3B/PP/PP","Kürzere Baulänge beachten!","Note the shorter overall length!"]
[85259271,"VG 80F03NQ33D",88202707,"VAS 780F05NQ3B/PP/PP","Kürzere Baulänge beachten!","Note the shorter overall length!"]
[85273271,"VG 80F02NQ6L3",88203316,"VAS 780F05NQB/PP/PP","Kürzere Baulänge beachten!","Note the shorter overall length!"]
[85259272,"VG 80F03NQ63",88203316,"VAS 780F05NQB/PP/PP","Kürzere Baulänge beachten!","Note the shorter overall length!"]
[85275341,"VG 80F02NQ33CPS",88203858,"VAS 780F05NQSR3B/PP/PP","Kürzere Baulänge beachten!","Note the shorter overall length!"]
[85275332,"VG 80F03NQ33CPS",88203858,"VAS 780F05NQSR3B/PP/PP","Kürzere Baulänge beachten!","Note the shorter overall length!"]
[85275328,"VG 80F02NQ6L3CPS6",88204145,"VAS 780F05NQSRB/PP/PP","Kürzere Baulänge beachten!","Note the shorter overall length!"]
[85273150,"VG 80F02NT33",88202683,"VAS 780F05NW3B/PP/PP","Kürzere Baulänge beachten!","Note the shorter overall length!"]
[85273800,"VG 80F02NT33D",88202683,"VAS 780F05NW3B/PP/PP","Kürzere Baulänge beachten!","Note the shorter overall length!"]
[85273801,"VG 80F02NT33DM",88202683,"VAS 780F05NW3B/PP/PP","Kürzere Baulänge beachten!","Note the shorter overall length!"]
[85273170,"VG 80F02NT33M",88202683,"VAS 780F05NW3B/PP/PP","Kürzere Baulänge beachten!","Note the shorter overall length!"]
[85259150,"VG 80F03NT33",88202683,"VAS 780F05NW3B/PP/PP","Kürzere Baulänge beachten!","Note the shorter overall length!"]
[85259800,"VG 80F03NT33D",88202683,"VAS 780F05NW3B/PP/PP","Kürzere Baulänge beachten!","Note the shorter overall length!"]
[85259371,"VG 80F03NT33M",88202683,"VAS 780F05NW3B/PP/PP","Kürzere Baulänge beachten!","Note the shorter overall length!"]
[85273153,"VG 80F02NT63",88203135,"VAS 780F05NWB/PP/PP","Kürzere Baulänge beachten!","Note the shorter overall length!"]
[85273152,"VG 80F02NT6L3",88203135,"VAS 780F05NWB/PP/PP","Kürzere Baulänge beachten!","Note the shorter overall length!"]
[85273802,"VG 80F02NT6L3D",88203135,"VAS 780F05NWB/PP/PP","Kürzere Baulänge beachten!","Note the shorter overall length!"]
[85259155,"VG 80F03NT6L3",88203135,"VAS 780F05NWB/PP/PP","Kürzere Baulänge beachten!","Note the shorter overall length!"]
[85275324,"VG 80F02NT33CPS",88203052,"VAS 780F05NWSR3B/PP/PP","Kürzere Baulänge beachten!","Note the shorter overall length!"]
[85275344,"VG 80F02NT33CPSM",88203052,"VAS 780F05NWSR3B/PP/PP","Kürzere Baulänge beachten!","Note the shorter overall length!"]
[85275300,"VG 80F02NT33S",88203052,"VAS 780F05NWSR3B/PP/PP","Kürzere Baulänge beachten!","Note the shorter overall length!"]
[85275331,"VG 80F03NT33CPS",88203052,"VAS 780F05NWSR3B/PP/PP","Kürzere Baulänge beachten!","Note the shorter overall length!"]
[85275334,"VG 80F03NT35CPS",88203052,"VAS 780F05NWSR3B/PP/PP","Kürzere Baulänge beachten!","Note the shorter overall length!"]
[85275312,"VG 80F03NT35S",88203052,"VAS 780F05NWSR3B/PP/PP","Kürzere Baulänge beachten!","Note the shorter overall length!"]
[85275343,"VG 80F02NT63CPS6",88203122,"VAS 780F05NWSRB/PP/PP","Kürzere Baulänge beachten!","Note the shorter overall length!"]
[85275326,"VG 80F02NT6L3CPS6",88203122,"VAS 780F05NWSRB/PP/PP","Kürzere Baulänge beachten!","Note the shorter overall length!"]
[85275306,"VG 80F02NT6L3S",88203122,"VAS 780F05NWSRB/PP/PP","Kürzere Baulänge beachten!","Note the shorter overall length!"]
[85274750,"VG 100F02LK33",88203170,"VAS 8100F05LK3B/PP/PP","Kürzere Baulänge beachten!","Note the shorter overall length!"]
[85274571,"VG 100F02LK33M",88203170,"VAS 8100F05LK3B/PP/PP","Kürzere Baulänge beachten!","Note the shorter overall length!"]
[85274572,"VG 100F02LK6L3",88204146,"VAS 8100F05LKB/PP/PP","Kürzere Baulänge beachten!","Note the shorter overall length!"]
[85275425,"VG 100F02LK33CPS",88204147,"VAS 8100F05LKSR3B/PP/PP","Kürzere Baulänge beachten!","Note the shorter overall length!"]
[85274670,"VG 100F02LQ33",88202721,"VAS 8100F05LQ3B/PP/PP","Kürzere Baulänge beachten!","Note the shorter overall length!"]
[85274550,"VG 100F02LT33",88202697,"VAS 8100F05LW3B/PP/PP","Kürzere Baulänge beachten!","Note the shorter overall length!"]
[85274950,"VG 100F02LT33D",88202697,"VAS 8100F05LW3B/PP/PP","Kürzere Baulänge beachten!","Note the shorter overall length!"]
[85274951,"VG 100F02LT33DM",88202697,"VAS 8100F05LW3B/PP/PP","Kürzere Baulänge beachten!","Note the shorter overall length!"]
[85274570,"VG 100F02LT33M",88202697,"VAS 8100F05LW3B/PP/PP","Kürzere Baulänge beachten!","Note the shorter overall length!"]
[85274554,"VG 100F02LT63",88203003,"VAS 8100F05LWB/PP/PP","Kürzere Baulänge beachten!","Note the shorter overall length!"]
[85274553,"VG 100F02LT6L3",88203003,"VAS 8100F05LWB/PP/PP","Kürzere Baulänge beachten!","Note the shorter overall length!"]
[85275423,"VG 100F02LT33CPS",88203190,"VAS 8100F05LWSR3B/PP/PP","Kürzere Baulänge beachten!","Note the shorter overall length!"]
[85275420,"VG 100F02LT33S",88203190,"VAS 8100F05LWSR3B/PP/PP","Kürzere Baulänge beachten!","Note the shorter overall length!"]
[85275424,"VG 100F02LT35CPS",88203190,"VAS 8100F05LWSR3B/PP/PP","Kürzere Baulänge beachten!","Note the shorter overall length!"]
[85275421,"VG 100F02LT35S",88203190,"VAS 8100F05LWSR3B/PP/PP","Kürzere Baulänge beachten!","Note the shorter overall length!"]
[85274350,"VG 100F02NK33",88202981,"VAS 8100F05NK3B/PP/PP","Kürzere Baulänge beachten!","Note the shorter overall length!"]
[85274171,"VG 100F02NK33M",88202981,"VAS 8100F05NK3B/PP/PP","Kürzere Baulänge beachten!","Note the shorter overall length!"]
[85275407,"VG 100F02NK33CPS",88204148,"VAS 8100F05NKSR3B/PP/PP","Kürzere Baulänge beachten!","Note the shorter overall length!"]
[85275415,"VG 100F02NK33S",88204148,"VAS 8100F05NKSR3B/PP/PP","Kürzere Baulänge beachten!","Note the shorter overall length!"]
[85274820,"VG 100F02NM33D",88202709,"VAS 8100F05NQ3B/PP/PP","Kürzere Baulänge beachten!","Note the shorter overall length!"]
[85274270,"VG 100F02NQ33",88202709,"VAS 8100F05NQ3B/PP/PP","Kürzere Baulänge beachten!","Note the shorter overall length!"]
[85274175,"VG 100F02NQ33M",88202709,"VAS 8100F05NQ3B/PP/PP","Kürzere Baulänge beachten!","Note the shorter overall length!"]
[85274271,"VG 100F02NQ6L3",88203723,"VAS 8100F05NQB/PP/PP","Kürzere Baulänge beachten!","Note the shorter overall length!"]
[85275405,"VG 100F02NQ33CPS",88203427,"VAS 8100F05NQSR3B/PP/PP","Kürzere Baulänge beachten!","Note the shorter overall length!"]
[85274150,"VG 100F02NT33",88202684,"VAS 8100F05NW3B/PP/PP","Kürzere Baulänge beachten!","Note the shorter overall length!"]
[85274800,"VG 100F02NT33D",88202684,"VAS 8100F05NW3B/PP/PP","Kürzere Baulänge beachten!","Note the shorter overall length!"]
[85274801,"VG 100F02NT33DM",88202684,"VAS 8100F05NW3B/PP/PP","Kürzere Baulänge beachten!","Note the shorter overall length!"]
[85274170,"VG 100F02NT33M",88202684,"VAS 8100F05NW3B/PP/PP","Kürzere Baulänge beachten!","Note the shorter overall length!"]
[85274154,"VG 100F02NT63",88203154,"VAS 8100F05NWB/PP/PP","Kürzere Baulänge beachten!","Note the shorter overall length!"]
[85274152,"VG 100F02NT6L3",88203154,"VAS 8100F05NWB/PP/PP","Kürzere Baulänge beachten!","Note the shorter overall length!"]
[85275403,"VG 100F02NT33CPS",88202944,"VAS 8100F05NWSR3B/PP/PP","Kürzere Baulänge beachten!","Note the shorter overall length!"]
[85275400,"VG 100F02NT33S",88202944,"VAS 8100F05NWSR3B/PP/PP","Kürzere Baulänge beachten!","Note the shorter overall length!"]
[85275404,"VG 100F02NT63CPS6",88203116,"VAS 8100F05NWSRB/PP/PP","Kürzere Baulänge beachten!","Note the shorter overall length!"]
[85275402,"VG 100F02NT6L3S",88203116,"VAS 8100F05NWSRB/PP/PP","Kürzere Baulänge beachten!","Note the shorter overall length!"]
[88200313,"VAS665F05LK3P",88203137,"VAS 665F05LK3B/PP/PP"]
[88200319,"VAS665F05LKP",88204139,"VAS 665F05LKB/PP/PP"]
[88200315,"VAS665F05LKSR3P",88203236,"VAS 665F05LKSR3B/PP/PP"]
[88200317,"VAS665F05LKSRP",88204140,"VAS 665F05LKSRB/PP/PP"]
[88200047,"VAS665F05LQ3P",88202719,"VAS 665F05LQ3B/PP/PP"]
[88200323,"VAS665F05LQSR3P",88203936,"VAS 665F05LQSR3B/PP/PP"]
[88200023,"VAS665F05LW3P",88202695,"VAS 665F05LW3B/PP/PP"]
[88200327,"VAS665F05LWP",88203020,"VAS 665F05LWB/PP/PP"]
[88200325,"VAS665F05LWSR3P",88203198,"VAS 665F05LWSR3B/PP/PP"]
[88200263,"VAS665F05LWSRP",88203419,"VAS 665F05LWSRB/PP/PP"]
[88200332,"VAS665F05NK3P",88203001,"VAS 665F05NK3B/PP/PP"]
[88200334,"VAS665F05NKP",88203094,"VAS 665F05NKB/PP/PP"]
[88200333,"VAS665F05NKSR3P",88203007,"VAS 665F05NKSR3B/PP/PP"]
[88200035,"VAS665F05NQ3P",88202706,"VAS 665F05NQ3B/PP/PP"]
[88200340,"VAS665F05NQP",88203697,"VAS 665F05NQB/PP/PP"]
[88200339,"VAS665F05NQSR3P",88202706,"VAS 665F05NQSR3B/PP/PP"]
[88200341,"VAS665F05NQSRP",88204142,"VAS 665F05NQSRB/PP/PP"]
[88200002,"VAS665F05NW3P",88202653,"VAS 665F05NW3B/PP/PP"]
[88200289,"VAS665F05NWP",88203048,"VAS 665F05NWB/PP/PP"]
[88200344,"VAS665F05NWSR3P",88203197,"VAS 665F05NWSR3B/PP/PP"]
[88200345,"VAS665F05NWSRP",88203555,"VAS 665F05NWSRB/PP/PP"]
[88200368,"VAS780F05LK3P",88203386,"VAS 780F05LK3B/PP/PP"]
[88200370,"VAS780F05LKP",88204143,"VAS 780F05LKB/PP/PP"]
[88200369,"VAS780F05LKSR3P",88204150,"VAS 780F05LKSR3B/PP/PP"]
[88200048,"VAS780F05LQ3P",88202720,"VAS 780F05LQ3B/PP/PP"]
[88200375,"VAS780F05LQSR3P",88203821,"VAS 780F05LQSR3B/PP/PP"]
[88200024,"VAS780F05LW3P",88202696,"VAS 780F05LW3B/PP/PP"]
[88200382,"VAS780F05LWP",88203283,"VAS 780F05LWB/PP/PP"]
[88200381,"VAS780F05LWSR3P",88203189,"VAS 780F05LWSR3B/PP/PP"]
[88200383,"VAS780F05LWSRP",88204144,"VAS 780F05LWSRB/PP/PP"]
[88200383,"VAS780F05LWSRP",88204144,"VAS 780F05LWSRB/PP/PP"]
[88200360,"VAS780F05NK3P",88203250,"VAS 780F05NK3B/PP/PP"]
[88200362,"VAS780F05NKP",88203461,"VAS 780F05NKB/PP/PP"]
[88200361,"VAS780F05NKSR3P",88202997,"VAS 780F05NKSR3B/PP/PP"]
[88200036,"VAS780F05NQ3P",88202707,"VAS 780F05NQ3B/PP/PP"]
[88200354,"VAS780F05NQP",88203316,"VAS 780F05NQB/PP/PP"]
[88200353,"VAS780F05NQSR3P",88203858,"VAS 780F05NQSR3B/PP/PP"]
[88200355,"VAS780F05NQSRP",88204145,"VAS 780F05NQSRB/PP/PP"]
[88200004,"VAS780F05NW3P",88202683,"VAS 780F05NW3B/PP/PP"]
[88200348,"VAS780F05NWP",88203135,"VAS 780F05NWB/PP/PP"]
[88200284,"VAS780F05NWSR3P",88203052,"VAS 780F05NWSR3B/PP/PP"]
[88200349,"VAS780F05NWSRP",88203122,"VAS 780F05NWSRB/PP/PP"]
[88200295,"VAS8100F05LK3P",88203170,"VAS 8100F05LK3B/PP/PP"]
[88200299,"VAS8100F05LKP",88204146,"VAS 8100F05LKB/PP/PP"]
[88200297,"VAS8100F05LKSR3P",88204147,"VAS 8100F05LKSR3B/PP/PP"]
[88200049,"VAS8100F05LQ3P",88202721,"VAS 8100F05LQ3B/PP/PP"]
[88200025,"VAS8100F05LW3P",88202697,"VAS 8100F05LW3B/PP/PP"]
[88200265,"VAS8100F05LWP",88203003,"VAS 8100F05LWB/PP/PP"]
[88200293,"VAS8100F05LWSR3P",88203190,"VAS 8100F05LWSR3B/PP/PP"]
[88200301,"VAS8100F05NK3P",88202981,"VAS 8100F05NK3B/PP/PP"]
[88200303,"VAS8100F05NKSR3P",88204148,"VAS 8100F05NKSR3B/PP/PP"]
[88200303,"VAS8100F05NKSR3P",88204148,"VAS 8100F05NKSR3B/PP/PP"]
[88200037,"VAS8100F05NQ3P",88202709,"VAS 8100F05NQ3B/PP/PP"]
[88200305,"VAS8100F05NQP",88203723,"VAS 8100F05NQB/PP/PP"]
[88200309,"VAS8100F05NQSR3P",88203427,"VAS 8100F05NQSR3B/PP/PP"]
[88200007,"VAS8100F05NW3P",88202684,"VAS 8100F05NW3B/PP/PP"]
[88200307,"VAS8100F05NWP",88203154,"VAS 8100F05NWB/PP/PP"]
[88200285,"VAS8100F05NWSR3P",88202944,"VAS 8100F05NWSR3B/PP/PP"]
[88200311,"VAS8100F05NWSRP",88203116,"VAS 8100F05NWSRB/PP/PP"]
[88200013,"VAS 665F05NW3P/PP/PP",88202654,"VAS 665F05NW3E/PP/PP"]
[88200014,"VAS 780F05NW3P/PP/PP",88202673,"VAS 780F05NW3E/PP/PP"]
[88200015,"VAS 8100F05NW3P/PP/PP",88202675,"VAS 8100F05NW3E/PP/PP"]
[88200016,"VAS 9125F05NW3P/PP/PP",88202677,"VAS 9125F05NW3E/PP/PP"]
[88200026,"VAS 665F05LW3P/PP/PP",88202689,"VAS 665F05LW3E/PP/PP"]
[88200027,"VAS 780F05LW3P/PP/PP",88202690,"VAS 780F05LW3E/PP/PP"]
[88200028,"VAS 8100F05LW3P/PP/PP",88202691,"VAS 8100F05LW3E/PP/PP"]
[88200038,"VAS 665F05NQ3P/PP/PP",88202701,"VAS 665F05NQ3E/PP/PP"]
[88200039,"VAS 780F05NQ3P/PP/PP",88202702,"VAS 780F05NQ3E/PP/PP"]
[88200040,"VAS 8100F05NQ3P/PP/PP",88202703,"VAS 8100F05NQ3E/PP/PP"]
[88200016,"VAS 9125F05NA3P/PP/PP",88202677,"VAS 9125F05NA3E/PP/PP"]
[88200008,"VAS 9125F05NA3P",88202685,"VAS 9125F05NA3B/PP/PP "]
[88200050,"VAS 665F05LQ3P/PP/PP",88202713,"VAS 665F05LQ3E/PP/PP"]
[88200051,"VAS 780F05LQ3P/PP/PP",88202714,"VAS 780F05LQ3E/PP/PP"]
[88200052,"VAS 8100F05LQ3P/PP/PP",88202715,"VAS 8100F05LQ3E/PP/PP"]
[88200056,"VCS 665F05NNWR3P/PP/PP",88202726,"VCS 665F05NNWR3B/PPPP/PPPP"]
[88200121,"VCS 780F05NNWR3P/PP/PP",88202727,"VCS 780F05NNWR3B/PPPP/PPPP"]
[88200129,"VCS 8100F05NNWR3P/PP/PP",88202728,"VCS 8100F05NNWR3B/PPPP/PPPP"]
[88200125,"VCS 9125F05NNAR3P/PP/PP",88202729,"VCS 9125F05NNAR3B/PPPP/PPPP"]
[88200067,"VCS 665F05NNWR3P/PPPP/PPPP",88202734,"VCS 665F05NNWR3E/PPPP/PPPP"]
[88200069,"VCS 780F05NNWR3P/PPPP/PPPP",88202735,"VCS 780F05NNWR3E/PPPP/PPPP"]
[88200072,"VCS 8100F05NNWR3P/PPPP/PPPP",88202736,"VCS 8100F05NNWR3E/PPPP/PPPP"]
[88200073,"VCS 9125F05NNAR3P/PPPP/PPPP",88202737,"VCS 9125F05NNAR3E/PPPP/PPPP"]
[88200126,"VCS 665F05NLWR3P/PP/PP",88202741,"VCS 665F05NLWR3B/PPPP/PPPP"]
[88200127,"VCS 780F05NLWR3P/PP/PP",88202742,"VCS 780F05NLWR3B/PPPP/PPPP"]
[88200083,"VCS 8100F05NLWR3P/PP/PP",88202743,"VCS 8100F05NLWR3B/PPPP/PPPP"]
[88200084,"VCS 665F05NLWR3P/PPPP/PPPP",88202749,"VCS 665F05NLWR3E/PPPP/PPPP"]
[88200085,"VCS 780F05NLWR3P/PPPP/PPPP",88202750,"VCS 780F05NLWR3E/PPPP/PPPP"]
[88200086,"VCS 8100F05NLWR3P/PPPP/PPPP",88202751,"VCS 8100F05NLWR3E/PPPP/PPPP"]
[88200099,"VCS 665F05NNQR3P/PP/PP",88202755,"VCS 665F05NNQR3B/PPPP/PPPP"]
[88200100,"VCS 780F05NNQR3P/PP/PP",88202756,"VCS 780F05NNQR3B/PPPP/PPPP"]
[88200101,"VCS 8100F05NNQR3P/PP/PP",88202757,"VCS 8100F05NNQR3B/PPPP/PPPP"]
[88200125,"VCS 9125F05NNAR3P/PP/PP",88202729,"VCS 9125F05NNAR3B/PPPP/PPPP"]
[88200102,"VCS 665F05NNQR3P/PPPP/PPPP",88202761,"VCS 665F05NNQR3E/PPPP/PPPP"]
[88200103,"VCS 780F05NNQR3P/PPPP/PPPP",88202762,"VCS 780F05NNQR3E/PPPP/PPPP"]
[88200104,"VCS 8100F05NNQR3P/PPPP/PPPP",88202763,"VCS 8100F05NNQR3E/PPPP/PPPP"]
[88200073,"VCS 9125F05NNAR3P/PPPP/PPPP",88202737,"VCS 9125F05NNAR3E/PPPP/PPPP"]
[88200114,"VCS 665F05NLQR3P/PP/PP",88202767,"VCS 665F05NLQR3B/PPPP/PPPP"]
[88200115,"VCS 780F05NLQR3P/PP/PP",88202768,"VCS 780F05NLQR3B/PPPP/PPPP"]
[88200116,"VCS 8100F05NLQR3P/PP/PP",88202769,"VCS 8100F05NLQR3B/PPPP/PPPP"]
[88200117,"VCS 665F05NLQR3P/PPPP/PPPP",88202773,"VCS 665F05NLQR3E/PPPP/PPPP"]
[88200118,"VCS 780F05NLQR3P/PPPP/PPPP",88202774,"VCS 780F05NLQR3E/PPPP/PPPP"]
[88200119,"VCS 8100F05NLQR3P/PPPP/PPPP",88202775,"VCS 8100F05NLQR3E/PPPP/PPPP"]
[88200191,"VCS 665F05NNWRP/PP/PP",88203102,"VCS 665F05NNWRB/PPPP/PPPP"]
[88204761,"VCS 8100F05NNWRP/PPPP/PPEP",88204995,"VCS 8100F05NNWRE/PPPP/PPEP"]
[86047224,"VGBF 40F05-3L",86047222,"VGBF 40F05-3V"]
[86047225,"VGBF 40F05-3LZ",86047223,"VGBF 40F05-3VZ"]
[86047414,"VGBF 40R10-3L",86047213,"VGBF 40F10-3VZ","Flanschanschluss statt Gewinde","Flange connection instead of threaded connection"]
[86047415,"VGBF 40R10-3LZ",86047213,"VGBF 40F10-3VZ","Flanschanschluss statt Gewinde","Flange connection instead of threaded connection"]
[86048224,"VGBF 50F05-3L",86048222,"VGBF 50F05-3V"]
[86048225,"VGBF 50F05-3LZ",86048223,"VGBF 50F05-3VZ"]
[86048212,"VGBF 50F10-3L",86048213,"VGBF 50F10-3VZ"]
[86049224,"VGBF 65F05-3L",86049222,"VGBF 65F05-3V"]
[86049225,"VGBF 65F05-3LZ",86049223,"VGBF 65F05-3VZ"]
[86050224,"VGBF 80F05-3L",86050222,"VGBF 80F05-3V"]
[86050225,"VGBF 80F05-3LZ",86050223,"VGBF 80F05-3VZ"]
[86051224,"VGBF 100F05-3L",86051222,"VGBF 100F05-3V"]
[86051225,"VGBF 100F05-3LZ",86051223,"VGBF 100F05-3VZ"]
[86051215,"VGBF 100F10-3LZ",86051213,"VGBF 100F10-3VZ"]
[86053224,"VGBF 150F05-3L",86053222,"VGBF 150F05-3V"]
[86053225,"VGBF 150F05-3LZ",86053223,"VGBF 150F05-3VZ"]
[86053214,"VGBF 150F10-3L",86053213,"VGBF 150F10-3VZ"]
[85227060,"VAN 15R02NK31",88012142,"VAN 115R/NK"]
[85227071,"VAN 15R02NK31CPS",88012166,"VAN 115R/NKSR"]
[85227061,"VAN 15R02NK61",88012154,"VAN 115R/NK"]
[85227073,"VAN 15R02NK61CPS",88012178,"VAN 115R/NKSR"]
[85227063,"VAN 15R02NK6L1",88012154,"VAN 115R/NK"]
[85227072,"VAN 15R02NK6L1CPS6",88012178,"VAN 115R/NKSR"]
[85227067,"VAN 15R02NK6L1Z",88012154,"VAN 115R/NK"]
[85227090,"VAN 15R02NP31",88012182,"VAN 115R/NP"]
[85227200,"VAN 15R02NQ31",88012138,"VAN 115R/NQ"]
[85227215,"VAN 15R02NQ31CPS",88012162,"VAN 115R/NQSR"]
[85227201,"VAN 15R02NQ61",88012150,"VAN 115R/NQ"]
[85227216,"VAN 15R02NQ61CPS6",88012174,"VAN 115R/NQSR"]
[85227202,"VAN 15R02NQ6L1",88012150,"VAN 115R/NQ"]
[85227217,"VAN 15R02NQ6L1CPS6",88012174,"VAN 115R/NQSR"]
[85227030,"VAN 15R02NT31",88012134,"VAN 115R/NW"]
[85227038,"VAN 15R02NT31CPS",88012158,"VAN 115R/NWSR"]
[85227045,"VAN 15R02NT31CPSM",88012158,"VAN 115R/NWSR"]
[85227040,"VAN 15R02NT31M",88012134,"VAN 115R/NW"]
[85227036,"VAN 15R02NT51",88012183,"VAN 115R/NW"]
[85227020,"VAN 15R02NT61",88012146,"VAN 115R/NW"]
[85227039,"VAN 15R02NT61CPS6",88012170,"VAN 115R/NWSR"]
[85227021,"VAN 15R02NT6L1",88012146,"VAN 115R/NW"]
[85227037,"VAN 15R02NT6L1CPS6",88012170,"VAN 115R/NWSR"]
[85227033,"VAN 15R02NT6L1Z",88012146,"VAN 115R/NW"]
[85227080,"VAN 15R02NY31",88012184,"VAN 115R/NY"]
[85227160,"VAN 15R10NK31",88012142,"VAN 115R/NK","Maximalen Druck beachten!","Note maximum pressure."]
[85227143,"VAN 15R10NK31M",88012142,"VAN 115R/NK","Maximalen Druck beachten!","Note maximum pressure."]
[85227162,"VAN 15R10NK61",88012154,"VAN 115R/NK","Maximalen Druck beachten!","Note maximum pressure."]
[85227161,"VAN 15R10NK6L1",88012154,"VAN 115R/NK","Maximalen Druck beachten!","Note maximum pressure."]
[85227250,"VAN 15R10NQ31",88012138,"VAN 115R/NQ","Maximalen Druck beachten!","Note maximum pressure."]
[85227251,"VAN 15R10NQ6L1",88012150,"VAN 115R/NQ","Maximalen Druck beachten!","Note maximum pressure."]
[85227130,"VAN 15R10NT31",88012134,"VAN 115R/NW","Maximalen Druck beachten!","Note maximum pressure."]
[85227140,"VAN 15R10NT31M",88012134,"VAN 115R/NW","Maximalen Druck beachten!","Note maximum pressure."]
[85227120,"VAN 15R10NT61",88012146,"VAN 115R/NW","Maximalen Druck beachten!","Note maximum pressure."]
[85227142,"VAN 15R10NT61M",88012146,"VAN 115R/NW","Maximalen Druck beachten!","Note maximum pressure."]
[85227121,"VAN 15R10NT6L1",88012146,"VAN 115R/NW","Maximalen Druck beachten!","Note maximum pressure."]
[85282011,"VAN 15TN02NQ92",88012185,"VAN 1T15N/NQ"]
[85282013,"VAN 15TN02NQ92CPS",88012196,"VAN 1T15N/NQSR"]
[85282050,"VAN 15TN10NQ92",88012185,"VAN 1T15N/NQ","Maximalen Druck beachten!","Note maximum pressure."]
[85209060,"VAN 20R02NK31",88012143,"VAN 120R/NK"]
[85209066,"VAN 20R02NK31CPS",88012167,"VAN 120R/NKSR"]
[85209045,"VAN 20R02NK31M",88012143,"VAN 120R/NK"]
[85209064,"VAN 20R02NK61",88012155,"VAN 120R/NK"]
[85209061,"VAN 20R02NK6L1",88012155,"VAN 120R/NK"]
[85209067,"VAN 20R02NK6L1CPS6",88012179,"VAN 120R/NKSR"]
[85209090,"VAN 20R02NP31",88012186,"VAN 120R/NP"]
[85209150,"VAN 20R02NQ31",88012139,"VAN 120R/NQ"]
[85209151,"VAN 20R02NQ31CPS",88012163,"VAN 120R/NQSR"]
[85209030,"VAN 20R02NT31",88012135,"VAN 120R/NW"]
[85209037,"VAN 20R02NT31CPS",88012159,"VAN 120R/NWSR"]
[85209070,"VAN 20R02NT61",88012147,"VAN 120R/NW"]
[85209038,"VAN 20R02NT61CPS6",88012171,"VAN 120R/NWSR"]
[85209043,"VAN 20R02NT61M",88012147,"VAN 120R/NW"]
[85209071,"VAN 20R02NT6L1",88012147,"VAN 120R/NW"]
[85209039,"VAN 20R02NT6L1CPS6",88012171,"VAN 120R/NWSR"]
[85209046,"VAN 20R02NT6L1M",88012147,"VAN 120R/NW"]
[85209080,"VAN 20R02NY31",88012189,"VAN 120R/NY"]
[85209020,"VAN 20R50NT30",88012135,"VAN 120R/NW"]
[85284011,"VAN 20TN02NQ92",88012193,"VAN 1T20N/NQ"]
[85284013,"VAN 20TN02NQ92CPS",88012197,"VAN 1T20N/NQSR"]
[85210060,"VAN 25R02NK31",88012144,"VAN 125R/NK"]
[85210075,"VAN 25R02NK31CPS",88012168,"VAN 125R/NKSR"]
[85210047,"VAN 25R02NK31M",88012144,"VAN 125R/NK"]
[85210061,"VAN 25R02NK61",88012156,"VAN 125R/NK"]
[85210074,"VAN 25R02NK61CPS6",88012180,"VAN 125R/NKSR"]
[85210062,"VAN 25R02NK6L1",88012156,"VAN 125R/NK"]
[85210076,"VAN 25R02NK6L1CPS6",88012180,"VAN 125R/NKSR"]
[85210041,"VAN 25R02NK6L1M",88012156,"VAN 125R/NK"]
[85210090,"VAN 25R02NP31",88012187,"VAN 125R/NP"]
[85210096,"VAN 25R02NP31CPS",88012192,"VAN 125R/NPSR"]
[85210150,"VAN 25R02NQ31",88012140,"VAN 125R/NQ"]
[85210163,"VAN 25R02NQ31CPS",88012164,"VAN 125R/NQSR"]
[85210151,"VAN 25R02NQ6L1",88012152,"VAN 125R/NQ"]
[85210162,"VAN 25R02NQ6L1CPS6",88012176,"VAN 125R/NQSR"]
[85210030,"VAN 25R02NT31",88012136,"VAN 125R/NW"]
[85210057,"VAN 25R02NT31CPS",88012160,"VAN 125R/NWSR"]
[85210040,"VAN 25R02NT31M",88012136,"VAN 125R/NW"]
[85210037,"VAN 25R02NT32",88012136,"VAN 125R/NW"]
[85210033,"VAN 25R02NT61",88012148,"VAN 125R/NW"]
[85210058,"VAN 25R02NT61CPS6",88012172,"VAN 125R/NWSR"]
[85210059,"VAN 25R02NT61CPS6M",88012172,"VAN 125R/NWSR"]
[85210043,"VAN 25R02NT61M",88012148,"VAN 125R/NW"]
[85210034,"VAN 25R02NT6L1",88012148,"VAN 125R/NW"]
[85210049,"VAN 25R02NT6L1CPS6",88012172,"VAN 125R/NWSR"]
[85210056,"VAN 25R02NT6L1Z",88012148,"VAN 125R/NW"]
[85210080,"VAN 25R02NY31",88012190,"VAN 125R/NY"]
[85283011,"VAN 25TN02NQ92",88012194,"VAN 1T25N/NQ"]
[85283013,"VAN 25TN02NQ92CPS",88012198,"VAN 1T25N/NQSR"]
[85211060,"VAN 40/32R02NK31",88012145,"VAN 240R/NK"]
[85211069,"VAN 40/32R02NK31CPS",88012169,"VAN 240R/NKSR"]
[85211061,"VAN 40/32R02NK61",88012157,"VAN 240R/NK"]
[85211062,"VAN 40/32R02NK6L1",88012157,"VAN 240R/NK"]
[85211070,"VAN 40/32R02NK6L1CPS6",88012181,"VAN 240R/NKSR"]
[85211044,"VAN 40/32R02NK6L1M",88012157,"VAN 240R/NK"]
[85211065,"VAN 40/32R02NK6L1Z",88012157,"VAN 240R/NK"]
[85211090,"VAN 40/32R02NP31",88012188,"VAN 240R/NP"]
[85211150,"VAN 40/32R02NQ31",88012141,"VAN 240R/NQ"]
[85211153,"VAN 40/32R02NQ31CPS",88012165,"VAN 240R/NQSR"]
[85211151,"VAN 40/32R02NQ61",88012153,"VAN 240R/NQ"]
[85211152,"VAN 40/32R02NQ6L1",88012153,"VAN 240R/NQ"]
[85211048,"VAN 40/32R02NQ6L1MZ",88012153,"VAN 240R/NQ"]
[85211154,"VAN 40/32R02NQ6L1Z",88012153,"VAN 240R/NQ"]
[85211030,"VAN 40/32R02NT31",88012137,"VAN 240R/NW"]
[85211057,"VAN 40/32R02NT31CPS",88012161,"VAN 240R/NWSR"]
[85211040,"VAN 40/32R02NT31M",88012137,"VAN 240R/NW"]
[85211033,"VAN 40/32R02NT61",88012149,"VAN 240R/NW"]
[85211032,"VAN 40/32R02NT6L1",88012149,"VAN 240R/NW"]
[85211056,"VAN 40/32R02NT6L1CPS6",88012173,"VAN 240R/NWSR"]
[85211042,"VAN 40/32R02NT6L1M",88012149,"VAN 240R/NW"]
[85211035,"VAN 40/32R02NT6L1Z",88012149,"VAN 240R/NW"]
[85211080,"VAN 40/32R02NY31",88012191,"VAN 240R/NY"]
[85283201,"VAN 40/32TN02NQ92",88012195,"VAN 2T40N/NQ"]
[74214018,"BVA 40Z05",88300099,"BVA 40Z05"]
[74214019,"BVA 50Z05",88300100,"BVA 50Z05"]
[74214020,"BVA 65Z05",88300101,"BVA 65Z05"]
[74105696,"BVA 80Z05",88300102,"BVA 80Z05"]
[74105695,"BVA 100Z05",88300103,"BVA 100Z05"]
[74105694,"BVA 125Z05",88300104,"BVA 125Z05"]
[74105690,"BVA 150Z05",88300105,"BVA 150Z05"]
[74214258,"BVA 40/32Z05",88300106,"BVA 40/32Z05"]
[74214257,"BVA 50/40Z05",88300107,"BVA 50/40Z05"]
[74214256,"BVA 65/50Z05",88300108,"BVA 65/50Z05"]
[74105870,"BVA 80/65Z05",88300109,"BVA 80/65Z05"]
[74105869,"BVA 100/80Z05",88300110,"BVA 100/80Z05"]
[74105868,"BVA 125/100Z05",88300111,"BVA 125/100Z05"]
[74105867,"BVA 150/125Z05",88300112,"BVA 150/125Z05"]
[74214261,"BVA 40/25Z05",88300113,"BVA 40/25Z05"]
[74214260,"BVA 50/32Z05",88300114,"BVA 50/32Z05"]
[74214259,"BVA 65/40Z05",88300115,"BVA 65/40Z05"]
[74105874,"BVA 80/50Z05",88300116,"BVA 80/50Z05"]
[74105873,"BVA 100/65Z05",88300117,"BVA 100/65Z05"]
[74105872,"BVA 125/80Z05",88300118,"BVA 125/80Z05"]
[74105871,"BVA 150/100Z05",88300119,"BVA 150/100Z05"]
[74214015,"BVG 40Z05",88300120,"BVG 40Z05"]
[74214016,"BVG 50Z05",88300121,"BVG 50Z05"]
[74214017,"BVG 65Z05",88300122,"BVG 65Z05"]
[74105693,"BVG 80Z05",88300123,"BVG 80Z05"]
[74105692,"BVG 100Z05",88300124,"BVG 100Z05"]
[74105691,"BVG 125Z05",88300125,"BVG 125Z05"]
[74105687,"BVG 150Z05",88300126,"BVG 150Z05"]
[74214252,"BVG 40/32Z05",88300127,"BVG 40/32Z05"]
[74214251,"BVG 50/40Z05",88300128,"BVG 50/40Z05"]
[74214250,"BVG 65/50Z05",88300129,"BVG 65/50Z05"]
[74105862,"BVG 80/65Z05",88300130,"BVG 80/65Z05"]
[74105861,"BVG 100/80Z05",88300131,"BVG 100/80Z05"]
[74105864,"BVG 125/80Z05",88300139,"BVG 125/80Z05"]
[74105859,"BVG 150/125Z05",88300133,"BVG 150/125Z05"]
[74214255,"BVG 40/25Z05",88300134,"BVG 40/25Z05"]
[74214254,"BVG 50/32Z05",88300135,"BVG 50/32Z05"]
[74214253,"BVG 65/40Z05",88300136,"BVG 65/40Z05"]
[74105866,"BVG 80/50Z05",88300137,"BVG 80/50Z05"]
[74105865,"BVG 100/65Z05",88300138,"BVG 100/65Z05"]
[74105860,"BVG 125/100Z05",88300132,"BVG 125/100Z05"]
[74105863,"BVG 150/100Z05",88300140,"BVG 150/100Z05"]
[74105790,"BVG 40W05",88300141,"BVG 40W05"]
[74105791,"BVG 50W05",88300142,"BVG 50W05"]
[74105792,"BVG 65W05",88300143,"BVG 65W05"]
[74105793,"BVG 80W05",88300144,"BVG 80W05"]
[74105794,"BVG 100W05",88300145,"BVG 100W05"]
[74214264,"BVG 40/32W05",88300146,"BVG 40/32W05"]
[74214263,"BVG 50/40W05",88300147,"BVG 50/40W05"]
[74214262,"BVG 65/50W05",88300148,"BVG 65/50W05"]
[74105783,"BVG 80/65W05",88300149,"BVG 80/65W05"]
[74105784,"BVG 100/80W05",88300150,"BVG 100/80W05"]
[74214267,"BVG 40/25W05",88300151,"BVG 40/25W05"]
[74214266,"BVG 50/32W05",88300152,"BVG 50/32W05"]
[74214265,"BVG 65/40W05",88300153,"BVG 65/40W05"]
[74105875,"BVG 80/50W05",88300154,"BVG 80/50W05"]
[74105782,"BVG 100/65W05",88300155,"BVG 100/65W05"]
[74105740,"BVH 40Z01A",88300156,"BVH 40Z01A"]
[74105741,"BVH 50Z01A",88300157,"BVH 50Z01A"]
[74105742,"BVH 65Z01A",88300158,"BVH 65Z01A"]
[74105743,"BVH 80Z01A",88300159,"BVH 80Z01A"]
[74105744,"BVH 100Z01A",88300160,"BVH 100Z01A"]
[74105876,"BVHM 40Z01A",88300161,"BVHM 40Z01A"]
[74105877,"BVHM 50Z01A",88300162,"BVHM 50Z01A"]
[74105878,"BVHM 65Z01A",88300163,"BVHM 65Z01A"]
[74105879,"BVHM 80Z01A",88300164,"BVHM 80Z01A"]
[74105880,"BVHM 100Z01A",88300165,"BVHM 100Z01A"]
[74105745,"BVHS 40Z01A",88300166,"BVHS 40Z01A"]
[74105746,"BVHS 50Z01A",88300167,"BVHS 50Z01A"]
[74105747,"BVHS 65Z01A",88300168,"BVHS 65Z01A"]
[74105748,"BVHS 80Z01A",88300169,"BVHS 80Z01A"]
[74105749,"BVHS 100Z01A",88300170,"BVHS 100Z01A"]
[74105770,"BVH 40W01A",88300171,"BVH 40W01A"]
[74105771,"BVH 50W01A",88300172,"BVH 50W01A"]
[74105772,"BVH 65W01A",88300173,"BVH 65W01A"]
[74105773,"BVH 80W01A",88300174,"BVH 80W01A"]
[74105774,"BVH 100W01A",88300175,"BVH 100W01A"]
[74105881,"BVHM 40W01A",88300176,"BVHM 40W01A"]
[74105882,"BVHM 50W01A",88300177,"BVHM 50W01A"]
[74105883,"BVHM 65W01A",88300178,"BVHM 65W01A"]
[74105884,"BVHM 80W01A",88300179,"BVHM 80W01A"]
[74105885,"BVHM 100W01A",88300180,"BVHM 100W01A"]
[74105775,"BVHS 40W01A",88300181,"BVHS 40W01A"]
[74105776,"BVHS 50W01A",88300182,"BVHS 50W01A"]
[74105777,"BVHS 65W01A",88300183,"BVHS 65W01A"]
[74105778,"BVHS 80W01A",88300184,"BVHS 80W01A"]
[74105779,"BVHS 100W01A",88300185,"BVHS 100W01A"]
[74105689,"IC 20-07W2",88300058,"IC 20-07W2T"]
[74921085,"IC 20-15W3",88300059,"IC 20-15W3T"]
[74921086,"IC 20-30W3",88300060,"IC 20-30W3T"]
[74921087,"IC 20-60W3",88300061,"IC 20-60W3T"]
[74105712,"IC 20-07Q2",88300062,"IC 20-07Q2T"]
[74105713,"IC 20-15Q3",88300063,"IC 20-15Q3T"]
[74105714,"IC 20-30Q3",88300064,"IC 20-30Q3T"]
[74105715,"IC 20-60Q3",88300065,"IC 20-60Q3T"]
[74106075,"IC 20-07W2R10",88300066,"IC 20-07W2TR10"]
[74106076,"IC 20-15W3R10",88300067,"IC 20-15W3TR10"]
[74106077,"IC 20-30W3R10",88300068,"IC 20-30W3TR10"]
[74106078,"IC 20-60W3R10",88300069,"IC 20-60W3TR10"]
[74106071,"IC 20-07Q2R10",88300070,"IC 20-07Q2TR10"]
[74106072,"IC 20-15Q3R10",88300071,"IC 20-15Q3TR10"]
[74106073,"IC 20-30Q3R10",88300072,"IC 20-30Q3TR10"]
[74106074,"IC 20-60Q3R10",88300073,"IC 20-60Q3TR10"]
[74105994,"IC 20-07W2E",88300074,"IC 20-07W2E"]
[74105995,"IC 20-15W3E",88300075,"IC 20-15W3E"]
[74105996,"IC 20-30W3E",88300076,"IC 20-30W3E"]
[74105997,"IC 20-60W3E",88300077,"IC 20-60W3E"]
[74105998,"IC 20-07Q2E",88300078,"IC 20-07Q2E"]
[74105999,"IC 20-15Q3E",88300079,"IC 20-15Q3E"]
[74106000,"IC 20-30Q3E",88300080,"IC 20-30Q3E"]
[74106001,"IC 20-60Q3E",88300081,"IC 20-60Q3E"]
[74960325,"Einsatzteil VGBF  65..05/10 /B",74924600,"Einsatzteil VGBF 65..05; GIK 65 /B"]
[74960024,"Einsatzteil VGBF  80..05/10 /B",74924601,"Einsatzteil VGBF 80..05/10; GIK 80 /B"]
[74960313,"Einsatzteil VGBF  80..40 /B",74924604,"Einsatzteil VGBF 80..40 /B"]
[74972641,"Einsatzteil VGBF100..05/10;GIK100 /B",74924610,"Einsatzteil VGBF100..05/10;GIK100 alt /B"]
[74972643,"Einsatzteil VGBF100..05/10;GIK100 /B",74924602,"Einsatzteil VGBF 100..05/10; GIK 100 /B"]
[74960315,"Einsatzteil VGBF100..40 /B",74924605,"Einsatzteil VGBF 100..40 /B"]
[74960317,"Einsatzteil VGBF150..10 /B",74924603,"Einsatzteil VGBF 150..05/10; GIK 150 /B"]
[74971736,"Einsatzteil VGBF65..V /B",74924606,"Einsatzteil VGBF 65..V; GIK 65 V /B"]
[74971738,"Einsatzteil VGBF80..V /B",74924607,"Einsatzteil VGBF 80..V; GIK 80 V /B"]
[74972642,"Einsatzteil VGBF100..05/10V;GIK100..V /B",74924611,"Einsatzteil VGBF100..05/10;GIK100Valt /B"]
[74972644,"Einsatzteil VGBF100..05/10V;GIK100..V /B",74924608,"Einsatzteil VGBF 100..V; GIK100 V /B"]
[74971742,"Einsatzteil VGBF150..V /B",74924609,"Einsatzteil VGBF 150..V GIK150 V /B"]
[74923383,"Einsatzteil-k.  VAR 65 -1 /B",74924612,"Einsatzteil VAR 65...-1 /B"]
[74923384,"Einsatzteil-k.  VAR 80 -1 /B",74924613,"Einsatzteil VAR 80...-1 /B"]
[74923385,"Einsatzteil-k.  VAR 80 -2 /B",74924614,"Einsatzteil VAR 80...-2 /B"]
[74923386,"Einsatzteil-k.  VAR 100 -1 /B",74924615,"Einsatzteil VAR 100...-1 /B"]
[74923387,"Einsatzteil-k.  VAR 100 -2 /B",74924616,"Einsatzteil VAR 100...-2 /B"]
[35454179,"Ausgleichsmembrane  VGBF65 0,5bar",74924620,"Ausgleichsmem. VGBF 65..05; GIK 65 /B"]
[34328850,"Ausgleichsmembrane  VGBF80 0,5/1bar",74924621,"Ausgleichsmem. VGBF 80..05/10; GIK 80 /B"]
[75437700,"Ausgleichsmembr. VGBF80..40",74924628,"Ausgleichsmem. VGBF 80..40 /B"]
[35442690,"Ausgleichsmembrane  VGBF100 0,5/1bar",74924622,"Ausgleichsmem. VGBF100..05/10; GIK100 /B"]
[75438155,"Ausgleichsmembrane  VGBF100 4bar",74924629,"Ausgleichsmem. VGBF 100..40 /B"]
[34328847,"Ausgleichsmembr. VGBF150..10; GIK150",74924623,"Ausgleichsmem. VGBF150..05/10; GIK150 /B"]
[34921657,"Ausgleichsmembrane Viton  VGBF65 0,5bar",74924624,"Ausgleichsmem. VGBF 65..05; GIK 65 V /B"]
[34915675,"Ausgleichsmembr. Viton  VGBF80 0,5/1bar",74924625,"Ausgleichsmem. VGBF 80..05/10 GIK 80 V/B"]
[34921658,"Ausgleichsmembr. Viton  VGBF100 0,5/1bar",74924626,"Ausgleichsmem. VGBF100..05/10;GIK100 V/B"]
[34921659,"Ausgleichsmembr. VGBF150..05/10;GIK150 V",74924627,"Ausgleichsmem. VGBF150..05/10;GIK150 V/B"]
[34328846,"Arbeitsmembrane VGBF  65",74924630,"Arbeitsmembrane VGBF/VAR/GIK 65 /B"]
[34328856,"Arbeitsmembrane VGBF  80",74924631,"Arbeitsmembrane VGBF/VAR/GIK 80 /B"]
[34212875,"Arbeitsmembrane VGBF100",74924632,"Arbeitsmembrane VGBF/VAR/GIK 100 /B"]
[34212871,"Arbeitsmembrane VGBF150",74924633,"Arbeitsmembrane VGBF/GIK 150 /B"]
[34918701,"Arbeitsmembrane Viton  VGBF65",74924634,"Arbeitsmembrane VGBF/GIK 65 V /B"]
[34915676,"Arbeitsmembrane Viton  VGBF80",74924635,"Arbeitsmembrane VGBF/GIK 80 V /B"]
[34921653,"Arbeitsmembrane Viton  VGBF100",74924636,"Arbeitsmembrane VGBF/GIK 100 V /B"]
[34921654,"Arbeitsmembrane Viton  VGBF150",74924637,"Arbeitsmembrane VGBF/GIK 150 V /B"]
[74960333,"Sicherheitsmembr. VGBF65..05 /B",74924640,"Sicherheitsmembrane VGBF/VAR 65 /B"]
[74326920,"Sicherheitsmembr. VGBF80..10/40 /B",74924641,"Sicherheitsmembrane VGBF/VAR 80 /B"]
[74212422,"Sicherheitsmembr. VGBF100..10/40 /B",74924642,"Sicherheitsmembrane VGBF/VAR 100 /B"]
[74327022,"Sicherheitsmembr. VGBF150..10 /B",74924643,"Sicherheitsmembrane VGBF/VAR 150 /B"]
[74324201,"Sicherheitsmembr. GIK 100 /B",74924646,"Sicherheitsmembrane GIK 65 /B"]
[74325711,"Sicherheitsmembr. GIK150 /B",74924647,"Sicherheitsmembrane GIK 80 /B"]
[74324141,"Sicherheitsmembr. GIK65 /B",74924644,"Sicherheitsmembrane GIK 100 /B"]
[74324291,"Sicherheitsmembr. GIK80 /B",74924645,"Sicherheitsmembrane GIK 150 /B"]
[74971150,"Membranteller VGBF 65  /B",74924677,"Membranteller VGBF 65 /B"]
[74951932,"Membranteller VGBF 80  /B",74924678,"Membranteller VGBF 80 /B"]
[74951933,"Membranteller VGBF100 /B",74924679,"Membranteller VGBF 100 /B"]
[74951936,"Membranteller VGBF150 1bar /B",74924680,"Membranteller VGBF 150 /B"]
[75439215,"Daempfungsventil-k.  VGBF",74924681,"Dämpfungsventil VGBF /B"]
[88006500,"VCS 110R05NNW3/PPPP/PPPP",88100097,"VCS1E10R/10R05NNWR3/PPPP/PPPP"]
[88002396,"VCS 115R05NNW3/PPPP/PPPP",88100065,"VCS1E15R/15R05NNWR3/PPPP/PPPP"]
[88004904,"VCS 120R05NNW3/PPPP/PPPP",88100098,"VCS1E20R/20R05NNWR3/PPPP/PPPP"]
[88005361,"VCS 125R05NNW3/PPPP/PPPP",88100099,"VCS1E25R/25R05NNWR3/PPPP/PPPP"]
[88000788,"VCS 240R05NNW3/PPPP/PPPP",88100100,"VCS2E40R/40R05NNWR3/PPPP/PPPP"]
[88001289,"VCS 350R05NNW3/PPPP/PPPP",88100101,"VCS3E50R/50R05NNWR3/PPPP/PPPP"]
[88005976,"VCS 240F05NNW3/PPPP/PPPP",88100102,"VCS2E40F/40F05NNWR3/PPPP/PPPP"]
[88005971,"VCS 350F05NNW3/PPPP/PPPP",88100103,"VCS3E50F/50F05NNWR3/PPPP/PPPP"]
[88006498,"VCS 110R05NLW3/PPPP/PPPP",88100104,"VCS1E10R/10R05NLWR3/PPPP/PPPP"]
[88000950,"VCS 115R05NLW3/PPPP/PPPP",88100105,"VCS1E15R/15R05NLWR3/PPPP/PPPP"]
[88005945,"VCS 120R05NLW3/PPPP/PPPP",88100106,"VCS1E20R/20R05NLWR3/PPPP/PPPP"]
[88000552,"VCS 125R05NLW3/PPPP/PPPP",88100107,"VCS1E25R/25R05NLWR3/PPPP/PPPP"]
[88001445,"VCS 240R05NLW3/PPPP/PPPP",88100108,"VCS2E40R/40R05NLWR3/PPPP/PPPP"]
[88003386,"VCS 350R05NLW3/PPPP/PPPP",88100109,"VCS3E50R/50R05NLWR3/PPPP/PPPP"]
[88006268,"VCS 240F05NLW3/PPPP/PPPP",88100110,"VCS2E40F/40F05NLWR3/PPPP/PPPP"]
[88006503,"VCS 110R05NNQ3/PPPP/PPPP",88100111,"VCS1E10R/10R05NNQR3/PPPP/PPPP"]
[88004215,"VCS 115R05NNQ3/PPPP/PPPP",88100112,"VCS1E15R/15R05NNQR3/PPPP/PPPP"]
[88006506,"VCS 120R05NNQ3/PPPP/PPPP",88100113,"VCS1E20R/20R05NNQR3/PPPP/PPPP"]
[88000676,"VCS 125R05NNQ3/PPPP/PPPP",88100114,"VCS1E25R/25R05NNQR3/PPPP/PPPP"]
[88006507,"VCS 240R05NNQ3/PPPP/PPPP",88100115,"VCS2E40R/40R05NNQR3/PPPP/PPPP"]
[88006508,"VCS 350R05NNQ3/PPPP/PPPP",88100116,"VCS3E50R/50R05NNQR3/PPPP/PPPP"]
[88006420,"VCS 240F05NNQ3/PPPP/PPPP",88100117,"VCS2E40F/40F05NNQR3/PPPP/PPPP"]
[88006518,"VCS 350F05NNQ3/PPPP/PPPP",88100118,"VCS3E50F/50F05NNQR3/PPPP/PPPP"]
[88006511,"VCS 110R05NLQ3/PPPP/PPPP",88100119,"VCS1E10R/10R05NLQR3/PPPP/PPPP"]
[88000952,"VCS 115R05NLQ3/PPPP/PPPP",88100120,"VCS1E15R/15R05NLQR3/PPPP/PPPP"]
[88006512,"VCS 120R05NLQ3/PPPP/PPPP",88100130,"VCS1E20R/20R05NLQR3/PPPP/PPPP"]
[88006513,"VCS 125R05NLQ3/PPPP/PPPP",88100131,"VCS1E25R/25R05NLQR3/PPPP/PPPP"]
[88006514,"VCS 240R05NLQ3/PPPP/PPPP",88100132,"VCS2E40R/40R05NLQR3/PPPP/PPPP"]
[88006515,"VCS 350R05NLQ3/PPPP/PPPP",88100133,"VCS3E50R/50R05NLQR3/PPPP/PPPP"]
[88006521,"VCS 240F05NLQ3/PPPP/PPPP",88100134,"VCS2E40F/40F05NLQR3/PPPP/PPPP"]
[88006522,"VCS 350F05NLQ3/PPPP/PPPP",88100135,"VCS3E50F/50F05NLQR3/PPPP/PPPP"]
[88000950,"VCS 115R05NLK3/PPPP/PPPP",88100136,"VCS1E15R/15R05NLKR3/PPPP/PPPP"]
[88000971,"VAS 115R05/NDW31/ZS/PP",88100137,"VAS1E15R/15R05NWL/ZS/PP"]
[88000974,"VAS 115R05/NDQ31/ZS/PP",88100138,"VAS1E15R/15R05NQL/ZS/PP"]
[88000977,"VAS 115R05/NDK31/ZS/PP",88100139,"VAS1E15R/15R05NKL/ZS/PP"]
[88000979,"VAS 115R05/NDW31/ZS/PP",88100141,"VAS1E15R/15R05NWL/ZS/PP"]
[88000981,"VAS 115R05/NDQ31/ZS/PP",88100142,"VAS1E15R/15R05NQL/ZS/PP"]
[88001140,"VAS 115R05/NDK31/ZS/PP",88100143,"VAS1E15R/15R05NKL/ZS/PP"]
[88000985,"VAS 115R05/NDW32/BS/PP",88100144,"VAS1E15R/15R05NWL/BS/PP"]
[88000987,"VAS 115R05/NDQ31/BS/PP",88100145,"VAS1E15R/15R05NQL/BS/PP"]
[88000989,"VAS 115R05/NDK31/BS/PP",88100147,"VAS1E15R/15R05NKL/BS/PP"]
[88001077,"VCD 115R05ND-100W3/PPPP/PPPP",88100148,"VCD1E15R/15R05ND-100WR3/PPPP/PPPP"]
[88001091,"VCD 115R05ND-100Q3/PPPP/PPPP",88100149,"VCD1E15R/15R05ND-100QR3/PPPP/PPPP"]
[88001093,"VCD 115R05ND-100K3/PPPP/PPPP",88100150,"VCD1E15R/15R05ND-100KR3/PPPP/PPPP"]
[88001080,"VCD 115R05ND-100W3/PP-3/2-PP",88100151,"VCD1E15R/15R05ND-100WR3/PP-3/2-PP"]
[88001086,"VCD 115R05ND-100Q3/PP-3/2-PP",88100152,"VCD1E15R/15R05ND-100QR3/PP-3/2-PP"]
[88001147,"VCD 115R05ND-100K3/PP-3/2-PP",88100153,"VCD1E15R/15R05ND-100KR3/PP-3/2-PP"]
[88001083,"VCD 115R05ND-100W3/PPZS/2--3",88100154,"VCD1E15R/15R05ND-100WL3/PPZS/2--3"]
[88001099,"VCD 115R05ND-100Q3/PPZS/2--3",88100155,"VCD1E15R/15R05ND-100QL3/PPZS/2--3"]
[88001148,"VCD 115R05ND-100K3/PPZS/3--3",88100156,"VCD1E15R/15R05ND-100KL3/PPZS/2--3","DG im Eingang geändert","DG in the inlet changed"]
[88001103,"VCG 115R05NGEW3/PPPP/PPPP",88100158,"VCG1E15R/15R05NGEWR3/PPPP/PPPP"]
[88001106,"VCG 115R05NGEQ3/PPPP/PPPP",88100159,"VCG1E15R/15R05NGEQR3/PPPP/PPPP"]
[88001107,"VCG 115R05NGEK3/PPPP/PPPP",88100160,"VCG1E15R/15R05NGEKR3/PPPP/PPPP"]
[88001111,"VCG 115R05NGEW3/2-PP/PPPP",88100162,"VCG1E15R/15R05NGEWR3/2-PP/PPPP"]
[88001112,"VCG 115R05NGEQ3/2-PP/PPPP",88100164,"VCG1E15R/15R05NGEQR3/2-PP/PPPP"]
[88001479,"VCG 115R05NGEK§/2-PP/PPPP",88100166,"VCG1E15R/15R05NGEKR3/2-PP/PPPP"]
[88001438,"VCG 115R05NGEW3/PPBS/2-PP",88100168,"VCG1E15R/15R05NGEWL3/PPBS/2-PP"]
[88001439,"VCG 115R05NGEQ3/PPBS/2-PP",88100169,"VCG1E15R/15R05NGEQL3/PPBS/2-PP"]
[88001442,"VCG 115R05NGEK3/PPBS/2-PP",88100170,"VCG1E15R/15R05NGEKL3/PPBS/2-PP"]
[88005595,"VCS 350F05NLW3/PPPP/PPPP",88100296,"VCS3E50F/50F05NLWR3/PPPP/PPPP"]
[88000954,"VCS 115R05NLK3/PPPP/PPPP",88100136,"VCS1E15R/15R05NLKR3/PPPP/PPPP"]
[88000160,"VCS1       ",88100171,"VCS1E15R/15R05NNWR/PPPP/PPPP"]
[88013566,"VCS1       ",88100172,"VCS1E20R/20R05NNQR3/PPPP/PP-2"]
[88006952,"VCS1       ",88100173,"VCS1E25R/25R05NNWR/PPPP/PPPP"]
[88016161,"VCS1       ",88100174,"VCS1E15R/15R05NNWR/PPPP/PPZY"]
[88010910,"VCS2       ",88100175,"VCS2E40R/40R05NLWR/2-PP/PPPP"]
[88011776,"VCS1       ",88100177,"VCS1E25R/25R05NLWR/2-PP/PPPP"]
[88007433,"VCD1       ",88100178,"VCD1E25R/25R05ND-25WR/2-MM/PPPP"]
[88010911,"VCS3       ",88100179,"VCS3E50R/50R05NLWR/2-PP/PPPP"]
[88014794,"VCS1       ",88100180,"VCS1E15R/15R05NNWL/PPPP/PPPP"]
[88015920,"VCS1       ",88100182,"VCS1E--/--05NNWR/PPPP/PPPP","Interner Fehler im Merkmalsschlüssel","Internal error in the feature key"]
[88009449,"VCD1       ",88100183,"VCD1E20R/20R05ND-100WR/PPPP/PPPP"]
[88000144,"VCG1       ",88100184,"VCG1E25R/25R05NGEWR3/PPPP/PPPP"]
[88002055,"VCG2       ",88100189,"VCG2E40R/40R05NGEWR3/PPPP/PPPP"]
[88025490,"VCH1V      ",88100190,"VCH1E15R/15R05NHEVWR6/PPPP/PPPP","Interner Fehler im Merkmalsschlüssel","Internal error in the feature key"]
[88003241,"VCS1       ",88100191,"VCS1E15R/15R05NNWR/PPPP/PPPP"]
[88024274,"VCS1       ",88100192,"VCS1E25R/25R05NLWL3/PPBS/PPPP"]
[88012371,"VCD1       ",88100193,"VCD1E20R/20R05D-25NQR3/PPPP/PP-2"]
[88002289,"VCS1       ",88100194,"VCS1E20R/20R05NNWR/PPPP/PPPP"]
[88011586,"VCG1       ",88100196,"VCG1E20R/15R05NGNWR/2-PP/PPPP"]
[88017188,"VCS1T      ",88100203,"VCS1T20N/20N05NNQGR/PPPP/PPPP","POC Geräte sind durchverdrahtet","POC devices: Connetion boxes are connected  "]
[88027986,"VCG1       ",88100204,"VCG1E20R/20R05NGEWR/PPPP/PPBY","Elektrischer Anschluss am Bypassventil geändert","Electrical connection of the baypass valve changed"]
[88014492,"VCS1       ",88100205,"VCS1E15R/15R05NNWR/PPPP/PPPP"]
[88007201,"VCD1       ",88100206,"VCD1E25R/25R05D-25LWR/2-PP/PPPP"]
[88010982,"VCD1       ",88100207,"VCD1E25R/25R05D-100NWR/PPPP/PPPP","Elektrischer Anschluss am Hauptbaustein geändert","Electrical connection of the main component changed"]
[88017290,"VCS1       ",88100208,"VCS1E20R/20R05NLQR3/PPPP/PPPP"]
[88008597,"VCS1       ",88100209,"VCS1E20R/20R05NLWR/PPPP/PPPP"]
[88028206,"VCG1       ",88100210,"VCG1E20R/20R05NGEWGR3/PPPP/PPPP","POC Geräte sind durchverdrahtet","POC devices: Connetion boxes are connected  "]
[88028013,"VCH1       ",88100211,"VCH1E25R/25R05NHEVQR3/PPMM/MMPP"]
[88010326,"VCS1T      ",88010326,"VCS1T15N/15N05NNQSR/PPPP/PPPP","POC Geräte sind durchverdrahtet","POC devices: Connetion boxes are connected  "]
[88023961,"VCS1       ",88100213,"VCS1E25R/25R05NNWL/PPPP/PPPP"]
[88000324,"VCG1       ",88100214,"VCG1E20R/20R05NGEWR3/PPPP/PPPP"]
[88010859,"VCS2       ",88100215,"VCS2E40R/40R05NNWL/PPPP/PPPP"]
[88028057,"VCS1       ",88100216,"VCS1E15R/15R05NNQSL7/PPPP/PPPP","Beide Geräte mit POC ","Both devices with POC"]
[88006723,"VCS2       ",88100217,"VCS2E40R/40R05NNWR/PPPP/PPPP"]
[88018933,"VCS1       ",88100218,"VCS1E15R/15R05NNQL/PPPP/PPPP"]
[88021006,"VCS1       ",88100219,"VCS1E20R/20R05NNPR3/PPPP/PPPP"]
[88000390,"VCS2       ",88100220,"VCS2E25R/25R05NNWR3/PPPP/PPPP"]
[88005948,"VCG1       ",88100221,"VCG1E25R/25R05NGEQR3/PPPP/PPPP"]
[88024942,"VCS1       ",88100222,"VCS1E25R/25R05LNWR3/PPPP/PPPP"]
[88020846,"VCV2       ",88100223,"VCV2E40R/40R05VKLWL/PPPP/2-PP","DG mit Normgerätesteckdose","DG with plug and socket"]
[88001528,"VCG1       ",88100070,"VCG1E15R/15R05NGEWR3/PPPP/PPPP"]
[88024478,"VCH2V      ",88100226,"VCH2E25R/25R05LHEVWR/PPPP/PPPP"]
[88001573,"VCD1       ",88100227,"VCD1E15R/15R05ND-25WR3/PPPP/PPPP"]
[88011309,"VCS3       ",88100228,"VCS3E50R/50R05NNWL/PPPP/PPPP"]
[88008300,"VCV1       ",88100229,"VCV1E25R/25R05NVKWR3/2-PP/PPPP","Nonsens ","Non-matching"]
[88008491,"VCD1       ",88100230,"VCD1E25R/25R05ND-100WR/PPPP/PPPP"]
[88006375,"VCD1       ",88100233,"VCD1E25R/25R05D-100NWSL3/PPBS/PPPP","POC Geräte sind durchverdrahtet","POC devices: Connetion boxes are connected  "]
[88007329,"VCD2       ",88100234,"VCD2E40R/40R05D-25LWR/2-PP/PPPP"]
[88016002,"VCG1       ",88100235,"VCG1E25R/25R05NGEQGR3/PPPP/PPPP","POC Geräte sind durchverdrahtet","POC devices: Connetion boxes are connected  "]
[88011093,"VCG1       ",88100072,"VCG1E15R/15R05NGNKR3/PPPP/PPPP"]
[88009189,"VCS2       ",88100236,"VCS2E32R/32R05NNWR/PPPP/PPPP"]
[88028791,"VCS1       ",88100237,"VCS1E20R/20R05NNWR/PPPP/PPPP"]
[88025754,"VCH1V      ",88100238,"VRH1E15R/15R05HEVR/PP/PP"]
[88001308,"VCD1       ",88100239,"VCD1E25R/25R05ND-100QR3/PPPP/PPPP"]
[88028147,"VCH1       ",88000107,"VCH1E25R/25R05NHEVWR3/PPPP/PPPP"]
[88019034,"VCD1       ",88100241,"VCD1E15R/15R05D-100NWR3/PPPP/PPPP"]
[88000158,"VCG1       ",88100242,"VCG1E25R/25R05NGEWR/PPPP/PPPP"]
[88000238,"VCG1       ",88100243,"VCG1E15R/15R05NGEWR/PPPP/PPPP"]
[88009956,"VCG1       ",88100244,"VCG1E15R/15R05NGEWR/PPPP/PPPP"]
[88009476,"VCS2       ",88100245,"VCS2E50R/50R05NNKR3/PPPP/PPPP"]
[88016163,"VCG1T      ",88100248,"VCG1T15N/15N05NGAQGR/2-PP/PPPP","Beide Geräte mit POC ","Both devices with POC"]
[88028186,"VCS2O      ",88100249,"VCS2E40R/40R05NLO24WR6/PPPP/PPPP"]
[88000174,"VCS1       ",88100250,"VCS1E15R/15R05NNWR3/PPPP/PPPP"]
[88023714,"VCH1       ",88100251,"VCH1E20R/20R05NHEWR3/PPPP/PPPP"]
[88010576,"VCS1       ",88100255,"VCS1E25R/25R05NNWSR3/PPPP/PPPP","POC Geräte sind durchverdrahtet","POC devices: Connetion boxes are connected  "]
[88007505,"VCS1       ",88100256,"VCS1E15R/15R05NNQR/PPPP/PPPP"]
[88001414,"VCG1       ",88100257,"VCG1E25R/25R05GENWR/PP2-/PPPP"]
[88005356,"VCG1       ",88100258,"VCG1E25R/25R05NGEWR/PPPP/PPPP"]
[88010646,"VCG1       ",88100259,"VCG1E25R/25R05NGEWR/PPPP/PPBY"]
[88003487,"VCD1       ",88100260,"VCD1E25R/25R05ND-100WR3/PPPP/PPPP"]
[88026329,"VCS1       ",88100209,"VCS1E20R/20R05NLWR/PPPP/PPPP","Interner Fehler im Merkmalsschlüssel","Internal error in the feature key"]
[88023906,"VCV2       ",88100261,"VCV2E25R/25R05VKLWL/PPPP/2-PP","DG mit Normgerätesteckdose","DG with plug and socket"]
[88026306,"VCH1TV     ",88100262,"VCH1T15N/15N05NHAVQSR/PPPP/PPPP","POC Geräte sind durchverdrahtet","POC devices: Connetion boxes are connected  "]
[88001843,"VCS1       ",88100263,"VCS1E15R/15R05NNQR3/PPPP/PPPP"]
[88001807,"VCS1       ",88100046,"VCS1E25R/25R05NNWR/PPPP/PPPP"]
[88000509,"VCS1       ",88100264,"VCS1E25R/25R05NNWR3/PPPP/PPPP"]
[88012677,"VCS1       ",88100265,"VCS1E25R/25R05NLWL/PPPP/PPPP"]
[88021248,"VCH1V      ",88100266,"VAH1E15R/15R05HEVWR/PP/PP"]
[88027199,"VCG1V      ",88100267,"VCG1E20R/20R05NGEVWL/PPPP/PPPP"]
[88024195,"VCH1V      ",88100268,"VCH1E20R/20R05NHEVQR/PPPP/PPPP"]
[88027123,"VCD1       ",88100269,"VCD1E15R/15R05LD-50WR/PPPP/PPPP","Elektrischer Anschluss am Hauptbaustein geändert","Electrical connection of the main component changed"]
[88014789,"VCS1       ",88100275,"VCS1E25R/25R05NNWL/PPBS/PPPP","Elektrischer Anschluss am Hauptbaustein geändert","Electrical connection of the main component changed"]
[88002450,"VCS1       ",88100280,"VCS1E15R/15R05NLQR6/PPPP/PPMM"]
[88015140,"VCG1       ",88100281,"VCG1E25R/25R05GENWL/PP2-/PPPP"]
[88003054,"VCS1       ",88100282,"VCS1E10R/10R05NNWR3/PPPP/PPPP"]
[88007456,"VCG2       ",88100286,"VCG2E40R/40R05GENKR/2-PP/PPPP"]
[88003274,"VCS3       ",88100287,"VCS3E50R/50R05NNKR3/PPPP/PPPP"]
[88007145,"VCD1       ",88100288,"VCD1E25R/25R05D-25LQR/2-PP/PPPP"]
[88008164,"VCS1       ",88100289,"VCS1E20R/20R05NNQR3/PPPP/PPPP"]
[88024190,"VCH1V      ",88100290,"VCH1E25R/25R05NHEVQR/PPPP/PPPP"]
[88025585,"VCV1       ",88100291,"VCV1E25R/25R05VKLWL/PPPP/2-PP","DG mit Normgerätesteckdose","DG with plug and socket"]
[88006920,"VCG1       ",88100292,"VCG1E20R/20R05NGEWR3/MMMM/MMMM"]
[88004644,"VCS2       ",88100293,"VCS2E40R/40R05LNWR3/PPPP/PPPP"]
[88000170,"VCS1       ",88100298,"VCS1E15R/15R05NLWR3/PPPP/PPPP"]
[88002560,"VCG1       ",88100312,"VCG1E25R/25R05NGEWR6/PPPP/PPPP"]
[88015004,"VCG1V      ",88100313,"VCG1E25R/25R05NGEVWR3/PPPP/PPPP"]
[88016636,"VCD1       ",88100317,"VCD1E20R/20R05D-100LQL/PPPP/PPPP"]
[88027893,"VCS1       ",88100318,"VCS1E10R/10R05NNWR3/2-PP/PP-3"]
[88028207,"VCS1       ",88100319,"VCS1E15R/15R05NLQGR3/PPPP/PPPP","POC Geräte sind durchverdrahtet","POC devices: Connetion boxes are connected  "]
[88006916,"VCD2       ",88100325,"VCD2E40R/40R05D-100NWSL3/PPBS/PPPP","POC Geräte sind durchverdrahtet","POC devices: Connetion boxes are connected  "]
[88015817,"VCS1       ",88100322,"VCS1E20R/20R05NNQSR3/MMMM/PPPP","POC Geräte sind durchverdrahtet","POC devices: Connetion boxes are connected  "]
[88006327,"VCS1       ",88100332,"VCS1E20R/20R05NNWL/PPPP/PPMM"]
[88012321,"VCD1       ",88100269,"VCD1E15R/15R05LD-50WR/PPPP/PPPP"]
[88028074,"VCG2       ",88100327,"VCG2E40R/40R05NGEWR3/PPPP/PPBS","Nonsens ","Non-matching"]
[88025792,"VCH1V      ",88100328,"VRH1E20R/20R05HEVR/PP/PP"]
[88005431,"VCG1       ",88100329,"VCG1E20R/20R05NGEWR/PPPP/PPPP"]
[88007109,"VCS1T      ",88100330,"VCS1T25N/25N05NLQSR/PPPP/PPPP"]
[88027316,"VCS1       ",88100333,"VCS1E15R/15R05NNPR3/PPPP/PPPP"]
[88007068,"VCS3       ",88100334,"VCS3E50R/50R05NNWR/PPPP/PPPP"]
[88012790,"VCG1       ",88100335,"VCG1E15R/15R05GNNWL/PPPP/PPPP"]
[88012784,"VCG1       ",88100336,"VCG1E25R/25R05NGEQR/MMPP/PPPP"]
[88007202,"VCD2       ",88100337,"VCD2E40R/40R05D-25LQR/2-PP/PPPP"]
[88014290,"VCS1       ",88100338,"VCS1E20R/20R05LNWR/PPPP/PPPP"]
[88027648,"VCG1       ",88100339,"VCG1E15R/15R05LGEWR/PPPP/PPPP"]
[88020848,"VCV3       ",88100340,"VCV3E50R/50R05VKLWL/PPPP/2-PP","DG mit Normgerätesteckdose","DG with plug and socket"]
[88015776,"VCG1       ",88100341,"VCG1E20R/15R05NGEWR/PPPP/PPZY"]
[88006021,"VCS3       ",88100342,"VCS3E40R/40R05NNWR3/PPPP/PPPP"]
[88005627,"VCG3       ",88100343,"VCG3E50R/50R05NGEWR3/PPPP/PPPP"]
[88011020,"VCD2       ",88100344,"VCD2E40R/40R05LD-100WR3/PPPP/PPPP"]
[88003900,"VCS1       ",88100345,"VCS1E15R/15R05NNWR6/PPPP/PPBY","Nonsens ","Non-matching"]
[88009481,"VCG1       ",88100346,"VCG1E20R/20R05NGEQR3/PPPP/PPPP"]
[88015511,"VCS1",88100588,"VCS1E20R/20R05NLWR/PPPP/PPPP"]
[88020431,"VCS1V",88100750,"VCS1E15R/15R05NLVWR3/PPPP/PPPP"]
[15810227,"LFC 104ML05H07","-","-","LFC 104 kann nicht durch VFC ersetzt werden","LFC 104 cannot be replaced by VFC"]
[15810217,"LFC 104ML05H15","-","-","LFC 104 kann nicht durch VFC ersetzt werden","LFC 104 cannot be replaced by VFC"]
[15810257,"LFC 104ML05H15E","-","-","LFC 104 kann nicht durch VFC ersetzt werden","LFC 104 cannot be replaced by VFC"]
[15810207,"LFC 104ML05H30","-","-","LFC 104 kann nicht durch VFC ersetzt werden","LFC 104 cannot be replaced by VFC"]
[15810247,"LFC 104ML05H30E","-","-","LFC 104 kann nicht durch VFC ersetzt werden","LFC 104 cannot be replaced by VFC"]
[15810007,"LFC 104ML05H60","-","-","LFC 104 kann nicht durch VFC ersetzt werden","LFC 104 cannot be replaced by VFC"]
[15810237,"LFC 104ML05H60E","-","-","LFC 104 kann nicht durch VFC ersetzt werden","LFC 104 cannot be replaced by VFC"]
[15810278,"LFC 104ML05K60G","-","-","LFC 104 kann nicht durch VFC ersetzt werden","LFC 104 cannot be replaced by VFC"]
[15810223,"LFC 104ML05M07","-","-","LFC 104 kann nicht durch VFC ersetzt werden","LFC 104 cannot be replaced by VFC"]
[15810213,"LFC 104ML05M15","-","-","LFC 104 kann nicht durch VFC ersetzt werden","LFC 104 cannot be replaced by VFC"]
[15810253,"LFC 104ML05M15E","-","-","LFC 104 kann nicht durch VFC ersetzt werden","LFC 104 cannot be replaced by VFC"]
[15810203,"LFC 104ML05M30","-","-","LFC 104 kann nicht durch VFC ersetzt werden","LFC 104 cannot be replaced by VFC"]
[15810243,"LFC 104ML05M30E","-","-","LFC 104 kann nicht durch VFC ersetzt werden","LFC 104 cannot be replaced by VFC"]
[15810003,"LFC 104ML05M60","-","-","LFC 104 kann nicht durch VFC ersetzt werden","LFC 104 cannot be replaced by VFC"]
[15810233,"LFC 104ML05M60E","-","-","LFC 104 kann nicht durch VFC ersetzt werden","LFC 104 cannot be replaced by VFC"]
[15810221,"LFC 104ML05T07","-","-","LFC 104 kann nicht durch VFC ersetzt werden","LFC 104 cannot be replaced by VFC"]
[15810191,"LFC 104ML05T07E","-","-","LFC 104 kann nicht durch VFC ersetzt werden","LFC 104 cannot be replaced by VFC"]
[15810211,"LFC 104ML05T15","-","-","LFC 104 kann nicht durch VFC ersetzt werden","LFC 104 cannot be replaced by VFC"]
[15810251,"LFC 104ML05T15E","-","-","LFC 104 kann nicht durch VFC ersetzt werden","LFC 104 cannot be replaced by VFC"]
[15810261,"LFC 104ML05T15EM","-","-","LFC 104 kann nicht durch VFC ersetzt werden","LFC 104 cannot be replaced by VFC"]
[15810201,"LFC 104ML05T30","-","-","LFC 104 kann nicht durch VFC ersetzt werden","LFC 104 cannot be replaced by VFC"]
[15810241,"LFC 104ML05T30E","-","-","LFC 104 kann nicht durch VFC ersetzt werden","LFC 104 cannot be replaced by VFC"]
[15810001,"LFC 104ML05T60","-","-","LFC 104 kann nicht durch VFC ersetzt werden","LFC 104 cannot be replaced by VFC"]
[15810231,"LFC 104ML05T60E","-","-","LFC 104 kann nicht durch VFC ersetzt werden","LFC 104 cannot be replaced by VFC"]
[25810250,"LFC 108/10R05",88300201,"VFC110/10R05-08PPPP"]
[25810240,"LFC 108/15R05",88300202,"VFC115/15R05-08PPPP"]
[25810230,"LFC 108/20R05",88300203,"VFC120/20R05-08PPPP"]
[25810220,"LFC 108/25R05",88300204,"VFC125/25R05-08PPPP"]
[25810210,"LFC 108ML05",88300200,"VFC1-/-05-08PPPP","Achtung: Der passende Flansch muss noch hinzugefügt werden.","Attention: Please add the required flange"]
[15800047,"LFC 108ML05H07","-","-","Die Spannung \"H\" kann durch IC 20 nicht ersetzt werden","Power supply \"H\" cannot be replaced by IC 20"]
[15830047,"LFC 108ML05H07E","-","-","Die Spannung \"H\" kann durch IC 20 nicht ersetzt werden","Power supply \"H\" cannot be replaced by IC 20"]
[15832047,"LFC 108ML05H07EG","-","-","Die Spannung \"H\" kann durch IC 20 nicht ersetzt werden","Power supply \"H\" cannot be replaced by IC 20"]
[15800037,"LFC 108ML05H15","-","-","Die Spannung \"H\" kann durch IC 20 nicht ersetzt werden","Power supply \"H\" cannot be replaced by IC 20"]
[15830037,"LFC 108ML05H15E","-","-","Die Spannung \"H\" kann durch IC 20 nicht ersetzt werden","Power supply \"H\" cannot be replaced by IC 20"]
[15832037,"LFC 108ML05H15EG","-","-","Die Spannung \"H\" kann durch IC 20 nicht ersetzt werden","Power supply \"H\" cannot be replaced by IC 20"]
[15800027,"LFC 108ML05H30","-","-","Die Spannung \"H\" kann durch IC 20 nicht ersetzt werden","Power supply \"H\" cannot be replaced by IC 20"]
[15830027,"LFC 108ML05H30E","-","-","Die Spannung \"H\" kann durch IC 20 nicht ersetzt werden","Power supply \"H\" cannot be replaced by IC 20"]
[15832027,"LFC 108ML05H30EG","-","-","Die Spannung \"H\" kann durch IC 20 nicht ersetzt werden","Power supply \"H\" cannot be replaced by IC 20"]
[15802027,"LFC 108ML05H30G","-","-","Die Spannung \"H\" kann durch IC 20 nicht ersetzt werden","Power supply \"H\" cannot be replaced by IC 20"]
[15800017,"LFC 108ML05H60","-","-","Die Spannung \"H\" kann durch IC 20 nicht ersetzt werden","Power supply \"H\" cannot be replaced by IC 20"]
[15830017,"LFC 108ML05H60E","-","-","Die Spannung \"H\" kann durch IC 20 nicht ersetzt werden","Power supply \"H\" cannot be replaced by IC 20"]
[15802017,"LFC 108ML05H60G","-","-","Die Spannung \"H\" kann durch IC 20 nicht ersetzt werden","Power supply \"H\" cannot be replaced by IC 20"]
[15801017,"LFC 108ML05H60M","-","-","Die Spannung \"H\" kann durch IC 20 nicht ersetzt werden","Power supply \"H\" cannot be replaced by IC 20"]
[15800028,"LFC 108ML05K30","-","-","Die Spannung \"K\" kann durch IC 20 nicht ersetzt werden","Power supply \"H\" cannot be replaced by IC 20"]
[15802018,"LFC 108ML05K60G","-","-","Die Spannung \"K\" kann durch IC 20 nicht ersetzt werden","Power supply \"H\" cannot be replaced by IC 20"]
[15800043,"LFC 108ML05M07",88300532,"IFC1-/-05-08PPPP/20-07Q2TR10","Achtung: Der passende Flansch muss noch hinzugefügt werden.","Attention: Please add the required flange"]
[15830043,"LFC 108ML05M07E",88300545,"IFC1-/-05-08PPPP/20-07Q2E","Achtung: Der passende Flansch muss noch hinzugefügt werden.","Attention: Please add the required flange"]
[15832043,"LFC 108ML05M07EG",88300545,"IFC1-/-05-08PPPP/20-07Q2E","Achtung: Der passende Flansch muss noch hinzugefügt werden.","Attention: Please add the required flange"]
[15800033,"LFC 108ML05M15",88300531,"IFC1-/-05-08PPPP/20-15Q3TR10","Achtung: Der passende Flansch muss noch hinzugefügt werden.","Attention: Please add the required flange"]
[15830033,"LFC 108ML05M15E",88300544,"IFC1-/-05-08PPPP/20-15Q3E","Achtung: Der passende Flansch muss noch hinzugefügt werden.","Attention: Please add the required flange"]
[15832033,"LFC 108ML05M15EG",88300544,"IFC1-/-05-08PPPP/20-15Q3E","Achtung: Der passende Flansch muss noch hinzugefügt werden.","Attention: Please add the required flange"]
[15800023,"LFC 108ML05M30",88300541,"IFC1-/-05-08PPPP/20-30Q3TR10","Achtung: Der passende Flansch muss noch hinzugefügt werden.","Attention: Please add the required flange"]
[15830023,"LFC 108ML05M30E",88300543,"IFC1-/-05-08PPPP/20-30Q3E","Achtung: Der passende Flansch muss noch hinzugefügt werden.","Attention: Please add the required flange"]
[15802023,"LFC 108ML05M30G",88300541,"IFC1-/-05-08PPPP/20-30Q3TR10","Achtung: Der passende Flansch muss noch hinzugefügt werden.","Attention: Please add the required flange"]
[15800013,"LFC 108ML05M60",88300530,"IFC1-/-05-08PPPP/20-60Q3TR10","Achtung: Der passende Flansch muss noch hinzugefügt werden.","Attention: Please add the required flange"]
[15830013,"LFC 108ML05M60E",88300542,"IFC1-/-05-08PPPP/20-60Q3E","Achtung: Der passende Flansch muss noch hinzugefügt werden.","Attention: Please add the required flange"]
[15801013,"LFC 108ML05M60M",88300530,"IFC1-/-05-08PPPP/20-60Q3TR10","Achtung: Der passende Flansch muss noch hinzugefügt werden.","Attention: Please add the required flange"]
[15800041,"LFC 108ML05T07",88300621,"IFC1-/-05-08PPPP/20-07W2TR10","Achtung: Der passende Flansch muss noch hinzugefügt werden.","Attention: Please add the required flange"]
[15830041,"LFC 108ML05T07E",88300557,"IFC1-/-05-08PPPP/20-07W2E","Achtung: Der passende Flansch muss noch hinzugefügt werden.","Attention: Please add the required flange"]
[15832041,"LFC 108ML05T07EG",88300557,"IFC1-/-05-08PPPP/20-07W2E","Achtung: Der passende Flansch muss noch hinzugefügt werden.","Attention: Please add the required flange"]
[15800031,"LFC 108ML05T15",88300521,"IFC1-/-05-08PPPP/20-15W3TR10","Achtung: Der passende Flansch muss noch hinzugefügt werden.","Attention: Please add the required flange"]
[15830031,"LFC 108ML05T15E",88300556,"IFC1-/-05-08PPPP/20-15W3E","Achtung: Der passende Flansch muss noch hinzugefügt werden.","Attention: Please add the required flange"]
[15832031,"LFC 108ML05T15EG",88300556,"IFC1-/-05-08PPPP/20-15W3E","Achtung: Der passende Flansch muss noch hinzugefügt werden.","Attention: Please add the required flange"]
[15800021,"LFC 108ML05T30",88300520,"IFC1-/-05-08PPPP/20-30W3TR10","Achtung: Der passende Flansch muss noch hinzugefügt werden.","Attention: Please add the required flange"]
[15830021,"LFC 108ML05T30E",88300555,"IFC1-/-05-08PPPP/20-30W3E","Achtung: Der passende Flansch muss noch hinzugefügt werden.","Attention: Please add the required flange"]
[15802021,"LFC 108ML05T30G",88300520,"IFC1-/-05-08PPPP/20-30W3TR10","Achtung: Der passende Flansch muss noch hinzugefügt werden.","Attention: Please add the required flange"]
[15810571,"LFC 108ML05T30Z",88300520,"IFC1-/-05-08PPPP/20-30W3TR10","Achtung: Der passende Flansch muss noch hinzugefügt werden.","Attention: Please add the required flange"]
[15800011,"LFC 108ML05T60",88300519,"IFC1-/-05-08PPPP/20-60W3TR10","Achtung: Der passende Flansch muss noch hinzugefügt werden.","Attention: Please add the required flange"]
[15830011,"LFC 108ML05T60E",88300554,"IFC1-/-05-08PPPP/20-60W3E","Achtung: Der passende Flansch muss noch hinzugefügt werden.","Attention: Please add the required flange"]
[15801011,"LFC 108ML05T60M",88300519,"IFC1-/-05-08PPPP/20-60W3TR10","Achtung: Der passende Flansch muss noch hinzugefügt werden.","Attention: Please add the required flange"]
[25810200,"LFC 115/10R05",88300206,"VFC110/10R05-15PPPP"]
[25810190,"LFC 115/15R05",88300207,"VFC115/15R05-15PPPP"]
[25810180,"LFC 115/20R05",88300208,"VFC120/20R05-15PPPP"]
[25810380,"LFC 115/25N05",88300625,"VFC1T25/25N05-15PPPP"]
[25810170,"LFC 115/25R05",88300209,"VFC125/25R05-15PPPP"]
[25810160,"LFC 115ML05",88300205,"VFC1-/-05-15PPPP","Achtung: Der passende Flansch muss noch hinzugefügt werden.","Attention: Please add the required flange"]
[15800147,"LFC 115ML05H07","-","-","Die Spannung \"H\" kann durch IC 20 nicht ersetzt werden","Power supply \"H\" cannot be replaced by IC 20"]
[15830147,"LFC 115ML05H07E","-","-","Die Spannung \"H\" kann durch IC 20 nicht ersetzt werden","Power supply \"H\" cannot be replaced by IC 20"]
[15800137,"LFC 115ML05H15","-","-","Die Spannung \"H\" kann durch IC 20 nicht ersetzt werden","Power supply \"H\" cannot be replaced by IC 20"]
[15830137,"LFC 115ML05H15E","-","-","Die Spannung \"H\" kann durch IC 20 nicht ersetzt werden","Power supply \"H\" cannot be replaced by IC 20"]
[15800127,"LFC 115ML05H30","-","-","Die Spannung \"H\" kann durch IC 20 nicht ersetzt werden","Power supply \"H\" cannot be replaced by IC 20"]
[15830127,"LFC 115ML05H30E","-","-","Die Spannung \"H\" kann durch IC 20 nicht ersetzt werden","Power supply \"H\" cannot be replaced by IC 20"]
[15832127,"LFC 115ML05H30EG","-","-","Die Spannung \"H\" kann durch IC 20 nicht ersetzt werden","Power supply \"H\" cannot be replaced by IC 20"]
[15801127,"LFC 115ML05H30M","-","-","Die Spannung \"H\" kann durch IC 20 nicht ersetzt werden","Power supply \"H\" cannot be replaced by IC 20"]
[15800117,"LFC 115ML05H60","-","-","Die Spannung \"H\" kann durch IC 20 nicht ersetzt werden","Power supply \"H\" cannot be replaced by IC 20"]
[15830117,"LFC 115ML05H60E","-","-","Die Spannung \"H\" kann durch IC 20 nicht ersetzt werden","Power supply \"H\" cannot be replaced by IC 20"]
[15832117,"LFC 115ML05H60EG","-","-","Die Spannung \"H\" kann durch IC 20 nicht ersetzt werden","Power supply \"H\" cannot be replaced by IC 20"]
[15802117,"LFC 115ML05H60G","-","-","Die Spannung \"H\" kann durch IC 20 nicht ersetzt werden","Power supply \"H\" cannot be replaced by IC 20"]
[15810337,"LFC 115ML05H60Z","-","-","Die Spannung \"H\" kann durch IC 20 nicht ersetzt werden","Power supply \"H\" cannot be replaced by IC 20"]
[15810387,"LFC 115ML05H60Z","-","-","Die Spannung \"H\" kann durch IC 20 nicht ersetzt werden","Power supply \"H\" cannot be replaced by IC 20"]
[15800138,"LFC 115ML05K15","88300205\n+03149351\n+74340194","VFC1-/-05-15PPPP\n+ IC 30-30K3T\n+ Adaptersatz IC30/VFC /B","Achtung: Der passende Flansch muss noch hinzugefügt werden.\n15 Sekunden Laufzeit nicht möglich bei IC 30","Attention: Please add the required flange\n15 sec running time cannot be replaced by IC 30"]
[15800128,"LFC 115ML05K30","88300205\n+03149351\n+74340194","VFC1-/-05-15PPPP\n+ IC 30-30K3T\n+ Adaptersatz IC30/VFC /B","Achtung: Der passende Flansch muss noch hinzugefügt werden.","Attention: Please add the required flange"]
[15810429,"LFC 115ML05K30S6GZ","-","-","LFC mit Schrittmotor unipolar kann durch IC 20 nicht ersetzt werden","LFC with step motor cannot be replaced by IC 20"]
[15802118,"LFC 115ML05K60G","88300205\n+03149353\n+74340194","VFC1-/-05-15PPPP\n+ IC 30-60K3T\n+ Adaptersatz IC30/VFC /B","Achtung: Der passende Flansch muss noch hinzugefügt werden.","Attention: Please add the required flange"]
[15800143,"LFC 115ML05M07",88300536,"IFC1-/-05-15PPPP/20-07Q2TR10","Achtung: Der passende Flansch muss noch hinzugefügt werden.","Attention: Please add the required flange"]
[15830143,"LFC 115ML05M07E",88300549,"IFC1-/-05-15PPPP/20-07Q2E","Achtung: Der passende Flansch muss noch hinzugefügt werden.","Attention: Please add the required flange"]
[15800133,"LFC 115ML05M15",88300535,"IFC1-/-05-15PPPP/20-15Q3TR10","Achtung: Der passende Flansch muss noch hinzugefügt werden.","Attention: Please add the required flange"]
[15830133,"LFC 115ML05M15E",88300548,"IFC1-/-05-15PPPP/20-15Q3E","Achtung: Der passende Flansch muss noch hinzugefügt werden.","Attention: Please add the required flange"]
[15800123,"LFC 115ML05M30",88300534,"IFC1-/-05-15PPPP/20-30Q3TR10","Achtung: Der passende Flansch muss noch hinzugefügt werden.","Attention: Please add the required flange"]
[15830123,"LFC 115ML05M30E",88300547,"IFC1-/-05-15PPPP/20-30Q3E","Achtung: Der passende Flansch muss noch hinzugefügt werden.","Attention: Please add the required flange"]
[15832123,"LFC 115ML05M30EG",88300547,"IFC1-/-05-15PPPP/20-30Q3E","Achtung: Der passende Flansch muss noch hinzugefügt werden.","Attention: Please add the required flange"]
[15801123,"LFC 115ML05M30M",88300534,"IFC1-/-05-15PPPP/20-30Q3TR10","Achtung: Der passende Flansch muss noch hinzugefügt werden.","Attention: Please add the required flange"]
[15800113,"LFC 115ML05M60",88300533,"IFC1-/-05-15PPPP/20-60Q3TR10","Achtung: Der passende Flansch muss noch hinzugefügt werden.","Attention: Please add the required flange"]
[15830113,"LFC 115ML05M60E",88300546,"IFC1-/-05-15PPPP/20-60Q3E","Achtung: Der passende Flansch muss noch hinzugefügt werden.","Attention: Please add the required flange"]
[15832113,"LFC 115ML05M60EG",88300546,"IFC1-/-05-15PPPP/20-60Q3E","Achtung: Der passende Flansch muss noch hinzugefügt werden.","Attention: Please add the required flange"]
[15800141,"LFC 115ML05T07",88300525,"IFC1-/-05-15PPPP/20-07W2TR10","Achtung: Der passende Flansch muss noch hinzugefügt werden.","Attention: Please add the required flange"]
[15830141,"LFC 115ML05T07E",88300561,"IFC1-/-05-15PPPP/20-07W2E","Achtung: Der passende Flansch muss noch hinzugefügt werden.","Attention: Please add the required flange"]
[15800131,"LFC 115ML05T15",88300524,"IFC1-/-05-15PPPP/20-15W3TR10","Achtung: Der passende Flansch muss noch hinzugefügt werden.","Attention: Please add the required flange"]
[15830131,"LFC 115ML05T15E",88300560,"IFC1-/-05-15PPPP/20-15W3E","Achtung: Der passende Flansch muss noch hinzugefügt werden.","Attention: Please add the required flange"]
[15800121,"LFC 115ML05T30",88300523,"IFC1-/-05-15PPPP/20-30W3TR10","Achtung: Der passende Flansch muss noch hinzugefügt werden.","Attention: Please add the required flange"]
[15830121,"LFC 115ML05T30E",88300559,"IFC1-/-05-15PPPP/20-30W3E","Achtung: Der passende Flansch muss noch hinzugefügt werden.","Attention: Please add the required flange"]
[15832121,"LFC 115ML05T30EG",88300559,"IFC1-/-05-15PPPP/20-30W3E","Achtung: Der passende Flansch muss noch hinzugefügt werden.","Attention: Please add the required flange"]
[15802121,"LFC 115ML05T30G",88300523,"IFC1-/-05-15PPPP/20-30W3TR10","Achtung: Der passende Flansch muss noch hinzugefügt werden.","Attention: Please add the required flange"]
[15801121,"LFC 115ML05T30M",88300523,"IFC1-/-05-15PPPP/20-30W3TR10","Achtung: Der passende Flansch muss noch hinzugefügt werden.","Attention: Please add the required flange"]
[15800111,"LFC 115ML05T60",88300522,"IFC1-/-05-15PPPP/20-60W3TR10","Achtung: Der passende Flansch muss noch hinzugefügt werden.","Attention: Please add the required flange"]
[15830111,"LFC 115ML05T60E",88300558,"IFC1-/-05-15PPPP/20-60W3E","Achtung: Der passende Flansch muss noch hinzugefügt werden.","Attention: Please add the required flange"]
[15832111,"LFC 115ML05T60EG",88300558,"IFC1-/-05-15PPPP/20-60W3E","Achtung: Der passende Flansch muss noch hinzugefügt werden.","Attention: Please add the required flange"]
[15802111,"LFC 115ML05T60G",88300522,"IFC1-/-05-15PPPP/20-60W3TR10","Achtung: Der passende Flansch muss noch hinzugefügt werden.","Attention: Please add the required flange"]
[25810150,"LFC 120/10R05",88300211,"VFC110/10R05-20PPPP"]
[25810140,"LFC 120/15R05",88300212,"VFC115/15R05-20PPPP"]
[25810130,"LFC 120/20R05",88300213,"VFC120/20R05-20PPPP"]
[25810340,"LFC 120/25N05",88300624,"VFC1T25/25N05-20PPPP"]
[25810120,"LFC 120/25R05",88300214,"VFC125/25R05-20PPPP"]
[25810110,"LFC 120ML05",88300210,"VFC1-/-05-20PPPP","Achtung: Der passende Flansch muss noch hinzugefügt werden.","Attention: Please add the required flange"]
[15800247,"LFC 120ML05H07","-","-","Die Spannung \"H\" kann durch IC 20 nicht ersetzt werden","Power supply \"H\" cannot be replaced by IC 20"]
[15830247,"LFC 120ML05H07E","-","-","Die Spannung \"H\" kann durch IC 20 nicht ersetzt werden","Power supply \"H\" cannot be replaced by IC 20"]
[15800237,"LFC 120ML05H15","-","-","Die Spannung \"H\" kann durch IC 20 nicht ersetzt werden","Power supply \"H\" cannot be replaced by IC 20"]
[15830237,"LFC 120ML05H15E","-","-","Die Spannung \"H\" kann durch IC 20 nicht ersetzt werden","Power supply \"H\" cannot be replaced by IC 20"]
[15800227,"LFC 120ML05H30","-","-","Die Spannung \"H\" kann durch IC 20 nicht ersetzt werden","Power supply \"H\" cannot be replaced by IC 20"]
[15830227,"LFC 120ML05H30E","-","-","Die Spannung \"H\" kann durch IC 20 nicht ersetzt werden","Power supply \"H\" cannot be replaced by IC 20"]
[15832227,"LFC 120ML05H30EG","-","-","Die Spannung \"H\" kann durch IC 20 nicht ersetzt werden","Power supply \"H\" cannot be replaced by IC 20"]
[15801227,"LFC 120ML05H30M","-","-","Die Spannung \"H\" kann durch IC 20 nicht ersetzt werden","Power supply \"H\" cannot be replaced by IC 20"]
[15815027,"LFC 120ML05H30Z","-","-","Die Spannung \"H\" kann durch IC 20 nicht ersetzt werden","Power supply \"H\" cannot be replaced by IC 20"]
[15800217,"LFC 120ML05H60","-","-","Die Spannung \"H\" kann durch IC 20 nicht ersetzt werden","Power supply \"H\" cannot be replaced by IC 20"]
[15830217,"LFC 120ML05H60E","-","-","Die Spannung \"H\" kann durch IC 20 nicht ersetzt werden","Power supply \"H\" cannot be replaced by IC 20"]
[15810017,"LFC 120ML05H60Z","-","-","Die Spannung \"H\" kann durch IC 20 nicht ersetzt werden","Power supply \"H\" cannot be replaced by IC 20"]
[15810097,"LFC 120ML05H60Z","-","-","Die Spannung \"H\" kann durch IC 20 nicht ersetzt werden","Power supply \"H\" cannot be replaced by IC 20"]
[15810137,"LFC 120ML05H60Z","-","-","Die Spannung \"H\" kann durch IC 20 nicht ersetzt werden","Power supply \"H\" cannot be replaced by IC 20"]
[15810437,"LFC 120ML05H60Z","-","-","Die Spannung \"H\" kann durch IC 20 nicht ersetzt werden","Power supply \"H\" cannot be replaced by IC 20"]
[15800228,"LFC 120ML05K30","88300210\n+03149351\n+74340194","VFC1-/-05-20PPPP\n+ IC 30-30K3T\n+ Adaptersatz IC30/VFC /B","Achtung: Der passende Flansch muss noch hinzugefügt werden.","Attention: Please add the required flange"]
[15810469,"LFC 120ML05K30S6GZ","-","-","LFC mit Schrittmotor unipolar kann durch IC 20 nicht ersetzt werden","LFC with step motor cannot be replaced by IC 20"]
[15810168,"LFC 120ML05K30Z","88302634\n+03149351\n+74340194","VFC1-/-05-20LPPPPZ001\n+ IC 30-30K3T\n+ Adaptersatz IC30/VFC /B","Achtung: Der passende Flansch muss noch hinzugefügt werden.\nAchtung: Sonderzylinder","Attention: Please add the required flange\nAttention: Customized regulating cylinder"]
[15802218,"LFC 120ML05K60G","88300210\n+03149353\n+74340194","VFC1-/-05-20PPPP\n+ IC 30-60K3T\n+ Adaptersatz IC30/VFC /B","Achtung: Der passende Flansch muss noch hinzugefügt werden.","Attention: Please add the required flange"]
[15800243,"LFC 120ML05M07",88300540,"IFC1-/-05-20PPPP/20-07Q2TR10","Achtung: Der passende Flansch muss noch hinzugefügt werden.","Attention: Please add the required flange"]
[15830243,"LFC 120ML05M07E",88300553,"IFC1-/-05-20PPPP/20-07Q2E","Achtung: Der passende Flansch muss noch hinzugefügt werden.","Attention: Please add the required flange"]
[15800233,"LFC 120ML05M15",88300539,"IFC1-/-05-20PPPP/20-15Q3TR10","Achtung: Der passende Flansch muss noch hinzugefügt werden.","Attention: Please add the required flange"]
[15830233,"LFC 120ML05M15E",88300552,"IFC1-/-05-20PPPP/20-15Q3E","Achtung: Der passende Flansch muss noch hinzugefügt werden.","Attention: Please add the required flange"]
[15800223,"LFC 120ML05M30",88300538,"IFC1-/-05-20PPPP/20-30Q3TR10","Achtung: Der passende Flansch muss noch hinzugefügt werden.","Attention: Please add the required flange"]
[15830223,"LFC 120ML05M30E",88300551,"IFC1-/-05-20PPPP/20-30Q3E","Achtung: Der passende Flansch muss noch hinzugefügt werden.","Attention: Please add the required flange"]
[15832223,"LFC 120ML05M30EG",88300551,"IFC1-/-05-20PPPP/20-30Q3E","Achtung: Der passende Flansch muss noch hinzugefügt werden.","Attention: Please add the required flange"]
[15802223,"LFC 120ML05M30G",88300538,"IFC1-/-05-20PPPP/20-30Q3TR10","Achtung: Der passende Flansch muss noch hinzugefügt werden.","Attention: Please add the required flange"]
[15801223,"LFC 120ML05M30M",88300538,"IFC1-/-05-20PPPP/20-30Q3TR10","Achtung: Der passende Flansch muss noch hinzugefügt werden.","Attention: Please add the required flange"]
[15800213,"LFC 120ML05M60",88300537,"IFC1-/-05-20PPPP/20-60Q3TR10","Achtung: Der passende Flansch muss noch hinzugefügt werden.","Attention: Please add the required flange"]
[15830213,"LFC 120ML05M60E",88300550,"IFC1-/-05-20PPPP/20-60Q3E","Achtung: Der passende Flansch muss noch hinzugefügt werden.","Attention: Please add the required flange"]
[15810133,"LFC 120ML05M60Z",88300537,"IFC1-/-05-20PPPP/20-60Q3TR10","Achtung: Der passende Flansch muss noch hinzugefügt werden.","Attention: Please add the required flange"]
[15810013,"LFC 120ML05M60Z",88302635,"IFC1-/-05-20LPPPPZ001/20-60Q3TR10","Achtung: Der passende Flansch muss noch hinzugefügt werden.\nAchtung: Sonderzylinder","Attention: Please add the required flange\nAttention: Customized regulating cylinder"]
[15800241,"LFC 120ML05T07",88300529,"IFC1-/-05-20PPPP/20-07W2TR10","Achtung: Der passende Flansch muss noch hinzugefügt werden.","Attention: Please add the required flange"]
[15830241,"LFC 120ML05T07E",88300565,"IFC1-/-05-20PPPP/20-07W2E","Achtung: Der passende Flansch muss noch hinzugefügt werden.","Attention: Please add the required flange"]
[15800231,"LFC 120ML05T15",88300528,"IFC1-/-05-20PPPP/20-15W3TR10","Achtung: Der passende Flansch muss noch hinzugefügt werden.","Attention: Please add the required flange"]
[15830231,"LFC 120ML05T15E",88300564,"IFC1-/-05-20PPPP/20-15W3E","Achtung: Der passende Flansch muss noch hinzugefügt werden.","Attention: Please add the required flange"]
[15810101,"LFC 120ML05T15Z",88302636,"IFC1-/-05-20LPPPPZ001/20-15W3TR10","Achtung: Der passende Flansch muss noch hinzugefügt werden.\nAchtung: Sonderzylinder","Attention: Please add the required flange\nAttention: Customized regulating cylinder"]
[15800221,"LFC 120ML05T30",88300527,"IFC1-/-05-20PPPP/20-30W3TR10","Achtung: Der passende Flansch muss noch hinzugefügt werden.","Attention: Please add the required flange"]
[15830221,"LFC 120ML05T30E",88300563,"IFC1-/-05-20PPPP/20-30W3E","Achtung: Der passende Flansch muss noch hinzugefügt werden.","Attention: Please add the required flange"]
[15832221,"LFC 120ML05T30EG",88300563,"IFC1-/-05-20PPPP/20-30W3E","Achtung: Der passende Flansch muss noch hinzugefügt werden.","Attention: Please add the required flange"]
[15810181,"LFC 120ML05T30EZ",88302637,"IFC1-/-05-20LPPPPZ001/20-30W3E","Achtung: Der passende Flansch muss noch hinzugefügt werden.\nAchtung: Sonderzylinder","Attention: Please add the required flange\nAttention: Customized regulating cylinder"]
[15801221,"LFC 120ML05T30M",88300527,"IFC1-/-05-20PPPP/20-30W3TR10","Achtung: Der passende Flansch muss noch hinzugefügt werden.","Attention: Please add the required flange"]
[15810341,"LFC 120ML05T30Z",88300527,"IFC1-/-05-20PPPP/20-30W3TR10","Achtung: Der passende Flansch muss noch hinzugefügt werden.","Attention: Please add the required flange"]
[15810561,"LFC 120ML05T30Z",88300527,"IFC1-/-05-20PPPP/20-30W3TR10","Achtung: Der passende Flansch muss noch hinzugefügt werden.","Attention: Please add the required flange"]
[15810161,"LFC 120ML05T30Z",88302638,"IFC1-/-05-20LPPPPZ001/20-30W3TR10","Achtung: Der passende Flansch muss noch hinzugefügt werden.\nAchtung: Sonderzylinder","Attention: Please add the required flange\nAttention: Customized regulating cylinder"]
[15800211,"LFC 120ML05T60",88300526,"IFC1-/-05-20PPPP/20-60W3TR10","Achtung: Der passende Flansch muss noch hinzugefügt werden.","Attention: Please add the required flange"]
[15830211,"LFC 120ML05T60E",88300562,"IFC1-/-05-20PPPP/20-60W3E","Achtung: Der passende Flansch muss noch hinzugefügt werden.","Attention: Please add the required flange"]
[15802211,"LFC 120ML05T60G",88300526,"IFC1-/-05-20PPPP/20-60W3TR10","Achtung: Der passende Flansch muss noch hinzugefügt werden.","Attention: Please add the required flange"]
[15810131,"LFC 120ML05T60Z",88300526,"IFC1-/-05-20PPPP/20-60W3TR10","Achtung: Der passende Flansch muss noch hinzugefügt werden.","Attention: Please add the required flange"]
[15810011,"LFC 120ML05T60Z",88302639,"IFC1-/-05-20LPPPPZ001/20-60W3TR10","Achtung: Der passende Flansch muss noch hinzugefügt werden.\nAchtung: Sonderzylinder","Attention: Please add the required flange\nAttention: Customized regulating cylinder"]
[25810500,"LFC 120ML05Z",88302634,"VFC1-/-05-20LPPPPZ001","Achtung: Der passende Flansch muss noch hinzugefügt werden.\nAchtung: Sonderzylinder","Attention: Please add the required flange\nAttention: Customized regulating cylinder"]
[15800347,"LFC 232ML05H07","-","-","Die Spannung \"H\" kann durch IC 20 nicht ersetzt werden","Power supply \"H\" cannot be replaced by IC 20"]
[15830347,"LFC 232ML05H07E","-","-","Die Spannung \"H\" kann durch IC 20 nicht ersetzt werden","Power supply \"H\" cannot be replaced by IC 20"]
[15810307,"LFC 232ML05H07EZ","-","-","Die Spannung \"H\" kann durch IC 20 nicht ersetzt werden","Power supply \"H\" cannot be replaced by IC 20"]
[15800337,"LFC 232ML05H15","-","-","Die Spannung \"H\" kann durch IC 20 nicht ersetzt werden","Power supply \"H\" cannot be replaced by IC 20"]
[15830337,"LFC 232ML05H15E","-","-","Die Spannung \"H\" kann durch IC 20 nicht ersetzt werden","Power supply \"H\" cannot be replaced by IC 20"]
[15860337,"LFC 232ML05H15E2","-","-","Die Spannung \"H\" kann durch IC 20 nicht ersetzt werden","Power supply \"H\" cannot be replaced by IC 20"]
[15832337,"LFC 232ML05H15EG","-","-","Die Spannung \"H\" kann durch IC 20 nicht ersetzt werden","Power supply \"H\" cannot be replaced by IC 20"]
[15800327,"LFC 232ML05H30","-","-","Die Spannung \"H\" kann durch IC 20 nicht ersetzt werden","Power supply \"H\" cannot be replaced by IC 20"]
[15830327,"LFC 232ML05H30E","-","-","Die Spannung \"H\" kann durch IC 20 nicht ersetzt werden","Power supply \"H\" cannot be replaced by IC 20"]
[15860327,"LFC 232ML05H30E2","-","-","Die Spannung \"H\" kann durch IC 20 nicht ersetzt werden","Power supply \"H\" cannot be replaced by IC 20"]
[15800317,"LFC 232ML05H60","-","-","Die Spannung \"H\" kann durch IC 20 nicht ersetzt werden","Power supply \"H\" cannot be replaced by IC 20"]
[15830317,"LFC 232ML05H60E","-","-","Die Spannung \"H\" kann durch IC 20 nicht ersetzt werden","Power supply \"H\" cannot be replaced by IC 20"]
[15860317,"LFC 232ML05H60E2","-","-","Die Spannung \"H\" kann durch IC 20 nicht ersetzt werden","Power supply \"H\" cannot be replaced by IC 20"]
[15832317,"LFC 232ML05H60EG","-","-","Die Spannung \"H\" kann durch IC 20 nicht ersetzt werden","Power supply \"H\" cannot be replaced by IC 20"]
[15831317,"LFC 232ML05H60EM","-","-","Die Spannung \"H\" kann durch IC 20 nicht ersetzt werden","Power supply \"H\" cannot be replaced by IC 20"]
[15810057,"LFC 232ML05H60Z","-","-","Die Spannung \"H\" kann durch IC 20 nicht ersetzt werden","Power supply \"H\" cannot be replaced by IC 20"]
[15810598,"LFC 232ML05K07Z","88302508\n+03149351\n+74340194","VFC340/40R05-32PPPP \n+ IC 30-30K3T\n+ Adaptersatz IC30/VFC /B","7,5 Sekunden Laufzeit nicht möglich bei IC 30","7,5 sec running time cannot be replaced by IC 30"]
[15800338,"LFC 232ML05K15","88302508\n+03149351\n+74340194","VFC340/40R05-32PPPP \n+ IC 30-30K3T\n+ Adaptersatz IC30/VFC /B","15 Sekunden Laufzeit nicht möglich bei IC 30","15 sec running time cannot be replaced by IC 30"]
[15802328,"LFC 232ML05K30G","88302508\n+03149351\n+74340194","VFC340/40R05-32PPPP \n+ IC 30-30K3T\n+ Adaptersatz IC30/VFC /B"]
[15810449,"LFC 232ML05K30S6GZ","-","-","LFC mit Schrittmotor unipolar kann durch IC 20 nicht ersetzt werden","LFC with step motor cannot be replaced by IC 20"]
[15810549,"LFC 232ML05K30S7GZ","-","-","LFC mit Schrittmotor unipolar kann durch IC 20 nicht ersetzt werden","LFC with step motor cannot be replaced by IC 20"]
[15810178,"LFC 232ML05K30Z","88302514\n+03149351\n+74340194","VFC340/40R05-32LPPPPZ002\n+ IC 30-30K3T\n+ Adaptersatz IC 30/VFC /B"]
[15802318,"LFC 232ML05K60G","88302508\n+03149353\n+74340194","VFC340/40R05-32PPPP \n+ IC 30-60K3T\n+ Adaptersatz IC30/VFC /B"]
[15803318,"LFC 232ML05K60MG","88302508\n+03149353\n+74340194","VFC340/40R05-32PPPP \n+ IC 30-60K3T\n+ Adaptersatz IC30/VFC /B"]
[15810029,"LFC 232ML05K60S6GZ","-","-","LFC mit Schrittmotor unipolar kann durch IC 20 nicht ersetzt werden","LFC with step motor cannot be replaced by IC 20"]
[15810409,"LFC 232ML05K60S6GZ","-","-","LFC mit Schrittmotor unipolar kann durch IC 20 nicht ersetzt werden","LFC with step motor cannot be replaced by IC 20"]
[15800343,"LFC 232ML05M07",88302604,"IFC340/40R05-32PPPP/20-07Q2T"]
[15830343,"LFC 232ML05M07E",88302606,"IFC 340/40R05-32PPPP/20-07Q2E"]
[15810303,"LFC 232ML05M07EZ",88302616,"IFC 340/40R05-32LPPPPZ002/20-07Q2E","Achtung: Sonderzylinder","Attention: Customized regulating cylinder"]
[15800333,"LFC 232ML05M15",88302607,"IFC 340/40R05-32PPPP/20-15Q3T"]
[15830333,"LFC 232ML05M15E",88302608,"IFC 340/40R05-32PPPP/20-15Q3E"]
[15860333,"LFC 232ML05M15E2",88302608,"IFC 340/40R05-32PPPP/20-15Q3E"]
[15832333,"LFC 232ML05M15EG",88302608,"IFC 340/40R05-32PPPP/20-15Q3E"]
[15800323,"LFC 232ML05M30",88302609,"IFC 340/40R05-32PPPP/20-30Q3T"]
[15830323,"LFC 232ML05M30E",88302610,"IFC 340/40R05-32PPPP/20-30Q3E"]
[15860323,"LFC 232ML05M30E2",88302610,"IFC 340/40R05-32PPPP/20-30Q3E"]
[15802323,"LFC 232ML05M30G",88302609,"IFC 340/40R05-32PPPP/20-30Q3T"]
[15810153,"LFC 232ML05M30Z",88302633,"IFC340/40R05-32MMPP/20-30Q3T","Achtung: Sonderzylinder","Attention: Customized regulating cylinder"]
[15800313,"LFC 232ML05M60",88302549,"IFC 340/40R05-32PPPP/20-60Q3T"]
[15830313,"LFC 232ML05M60E",88302558,"IFC 340/40R05-32PPPP/20-60Q3E"]
[15860313,"LFC 232ML05M60E2",88302558,"IFC 340/40R05-32PPPP/20-60Q3E"]
[15831313,"LFC 232ML05M60EM",88302558,"IFC 340/40R05-32PPPP/20-60Q3E"]
[15802313,"LFC 232ML05M60G",88302549,"IFC 340/40R05-32PPPP/20-60Q3T"]
[15810053,"LFC 232ML05M60Z",88302618,"IFC340/40R05-32LPPPPZ002/20-60Q3T","Achtung: Sonderzylinder","Attention: Customized regulating cylinder"]
[15800341,"LFC 232ML05T07",88302611,"IFC 340/40R05-32PPPP/20-07W2E"]
[15830341,"LFC 232ML05T07E",88302605,"IFC 340/40R05-32PPPP/20-07W2E"]
[15810301,"LFC 232ML05T07EZ",88302605,"IFC 340/40R05-32PPPP/20-07W2E","Achtung: Sonderzylinder","Attention: Customized regulating cylinder"]
[15800331,"LFC 232ML05T15",88302612,"IFC 340/40R05-32PPPP/20-15W3E"]
[15830331,"LFC 232ML05T15E",88302613,"IFC 340/40R05-32PPPP/20-15W3E"]
[15860331,"LFC 232ML05T15E2",88302613,"IFC 340/40R05-32PPPP/20-15W3E"]
[15832331,"LFC 232ML05T15EG",88302613,"IFC 340/40R05-32PPPP/20-15W3E"]
[15810121,"LFC 232ML05T15EZ",88302622,"IFC 340/40R05-32LPPPPZ002/20-15W3E","Achtung: Sonderzylinder","Attention: Customized regulating cylinder"]
[15810111,"LFC 232ML05T15Z",88302623,"IFC 340/40R05-32LPPPPZ002/20-15W3T","Achtung: Sonderzylinder","Attention: Customized regulating cylinder"]
[15800321,"LFC 232ML05T30",88302614,"IFC 340/40R05-32PPPP/20-30W3T"]
[15830321,"LFC 232ML05T30E",88302615,"IFC 340/40R05-32PPPP/20-30W3E"]
[15860321,"LFC 232ML05T30E2",88302615,"IFC 340/40R05-32PPPP/20-30W3E"]
[15810171,"LFC 232ML05T30Z",88302624,"IFC 340/40R05-32LPPPPZ002/20-30W3T","Achtung: Sonderzylinder","Attention: Customized regulating cylinder"]
[15810351,"LFC 232ML05T30Z",88302614,"IFC 340/40R05-32PPPP/20-30W3T","Achtung: Kundenvariante für Ecta","Attention: Customized version for Ecta"]
[15810481,"LFC 232ML05T30Z","-","-"]
[15810581,"LFC 232ML05T30Z","-","-"]
[15800311,"LFC 232ML05T60",88302531,"IFC 340/40R05-32PPPP/20-60W3T"]
[15830311,"LFC 232ML05T60E",88302540,"IFC 340/40R05-32PPPP/20-60W3E"]
[15860311,"LFC 232ML05T60E2",88302540,"IFC 340/40R05-32PPPP/20-60W3E"]
[15831311,"LFC 232ML05T60EM",88302540,"IFC 340/40R05-32PPPP/20-60W3E"]
[15802311,"LFC 232ML05T60G",88302531,"IFC 340/40R05-32PPPP/20-60W3T"]
[15822311,"LFC 232ML05T60RG",88302540,"IFC 340/40R05-32PPPP/20-60W3E"]
[15810051,"LFC 232ML05T60Z",88302625,"IFC 340/40R05-32LPPPPZ002/20-60W3T","Achtung: Sonderzylinder","Attention: Customized regulating cylinder"]
[15810391,"LFC 232ML05T60Z","-","-"]
[25810510,"LFC 232ML05Z",88302514,"VFC340/40R05-32LPPPPZ002","Achtung: Sonderzylinder","Attention: Customized regulating cylinder"]
[15810431,"LFC 120ML05T60Z",88301465,"IFC125/25R05-20MMPP/20-60W3TR10-I"]
[15810531,"LFC 120ML05T30E2Z",88300616,"IFC 125/25R05-20PPPP/20-30W3E","Sondervariante LFC: Rp 1\", Bürde 250 Ohm","Special version LFC: Rp 1, load 250 Ohm"]
[25810320,"LFC 232/25R05",88302508,"VFC 340/40R05-32PPPP"]
[25810330,"LFC 232/40R05",88302508,"VFC 340/40R05-32PPPP"]
[88023906,"VCV2",88100499,"VCV2E25R/25R05VKLWL/PPPP/2-PP"]
[88020846,"VCV2",88100504,"VCV2E40R/40R05VKLWL/PPPP/2-PP"]
[88020848,"VCV3",88100340,"VCV3E50R/50R05VKLWL/PPPP/2-PP"]
[88013622,"VABP",88100349,"VAS2E40R/40R05LWR/PP/BS"]
[88028833,"VCG3",88100826,"VCG3E50F/50F05NGEWR/PPPP/PPZS"]
[88009350,"VCG1",88100979,"VCG1E15R/15R05NGEWL/PPPP/PPPP"]
[26502150,"GT50-DKR Axial DN 15-20 /B",74924940,"IC50-DKR Axial DN 15-20 /B"]
[26502160,"GT50-DKR Axial DN 25-50 /B",74924941,"IC50-DKR Axial DN 25-32 /B"]
[26502160,"GT50-DKR Axial DN 25-50 /B",74924942,"IC50-DKR Axial DN 40-50 /B"]
[26502170,"GT50-DKR Axial DN 65-100 /B",74924943,"IC50-DKR Axial DN 65-125 /B"]
[26502180,"GT50-DKR Axial DN 125 /B",74924943,"IC50-DKR Axial DN 65-125 /B"]
[26502190,"GT50-DKR Axial DN 150-200 /B",74924944,"IC50-DKR Axial DN 150-250 /B"]
[26502200,"GT50-DKR Axial DN 250 /B",74924944,"IC50-DKR Axial DN 150-250 /B"]
[26502210,"GT50-DKR Axial DN 300 /B",74924945,"IC50-DKR Axial DN 300 /B"]
[26502220,"GT50-DKR Axial DN 350 /B",74924946,"IC50-DKR Axial DN 350 /B"]
[26502230,"GT50-DKR Axial DN 400 /B",74924947,"IC50-DKR Axial DN 400-500 /B"]
[26502240,"GT50-DKR Axial DN 450-500 /B",74924947,"IC50-DKR Axial DN 400-500 /B"]
[26501300,"GT50/90GR-DKR DN15-20 mit Gestänge /B",74924948,"IC50-DKR..D DN 15-20 mit Gestänge /B"]
[26501310,"GT50/90GR-DKR DN25-50 mit Gestänge /B",74924949,"IC50-DKR..D DN 25-32 mit Gestänge /B"]
[26501310,"GT50/90GR-DKR DN25-50 mit Gestänge /B",74924950,"IC50-DKR..D DN 40-50 mit Gestänge /B"]
[26501320,"GT50/90GR-DKR DN65-100 mit Gestänge /B",74924951,"IC50-DKR..D DN 65-100 mit Gestänge /B"]
[26501330,"GT50/90GR-DKR DN125 mit Gestänge /B",74924951,"IC50-DKR..D DN 65-100 mit Gestänge /B"]
[26501340,"GT50/90GR-DKR DN150-200 mit Gestänge /B",74924952,"IC50-DKR..D DN 125 mit Gestänge /B"]
[26501350,"GT50/90GR-DKR DN250 mit Gestänge /B",74924953,"IC50-DKR..D DN 150-250 mit Gestänge /B"]
[26501360,"GT50/90GR-DKR DN300 mit Gestänge /B",74924954,"IC50-DKR..D DN 300 mit Gestänge /B"]
[26501370,"GT50/90GR-DKR DN350t Gestänge /B",74924955,"IC50-DKR..D DN 350 mit Gestänge /B"]
[26501380,"GT50/90GR-DKR DN400 mit Gestänge /B",74924956,"IC50-DKR..D DN 400-500 mit Gestänge /B"]
[26501390,"GT50/90GR-DKR DN450-500 mit Gestänge /B",74924956,"IC50-DKR..D DN 400-500 mit Gestänge /B"]
[26502360,"GT50-DKR DN25-50 mit Stossd. /B",74924958,"IC50-DKR..D DN 25-32 mit Stossdämpfer  /B"]
[26502360,"GT50-DKR DN25-50 mit Stossd. /B",74924959,"IC50-DKR..D DN 40-50 mit Stossdämpfer /B"]
[26502370,"GT50-DKR DN65-100 mit Stossd. /B",74924960,"IC50-DKR..D DN 65-100 mit Stossdämpfer /B"]
[26502380,"GT50-DKR DN125 mit Stossd. /B",74924960,"IC50-DKR..D DN 65-100 mit Stossdämpfer /B"]
[26502390,"GT50-DKR DN150-200 mit Stossd. /B",74924961,"IC50-DKR..D DN 125 mit Stossdämpfer /B"]
[26502400,"GT50-DKR DN250 mit Stossd. /B",74924962,"IC50-DKR..D DN 150-250 mit Stossdämpfer  /B"]
[26502410,"GT50-DKR DN300 mit Stossd. /B",74924963,"IC50-DKR..D DN 300 mit Stossdämpfer  /B"]
[26502420,"GT50-DKR DN350 mit Stossd. /B",74924964,"IC50-DKR..D DN 350 mit Stossdämpfer  /B"]
[26502430,"GT50-DKR DN400 mit Stossd. /B",74924965,"IC50-DKR..D DN 400-500 mit Stossdämpfer /B"]
[26502440,"GT50-DKR DN450-500 mit Stossd. /B",74924965,"IC50-DKR..D DN 400-500 mit Stossdämpfer /B"]
[56504500,"Wärmeleitblech DN15-20",74924966,"IC50 Wärmeleitblech DN15-20 /B"]
[56504510,"Wärmeleitblech DN25-50",74924967,"IC50 Wärmeleitblech DN25-32 /B"]
[56504510,"Wärmeleitblech DN25-50",74924968,"IC50 Wärmeleitblech DN40-50 /B"]
[56504520,"Wärmeleitblech DN65-100",74924969,"IC50 Wärmeleitblech DN65-100 /B"]
[56504530,"Wärmeleitblech DN125",74924970,"IC50 Wärmeleitblech DN125 /B"]
[56504540,"Wärmeleitblech DN150-200",74924971,"IC50 Wärmeleitblech DN150-250 /B"]
[56504550,"Wärmeleitblech DN250",74924971,"IC50 Wärmeleitblech DN150-250 /B"]
[56504560,"Wärmeleitblech DN300",74924972,"IC50 Wärmeleitblech DN300 /B"]
[56504570,"Wärmeleitblech DN350",74924973,"IC50 Wärmeleitblech DN350 /B"]
[56504580,"Wärmeleitblech DN400",74924974,"IC50 Wärmeleitblech DN400-500 /B"]
[56504590,"Wärmeleitblech DN450-500",74924974,"IC50 Wärmeleitblech DN400-500 /B"]
[26301050,"Befestigung Fußmontage GT50 /B",74924791,"Wandbefestigung IC50 /B"]
[72703630,"DKR 25Z03F100A",3149270,"DKR 25Z03F100A"]
[72703030,"DKR 25Z03F350A",3149271,"DKR 25Z03F350A"]
[72703230,"DKR 25Z03F450A",3149272,"DKR 25Z03F450A"]
[72703430,"DKR 25Z03F650A",3149273,"DKR 25Z03F650A"]
[72703640,"DKR 32Z03F100A",3149274,"DKR 32Z03F100A"]
[72703040,"DKR 32Z03F350A",3149275,"DKR 32Z03F350A"]
[72703240,"DKR 32Z03F450A",3149276,"DKR 32Z03F450A"]
[72703440,"DKR 32Z03F650A",3149277,"DKR 32Z03F650A"]
[72703650,"DKR 40Z03F100A",3149278,"DKR 40Z03F100A"]
[72703050,"DKR 40Z03F350A",3149279,"DKR 40Z03F350A"]
[72703250,"DKR 40Z03F450A",3149280,"DKR 40Z03F450A"]
[72703450,"DKR 40Z03F650A",3149281,"DKR 40Z03F650A"]
[72703660,"DKR 50Z03F100A",3149282,"DKR 50Z03F100A"]
[72703060,"DKR 50Z03F350A",3149283,"DKR 50Z03F350A"]
["72703260","DKR 50Z03F450A","03149284","DKR 50Z03F450A"]
["72703460","DKR 50Z03F650A","03149285","DKR 50Z03F650A"]
["72703670","DKR 65Z03F100A","03149286","DKR 65Z03F100A"]
["72703070","DKR 65Z03F350A","03149287","DKR 65Z03F350A"]
["72703270","DKR 65Z03F450A","03149288","DKR 65Z03F450A"]
["72703470","DKR 65Z03F650A","03149289","DKR 65Z03F650A"]
["72703680","DKR 80Z03F100A","03149290","DKR 80Z03F100A"]
["72703080","DKR 80Z03F350A","03149291","DKR 80Z03F350A"]
["72703280","DKR 80Z03F450A","03149292","DKR 80Z03F450A"]
["72703480","DKR 80Z03F650A","03149293","DKR 80Z03F650A"]
["72703690","DKR 100Z03F100A","03149294","DKR 100Z03F100A"]
["72703090","DKR 100Z03F350A","03149295","DKR 100Z03F350A"]
["72703290","DKR 100Z03F450A","03149296","DKR 100Z03F450A"]
["73703490","DKR 100Z03F650A","03149297","DKR 100Z03F650A"]
["72703700","DKR 125Z03F100A","03149298","DKR 125Z03F100A"]
["72703100","DKR 125Z03F350A","03149299","DKR 125Z03F350A"]
["72703300","DKR 125Z03F450A","03149300","DKR 125Z03F450A"]
["72703500","DKR 125Z03F650A","03149301","DKR 125Z03F650A"]
["72703710","DKR 150Z03F100A","03149302","DKR 150Z03F100A"]
["72703110","DKR 150Z03F350A","03149303","DKR 150Z03F350A"]
["72703310","DKR 150Z03F450A","03149304","DKR 150Z03F450A"]
["72703510","DKR 150Z03F650A","03149305","DKR 150Z03F650A"]
["72703730","DKR 200Z03F100A","03149306","DKR 200Z03F100A"]
["72703130","DKR 200Z03F350A","03149307","DKR 200Z03F350A"]
["72703330","DKR 200Z03F450A","03149308","DKR 200Z03F450A"]
["72703530","DKR 200Z03F650A","03149309","DKR 200Z03F650A"]
["72703740","DKR 250Z03F100A","03149310","DKR 250Z03F100A"]
["72703140","DKR 250Z03F350A","03149311","DKR 250Z03F350A"]
["72703340","DKR 250Z03F450A","03149312","DKR 250Z03F450A"]
["72703540","DKR 250Z03F650A","03149313","DKR 250Z03F650A"]
["72703750","DKR 300Z03F100A","03149314","DKR 300Z03F100A"]
["72703150","DKR 300Z03F350A","03149315","DKR 300Z03F350A"]
["72703350","DKR 300Z03F450A","03149316","DKR 300Z03F450A"]
["72703550","DKR 300Z03F650A","03149317","DKR 300Z03F650A"]
["72703760","DKR 350Z03F100A","03149318","DKR 350Z03F100A"]
["72703160","DKR 350Z03F350A","03149319","DKR 350Z03F350A"]
["72703360","DKR 350Z03F450A","03149320","DKR 350Z03F450A"]
["72703560","DKR 350Z03F650A","03149321","DKR 350Z03F650A"]
["72703770","DKR 400Z03F100A","03149322","DKR 400Z03F100A"]
["72703170","DKR 400Z03F350A","03149323","DKR 400Z03F350A"]
["72703370","DKR 400Z03F450A","03149324","DKR 400Z03F450A"]
["72703570","DKR 400Z03F650A","03149325","DKR 400Z03F650A"]
["72703780","DKR 450Z03F100A","03149326","DKR 450Z03F100A"]
["72703180","DKR 450Z03F350A","03149327","DKR 450Z03F350A"]
["72703380","DKR 450Z03F450A","03149328","DKR 450Z03F450A"]
["72703580","DKR 450Z03F650A","03149329","DKR 450Z03F650A"]
["72703790","DKR 500Z03F100A","03149330","DKR 500Z03F100A"]
["72703190","DKR 500Z03F350A","03149331","DKR 500Z03F350A"]
["72703390","DKR 500Z03F450A","03149332","DKR 500Z03F450A"]
["72703590","DKR 500Z03F650A","03149333","DKR 500Z03F650A"]
[72700610,"DKR 15Z03F100D","03149200","DKR 15Z03F100D"]
[72700010,"DKR 15Z03F350D","03149201","DKR 15Z03F350D"]
[72700210,"DKR 15Z03F450D","03149202","DKR 15Z03F450D"]
[72700620,"DKR 20Z03F100D","03149203","DKR 20Z03F100D"]
[72700020,"DKR 20Z03F350D","03149204","DKR 20Z03F350D"]
[72700220,"DKR 20Z03F450D","03149205","DKR 20Z03F450D"]
[72700630,"DKR 25Z03F100D","03149206","DKR 25Z03F100D"]
[72700030,"DKR 25Z03F350D","03149207","DKR 25Z03F350D"]
[72700230,"DKR 25Z03F450D","03149208","DKR 25Z03F450D"]
[72700430,"DKR 25Z03F650D","03149209","DKR 25Z03F650D"]
[72700640,"DKR 32Z03F100D","03149210","DKR 32Z03F100D"]
[72700040,"DKR 32Z03F350D","03149211","DKR 32Z03F350D"]
[72700240,"DKR 32Z03F450D","03149212","DKR 32Z03F450D"]
[72700440,"DKR 32Z03F650D","03149213","DKR 32Z03F650D"]
[72700650,"DKR 40Z03F100D","03149214","DKR 40Z03F100D"]
[72700050,"DKR 40Z03F350D","03149215","DKR 40Z03F350D"]
[72700250,"DKR 40Z03F450D","03149216","DKR 40Z03F450D"]
[72700450,"DKR 40Z03F650D","03149217","DKR 40Z03F650D"]
[72700660,"DKR 50Z03F100D","03149218","DKR 50Z03F100D"]
[72700060,"DKR 50Z03F350D","03149219","DKR 50Z03F350D"]
[72700260,"DKR 50Z03F450D","03149220","DKR 50Z03F450D"]
[72700460,"DKR 50Z03F650D","03149221","DKR 50Z03F650D"]
[72700670,"DKR 65Z03F100D","03149222","DKR 65Z03F100D"]
[72700070,"DKR 65Z03F350D","03149223","DKR 65Z03F350D"]
[72700270,"DKR 65Z03F450D","03149224","DKR 65Z03F450D"]
[72700470,"DKR 65Z03F650D","03149225","DKR 65Z03F650D"]
[72700680,"DKR 80Z03F100D","03149226","DKR 80Z03F100D"]
[72700080,"DKR 80Z03F350D","03149227","DKR 80Z03F350D"]
[72700280,"DKR 80Z03F450D","03149228","DKR 80Z03F450D"]
[72700480,"DKR 80Z03F650D","03149229","DKR 80Z03F650D"]
[72700690,"DKR 100Z03F100D","03149230","DKR 100Z03F100D"]
[72700090,"DKR 100Z03F350D","03149231","DKR 100Z03F350D"]
[72700290,"DKR 100Z03F450D","03149232","DKR 100Z03F450D"]
[72700490,"DKR 100Z03F650D","03149233","DKR 100Z03F650D"]
[72700700,"DKR 125Z03F100D","03149234","DKR 125Z03F100D"]
[72700100,"DKR 125Z03F350D","03149235","DKR 125Z03F350D"]
[72700300,"DKR 125Z03F450D","03149236","DKR 125Z03F450D"]
[72700500,"DKR 125Z03F650D","03149237","DKR 125Z03F650D"]
[72700710,"DKR 150Z03F100D","03149238","DKR 150Z03F100D"]
[72700110,"DKR 150Z03F350D","03149239","DKR 150Z03F350D"]
[72700310,"DKR 150Z03F450D","03149240","DKR 150Z03F450D"]
[72700510,"DKR 150Z03F650D","03149241","DKR 150Z03F650D"]
[72700730,"DKR 200Z03F100D","03149242","DKR 200Z03F100D"]
[72700130,"DKR 200Z03F350D","03149243","DKR 200Z03F350D"]
[72700330,"DKR 200Z03F450D","03149244","DKR 200Z03F450D"]
[72700530,"DKR 200Z03F650D","03149245","DKR 200Z03F650D"]
[72700740,"DKR 250Z03F100D","03149246","DKR 250Z03F100D"]
[72700140,"DKR 250Z03F350D","03149247","DKR 250Z03F350D"]
[72700340,"DKR 250Z03F450D","03149248","DKR 250Z03F450D"]
[72700540,"DKR 250Z03F650D","03149249","DKR 250Z03F650D"]
[72700750,"DKR 300Z03F100D","03149250","DKR 300Z03F100D"]
[72700150,"DKR 300Z03F350D","03149251","DKR 300Z03F350D"]
[72700350,"DKR 300Z03F450D","03149252","DKR 300Z03F450D"]
[72700550,"DKR 300Z03F650D","03149253","DKR 300Z03F650D"]
[72700760,"DKR 350Z03F100D","03149254","DKR 350Z03F100D"]
[72700160,"DKR 350Z03F350D","03149255","DKR 350Z03F350D"]
[72700360,"DKR 350Z03F450D","03149256","DKR 350Z03F450D"]
[72700560,"DKR 350Z03F650D","03149257","DKR 350Z03F650D"]
[72700770,"DKR 400Z03F100D","03149258","DKR 400Z03F100D"]
[72700170,"DKR 400Z03F350D","03149259","DKR 400Z03F350D"]
[72700370,"DKR 400Z03F450D","03149260","DKR 400Z03F450D"]
[72700570,"DKR 400Z03F650D","03149261","DKR 400Z03F650D"]
[72700780,"DKR 450Z03F100D","03149262","DKR 450Z03F100D"]
[72700180,"DKR 450Z03F350D","03149263","DKR 450Z03F350D"]
[72700380,"DKR 450Z03F450D","03149264","DKR 450Z03F450D"]
[72700580,"DKR 450Z03F650D","03149265","DKR 450Z03F650D"]
[72700790,"DKR 500Z03F100D","03149266","DKR 500Z03F100D"]
[72700190,"DKR 500Z03F350D","03149267","DKR 500Z03F350D"]
[72700390,"DKR 500Z03F450D","03149268","DKR 500Z03F450D"]
[72700590,"DKR 500Z03F650D","03149269","DKR 500Z03F650D"]
[88018317,"VCG 1",88103281,"VCD1E15R/15R05ND-50WR3/PPPP/2-PP"]
[85209035,"VAN 20R02NT31S",88012159,"VAN120R/NWSR"]
[88013583,"VCS1",88104380,"VCS1E15R/15R05NLKR3/PPPP/PPPP"]
[88002745,null,88100018]
[88011774,"VCD1       ",88104592,"VCD1E25R/25R05D-25NWL3/PPPP/2-PP"]
[88002745,"VCS2",88100018,"VCS2E40R/40R05NNWL/PPPP/PPPP "]
[84765510,"TC 116W05T",84765552,"TC 1C05W/W","Anbau mit Adapterblock","Mounting with adapter block"]
[84765511,"TC 116W05TZ*",84765552,"TC 1C05W/W","Vorverdrahtung kundenseitig, Anbau mit Adapterblock","Pre-wiring customer-side, mounting with adapter block"]
[84765512,"TC 116W05TZ*",84765552,"TC 1C05W/W","Vorverdrahtung kundenseitig, Anbau mit Adapterblock","Pre-wiring customer-side, mounting with adapter block"]
[84765513,"TC 116W05TZ*",84765552,"TC 1C05W/W","Vorverdrahtung kundenseitig, Anbau mit Adapterblock","Pre-wiring customer-side, mounting with adapter block"]
[84765514,"TC 116W05TZ",84765552,"TC 1C05W/W","Vorverdrahtung kundenseitig, Anbau mit Adapterblock","Pre-wiring customer-side, mounting with adapter block"]
[84765515,"TC 116W05TZ*",84765552,"TC 1C05W/W","Vorverdrahtung kundenseitig, Anbau mit Adapterblock","Pre-wiring customer-side, mounting with adapter block"]
[84765516,"TC 116W05TZ*",84765552,"TC 1C05W/W","Vorverdrahtung kundenseitig, Anbau mit Adapterblock","Pre-wiring customer-side, mounting with adapter block"]
[84765517,"TC 116W05TZ*",84765552,"TC 1C05W/W","Vorverdrahtung kundenseitig, Anbau mit Adapterblock","Pre-wiring customer-side, mounting with adapter block"]
[84765519,"TC 116W05TZ*",84765552,"TC 1C05W/W","Vorverdrahtung kundenseitig, Anbau mit Adapterblock","Pre-wiring customer-side, mounting with adapter block"]
[84765520,"TC 116W05TZ",84765552,"TC 1C05W/W","Vorverdrahtung kundenseitig, Anbau mit Adapterblock, 3 Sek. Lupftzeit automatisch","Pre-wiring customer-side, mounting with adapter block, "]
[84765521,"TC 116W05TZ*",84765552,"TC 1C05W/W","Vorverdrahtung kundenseitig, Anbau mit Adapterblock","Pre-wiring customer-side, mounting with adapter block"]
[84765522,"TC 116W05TZ",84765552,"TC 1C05W/W","Vorverdrahtung kundenseitig, Anbau mit Adapterblock","Pre-wiring customer-side, mounting with adapter block"]
[84765523,"TC 116W05TZ*",84765552,"TC 1C05W/W","Vorverdrahtung kundenseitig, Anbau mit Adapterblock","Pre-wiring customer-side, mounting with adapter block"]
[84765524,"TC 116W05TZ*",84765552,"TC 1C05W/W","Vorverdrahtung kundenseitig, Anbau mit Adapterblock","Pre-wiring customer-side, mounting with adapter block"]
[84765525,"TC 116W05TZ*",84765552,"TC 1C05W/W","Vorverdrahtung kundenseitig, Anbau mit Adapterblock","Pre-wiring customer-side, mounting with adapter block"]
[84765526,"TC 116W05TZ*",84765552,"TC 1C05W/W","Vorverdrahtung kundenseitig, Anbau mit Adapterblock","Pre-wiring customer-side, mounting with adapter block"]
[84765527,"TC 116W05TZ",84765552,"TC 1C05W/W","Vorverdrahtung kundenseitig, Anbau mit Adapterblock","Pre-wiring customer-side, mounting with adapter block"]
[84765530,"TC 116W05N",84765554,"TC 1C05Q/Q","Anbau mit Adapterblock","Mounting with adapter block"]
[84765540,"TC 116TW05N",84765554,"TC 1C05Q/Q","Anbau mit Adapterblock","Mounting with adapter block"]
[84765550,"TC 116W05K",84765556,"TC 1C05K/K","Anbau mit Adapterblock","Mounting with adapter block"]
[84765528,"TC 116V05T",84765541,"TC 1V05W/W","Kein Adapterblock benötigt","No adapter block required"]
[84765531,"TC 116V05N",84765543,"TC 1V05Q/Q","Kein Adapterblock benötigt","No adapter block required"]
[84765551,"TC 116V05K",84765545,"TC 1V05K/K","Kein Adapterblock benötigt","No adapter block required"]
[84765610,"TC 218R05T",84765631,"TC 2R05W/W"]
[84765611,"TC 218R05T*",84765631,"TC 2R05W/W","Vorverdrahtung kundenseitig","Pre-wiring customer-side"]
[84765612,"TC 218R05TZ",84765631,"TC 2R05W/W","Vorverdrahtung kundenseitig","Pre-wiring customer-side"]
[84765613,"TC 218R05TZ*",84765631,"TC 2R05W/W","Vorverdrahtung kundenseitig","Pre-wiring customer-side"]
[84765614,"TC 218R05TZ*",84765631,"TC 2R05W/W","Vorverdrahtung kundenseitig","Pre-wiring customer-side"]
[84765630,"TC 218R05N",84765633,"TC 2R05Q/Q"]
[84765640,"TC 218TN05N",84765643,"TC 2N05Q/Q"]
[84765641,"TC 218TN05N*FM",84765643,"TC 2N05Q/Q"]
[84765650,"TC 218R05K",84765635,"TC 2R05K/K"]
[84765710,"TC 318R05T",84765716,"TC 3R05W/W"]
[84765711,"TC 318R05T*",84765716,"TC 3R05W/W","Vorverdrahtung kundenseitig","Pre-wiring customer-side"]
[84765730,"TC 318R05N",84765713,"TC 3R05Q/Q"]
[84765740,"TC 318TN05N",84765731,"TC 3N05Q/Q"]
[84765741,"TC 318TN05N*FM",84765731,"TC 3N05Q/Q"]
[84765750,"TC 318R05K",84765715,"TC 3T05K/K"]
[16302811,"GT 50-03T4",74215211,"IC 50-03W3TR10"]
[16302711,"GT 50-07T7",74215212,"IC 50-07W7TR10"]
[16302611,"GT 50-15T15",74215213,"IC 50-15W15TR10"]
[16302411,"GT 50-30T20",74215214,"IC 50-30W20TR10"]
[16302311,"GT 50-60T20",74215215,"IC 50-60W30TR10"]
[16302813,"GT 50-03M4",74215216,"IC 50-03Q3TR10"]
[16302713,"GT 50-07M7",74215217,"IC 50-07Q7TR10"]
[16302613,"GT 50-15M15",74215218,"IC 50-15Q15TR10"]
[16302413,"GT 50-30M20",74215219,"IC 50-30Q20TR10"]
[16302313,"GT 50-60M20",74215220,"IC 50-60Q30TR10"]
[16302817,"GT 50-03H4",74215221,"IC 50-03H3TR10"]
[16302717,"GT 50-07H7",74215222,"IC 50-07H7TR10"]
[16302617,"GT 50-15H15",74215223,"IC 50-15H15TR10"]
[16302417,"GT 50-30H20",74215224,"IC 50-30H20TR10"]
[16302317,"GT 50-60H20",74215225,"IC 50-60H30TR10"]
[16302741,"GT 50-07T7E",74215227,"IC 50-07W7E"]
[16302641,"GT 50-15T15E",74215228,"IC 50-15W15E"]
[16302441,"GT 50-30T20E",74215229,"IC 50-30W20E"]
[16302341,"GT 50-60T20E",74215230,"IC 50-60W30E"]
[16302743,"GT 50-07M7E",74215232,"IC 50-07Q7E"]
[16302643,"GT 50-15M15E",74215233,"IC 50-15Q15E"]
[16302443,"GT 50-30M20E",74215234,"IC 50-30Q20E"]
[16302343,"GT 50-60M20E",74215235,"IC 50-60Q30E"]
[16302747,"GT 50-07H7E",74215237,"IC 50-07H7E"]
[16302647,"GT 50-15H15E",74215238,"IC 50-15H15E"]
[16302447,"GT 50-30H20E",74215239,"IC 50-30H20E"]
[16302347,"GT 50-60H20E",74215240,"IC 50-60H30E"]
[16302857,"GT 50-03H4R",74215236,"IC 50-03H3E"]
[16302853,"GT 50-03M4R",74215231,"IC 50-03Q3E"]
[16322811,"GT 50-03T4G",74215226,"IC 50-03W3E"]
[16302851,"GT 50-03T4R",74215226,"IC 50-03W3E"]
[16306811,"GT 50-03T4U",74215211,"IC 50-03W3TR10"]
[16303817,"GT 50-06H4",74215221,"IC 50-03H3TR10","160° Drehwinkel nicht möglich","160° rotation angle not possible"]
[16303813,"GT 50-06M4",74215216,"IC 50-03Q3TR10","160° Drehwinkel nicht möglich","160° rotation angle not possible"]
[16303811,"GT 50-06T4",74215211,"IC 50-03W3TR10","160° Drehwinkel nicht möglich","160° rotation angle not possible"]
[16303841,"GT 50-06T4E",74215226,"IC 50-03W3E","160° Drehwinkel nicht möglich","160° rotation angle not possible"]
[16322747,"GT 50-07H7EG",74215237,"IC 50-07H7E"]
[16302757,"GT 50-07H7R",74215237,"IC 50-07H7E"]
[16322743,"GT 50-07M7EG",74215232,"IC 50-07Q7E"]
[16310323,"GT 50-07M7EZ","-","-","Z-Variante  (IC 50..E + 1000 Ohm Potentiometer) nicht möglich","Z-variant (IC 50..E + 1000 ohm potentiometer) not possible"]
[16322713,"GT 50-07M7G",74215232,"IC 50-07Q7E"]
[16302753,"GT 50-07M7R",74215232,"IC 50-07Q7E"]
[16322741,"GT 50-07T7EG",74215227,"IC 50-07W7E"]
[16326741,"GT 50-07T7EGU",74215227,"IC 50-07W7E"]
[16322711,"GT 50-07T7G",74215227,"IC 50-07W7E"]
[16302751,"GT 50-07T7R",74215227,"IC 50-07W7E"]
[16306751,"GT 50-07T7RU",74215227,"IC 50-07W7E"]
[16306711,"GT 50-07T7U",74215212,"IC 50-07W7TR10"]
[16303317,"GT 50-107H20",74215225,"IC 50-60H30TR10","160° Drehwinkel nicht möglich","160° rotation angle not possible"]
[16303347,"GT 50-107H20E",74215240,"IC 50-60H30E","160° Drehwinkel nicht möglich","160° rotation angle not possible"]
[16303313,"GT 50-107M20",74215220,"IC 50-60Q30TR10","160° Drehwinkel nicht möglich","160° rotation angle not possible"]
[16303343,"GT 50-107M20E",74215235,"IC 50-60Q30E","160° Drehwinkel nicht möglich","160° rotation angle not possible"]
[16303311,"GT 50-107T20",74215215,"IC 50-60W30TR10","160° Drehwinkel nicht möglich","160° rotation angle not possible"]
[16303341,"GT 50-107T20E",74215230,"IC 50-60W30E","160° Drehwinkel nicht möglich","160° rotation angle not possible"]
[16302117,"GT 50-120H20",74215225,"IC 50-60H30TR10","120 sek Laufzeit nicht möglich","120 s running time not possible"]
[16302147,"GT 50-120H20E",74215240,"IC 50-60H30E","120 sek Laufzeit nicht möglich","120 s running time not possible"]
[16322147,"GT 50-120H20EG",74215240,"IC 50-60H30E","120 sek Laufzeit nicht möglich","120 s running time not possible"]
[16322117,"GT 50-120H20G",74215225,"IC 50-60H30TR10","120 sek Laufzeit nicht möglich","120 s running time not possible"]
[16302113,"GT 50-120M20",74215220,"IC 50-60Q30TR10","120 sek Laufzeit nicht möglich","120 s running time not possible"]
[16302143,"GT 50-120M20E",74215235,"IC 50-60Q30E","120 sek Laufzeit nicht möglich","120 s running time not possible"]
[16322143,"GT 50-120M20EG",74215235,"IC 50-60Q30E","120 sek Laufzeit nicht möglich","120 s running time not possible"]
[16322113,"GT 50-120M20G",74215220,"IC 50-60Q30TR10","120 sek Laufzeit nicht möglich","120 s running time not possible"]
[16302153,"GT 50-120M20R",74215235,"IC 50-60Q30E","120 sek Laufzeit nicht möglich","120 s running time not possible"]
[16302111,"GT 50-120T20",74215215,"IC 50-60W30TR10","120 sek Laufzeit nicht möglich","120 s running time not possible"]
[16302141,"GT 50-120T20E",74215230,"IC 50-60W30E","120 sek Laufzeit nicht möglich","120 s running time not possible"]
[16322141,"GT 50-120T20EG",74215230,"IC 50-60W30E","120 sek Laufzeit nicht möglich","120 s running time not possible"]
[16322111,"GT 50-120T20G",74215215,"IC 50-60W30TR10","120 sek Laufzeit nicht möglich","120 s running time not possible"]
[16302151,"GT 50-120T20R",74215230,"IC 50-60W30E","120 sek Laufzeit nicht möglich","120 s running time not possible"]
[16306111,"GT 50-120T20U",74215215,"IC 50-60W30TR10","120 sek Laufzeit nicht möglich","120 s running time not possible"]
[16303711,"GT 50-13T7",74215212,"IC 50-07W7TR10","160° Drehwinkel nicht möglich","160° rotation angle not possible"]
[16303741,"GT 50-13T7E",74215227,"IC 50-07W7E","160° Drehwinkel nicht möglich","160° rotation angle not possible"]
[16306643,"GT 50-15M15EU",74215233,"IC 50-15Q15E"]
[16302653,"GT 50-15M15R",74215233,"IC 50-15Q15E"]
[16306613,"GT 50-15M15U",74215218,"IC 50-15Q15TR10"]
[16322641,"GT 50-15T15EG",74215228,"IC 50-15W15E"]
[16302651,"GT 50-15T15R",74215228,"IC 50-15W15E"]
[16322651,"GT 50-15T15RG",74215228,"IC 50-15W15E"]
[16306611,"GT 50-15T15U",74215213,"IC 50-15W15TR10"]
[16303117,"GT 50-214H20",74215225,"IC 50-60H30TR10","160° Drehwinkel nicht möglich","160° rotation angle not possible"]
[16303113,"GT 50-214M20",74215220,"IC 50-60Q30TR10","160° Drehwinkel nicht möglich","160° rotation angle not possible"]
[16303111,"GT 50-214T20",74215215,"IC 50-60W30TR10","160° Drehwinkel nicht möglich","160° rotation angle not possible"]
[16303141,"GT 50-214T20E",74215230,"IC 50-60W30E","160° Drehwinkel nicht möglich","160° rotation angle not possible"]
[16303643,"GT 50-27M15E",74215235,"IC 50-60Q30E","160° Drehwinkel nicht möglich","160° rotation angle not possible"]
[16302467,"GT 50-30H20E2",74215240,"IC 50-30H20E"]
[16322447,"GT 50-30H20EG",74215240,"IC 50-30H20E"]
[16306447,"GT 50-30H20EU",74215240,"IC 50-30H20E"]
[16322417,"GT 50-30H20G",74215224,"IC 50-30H20TR10"]
[16306457,"GT 50-30H20RU",74215240,"IC 50-30H20E"]
[16302463,"GT 50-30M20E2",74215234,"IC 50-30Q20E"]
[16322443,"GT 50-30M20EG",74215234,"IC 50-30Q20E"]
[16306443,"GT 50-30M20EU",74215234,"IC 50-30Q20E"]
[16322413,"GT 50-30M20G",74215219,"IC 50-30Q20TR10"]
[16326413,"GT 50-30M20GU",74215219,"IC 50-30Q20TR10"]
[16302453,"GT 50-30M20R",74215240,"IC 50-30H20E"]
[16306453,"GT 50-30M20RU",74215240,"IC 50-30H20E"]
[16310223,"GT 50-30M20Z","-","-","Z-Variante (150 Ohm Potentiometer) nicht möglich","Z-variant (150 ohm potentiometer) not possible"]
[16310246,"GT 50-30P20EZ","-","-","100 Volt Version nicht möglich","100 volt version not possible"]
[16302461,"GT 50-30T20E2",74215229,"IC 50-30W20E"]
[16322441,"GT 50-30T20EG",74215229,"IC 50-30W20E"]
[16326441,"GT 50-30T20EGU",74215229,"IC 50-30W20E"]
[16306441,"GT 50-30T20EU",74215229,"IC 50-30W20E"]
[16310081,"GT 50-30T20EZ","-","-","Z-Variante  (IC 50..E + 1000 Ohm Potentiometer) nicht möglich","Z-variant (IC 50..E + 1000 ohm potentiometer) not possible"]
[16322411,"GT 50-30T20G",74215214,"IC 50-30W20TR10"]
[16326411,"GT 50-30T20GU",74215214,"IC 50-30W20TR10"]
[16302451,"GT 50-30T20R",74215229,"IC 50-30W20E"]
[16306451,"GT 50-30T20RU",74215229,"IC 50-30W20E"]
[16306411,"GT 50-30T20U",74215214,"IC 50-30W20TR10"]
[16302415,"GT 50-30Y20","-","-","200 Volt Version nicht möglich","200 volt version not possible"]
[16310245,"GT 50-30Y20EZ","-","-","200 Volt Version nicht möglich","200 volt version not possible"]
[16303417,"GT 50-54H20",74215224,"IC 50-30H20TR10","160° Drehwinkel nicht möglich","160° rotation angle not possible"]
[16303447,"GT 50-54H20E",74215240,"IC 50-30H20E","160° Drehwinkel nicht möglich","160° rotation angle not possible"]
[16303457,"GT 50-54H20R",74215240,"IC 50-30H20E","160° Drehwinkel nicht möglich","160° rotation angle not possible"]
[16303413,"GT 50-54M20",74215220,"IC 50-60Q30TR10","160° Drehwinkel nicht möglich","160° rotation angle not possible"]
[16303443,"GT 50-54M20E",74215234,"IC 50-30Q20E","160° Drehwinkel nicht möglich","160° rotation angle not possible"]
[16303463,"GT 50-54M20E2",74215234,"IC 50-30Q20E","160° Drehwinkel nicht möglich","160° rotation angle not possible"]
[16303453,"GT 50-54M20R",74215234,"IC 50-30Q20E","160° Drehwinkel nicht möglich","160° rotation angle not possible"]
[16303411,"GT 50-54T20",74215219,"IC 50-30Q20TR10","160° Drehwinkel nicht möglich","160° rotation angle not possible"]
[16303441,"GT 50-54T20E",74215229,"IC 50-30W20E","160° Drehwinkel nicht möglich","160° rotation angle not possible"]
[16303461,"GT 50-54T20E2",74215229,"IC 50-30W20E","160° Drehwinkel nicht möglich","160° rotation angle not possible"]
[16323441,"GT 50-54T20EG",74215229,"IC 50-30W20E","160° Drehwinkel nicht möglich","160° rotation angle not possible"]
[16307441,"GT 50-54T20EU",74215229,"IC 50-30W20E","160° Drehwinkel nicht möglich","160° rotation angle not possible"]
[16303451,"GT 50-54T20R",74215229,"IC 50-30W20E","160° Drehwinkel nicht möglich","160° rotation angle not possible"]
[16302367,"GT 50-60H20E2",74215240,"IC 50-60H30E"]
[16322347,"GT 50-60H20EG",74215240,"IC 50-60H30E"]
[16306347,"GT 50-60H20EU",74215240,"IC 50-60H30E"]
[16322317,"GT 50-60H20G",74215225,"IC 50-60H30TR10"]
[16302357,"GT 50-60H20R",74215240,"IC 50-60H30E"]
[16322343,"GT 50-60M20EG",74215230,"IC 50-60W30E"]
[16322313,"GT 50-60M20G",74215220,"IC 50-60Q30TR10"]
[16302353,"GT 50-60M20R",74215235,"IC 50-60Q30E"]
[16306313,"GT 50-60M20U",74215220,"IC 50-60Q30TR10"]
[16322341,"GT 50-60T20EG",74215230,"IC 50-60W30E"]
[16306341,"GT 50-60T20EU",74215230,"IC 50-60W30E"]
[16322311,"GT 50-60T20G",74215215,"IC 50-60W30TR10"]
[16302351,"GT 50-60T20R",74215230,"IC 50-60W30E"]
[16322351,"GT 50-60T20RG",74215230,"IC 50-60W30E"]
[16306311,"GT 50-60T20U",74215215,"IC 50-60W30TR10"]
[16302847,"*GT 50-03H4E",74215236,"IC 50-03H3E"]
[16302867,"*GT 50-03H4E2",74215236,"IC 50-03H3E"]
[16322847,"*GT 50-03H4EG",74215236,"IC 50-03H3E"]
[16326847,"*GT 50-03H4EGU",74215236,"IC 50-03H3E"]
[16306847,"*GT 50-03H4EU",74215236,"IC 50-03H3E"]
[16322817,"*GT 50-03H4G",74215221,"IC 50-03H3TR10"]
[16326817,"*GT 50-03H4GU",74215221,"IC 50-03H3TR10"]
[16306857,"*GT 50-03H4RU",74215236,"IC 50-03H3E"]
[16306817,"*GT 50-03H4U",74215221,"IC 50-03H3TR10"]
[16302843,"*GT 50-03M4E",74215231,"IC 50-03Q3E"]
[16302863,"*GT 50-03M4E2",74215231,"IC 50-03Q3E"]
[16322843,"*GT 50-03M4EG",74215231,"IC 50-03Q3E"]
[16326843,"*GT 50-03M4EGU",74215231,"IC 50-03Q3E"]
[16306843,"*GT 50-03M4EU",74215231,"IC 50-03Q3E"]
[16322813,"*GT 50-03M4G",74215216,"IC 50-03Q3TR10"]
[16326813,"*GT 50-03M4GU",74215216,"IC 50-03Q3TR10"]
[16306853,"*GT 50-03M4RU",74215231,"IC 50-03Q3E"]
[16306813,"*GT 50-03M4U",74215216,"IC 50-03Q3TR10"]
[16302814,"*GT 50-03Q4-9",74215216,"IC 50-03Q3TR10","Elektrischer Anschluss 1/2\" NPT nicht möglich","Electrical connection 1/2\" not possible"]
[16302844,"*GT 50-03Q4-9E",74215231,"IC 50-03Q3E","Elektrischer Anschluss 1/2\" NPT nicht möglich","Electrical connection 1/2\" not possible"]
[16302854,"*GT 50-03Q4-9R",74215231,"IC 50-03Q3E","Elektrischer Anschluss 1/2\" NPT nicht möglich","Electrical connection 1/2\" not possible"]
[16302841,"*GT 50-03T4E",74215226,"IC 50-03W3E"]
[16302861,"*GT 50-03T4E2",74215226,"IC 50-03W3E"]
[16322841,"*GT 50-03T4EG",74215226,"IC 50-03W3E"]
[16326841,"*GT 50-03T4EGU",74215226,"IC 50-03W3E"]
[16306841,"*GT 50-03T4EU",74215226,"IC 50-03W3E"]
[16326811,"*GT 50-03T4GU",74215211,"IC 50-03W3TR10"]
[16306851,"*GT 50-03T4RU",74215226,"IC 50-03W3E"]
[16302815,"*GT 50-03Y4","-","-","200 Volt Version nicht möglich","200 volt version not possible"]
[16302845,"*GT 50-03Y4E","-","-","200 Volt Version nicht möglich","200 volt version not possible"]
[16303847,"*GT 50-06H4E",74215236,"IC 50-03H3E","160° Drehwinkel nicht möglich","160° rotation angle not possible"]
[16303867,"*GT 50-06H4E2",74215236,"IC 50-03H3E","160° Drehwinkel nicht möglich","160° rotation angle not possible"]
[16303843,"*GT 50-06M4E",74215231,"IC 50-03Q3E","160° Drehwinkel nicht möglich","160° rotation angle not possible"]
[16303863,"*GT 50-06M4E2",74215231,"IC 50-03Q3E","160° Drehwinkel nicht möglich","160° rotation angle not possible"]
[16303844,"*GT 50-06Q4-9E",74215231,"IC 50-03Q3E","160° Drehwinkel nicht möglich, Elektrischer Anschluss 1/2\" NPT nicht möglich","160° rotation angle not possible, electrical connection 1/2\" not possible"]
[16303861,"*GT 50-06T4E2",74215226,"IC 50-03W3E","160° Drehwinkel nicht möglich","160° rotation angle not possible"]
[16303815,"*GT 50-06Y4","-","-","200 Volt Version nicht möglich, 160° Drehwinkel nicht möglich","200 volt version not possible, 160° rotation angle not possible"]
[16303845,"*GT 50-06Y4E","-","-","200 Volt Version nicht möglich, 160° Drehwinkel nicht möglich","200 volt version not possible, 160° rotation angle not possible"]
[16302767,"*GT 50-07H7E2",74215237,"IC 50-07H7E"]
[16326747,"*GT 50-07H7EGU",74215237,"IC 50-07H7E"]
[16306747,"*GT 50-07H7EU",74215237,"IC 50-07H7E"]
[16310327,"*GT 50-07H7EZ","-","-","Z-Variante  (IC 50..E + 1000 Ohm Potentiometer) nicht möglich","Z-variant (IC 50..E + 1000 ohm potentiometer) not possible"]
[16322717,"*GT 50-07H7G",74215222,"IC 50-07H7TR10"]
[16326717,"*GT 50-07H7GU",74215222,"IC 50-07H7TR10"]
[16306757,"*GT 50-07H7RU",74215237,"IC 50-07H7E"]
[16306717,"*GT 50-07H7U",74215222,"IC 50-07H7TR10"]
[16302763,"*GT 50-07M7E2",74215232,"IC 50-07Q7E"]
[16326743,"*GT 50-07M7EGU",74215232,"IC 50-07Q7E"]
[16306743,"*GT 50-07M7EU",74215232,"IC 50-07Q7E"]
[16326713,"*GT 50-07M7GU",74215217,"IC 50-07Q7TR10"]
[16306753,"*GT 50-07M7RU",74215232,"IC 50-07Q7E"]
[16306713,"*GT 50-07M7U",74215217,"IC 50-07Q7TR10"]
[16302714,"*GT 50-07Q7-9",74215217,"IC 50-07Q7TR10","Elektrischer Anschluss 1/2\" NPT nicht möglich","Electrical connection 1/2\" not possible"]
[16302744,"*GT 50-07Q7-9E",74215232,"IC 50-07Q7E","Elektrischer Anschluss 1/2\" NPT nicht möglich","Electrical connection 1/2\" not possible"]
[16302754,"*GT 50-07Q7-9R",74215217,"IC 50-07Q7TR10","Elektrischer Anschluss 1/2\" NPT nicht möglich","Electrical connection 1/2\" not possible"]
[16302761,"*GT 50-07T7E2",74215227,"IC 50-07W7E"]
[16306741,"*GT 50-07T7EU",74215227,"IC 50-07W7E"]
[16310321,"*GT 50-07T7EZ","-","-","Z-Variante  (IC 50..E + 1000 Ohm Potentiometer) nicht möglich","Z-variant (IC 50..E + 1000 ohm potentiometer) not possible"]
[16326711,"*GT 50-07T7GU",74215212,"IC 50-07W7TR10"]
[16302715,"*GT 50-07Y7","-","-","200 Volt Version nicht möglich","200 volt version not possible"]
[16302745,"*GT 50-07Y7E","-","-","200 Volt Version nicht möglich","200 volt version not possible"]
[16303367,"*GT 50-107H20E2",74215240,"IC 50-60H30E","160° Drehwinkel nicht möglich","160° rotation angle not possible"]
[16303363,"*GT 50-107M20E2",74215235,"IC 50-60Q30E","160° Drehwinkel nicht möglich","160° rotation angle not possible"]
[16303314,"*GT 50-107Q20-9",74215220,"IC 50-60Q30TR10","160° Drehwinkel nicht möglich, Elektrischer Anschluss 1/2\" NPT nicht möglich","160° rotation angle not possible, electrical connection 1/2\" not possible"]
[16303344,"*GT 50-107Q20-9E",74215235,"IC 50-60Q30E","160° Drehwinkel nicht möglich, Elektrischer Anschluss 1/2\" NPT nicht möglich","160° rotation angle not possible, electrical connection 1/2\" not possible"]
[16303361,"*GT 50-107T20E2",74215230,"IC 50-60W30E","160° Drehwinkel nicht möglich","160° rotation angle not possible"]
[16303315,"*GT 50-107Y20","-","-","200 Volt Version nicht möglich, 160° Drehwinkel nicht möglich","200 volt version not possible, 160° rotation angle not possible"]
[16303345,"*GT 50-107Y20E","-","-","200 Volt Version nicht möglich, 160° Drehwinkel nicht möglich","200 volt version not possible, 160° rotation angle not possible"]
[16302167,"*GT 50-120H20E2",74215240,"IC 50-60H30E","120 sek Laufzeit nicht möglich","120 s running time not possible"]
[16326147,"*GT 50-120H20EGU",74215240,"IC 50-60H30E","120 sek Laufzeit nicht möglich","120 s running time not possible"]
[16306147,"*GT 50-120H20EU",74215240,"IC 50-60H30E","120 sek Laufzeit nicht möglich","120 s running time not possible"]
[16310337,"*GT 50-120H20EZ","-","-","120 sek Laufzeit nicht möglich","120 s running time not possible"]
[16326117,"*GT 50-120H20GU",74215225,"IC 50-60H30TR10","120 sek Laufzeit nicht möglich","120 s running time not possible"]
[16302157,"*GT 50-120H20R",74215240,"IC 50-60H30E","120 sek Laufzeit nicht möglich","120 s running time not possible"]
[16306157,"*GT 50-120H20RU",74215240,"IC 50-60H30E","120 sek Laufzeit nicht möglich","120 s running time not possible"]
[16306117,"*GT 50-120H20U",74215225,"IC 50-60H30TR10","120 sek Laufzeit nicht möglich","120 s running time not possible"]
[16302163,"*GT 50-120M20E2",74215235,"IC 50-60Q30E","120 sek Laufzeit nicht möglich","120 s running time not possible"]
[16326143,"*GT 50-120M20EGU",74215235,"IC 50-60Q30E","120 sek Laufzeit nicht möglich","120 s running time not possible"]
[16306143,"*GT 50-120M20EU",74215235,"IC 50-60Q30E","120 sek Laufzeit nicht möglich","120 s running time not possible"]
[16310333,"*GT 50-120M20EZ","-","-","120 sek Laufzeit nicht möglich","120 s running time not possible"]
[16326113,"*GT 50-120M20GU",74215220,"IC 50-60Q30TR10","120 sek Laufzeit nicht möglich","120 s running time not possible"]
[16306153,"*GT 50-120M20RU",74215235,"IC 50-60Q30E","120 sek Laufzeit nicht möglich","120 s running time not possible"]
[16306113,"*GT 50-120M20U",74215220,"IC 50-60Q30TR10","120 sek Laufzeit nicht möglich","120 s running time not possible"]
[16302114,"*GT 50-120Q20-9",74215220,"IC 50-60Q30TR10","120 sek Laufzeit nicht möglich, Elektrischer Anschluss 1/2\" NPT nicht möglich","120 s running time not possible, electrical connection 1/2\" not possible"]
[16302144,"*GT 50-120Q20-9E",74215235,"IC 50-60Q30E","120 sek Laufzeit nicht möglich, Elektrischer Anschluss 1/2\" NPT nicht möglich","120 s running time not possible, electrical connection 1/2\" not possible"]
[16302154,"*GT 50-120Q20-9R",74215235,"IC 50-60Q30E","120 sek Laufzeit nicht möglich, Elektrischer Anschluss 1/2\" NPT nicht möglich","120 s running time not possible, electrical connection 1/2\" not possible"]
[16302161,"*GT 50-120T20E2",74215230,"IC 50-60W30E","120 sek Laufzeit nicht möglich","120 s running time not possible"]
[16326141,"*GT 50-120T20EGU",74215230,"IC 50-60W30E","120 sek Laufzeit nicht möglich","120 s running time not possible"]
[16306141,"*GT 50-120T20EU",74215230,"IC 50-60W30E","120 sek Laufzeit nicht möglich","120 s running time not possible"]
[16310331,"*GT 50-120T20EZ","-","-","120 sek Laufzeit nicht möglich","120 s running time not possible"]
[16326111,"*GT 50-120T20GU",74215215,"IC 50-60W30TR10","120 sek Laufzeit nicht möglich","120 s running time not possible"]
[16306151,"*GT 50-120T20RU",74215230,"IC 50-60W30E","120 sek Laufzeit nicht möglich","120 s running time not possible"]
[16302115,"*GT 50-120Y20","-","-","200 Volt Version nicht möglich","200 volt version not possible"]
[16302145,"*GT 50-120Y20E","-","-","200 Volt Version nicht möglich","200 volt version not possible"]
[16303717,"*GT 50-13H7",74215222,"IC 50-07H7TR10","160° Drehwinkel nicht möglich","160° rotation angle not possible"]
[16303747,"*GT 50-13H7E",74215237,"IC 50-07H7E","160° Drehwinkel nicht möglich","160° rotation angle not possible"]
[16303767,"*GT 50-13H7E2",74215237,"IC 50-07H7E","160° Drehwinkel nicht möglich","160° rotation angle not possible"]
[16303713,"*GT 50-13M7",74215217,"IC 50-07Q7TR10","160° Drehwinkel nicht möglich","160° rotation angle not possible"]
[16303743,"*GT 50-13M7E",74215232,"IC 50-07Q7E","160° Drehwinkel nicht möglich","160° rotation angle not possible"]
[16303763,"*GT 50-13M7E2",74215232,"IC 50-07Q7E","160° Drehwinkel nicht möglich","160° rotation angle not possible"]
[16303714,"*GT 50-13Q7-9",74215217,"IC 50-07Q7TR10","160° Drehwinkel nicht möglich, Elektrischer Anschluss 1/2\" NPT nicht möglich","160° rotation angle not possible, electrical connection 1/2\" not possible"]
[16303744,"*GT 50-13Q7-9E",74215232,"IC 50-07Q7E","160° Drehwinkel nicht möglich, Elektrischer Anschluss 1/2\" NPT nicht möglich","160° rotation angle not possible, electrical connection 1/2\" not possible"]
[16303761,"*GT 50-13T7E2",74215227,"IC 50-07W7E","160° Drehwinkel nicht möglich","160° rotation angle not possible"]
[16303715,"*GT 50-13Y7","-","-","200 Volt Version nicht möglich","200 volt version not possible"]
[16303745,"*GT 50-13Y7E","-","-","200 Volt Version nicht möglich","200 volt version not possible"]
[16302667,"*GT 50-15H15E2",74215238,"IC 50-15H15E"]
[16322647,"*GT 50-15H15EG",74215238,"IC 50-15H15E"]
[16326647,"*GT 50-15H15EGU",74215238,"IC 50-15H15E"]
[16306647,"*GT 50-15H15EU",74215238,"IC 50-15H15E"]
[16310347,"*GT 50-15H15EZ","-","-","Z-Variante  (IC 50..E + 1000 Ohm Potentiometer) nicht möglich","Z-variant (IC 50..E + 1000 ohm potentiometer) not possible"]
[16322617,"*GT 50-15H15G",74215223,"IC 50-15H15TR10"]
[16326617,"*GT 50-15H15GU",74215223,"IC 50-15H15TR10"]
[16302657,"*GT 50-15H15R",74215238,"IC 50-15H15E"]
[16322657,"*GT 50-15H15RG",74215238,"IC 50-15H15E"]
[16306657,"*GT 50-15H15RU",74215238,"IC 50-15H15E"]
[16310077,"*GT 50-15H15S12Z","-","-","Z-Variante (Steppermotor) nicht möglich","Z-variant (stepper motor) not possible"]
[16306617,"*GT 50-15H15U",74215223,"IC 50-15H15TR10"]
[16310287,"*GT 50-15H15Z","-","-","Z-Variante (Ecta) nicht möglich","Z-variant (Ecta) not possible"]
[16302663,"*GT 50-15M15E2",74215233,"IC 50-15Q15E"]
[16322643,"*GT 50-15M15EG",74215233,"IC 50-15Q15E"]
[16326643,"*GT 50-15M15EGU",74215233,"IC 50-15Q15E"]
[16310343,"*GT 50-15M15EZ","-","-","Z-Variante  (IC 50..E + 1000 Ohm Potentiometer) nicht möglich","Z-variant (IC 50..E + 1000 ohm potentiometer) not possible"]
[16322613,"*GT 50-15M15G",74215218,"IC 50-15Q15TR10"]
[16326613,"*GT 50-15M15GU",74215218,"IC 50-15Q15TR10"]
[16322653,"*GT 50-15M15RG",74215233,"IC 50-15Q15E"]
[16306653,"*GT 50-15M15RU",74215233,"IC 50-15Q15E"]
[16310073,"*GT 50-15M15S12Z","-","-","Z-Variante (Steppermotor) nicht möglich","Z-variant (stepper motor) not possible"]
[16310283,"*GT 50-15M15Z","-","-","Z-Variante (Ecta) nicht möglich","Z-variant (Ecta) not possible"]
[16302614,"*GT 50-15Q15-9",74215218,"IC 50-15Q15TR10","Elektrischer Anschluss 1/2\" NPT nicht möglich","Electrical connection 1/2\" not possible"]
[16302644,"*GT 50-15Q15-9E",74215233,"IC 50-15Q15E","Elektrischer Anschluss 1/2\" NPT nicht möglich","Electrical connection 1/2\" not possible"]
[16302654,"*GT 50-15Q15-9R",74215233,"IC 50-15Q15E","Elektrischer Anschluss 1/2\" NPT nicht möglich","Electrical connection 1/2\" not possible"]
[16302661,"*GT 50-15T15E2",74215228,"IC 50-15W15E"]
[16326641,"*GT 50-15T15EGU",74215228,"IC 50-15W15E"]
[16306641,"*GT 50-15T15EU",74215228,"IC 50-15W15E"]
[16310341,"*GT 50-15T15EZ","-","-","Z-Variante  (IC 50..E + 1000 Ohm Potentiometer) nicht möglich","Z-variant (IC 50..E + 1000 ohm potentiometer) not possible"]
[16322611,"*GT 50-15T15G",74215218,"IC 50-15Q15TR10"]
[16326611,"*GT 50-15T15GU",74215218,"IC 50-15Q15TR10"]
[16306651,"*GT 50-15T15RU",74215228,"IC 50-15W15E"]
[16310071,"*GT 50-15T15S12Z","-","-","Z-Variante (Steppermotor) nicht möglich","Z-variant (stepper motor) not possible"]
[16310281,"*GT 50-15T15Z","-","-","Z-Variante (Ecta) nicht möglich","Z-variant (Ecta) not possible"]
[16302615,"*GT 50-15Y15","-","-","200 Volt Version nicht möglich","200 volt version not possible"]
[16302645,"*GT 50-15Y15E","-","-","200 Volt Version nicht möglich","200 volt version not possible"]
[16303147,"*GT 50-214H20E",74215240,"IC 50-60H30E","160° Drehwinkel nicht möglich","160° rotation angle not possible"]
[16303167,"*GT 50-214H20E2",74215240,"IC 50-60H30E","160° Drehwinkel nicht möglich","160° rotation angle not possible"]
[16303143,"*GT 50-214M20E",74215235,"IC 50-60Q30E","160° Drehwinkel nicht möglich","160° rotation angle not possible"]
[16303163,"*GT 50-214M20E2",74215235,"IC 50-60Q30E","160° Drehwinkel nicht möglich","160° rotation angle not possible"]
[16303114,"*GT 50-214Q20-9",74215220,"IC 50-60Q30TR10","160° Drehwinkel nicht möglich, Elektrischer Anschluss 1/2\" NPT nicht möglich","160° rotation angle not possible, electrical connection 1/2\" not possible"]
[16303144,"*GT 50-214Q20-9E",74215235,"IC 50-60Q30E","160° Drehwinkel nicht möglich, Elektrischer Anschluss 1/2\" NPT nicht möglich","160° rotation angle not possible, electrical connection 1/2\" not possible"]
[16303161,"*GT 50-214T20E2",74215230,"IC 50-60W30E","160° Drehwinkel nicht möglich","200 volt version not possible"]
[16303115,"*GT 50-214Y20","-","-","200 Volt Version nicht möglich","200 volt version not possible"]
[16303145,"*GT 50-214Y20E","-","-","200 Volt Version nicht möglich","160° rotation angle not possible"]
[16303617,"*GT 50-27H15",74215223,"IC 50-15H15TR10","160° Drehwinkel nicht möglich","160° rotation angle not possible"]
[16303647,"*GT 50-27H15E",74215238,"IC 50-15H15E","160° Drehwinkel nicht möglich","160° rotation angle not possible"]
[16303667,"*GT 50-27H15E2",74215238,"IC 50-15H15E","160° Drehwinkel nicht möglich","160° rotation angle not possible"]
[16303657,"*GT 50-27H15R",74215238,"IC 50-15H15E","160° Drehwinkel nicht möglich","160° rotation angle not possible"]
[16303613,"*GT 50-27M15",74215218,"IC 50-15Q15TR10","160° Drehwinkel nicht möglich","160° rotation angle not possible"]
[16303663,"*GT 50-27M15E2",74215233,"IC 50-15Q15E","160° Drehwinkel nicht möglich","160° rotation angle not possible"]
[16303653,"*GT 50-27M15R",74215233,"IC 50-15Q15E","160° Drehwinkel nicht möglich","160° rotation angle not possible"]
[16303614,"*GT 50-27Q15-9",74215218,"IC 50-15Q15TR10","160° Drehwinkel nicht möglich, Elektrischer Anschluss 1/2\" NPT nicht möglich","160° rotation angle not possible, electrical connection 1/2\" not possible"]
[16303644,"*GT 50-27Q15-9E",74215233,"IC 50-15Q15E","160° Drehwinkel nicht möglich, Elektrischer Anschluss 1/2\" NPT nicht möglich","160° rotation angle not possible, electrical connection 1/2\" not possible"]
[16303611,"*GT 50-27T15",74215213,"IC 50-15W15TR10","160° Drehwinkel nicht möglich","160° rotation angle not possible"]
[16303641,"*GT 50-27T15E",74215228,"IC 50-15W15E","160° Drehwinkel nicht möglich","160° rotation angle not possible"]
[16303661,"*GT 50-27T15E2",74215228,"IC 50-15W15E","160° Drehwinkel nicht möglich","160° rotation angle not possible"]
[16303651,"*GT 50-27T15R",74215228,"IC 50-15W15E","160° Drehwinkel nicht möglich","160° rotation angle not possible"]
[16303615,"*GT 50-27Y15","-","-","200 Volt Version nicht möglich","200 volt version not possible"]
[16303645,"*GT 50-27Y15E","-","-","200 Volt Version nicht möglich","200 volt version not possible"]
[16326447,"*GT 50-30H20EGU",74215240,"IC 50-30H20E"]
[16310087,"*GT 50-30H20EZ","-","-","Z-Variante  (IC 50..E + 1000 Ohm Potentiometer) nicht möglich","Z-variant (IC 50..E + 1000 ohm potentiometer) not possible"]
[16326417,"*GT 50-30H20GU",74215224,"IC 50-30H20TR10"]
[16302457,"*GT 50-30H20R",74215240,"IC 50-30H20E"]
[16306417,"*GT 50-30H20U",74215224,"IC 50-30H20TR10"]
[16310227,"*GT 50-30H20Z","-","-","Z-Variante (150 Ohm Potentiometer) nicht möglich","Z-variant (150 ohm potentiometer) not possible"]
[16326443,"*GT 50-30M20EGU",74215234,"IC 50-30Q20E"]
[16310083,"*GT 50-30M20EZ","-","-","Z-Variante  (IC 50..E + 1000 Ohm Potentiometer) nicht möglich","Z-variant (IC 50..E + 1000 ohm potentiometer) not possible"]
[16306413,"*GT 50-30M20U",74215219,"IC 50-30Q20TR10"]
[16302414,"*GT 50-30Q20-9",74215219,"IC 50-30Q20TR10","Elektrischer Anschluss 1/2\" NPT nicht möglich","Electrical connection 1/2\" not possible"]
[16302444,"*GT 50-30Q20-9E",74215234,"IC 50-30Q20E","Elektrischer Anschluss 1/2\" NPT nicht möglich","Electrical connection 1/2\" not possible"]
[16302454,"*GT 50-30Q20-9R",74215234,"IC 50-30Q20E","Elektrischer Anschluss 1/2\" NPT nicht möglich","Electrical connection 1/2\" not possible"]
[16310221,"*GT 50-30T20Z","-","-","Z-Variante (150 Ohm Potentiometer) nicht möglich","Z-variant (150 ohm potentiometer) not possible"]
[16302445,"*GT 50-30Y20E","-","-","200 Volt Version nicht möglich","200 volt version not possible"]
[16303467,"*GT 50-54H20E2",74215240,"IC 50-30H20E","160° Drehwinkel nicht möglich","160° rotation angle not possible"]
[16310297,"*GT 50-54H20EZ","-","-","Z-Variante (Ecta) nicht möglich","Z-variant (Ecta) not possible"]
[16310307,"*GT 50-54H20Z","-","-","Z-Variante (Ecta) nicht möglich","Z-variant (Ecta) not possible"]
[16310317,"*GT 50-54H20Z","-","-","Z-Variante (Ecta) nicht möglich","Z-variant (Ecta) not possible"]
[16303414,"*GT 50-54Q20-9",74215219,"IC 50-30Q20TR10","160° Drehwinkel nicht möglich, Elektrischer Anschluss 1/2\" NPT nicht möglich","160° rotation angle not possible, electrical connection 1/2\" not possible"]
[16303444,"*GT 50-54Q20-9E",74215229,"IC 50-30W20E","160° Drehwinkel nicht möglich, Elektrischer Anschluss 1/2\" NPT nicht möglich","160° rotation angle not possible, electrical connection 1/2\" not possible"]
[16303415,"*GT 50-54Y20","-","-","200 Volt Version nicht möglich","200 volt version not possible"]
[16303445,"*GT 50-54Y20E","-","-","200 Volt Version nicht möglich","200 volt version not possible"]
[16326347,"*GT 50-60H20EGU",74215240,"IC 50-60H30E"]
[16310097,"*GT 50-60H20EZ","-","-","Z-Variante  (IC 50..E + 1000 Ohm Potentiometer) nicht möglich","Z-variant (IC 50..E + 1000 ohm potentiometer) not possible"]
[16326317,"*GT 50-60H20GU",74215225,"IC 50-60H30TR10"]
[16306357,"*GT 50-60H20RU",74215240,"IC 50-60H30E"]
[16302337,"*GT 50-60H20S12","-","-","Z-Variante (Steppermotor) nicht möglich","Z-variant (stepper motor) not possible"]
[16306317,"*GT 50-60H20U",74215225,"IC 50-60H30TR10"]
[16310057,"*GT 50-60H20Z","-","-","Z-Variante (Energo) nicht möglich","Z-variant (Energo) not possible"]
[16302363,"*GT 50-60M20E2",74215235,"IC 50-60Q30E"]
[16326343,"*GT 50-60M20EGU",74215235,"IC 50-60Q30E"]
[16306343,"*GT 50-60M20EU",74215235,"IC 50-60Q30E"]
[16310093,"*GT 50-60M20EZ","-","-","Z-Variante  (IC 50..E + 1000 Ohm Potentiometer) nicht möglich","Z-variant (IC 50..E + 1000 ohm potentiometer) not possible"]
[16326313,"*GT 50-60M20GU",74215220,"IC 50-60Q30TR10"]
[16306353,"*GT 50-60M20RU",74215235,"IC 50-60Q30E"]
[16302333,"*GT 50-60M20S12","-","-","Z-Variante (Steppermotor) nicht möglich","Z-variant (stepper motor) not possible"]
[16310053,"*GT 50-60M20Z","-","-","Z-Variante (Energo) nicht möglich","Z-variant (Energo) not possible"]
[16310213,"*GT 50-60M20Z",74215220,"IC 50-60Q30TR10"]
[16310253,"*GT 50-60M20Z","-","-","Z-Variante  (2500 Ohm Potentiometer) nicht möglich","Z-variant (2500 ohm potentiometer) not possible"]
[16302314,"*GT 50-60Q20-9",74215220,"IC 50-60Q30TR10","Elektrischer Anschluss 1/2\" NPT nicht möglich","Electrical connection 1/2\" not possible"]
[16302344,"*GT 50-60Q20-9E",74215235,"IC 50-60Q30E","Elektrischer Anschluss 1/2\" NPT nicht möglich","Electrical connection 1/2\" not possible"]
[16302354,"*GT 50-60Q20-9R",74215235,"IC 50-60Q30E","Elektrischer Anschluss 1/2\" NPT nicht möglich","Electrical connection 1/2\" not possible"]
[16302361,"*GT 50-60T20E2",74215230,"IC 50-60W30E"]
[16326341,"*GT 50-60T20EGU",74215230,"IC 50-60W30E"]
[16310091,"*GT 50-60T20EZ","-","-","Z-Variante  (IC 50..E + 1000 Ohm Potentiometer) nicht möglich","Z-variant (IC 50..E + 1000 ohm potentiometer) not possible"]
[16310271,"*GT 50-60T20EZ","-","-","Z-Variante  (IC 50..E + 1000 Ohm Potentiometer) nicht möglich","Z-variant (IC 50..E + 1000 ohm potentiometer) not possible"]
[16326311,"*GT 50-60T20GU",74215215,"IC 50-60W30TR10"]
[16306351,"*GT 50-60T20RU",74215230,"IC 50-60W30E"]
[16302331,"*GT 50-60T20S12","-","-","Z-Variante (Steppermotor) nicht möglich","Z-variant (stepper motor) not possible"]
[16310051,"*GT 50-60T20Z","-","-","Z-Variante (Energo) nicht möglich","Z-variant (Energo) not possible"]
[16302315,"*GT 50-60Y20","-","-","200 Volt Version nicht möglich","200 volt version not possible"]
[16302345,"*GT 50-60Y20E","-","-","200 Volt Version nicht möglich","200 volt version not possible"]
[88013814,"VCD1",88102962,"VCD1E25R/20R05ND-25WR/2--3/MMMM"]
[88015985,"VCD1",88105315,"VCD1E25R/25R05D-100NWL/PPPP/2-PP"]
[88015392,"VCS2",88100661,"VCS2E40R/40R05NNWR6/PPPP/PPPP"]
[88009524,"VCS2",88105502,"VCS2E40R/40R05NNQR6/PPPP/PPPP"]
[88009524,"VCS2",88105502,"VCS2E40R/40R05NNQR6/PPPP/PPPP"]
[88028231,"VCS1",88100984,"VCS1E20R/20R05NNWGR3/PPPP/PPPP"]
[88021599,"VCS1",88102767,"VCS1E15R/15R05NNWL3/PPPP/PPPP"]
[88029413,"VCS1",88100985,"VCS1E20R/20R05NNWGL3/PPPP/PPPP"]
[88016490,"VCG1",88103374,"VCG1E20R/20R05GNNWL/PPPP/PPPP"]
[88000142,"VCG1",88100158,"VCG1E15R/15R05NGEWR/PPPP/PPPP"]
[88002557,"VCG1",88105931,"VCG1E15R/25R05GNNWL3/PPPP/2-PP"]
[88003728,"VCG1",88105208,"VCG1E15R/15R05NGEWR6/PPPP/PPBY"]
[88017658,"VCS2",88103543,"VCS2E40R/40R05NLWR/PPPP/PPPP"]
[88009875,"VCS1",88103416,"VCS1E15R/15R05NNWR/PPPP/PPPP"]
[88003136,"VCS1",88100066,"VCS1E25R/25R05NNKR3/PPPP/PPPP "]
[88001968,"VCG2",88103348,"VCG2E50R/40R05NGEWR/PPPP/PPPP"]
[88001959,"VCG2",88102715,"VCG2E50R/40R05NGEWL/PPPP/PPPP"]
[88001966,"VCG2",88100200,"VCG2E40R/40R05NGEWR/PPPP/PPPP"]
[88004314,"VCG1",88106651,"VCG1E25R/25R05NGEWL3/PPPP/2-PP"]
[88004315,"VCG2",88105771,"VCG2E40R/40R05NGEWL3/PPPP/2-PP"]
[88025457,"VAH2V",88102804,"VAH2E25R/25R05HEVWR/MM/PP"]
[88025456,"VAH1V",88102805,"VAH1E20R/20R05HEVWR/MM/PP"]
[88021692,"VAH1V",88102806,"VAH1E15R/15R05HEVWR/MM/PP"]
[88019332,"VCS1",88104758,"VCS1E20R/20R05NNWR3/-3PP/MMMM"]
[88005297,"VCG1",88105024,"VCG1E15R/15R05NGEWR/PPPP/PPPP"]
[88202174,"VCS780F05NNWGRP/PPPP/PPEP",88205143,"VCS 780F05NNWGRE/PPPP/PPEP"]
[74952966,"Halterelais VK..R 100-120V /B",84408018,"SK HR-N"]
[74960001,"Halterelais VK..R 220/240V /B",84408017,"SK HR-T"]
[88015920,"VCS1",88100182,"VCS1E--/--05NNWR/PPPP/PPPP"]
[88007456,"VCG 2",88100286,"VCG2E40R/40R05GENKR/2-PP/PPPP"]
[88010986,"VCG 2",88100676,"VCG2E40R/40R05NGEWR/PPPP/PPZS"]
[88205293,"VAS665F05LWP/PP/PP",88203891,"VAS 665F05LWB/PP/PP"]
[88205294,"VAS665F05NWGRP/PP/PP",88203567,"VAS 665F05NWGRB/PP/PP"]
[88201321,"VAS665F05LWP/PP/PP",88203058,"VAS 665F05LWE/PP/PP "]
[88205294,"VAS665F05NWGRP/PP/PP ",88204037,"VAS 665F05NWGRE/PP/PP "]
[88002742,"VCS2",88100199,"VCS2E40R/40R05NNWR/PPPP/PPPP"]
[88004711,"VCS2",88100199,"VCS2E40R/40R05NNWR/PPPP/PPPP"]
[88201516,"VAS 665F05NWGR3P/PP/PP",88203174,"VAS 665F05NWGR3B/PP/PP"]
[85241050,"VG 65TA03NQ93D",88202812,"VAS 6T65A05NQB/PP/PP"]
[85241051,"*VG 65TA03NQ93DS",88203409,"VAS 6T65A05NQSRB/PP/PP"]
[85241150,"VG 65TA03LQ93D",88202825,"VAS 6T65A05LQB/PP/PP"]
[85241151,"*VG 65TA03LQ93DS",88204077,"VAS 6T65A05LQSRB/PP/PP"]
[85241250,"VG 65TA01NQ93D",88202812,"VAS 6T65A05NQB/PP/PP"]
[85241251,"*VG 65TA01NQ93DS",88203409,"VAS 6T65A05NQSRB/PP/PP"]
[85241350,"VG 65TA01LQ93D",88202825,"VAS 6T65A05LQB/PP/PP"]
[85241351,"*VG 65TA01LQ93DS",88204077,"VAS 6T65A05LQSRB/PP/PP"]
[85241440,"VG 65TA03NQ93",88202812,"VAS 6T65A05NQB/PP/PP"]
[85241441,"VG 65TA03NQ93CPS",88203409,"VAS 6T65A05NQSRB/PP/PP"]
[85241450,"VG 65TA03LQ93",88202825,"VAS 6T65A05LQB/PP/PP"]
[85241451,"VG 65TA03LQ93OCS",88204077,"VAS 6T65A05LQSRB/PP/PP"]
[85241460,"VG 65TA01NQ93",88202812,"VAS 6T65A05NQB/PP/PP"]
[85241461,"VG 65TA01NQ93CPS",88203409,"VAS 6T65A05NQSRB/PP/PP"]
[85241470,"VG 65TA01LQ93",88202825,"VAS 6T65A05LQB/PP/PP"]
[85241600,"VG 65TA01NQ93OCS",88203409,"VAS 6T65A05NQSRB/PP/PP"]
[85241650,"VG 65TA03NQ93OCS",88203409,"VAS 6T65A05NQSRB/PP/PP"]
[85242011,"VG 80TA03NQ93D",88202813,"VAS 7T80A05NQB/PP/PP"]
[85242012,"*VG 80TA03NQ93DS",88203224,"VAS 7T80A05NQSRB/PP/PP"]
[85242101,"VG 80TA03LQ93D",88202826,"VAS 7T80A05LQB/PP/PP"]
[85242102,"*VG 80TA03LQ93DS",88203290,"VAS 7T80A05LQSRB/PP/PP"]
[85242201,"VG 80TA01NQ93D",88202813,"VAS 7T80A05NQB/PP/PP"]
[85242205,"*VG 80TA01NQ93DS",88203224,"VAS 7T80A05NQSRB/PP/PP"]
[85242301,"VG 80TA01LQ93D",88202826,"VAS 7T80A05LQB/PP/PP"]
[85242302,"*VG 80TA01LQ93DS",88203290,"VAS 7T80A05LQSRB/PP/PP"]
[85242400,"VG 80TA03NQ93",88202813,"VAS 7T80A05NQB/PP/PP"]
[85242401,"VG 80TA03NQ93CPS",88203224,"VAS 7T80A05NQSRB/PP/PP"]
[85242410,"VG 80TA03LQ93",88202826,"VAS 7T80A05LQB/PP/PP"]
[85242411,"VG 80TA03LQ93OCS",88203290,"VAS 7T80A05LQSRB/PP/PP"]
[85242420,"VG 80TA01NQ93",88202813,"VAS 7T80A05NQB/PP/PP"]
[85242421,"VG 80TA01NQ93CPS",88203224,"VAS 7T80A05NQSRB/PP/PP"]
[85242430,"VG 80TA01LQ93",88202826,"VAS 7T80A05LQB/PP/PP"]
[85242500,"VG 80TA01NQ93OCS",88203224,"VAS 7T80A05NQSRB/PP/PP"]
[85242600,"VG 80TA03NQ93OCS",88203224,"VAS 7T80A05NQSRB/PP/PP"]
[85243201,"VG 100TA01NQ93D",88202815,"VAS 8T100A05NQB/PP/PP"]
[85243202,"*VG 100TA01NQ93DS",88203045,"VAS 8T100A05NQSRB/PP/PP"]
[85243300,"VG 100TA01NQ93",88202815,"VAS 8T100A05NQB/PP/PP"]
[85243301,"VG 100TA01NQ93CPS",88203045,"VAS 8T100A05NQSRB/PP/PP"]
[85243500,"VG 100TA01NQ93OCS",88203045,"VAS 8T100A05NQSRB/PP/PP"]
[85258151,"VG 65F03NT63",88203048,"VAS 665F05NWB/PP/PP"]
[85258155,"VG 65F03NT35",88202653,"VAS 665F05NW3B/PP/PP"]
[85258250,"*VG 65F03NM33",88202706,{"$f":"VLOOKUP(C2304,C:D,2,FALSE)","v":"VAS 665F05NQ3B/PP/PP"}]
[85258251,"*VG 65F03NM33DS",88203859,{"$f":"VLOOKUP(C2305,C:D,2,FALSE)","v":"VAS 665F05NQSR3B/PP/PP"}]
[85258353,"VG 65F03NK63",88203094,"VAS 665F05NKB/PP/PP"]
[85258370,"VG 65F03NK33M",88203001,"VAS 665F05NK3B/PP/PP"]
[85258551,"*VG 65F03LT33DS",88203198,"VAS 665F05LWSR3B/PP/PP"]
[85258650,"*VG 65F03LM33",88202719,"VAS 665F05LQ3B/PP/PP"]
[85258750,"VG 65F03LK33",88203137,"VAS 665F05LK3B/PP/PP"]
[85258751,"VG 65F03LK6L3",88204139,"VAS 665F05LKB/PP/PP"]
[85258770,"VG 65F03LT33M",88202695,"VAS 665F05LW3B/PP/PP"]
[85258870,"*VG 65F03NM33D",88202706,"VAS 665F05NQ3B/PP/PP"]
[85259153,"*VG 80F03NT33DG",88203052,"VAS 780F05NWSR3B/PP/PP"]
[85259154,"VG 80F03NT63",88203135,"VAS 780F05NWB/PP/PP"]
[85259156,"VG 80F03NT35",88202683,"VAS 780F05NW3B/PP/PP"]
[85259250,"*VG 80F03NM33",88202707,"VAS 780F05NQ3B/PP/PP"]
[85259353,"VG 80F03NK6L3",88203461,"VAS 780F05NKB/PP/PP"]
[85259370,"VG 80F03NK33M",88203250,"VAS 780F05NK3B/PP/PP"]
[85259551,"*VG 80F03LT33DS",88203189,"VAS 780F05LWSR3B/PP/PP"]
[85259553,"VG 80F03LT63M",88203283,"VAS 780F05LWB/PP/PP"]
[85259650,"*VG 80F03LM33",88202720,"VAS 780F05LQ3B/PP/PP"]
[85272151,"*VG 65F02NT33DS",88203197,"VAS 665F05NWSR3B/PP/PP"]
[85272155,"*VG 65F02NT6L3DS",88203197,"VAS 665F05NWSR3B/PP/PP"]
[85272174,"*VG 65F02NM33M",88202706,"VAS 665F05NQ3B/PP/PP"]
[85272250,"*VG 65F02NM33",88202706,"VAS 665F05NQ3B/PP/PP"]
[85272251,"*VG 65F02NM33DS",88203859,"VAS 665F05NQSR3B/PP/PP"]
[85272252,"*VG 65F02NM6L3",88203697,"VAS 665F05NQB/PP/PP"]
[85272253,"*VG 65F02NM63",88203697,"VAS 665F05NQB/PP/PP"]
[85272551,"*VG 65F02LT33DS",88203198,"VAS 665F05LWSR3B/PP/PP"]
[85272554,"*VG 65F02LT6L3DS",88203198,"VAS 665F05LWSR3B/PP/PP"]
[85272571,"*VG 65F02LM33M",88202719,"VAS 665F05LQ3B/PP/PP"]
[85272572,"VG 65F02LK33M",88203137,"VAS 665F05LK3B/PP/PP"]
[85272650,"*VG 65F02LM33",88202719,"VAS 665F05LQ3B/PP/PP"]
[85272652,"*VG 65F02LM6L3",88204599,"VAS 665F05NQ3B/PP/PP"]
[85272752,"VG 65F02LK63D",88204139,"VAS 665F05LKB/PP/PP"]
[85272860,"*VG 65F02NM6L3D",88203697,"VAS 665F05NQB/PP/PP"]
[85272870,"*VG 65F02NM33D",88202706,"VAS 665F05NQ3B/PP/PP"]
[85272891,"VG 65F02NK6L3D",88203094,"VAS 665F05NKB/PP/PP"]
[85272970,"*VG 65F02LM33D",88202719,"VAS 665F05LQ3B/PP/PP"]
[85272991,"VG 65F02LK63D",88204139,"VAS 665F05LKB/PP/PP"]
[85273151,"*VG 80F02NT33DS",88203052,"VAS 780F05NWSR3B/PP/PP"]
[85273156,"*VG 80F02NT6L3DS",88203122,"VAS 780F05NWSRB/PP/PP"]
[85273171,"*VG 80F02NM33M",88202707,"VAS 780F05NQ3B/PP/PP"]
[85273251,"*VG 80F02NM6L3",88203316,"VAS 780F05NQB/PP/PP"]
[85273252,"*VG 80F02NM33DS",88203858,"VAS 780F05NQSR3B/PP/PP"]
[85273551,"*VG 80F02LT33DS",88203189,"VAS 780F05LWSR3B/PP/PP"]
[85273571,"*VG 80F02LT33DSM",88203189,"VAS 780F05LWSR3B/PP/PP"]
[85273572,"VG 80F02LK33M",88203386,"VAS 780F05LK3B/PP/PP"]
[85273573,"*VG 80F02LM33M",88202720,"VAS 780F05LQ3B/PP/PP"]
[85273650,"*VG 80F02LM33",88202720,"VAS 780F05LQ3B/PP/PP"]
[85273652,"*VG 80F02LM33DS",88203821,"VAS 780F05LQSR3B/PP/PP"]
[85273803,"VG 80F02NK33DM",88203250,"VAS 780F05NK3B/PP/PP"]
[85273820,"*VG 80F02NM33D",88202707,"VAS 780F05NQ3B/PP/PP"]
[85273970,"*VG 80F02LM33D",88202720,"VAS 780F05LQ3B/PP/PP"]
[85274151,"*VG 100F02NT33DS",88202944,"VAS 8100F05NWSR3B/PP/PP"]
[85274155,"*VG 100F02NT6L3DS",88203116,"VAS 8100F05NWSRB/PP/PP"]
[85274172,"*VG 100F02NM33M",88202709,"VAS 8100F05NQ3B/PP/PP"]
[85274176,"VG 100F02NK6L3M",88203747,"VAS 665F05NQ3B/PP/PP"]
[85274250,"*VG 100F02NM33",88202709,"VAS 8100F05NQ3B/PP/PP"]
[85274251,"*VG 100F02NM33DS",88203427,"VAS 8100F05NQSR3B/PP/PP"]
[85274252,"*VG 100F02NM6L3",88203723,"VAS 8100F05NQB/PP/PP"]
[85274351,"VG 100F02NK6L3",88203747,"VAS 665F05NQ3B/PP/PP"]
[85274552,"*VG 100F02LT33DS",88203190,"VAS 8100F05LWSR3B/PP/PP"]
[85274650,"*VG 100F02LM33",88202721,"VAS 8100F05LQ3B/PP/PP"]
[85274840,"VG 100F02NK33D",88202981,"VAS 8100F05NK3B/PP/PP"]
[85274970,"*VG 100F02LM33D",88202721,"VAS 8100F05LQ3B/PP/PP"]
[85275242,"*VG 65F02NM33S",88203859,"VAS 665F05NQSR3B/PP/PP"]
[85275244,"*VG 65F02NT63S",88203197,{"$f":"VLOOKUP(C2369,C:D,2,FALSE)","v":"VAS 665F05NWSR3B/PP/PP"}]
[85275246,"*VG 65F02NQ33S",88203859,"VAS 665F05NQSR3B/PP/PP"]
[85275261,"*VG 65F02LM33S",88203936,"VAS 665F05LQSR3B/PP/PP"]
[85275262,"*VG 65F02LK33S",88204140,"VAS 665F05LKSRB/PP/PP"]
[85275265,"*VG 65F02LT6L3S",88203198,"VAS 665F05LWSR3B/PP/PP"]
[85275280,"*VG 65F03LT33S",88203198,"VAS 665F05LWSR3B/PP/PP"]
[85275281,"*VG 65F03NT35S",88203197,"VAS 665F05NWSR3B/PP/PP"]
[85275284,"*VG 65F03NM33S",88203859,"VAS 665F05NQSR3B/PP/PP"]
[85275286,"*VG 65F03NT33S",88203197,"VAS 665F05NWSR3B/PP/PP"]
[85275289,"VG 65F03NK6L3CPS6",88203007,"VAS 665F05NKSR3B/PP/PP"]
[85275302,"*VG 80F02NM6L3S",88204145,"VAS 780F05NQSRB/PP/PP"]
[85275303,"*VG 80F02NT33SM",88203052,"VAS 780F05NWSR3B/PP/PP"]
[85275304,"*VG 80F02NM33S",88203858,"VAS 780F05NQSR3B/PP/PP"]
[85275307,"*VG 80F02NK33SM",88202997,"VAS 780F05NKSR3B/PP/PP"]
[85275309,"*VG 80F02NQ6L3S",88204145,"VAS 780F05NQSRB/PP/PP"]
[85275310,"*VG 80F03NT33S",88203052,"VAS 780F05NWSR3B/PP/PP"]
[85275311,"*VG 80F03LT33S",88203189,"VAS 780F05LWSR3B/PP/PP"]
[85275313,"*VG 80F03LK33S",88204150,"VAS 780F05LKSR3B/PP/PP"]
[85275315,"*VG 80F03LM33S",88203821,"VAS 780F05LQSR3B/PP/PP"]
[85275316,"*VG 80F03LT6L3S",88204144,"VAS 780F05LWSRB/PP/PP"]
[85275317,"*VG 80F03LT63S",88204144,"VAS 780F05LWSRB/PP/PP"]
[85275318,"*VG 80F03NT6L3S",88203122,"VAS 780F05NWSRB/PP/PP"]
[85275319,"*VG 80F03NM63S",88204145,"VAS 780F05NQSRB/PP/PP"]
[85275322,"*VG 80F02LT6L3S",88204144,"VAS 780F05LWSRB/PP/PP"]
[85275410,"*VG 100F02NM33S",88203427,"VAS 8100F05NQSR3B/PP/PP"]
[85275411,"*VG 100F02NM6L3S",88203427,"VAS 8100F05NQSR3B/PP/PP"]
[88201199,"VAS 780F05NWGR3P/PP/PP ",88203837,"VAS 780F05NWGR3B/PP/PP"]
[86048081,"*VGBF 50F40-3P2Z ",86048011,"VGBF 50F40-3Z","Federbereich und Einstelldruck angeben","Specify spring range and set point "]
[88026287,"VCV1V",88105472,"VCV1E20R/20R05NVKVWR3/PPPP/PPPP"]

{"sheet":"IC40","index":1,"n_rows":17,"n_cols":5,"rows_kept":17,"cut":false,"hidden":false,"merged":[]}
["alte Mat_Nr.","alter Mat_Text","Parameter","Konfi_Mat_Nr.","Konfi_Text_neu"]
[74105750,"IC 40A2",68001,88300085,"IC40A2D"]
[74105750,"IC 40A2",68010,88300086,"IC40A2D"]
[74105751,"IC 40A2A",68026,88300087,"IC40A2A"]
[74105751,"IC 40A2A",68001,88300088,"IC40A2A"]
[74105752,"IC 40A2R10",68001,88300084,"IC40A2DR10"]
[74105752,"IC 40A2R10",68010,88300089,"IC40A2DR10"]
[74105753,"IC 40A2AR10",68026,88300090,"IC40A2AR10"]
[74105754,"IC 40SA3",68001,88300091,"IC40SA3D"]
[74105754,"IC 40SA3",68010,88300092,"IC40SA3D"]
[74105755,"IC 40SA3A",68026,88300093,"IC40SA3A"]
[74105755,"IC 40SA3A",68001,88300094,"IC40SA3A"]
[74105756,"IC 40SA3R10",68001,88300095,"IC40SA3DR10"]
[74105756,"IC 40SA3R10",68010,88300096,"IC40SA3DR10"]
[74105757,"IC 40SA3AR10",68026,88300097,"IC40SA3AR10"]
[74105757,"IC 40SA3AR10",68001,88300098,"IC40SA3AR10"]
[74105753,"IC 40A2AR10",68001,88300241,"IC40A2AR10"]

{"sheet":"FCU 500","index":2,"n_rows":337,"n_cols":5,"rows_kept":337,"cut":false,"hidden":false,"merged":[]}
["Alte Bestellnummer","Neue Bestellunmmer","Typenschlüssel","KMAT-Material","Bemerkung"]
[88620000,88621000,"FCU500WC0F1H0K0-E","KMFCU5"]
[88620001,88621001,"FCU500WC0F0H0K2-E","KMFCU5"]
[88620002,88621002,"FCU500WC1F1H0K2-E","KMFCU5"]
[88620003,88621003,"FCU500WC1F1H0K1-E","KMFCU5"]
[88620004,88621004,"FCU500WC1F0H0K1-E","KMFCU5"]
[88620005,88621005,"FCU500WC0F1H0K2-E","KMFCU5"]
[88620006,88621006,"FCU500WC0F0H0K1-E","KMFCU5"]
[88620007,88621007,"FCU500WC1F0H0K2-E","KMFCU5"]
[88620008,88621008,"FCU500WC0F0H0K0-E","KMFCU5"]
[88620009,88621009,"FCU500WC1F0H0K0-E","KMFCU5"]
[88620010,88621010,"FCU500WC1F1H0K0-E","KMFCU5"]
[88620011,88621011,"FCU500WC0F1H0K2-E","KMFCU5"]
[88620012,88621012,"FCU500WC0F1H0K1-E","KMFCU5"]
[88620013,88621014,"PCC500WC1F1H0K1-E","KMFCU5"]
[88620020,88620020,"FCU500WC1F0H0K2-E","KMFCU5","Diese Variante muss neu konfiguriert werden P15=0, P35=0 und P32= 1 ist ein nicht erlaubte Parametrierung!"]
[88620021,88621015,"FCU500WC1F0H0K1-E","KMFCU5"]
[88620022,88621016,"FCU500WC1F0H0K2-E","KMFCU5"]
[88620023,88621017,"FCU500WC1F0H0K1-E","KMFCU5"]
[88620024,88621018,"FCU500WC1F0H0K1-E","KMFCU5"]
[88620025,88621019,"FCU500WC1F0H0K1-E","KMFCU5"]
[88620026,88621020,"FCU500WC1F0H0K1-E","KMFCU5"]
[88620027,88621021,"FCU500WC1F0H0K1-E","KMFCU5"]
[88620028,88621022,"FCU500QC1F0H0K1-E","KMFCU5"]
[88620029,88621023,"FCU500WC0F0H0K2-E","KMFCU5"]
[88620030,88621024,"FCU500WC1F0H0K1-E","KMFCU5"]
[88620031,88621025,"FCU500WC0F0H0K1-E","KMFCU5"]
[88620032,88621026,"FCU500WC1F0H0K1-E","KMFCU5"]
[88620033,88621027,"FCU500WC1F1H0K1-E","KMFCU5"]
[88620034,88621028,"FCU500WC1F0H0K1-E","KMFCU5"]
[88620035,88621029,"FCU500WC1F0H0K1-E","KMFCU5"]
[88620036,88621030,"FCU500WC1F0H0K1-E","KMFCU5"]
[88620040,88621031,"FCU500WC1F0H0K2-E","KMFCU5"]
[88620041,88621032,"FCU500WC1F0H0K1-E","KMFCU5"]
[88620042,88621027,"FCU500WC1F1H0K1-E","KMFCU5"]
[88620043,88621033,"FCU500WC1F0H0K1-E","KMFCU5"]
[88620044,88621034,"FCU500WC0F1H0K1-E","KMFCU5"]
[88620045,88621035,"FCU500WC0F0H0K1-E","KMFCU5"]
[88620046,88621036,"FCU500WC1F1H0K1-E","KMFCU5"]
[88620047,88621037,"FCU500WC0F0H0K1-E","KMFCU5"]
[88620048,88621035,"FCU500WC0F0H0K1-E","KMFCU5"]
[88620049,88621038,"FCU500WC0F1H0K1-E","KMFCU5"]
[88620050,88621039,"FCU500WC1F0H0K1-E","KMFCU5"]
[88620051,88621040,"FCU500WC1F0H0K1-E","KMFCU5"]
[88620052,88621041,"FCU500WC1F0H0K1-E","KMFCU5"]
[88620053,88621042,"FCU500QC1F0H0K1-E","KMFCU5"]
[88620054,88621043,"FCU500WC1F0H0K1-E","KMFCU5"]
[88620055,88621044,"FCU500WC1F0H0K1-E","KMFCU5"]
[88620056,88621045,"FCU500WC1F1H0K1-E","KMFCU5"]
[88620057,88621046,"FCU500WC1F1H0K2-E","KMFCU5"]
[88620058,88621047,"FCU500WC1F1H0K1-E","KMFCU5"]
[88620059,88621048,"FCU500WC1F1H0K1-E","KMFCU5"]
[88620060,88621049,"FCU500WC1F0H0K2-E","KMFCU5"]
[88620061,88621050,"FCU500WC1F0H0K1-E","KMFCU5"]
[88620062,88621051,"FCU500WC1F0H0K1-E","KMFCU5"]
[88620063,88621052,"FCU500WC0F1H0K1-E","KMFCU5"]
[88620064,88621053,"FCU500WC1F1H0K1-E","KMFCU5"]
[88620065,88621054,"FCU500WC0F1H0K1-E","KMFCU5"]
[88620066,88620066,"FCU500WC1F0H0K2-E","KMFCU5","Diese Variante muss neu konfiguriert werden P15=0, P35=0 und P32= 1 ist ein nicht erlaubte Parametrierung!"]
[88620067,88621055,"FCU500WC1F0H0K2-E","KMFCU5"]
[88620068,88621056,"FCU500WC1F0H0K2-E","KMFCU5"]
[88620069,88621057,"FCU500WC0F0H0K1-E","KMFCU5"]
[88620070,88621058,"FCU500WC0F1H0K2-E","KMFCU5"]
[88620071,88621059,"FCU500WC1F1H0K2-E","KMFCU5"]
[88620072,88621060,"FCU500WC1F0H0K2-E","KMFCU5"]
[88620073,88621061,"FCU500WC1F1H0K1-E","KMFCU5"]
[88620074,88621062,"FCU500WC1F1H0K2-E","KMFCU5"]
[88620075,88621063,"FCU500WC1F1H0K2-E","KMFCU5"]
[88620080,88621064,"FCU500WC1F1H0K2-E","KMFCU5"]
[88620081,88621065,"FCU500WC1F0H0K1-E","KMFCU5"]
[88620082,88621066,"FCU500WC0F0H0K2-E","KMFCU5"]
[88620083,88621067,"FCU500WC1F0H0K2-E","KMFCU5"]
[88620090,88621068,"FCU500WC0F0H0K2-E","KMFCU5"]
[88620091,88621069,"FCU500QC0F0H0K2-E","KMFCU5"]
[88620092,88621070,"FCU500WC1F0H0K2-E","KMFCU5"]
[88620093,88621071,"FCU500WC1F0H0K1-E","KMFCU5"]
[88620094,88621072,"FCU500WC1F0H0K2-E","KMFCU5"]
[88620095,88621073,"FCU500WC1F1H0K1-E","KMFCU5"]
[88620096,88621074,"FCU500WC1F1H0K2-E","KMFCU5"]
[88620097,88621075,"FCU500WC0F0H0K2-E","KMFCU5"]
[88620100,88621076,"FCU500WC0F2H0K1-E","KMFCU5"]
[88620101,88621077,"FCU500WC0F0H0K1-E","KMFCU5"]
[88620102,88621078,"FCU500WC1F1H0K1-E","KMFCU5"]
[88620110,88621079,"FCU500WC1F0H1K1-E","KMFCU5"]
[88620111,88621080,"FCU500WC1F0H1K1-E","KMFCU5"]
[88620112,88621081,"FCU500WC0F0H1K1-E","KMFCU5"]
[88620113,88621082,"FCU500WC0F0H1K1-E","KMFCU5"]
[88620114,88621083,"FCU500WC1F1H0K1-E","KMFCU5"]
[88620115,88621022,"FCU500QC1F0H0K1-E","KMFCU5"]
[88620116,88621084,"FCU500WC0F0H1K1-E","KMFCU5"]
[88620117,88621085,"FCU500WC1F0H0K1-E","KMFCU5"]
[88620118,88621086,"FCU500WC1F1H1K1-E","KMFCU5"]
[88620119,88621087,"FCU500WC1F1H0K1-E","KMFCU5"]
[88620120,88621088,"FCU500WC1F0H0K1-E","KMFCU5"]
[88620121,88621089,"FCU500WC1F1H0K2-E","KMFCU5"]
[88620122,88621090,"FCU500WC1F0H1K1-E","KMFCU5"]
[88620123,88621076,"FCU500WC0F2H0K1-E","KMFCU5"]
[88620124,88621051,"FCU500WC1F0H0K1-E","KMFCU5"]
[88620125,88621091,"FCU500WC1F0H0K1-E","KMFCU5"]
[88620126,88620126,"FCU500WC0F0H0K1-E","KMFCU5","Diese Variante muss neu konfiguriert werden P15=0, P35=0 und P32= 1 ist ein nicht erlaubte Parametrierung!"]
[88620127,88621093,"FCU500WC0F1H0K0-E","KMFCU5"]
[88620128,88621001,"FCU500WC0F0H0K2-E","KMFCU5"]
[88620129,88621094,"FCU500WC1F1H0K2-E","KMFCU5"]
[88620130,88621095,"FCU500WC1F1H0K1-E","KMFCU5"]
[88620131,88621096,"FCU500WC1F0H0K1-E","KMFCU5"]
[88620132,88621005,"FCU500WC0F1H0K2-E","KMFCU5"]
[88620133,88621006,"FCU500WC0F0H0K1-E","KMFCU5"]
[88620134,88621007,"FCU500WC1F0H0K2-E","KMFCU5"]
[88620135,88621008,"FCU500WC0F0H0K0-E","KMFCU5"]
[88620136,88621009,"FCU500WC1F0H0K0-E","KMFCU5"]
[88620137,88621010,"FCU500WC1F1H0K0-E","KMFCU5"]
[88620138,88621011,"FCU500WC0F1H0K2-E","KMFCU5"]
[88620139,88621012,"FCU500WC0F1H0K1-E","KMFCU5"]
[88620140,88621014,"PCC500WC1F1H0K1-E","KMFCU5"]
[88620141,88620141,"FCU500WC1F0H0K2-E","KMFCU5","Diese Variante muss neu konfiguriert werden P15=0, P35=0 und P32= 1 ist ein nicht erlaubte Parametrierung!"]
[88620142,88621015,"FCU500WC1F0H0K1-E","KMFCU5"]
[88620143,88621016,"FCU500WC1F0H0K2-E","KMFCU5"]
[88620144,88621017,"FCU500WC1F0H0K1-E","KMFCU5"]
[88620145,88621018,"FCU500WC1F0H0K1-E","KMFCU5"]
[88620146,88621019,"FCU500WC1F0H0K1-E","KMFCU5"]
[88620147,88621020,"FCU500WC1F0H0K1-E","KMFCU5"]
[88620148,88621021,"FCU500WC1F0H0K1-E","KMFCU5"]
[88620149,88621023,"FCU500WC0F0H0K2-E","KMFCU5"]
[88620150,88621024,"FCU500WC1F0H0K1-E","KMFCU5"]
[88620151,88621025,"FCU500WC0F0H0K1-E","KMFCU5"]
[88620152,88621026,"FCU500WC1F0H0K1-E","KMFCU5"]
[88620153,88621027,"FCU500WC1F1H0K1-E","KMFCU5"]
[88620154,88621028,"FCU500WC1F0H0K1-E","KMFCU5"]
[88620155,88621029,"FCU500WC1F0H0K1-E","KMFCU5"]
[88620156,88621030,"FCU500WC1F0H0K1-E","KMFCU5"]
[88620157,88621031,"FCU500WC1F0H0K2-E","KMFCU5"]
[88620158,88621032,"FCU500WC1F0H0K1-E","KMFCU5"]
[88620159,88621033,"FCU500WC1F0H0K1-E","KMFCU5"]
[88620160,88621034,"FCU500WC0F1H0K1-E","KMFCU5"]
[88620161,88621035,"FCU500WC0F0H0K1-E","KMFCU5"]
[88620162,88621036,"FCU500WC1F1H0K1-E","KMFCU5"]
[88620163,88621037,"FCU500WC0F0H0K1-E","KMFCU5"]
[88620164,88621038,"FCU500WC0F1H0K1-E","KMFCU5"]
[88620165,88621039,"FCU500WC1F0H0K1-E","KMFCU5"]
[88620166,88621040,"FCU500WC1F0H0K1-E","KMFCU5"]
[88620167,88621041,"FCU500WC1F0H0K1-E","KMFCU5"]
[88620168,88621042,"FCU500QC1F0H0K1-E","KMFCU5"]
[88620169,88621043,"FCU500WC1F0H0K1-E","KMFCU5"]
[88620170,88621044,"FCU500WC1F0H0K1-E","KMFCU5"]
[88620171,88621045,"FCU500WC1F1H0K1-E","KMFCU5"]
[88620172,88621046,"FCU500WC1F1H0K2-E","KMFCU5"]
[88620173,88621047,"FCU500WC1F1H0K1-E","KMFCU5"]
[88620174,88621048,"FCU500WC1F1H0K1-E","KMFCU5"]
[88620175,88621049,"FCU500WC1F0H0K2-E","KMFCU5"]
[88620176,88621050,"FCU500WC1F0H0K1-E","KMFCU5"]
[88620177,88621052,"FCU500WC0F1H0K1-E","KMFCU5"]
[88620178,88621053,"FCU500WC1F1H0K1-E","KMFCU5"]
[88620179,88621054,"FCU500WC0F1H0K1-E","KMFCU5"]
[88620180,88620180,"FCU500WC1F0H0K2-E","KMFCU5","Diese Variante muss neu konfiguriert werden P15=0, P35=0 und P32= 1 ist ein nicht erlaubte Parametrierung!"]
[88620181,88621055,"FCU500WC1F0H0K2-E","KMFCU5"]
[88620182,88621056,"FCU500WC1F0H0K2-E","KMFCU5"]
[88620183,88621057,"FCU500WC0F0H0K1-E","KMFCU5"]
[88620184,88621058,"FCU500WC0F1H0K2-E","KMFCU5"]
[88620185,88621059,"FCU500WC1F1H0K2-E","KMFCU5"]
[88620186,88621060,"FCU500WC1F0H0K2-E","KMFCU5"]
[88620187,88621061,"FCU500WC1F1H0K1-E","KMFCU5"]
[88620188,88621062,"FCU500WC1F1H0K2-E","KMFCU5"]
[88620189,88621063,"FCU500WC1F1H0K2-E","KMFCU5"]
[88620190,88621064,"FCU500WC1F1H0K2-E","KMFCU5"]
[88620191,88621065,"FCU500WC1F0H0K1-E","KMFCU5"]
[88620192,88621066,"FCU500WC0F0H0K2-E","KMFCU5"]
[88620193,88621067,"FCU500WC1F0H0K2-E","KMFCU5"]
[88620194,88621068,"FCU500WC0F0H0K2-E","KMFCU5"]
[88620195,88621069,"FCU500QC0F0H0K2-E","KMFCU5"]
[88620196,88621070,"FCU500WC1F0H0K2-E","KMFCU5"]
[88620197,88621071,"FCU500WC1F0H0K1-E","KMFCU5"]
[88620198,88621072,"FCU500WC1F0H0K2-E","KMFCU5"]
[88620199,88621073,"FCU500WC1F1H0K1-E","KMFCU5"]
[88620200,88621074,"FCU500WC1F1H0K2-E","KMFCU5"]
[88620201,88621075,"FCU500WC0F0H0K2-E","KMFCU5"]
[88620202,88621077,"FCU500WC0F0H0K1-E","KMFCU5"]
[88620203,88621078,"FCU500WC1F1H0K1-E","KMFCU5"]
[88620204,88621098,"FCU500WC1F1H1K1-E","KMFCU5"]
[88620205,88621099,"FCU500WC1F0H1K2-E","KMFCU5"]
[88620206,88621100,"FCU500WC1F0H1K2-E","KMFCU5"]
[88620207,88621101,"FCU500WC1F0H0K1-E","KMFCU5"]
[88620208,88621102,"FCU500WC0F1H1K1-E","KMFCU5"]
[88620209,88621103,"FCU500WC1F1H1K1-E","KMFCU5"]
[88620210,88621104,"FCU500WC1F1H1K1-E","KMFCU5"]
[88620211,88621105,"FCU500WC0F0H0K1-E","KMFCU5"]
[88620212,88621106,"FCU500WC0F0H1K1-E","KMFCU5"]
[88620213,88621092,"FCU500WC1F0H1K1-E","KMFCU5"]
[88620214,88621108,"FCU500WC1F0H0K2-E","KMFCU5"]
[88620220,88621109,"FCU500WC0F1H0K1-E","KMFCU5"]
[88620221,88621110,"FCU500WC1F1H1K1-E","KMFCU5"]
[88620230,88621111,"FCU500WC1F0H0K1-E","KMFCU5"]
[88620231,88621112,"FCU500WC1F0H1K1-E","KMFCU5"]
[88620232,88621113,"FCU500WC0F1H0K2-E","KMFCU5"]
[88620233,88621114,"FCU500WC1F0H0K1-E","KMFCU5"]
[88620234,88621115,"FCU500WC1F0H0K1-E","KMFCU5"]
[88620235,88621116,"FCU500QC1F1H1K1-E","KMFCU5"]
[88620236,88621117,"FCU500WC0F0H1K2-E","KMFCU5"]
[88620237,88621118,"FCU500WC1F0H1K2-E","KMFCU5"]
[88620238,88621119,"FCU500WC1F0H1K2-E","KMFCU5"]
[88620239,88621120,"FCU500WC0F1H0K1-E","KMFCU5"]
[88620240,88621121,"FCU500WC1F0H0K1-E","KMFCU5"]
[88620241,88621122,"FCU500WC0F1H1K2-E","KMFCU5"]
[88620242,88621123,"FCU500WC1F0H1K1-E","KMFCU5"]
[88620243,88621124,"FCU500WC1F0H0K1-E","KMFCU5"]
[88620244,88621125,"FCU500WC0F1H1K2-E","KMFCU5"]
[88620245,88621126,"FCU500WC1F0H1K2-E","KMFCU5"]
[88620246,88621127,"FCU500QC0F0H0K1-E","KMFCU5"]
[88620250,88621128,"FCU500WC1F0H0K2-E","KMFCU5"]
[88620251,88621129,"FCU500WC1F0H1K1-E","KMFCU5"]
[88620252,88621130,"FCU500WC1F0H0K1-E","KMFCU5"]
[88620253,88621131,"FCU500QC0F1H0K1-E","KMFCU5"]
[88620254,88621132,"FCU500WC1F1H1K1-E","KMFCU5"]
[88620255,88621133,"FCU500WC0F1H1K2-E","KMFCU5"]
[88620256,88621134,"FCU500QC0F0H1K1-E","KMFCU5"]
[88620257,88621135,"FCU500QC1F1H1K1-E","KMFCU5"]
[88620258,88621136,"FCU500WC0F1H0K1-E","KMFCU5"]
[88620259,88621137,"FCU500WC1F0H0K1-E","KMFCU5"]
[88620260,88621138,"FCU500WC0F1H0K1-E","KMFCU5"]
[88620270,88621139,"FCU500QC1F2H1K1-E","KMFCU5"]
[88620271,88621140,"FCU500WC1F0H1K1-E","KMFCU5"]
[88620272,88621141,"FCU500QC1F2H1K1-E","KMFCU5"]
[88620273,88621142,"FCU500WC1F0H0K1-E","KMFCU5","P19 von 0 auf 1 geändert"]
[88620274,88621143,"FCU500WC1F0H0K2-E","KMFCU5"]
[88620275,88621144,"FCU500WC1F0H0K2-E","KMFCU5"]
[88620276,88621145,"FCU500WC0F1H0K1-E","KMFCU5"]
[88620277,88620277,"FCU500WC1F0H0K1-E","KMFCU5","Diese Variante muss neu konfiguriert werden P15=0, P35=0 und P32= 1 ist ein nicht erlaubte Parametrierung!"]
[88620278,88621146,"FCU500WC1F1H1K1-E","KMFCU5"]
[88620279,88621147,"FCU500QC1F0H0K1-E","KMFCU5"]
[88620280,88621148,"FCU500WC1F0H1K1-E","KMFCU5"]
[88620281,88620281,"FCU500WC1F0H0K2-E","KMFCU5","Diese Variante muss neu konfiguriert werden P15=0, P35=0 und P32= 1 ist ein nicht erlaubte Parametrierung!"]
[88620282,88621149,"FCU500WC1F0H1K1-E","KMFCU5"]
[88620283,88621150,"FCU500WC0F1H0K1-E","KMFCU5"]
[88620284,88621151,"FCU500WC1F1H1K1-E","KMFCU5"]
[88620290,88621152,"FCU500WC1F1H1K1-E","KMFCU5"]
[88620291,88621153,"FCU500WC1F1H1K1-E","KMFCU5"]
[88620292,88621154,"FCU500WC1F0H1K1-E","KMFCU5"]
[88620293,88621155,"FCU500WC1F2H0K1-E","KMFCU5"]
[88620294,88621156,"FCU500WC0F0H0K1-E","KMFCU5"]
[88620295,88621157,"FCU500QC1F1H1K2-E","KMFCU5"]
[88620296,88621013,"FCU500WC0F1H1K2-E","KMFCU5"]
[88620297,88621158,"FCU500WC0F1H1K1-E","KMFCU5"]
[88620298,88621159,"FCU500WC1F0H0K2-E","KMFCU5"]
[88620299,88621160,"FCU500WC1F1H1K2-E","KMFCU5"]
[88620300,88621161,"FCU500WC1F0H0K1-E","KMFCU5"]
[88620301,88621162,"FCU500QC1F0H1K1-E","KMFCU5"]
[88620302,88621163,"FCU500WC1F1H0K1-E","KMFCU5"]
[88620303,88621164,"FCU500WC1F1H1K2-E","KMFCU5"]
[88620304,88621165,"FCU500WC1F0H0K1-E","KMFCU5"]
[88620305,88621166,"FCU500WC1F0H1K2-E","KMFCU5"]
[88620306,88621167,"FCU500WC1F1H0K1-E","KMFCU5"]
[88620307,88621168,"FCU500WC1F1H1K1-E","KMFCU5"]
[88620308,88621169,"FCU500WC1F0H1K1-E","KMFCU5"]
[88620309,88621170,"FCU500QC1F1H0K1-E","KMFCU5"]
[88620310,88621171,"FCU500WC1F1H0K1-E","KMFCU5"]
[88620311,88621172,"FCU500WC1F1H1K2-E","KMFCU5"]
[88620312,88621173,"FCU500WC1F1H1K2-E","KMFCU5"]
[88620313,88621174,"FCU500WC1F1H0K1-E","KMFCU5"]
[88620320,88621175,"FCU500WC1F0H1K1-E","KMFCU5"]
[88620321,88621176,"FCU500QC1F0H1K1-E","KMFCU5"]
[88620322,88621177,"FCU500QC0F1H1K2-E","KMFCU5"]
[88620323,88621178,"FCU500WC1F0H1K1-E","KMFCU5"]
[88620324,88621179,"FCU500WC1F1H0K1-E","KMFCU5"]
[88620325,88621180,"FCU500WC1F0H0K2-E","KMFCU5"]
[88620326,88621181,"FCU500QC1F0H0K1-E","KMFCU5"]
[88620327,88621182,"FCU500WC1F1H1K2-E","KMFCU5"]
[88620328,88621183,"FCU500WC1F0H1K1-E","KMFCU5"]
[88620329,88621184,"FCU500WC1F0H1K1-E","KMFCU5"]
[88620330,88621185,"FCU500WC1F1H1K1-E","KMFCU5"]
[88620331,88621186,"FCU500WC0F1H0K1-E","KMFCU5"]
[88620332,88621187,"FCU500WC1F1H1K2-E","KMFCU5"]
[88620333,88621188,"FCU500WC0F1H0K1-E","KMFCU5"]
[88620340,88621189,"FCU500WC1F0H1K1-E","KMFCU5"]
[88620341,88621190,"FCU500WC1F0H0K1-E","KMFCU5"]
[88620342,88621191,"FCU500WC1F1H1K2-E","KMFCU5"]
[88620343,88621192,"FCU500WC1F0H1K1-E","KMFCU5"]
[88620344,88621193,"FCU500WC1F0H1K1-E","KMFCU5"]
[88620345,88621194,"FCU500WC0F0H1K1-E","KMFCU5"]
[88620346,88621195,"FCU500WC1F1H1K1-E","KMFCU5"]
[88620347,88621196,"FCU500WC1F1H1K2-E","KMFCU5"]
[88620348,88621197,"FCU500WC0F0H1K2-E","KMFCU5"]
[88620349,88621198,"FCU500WC1F1H0K2-E","KMFCU5"]
[88620350,88621199,"FCU500QC1F0H0K2-E","KMFCU5"]
[88620351,88621200,"FCU500WC1F0H0K2-E","KMFCU5"]
[88620352,88621201,"FCU500WC1F0H1K1-E","KMFCU5"]
[88620353,88621202,"FCU500WC1F0H0K1-E","KMFCU5"]
[88620354,88621203,"FCU500WC1F0H0K1-E","KMFCU5"]
[88620355,88621204,"FCU500WC1F2H1K2-E","KMFCU5"]
[88620356,88621205,"FCU500WC1F0H1K1-E","KMFCU5"]
[88620357,88621206,"FCU500WC0F1H0K0-E","KMFCU5"]
[88620358,88621207,"FCU500WC1F0H0K2-E","KMFCU5"]
[88620360,88621208,"FCU500WC1F0H0K2-E","KMFCU5"]
[88620370,88621209,"FCU500WC1F1H0K1-E","KMFCU5"]
[88620380,88621210,"FCU500WC1F0H0K2-E","KMFCU5"]
[88620381,88621211,"FCU500WC0F0H0K1-E","KMFCU5"]
[88620382,88621212,"FCU500WC1F1H1K1-E","KMFCU5"]
[88620383,88621213,"FCU500WC1F1H1K2-E","KMFCU5"]
[88620384,88621214,"FCU500WC1F1H1K2-E","KMFCU5"]
[88620385,88621215,"FCU500WC1F1H1K2-E","KMFCU5"]
[88620386,88621216,"FCU500WC1F1H0K2-E","KMFCU5"]
[88620387,88621217,"FCU500WC0F1H0K2-E","KMFCU5"]
[88620388,88621218,"FCU500WC0F1H0K2-E","KMFCU5"]
[88620389,88621219,"FCU500WC0F1H0K2-E","KMFCU5"]
[88620390,88621220,"FCU500WC1F1H0K2-E","KMFCU5"]
[88620400,88621221,"FCU500WC1F1H1K2-E","KMFCU5"]
[88620401,88621222,"FCU500WC1F1H1K2-E","KMFCU5"]
[88620402,88621223,"FCU500WC1F1H0K2-E","KMFCU5"]
[88620403,88621224,"FCU500WC1F0H1K1-E","KMFCU5"]
[88620404,88621225,"FCU500WC1F0H0K1-E","KMFCU5"]
[88620405,88621226,"FCU500WC1F1H1K1-E","KMFCU5"]
[88620406,88621227,"FCU500QC0F0H0K1-E","KMFCU5"]
[88620407,88621228,"FCU500WC1F1H0K1-E","KMFCU5"]
[88620408,88621229,"FCU500QC1F0H0K1-E","KMFCU5"]
[88620409,88621230,"FCU500WC1F0H0K1-E","KMFCU5"]
[88620410,88621231,"FCU500WC1F0H0K1-E","KMFCU5"]
[88620411,88621232,"FCU500QC1F2H1K1-E","KMFCU5"]
[88620412,88621233,"FCU500WC1F0H1K1-E","KMFCU5"]
[88620413,88621234,"FCU500WC1F0H1K1-E","KMFCU5"]
[88620414,88621235,"FCU500WC0F1H1K2-E","KMFCU5"]
[88620415,88621236,"FCU500QC1F2H1K1-E","KMFCU5"]
[88620416,88621237,"FCU500WC0F0H1K1-E","KMFCU5"]
[88620420,88621238,"FCU500WC1F0H1K2-E","KMFCU5"]
[88620421,88621239,"FCU500WC0F0H1K2-E","KMFCU5"]
[88620422,88621240,"FCU500WC1F0H1K1-E","KMFCU5"]
[88620423,88621241,"FCU500WC0F0H0K2-E","KMFCU5"]
[88620424,88621242,"FCU500WC1F0H1K1-E","KMFCU5"]
[88620425,88621243,"FCU500WC0F0H0K1-E","KMFCU5"]
[88620426,88621244,"FCU500WC1F1H1K1-E","KMFCU5"]
[88620427,88621245,"FCU500QC1F1H0K1-E","KMFCU5"]
[88620428,88621246,"FCU500WC0F0H0K2-E","KMFCU5"]
[88620429,88621247,"FCU500WC1F1H1K2-E","KMFCU5"]
[88620430,88621248,"FCU500WC1F0H1K2-E","KMFCU5"]
[88620431,88621249,"FCU500WC1F1H1K2-E","KMFCU5"]
[88620432,88621250,"FCU500QC1F1H1K1-E","KMFCU5"]
[88620433,88621251,"FCU500WC1F1H0K1-E","KMFCU5"]
[88620434,88621252,"FCU500WC0F1H1K2-E","KMFCU5"]
[88620435,88621253,"FCU500WC1F0H1K2-E","KMFCU5"]
[88620436,88621254,"FCU500QC1F2H1K1-E","KMFCU5"]

{"sheet":"PFU","index":3,"n_rows":34,"n_cols":7,"rows_kept":34,"cut":false,"hidden":false,"merged":[]}
["ID_OLD","TXT_OLD","PARASET_NO","ID_NEW","TXT_NEW","Hinweis","Remark"]
[84604428,"PFU 778L-5/1TD1S2",15,88650590,"PFU 760LTDK2"]
[84604110,"PFU 798L-3/3/1T",1,88650106,"PFU 780LTK2"]
[84604400,"PFU 778L-5/2TD2",1,88650615,"PFU 760LTDK2"]
[84604030,"PFU 778L 10/1T",1,88650318,"PFU760LTK2"]
[84604010,"PFU 778L-3/1T",1,88650087,"PFU 760LTK2"]
[84604439,"PFU 798L-5/3/1TU",1,88650230,"PFU780LTUK2"]
[84604418,"PFU 798L-5/3/1TU",1,88650230,"PFU780LTUK2"]
[84604456,"PFU 798L-10/5/1TD3",9,88650643,"PFU780LTDK2"]
[84604020,"PFU 778L-5/1T",26,88650268,"PFU 760LTK2"]
[84604400,"PFU 778L-5/2TD2",22,88650794,"PFU760LTDK2"]
[84604400,"PFU 778L-5/2TD2 ",2,88650880,"PFU 760LTDK2 "]
[84604436,"PFU 798L-5/3/1TS2/1",48,88650915,"PFU780LTK2"]
[84604446,"PFU 778L-3/1TD2",1,88650156,"PFU 760LTDK2 "]
[84604020,"PFU 778L-5/1T",1,88650098,"PFU760LTK2"]
[84604010,"PFU 778L-3/1T",38,88651040,"PFU760LTK2"]
[84604455,"PFU 778L-5/1TS4",1,88650238,"PFU760LTK2"]
[84604424,"PFU 798L-10/3/1TD1",18,88650751,"PFU780LTDK2"]
[84604110,"PFU 798L-3/3/1T",45,88651103,"PFU780LTK2"]
[84604120,"PFU 798L-5/3/1T",43,88651139,"PFU780LTK2"]
[84604436,"PFU 798L-5/3/1TS2/1",11,88650172,"PFU780LTK2"]
[84604406,"PFU 798L-10/3/1TD2",4,88651144,"PFU780LTDK2"]
[84604450,"PFU 778L-5/1TD2",12,88651145,"PFU760LTDK2"]
[84604450,"PFU 778L-5/1TD2",1,88650247,"PFU760LTDK2"]
[84604453,"PFU 778L-5/1TD4S2",12,88651150,"PFU760LTDK2"]
[84604120,"PFU 798L-5/3/1T",1,88650067,"PFU780LTK2"]
[84604449,"PFU 798L-10/3/1ND3U",36,88651180,"PFU780LNDUK2"]
[84604400,"PFU 778L-5/2TD2",24,88650749,"PFU760LTDK2"]
[84604464,"PFU 798L-5/3/1TD3",9,88651233,"PFU780LTDK2"]
[84604403,"PFU 778L-5/2TD4",1,88651259,"PFU760LTDK2"]
[84604020,"PFU 778L-5/1T",41,88650763,"PFU760LTK2"]
[84604150,"PFU 798L-5/3/1N",1,88650818,"PFU780LNK2"]
[84604405,"PFU 798L-5/5/1TU",1,88650311,"PFU780LTUK2"]
[84604420,"PFU 778L-5/1TS2",1,88651420,"PFU760LTK2"]

{"sheet":"PFS_PFD","index":4,"n_rows":1000,"n_cols":7,"rows_kept":1000,"cut":false,"hidden":false,"merged":[]}
["ID_OLD","TXT_OLD","PARASET_NO","ID_NEW","TXT_NEW","Hinweis","Remark"]
[{"$f":"IF(ISBLANK(PFS_PFD_SelectionTool!C18),\"\",PFS_PFD_SelectionTool!C18)","v":84603170},{"$f":"IF(ISBLANK(PFS_PFD_SelectionTool!D18),\"\",PFS_PFD_SelectionTool!D18)","v":"PFS 778L-3/1T/N"},{"$f":"IF(ISBLANK(PFS_PFD_SelectionTool!E18&\"_\"&PFS_PFD_SelectionTool!F18&\"_\"&PFS_PFD_SelectionTool!G18&\"_\"&PFS_PFD_SelectionTool!H18&\"_\"&PFS_PFD_SelectionTool!I18&\"_\"&PFS_PFD_SelectionTool!J18),\"\",PFS_PFD_SelectionTool!E18&\"_\"&PFS_PFD_SelectionTool!F18&\"_\"&PFS_PFD_SelectionTool!G18&\"_\"&PFS_PFD_SelectionTool!H18&\"_\"&PFS_PFD_SelectionTool!I18&\"_\"&PFS_PFD_SelectionTool!J18)","v":"230_2_3_1_2_1"},{"$f":"IF(ISBLANK(PFS_PFD_SelectionTool!K18),\"\",PFS_PFD_SelectionTool!K18)","v":88650014},{"$f":"VLOOKUP(D2,Tabelle1!A:B,2,FALSE)","v":"PFU 760LTK1"},{"$f":"IF(ISBLANK(PFS_PFD_SelectionTool!N18),\"\",PFS_PFD_SelectionTool!N18)","v":""},{"$f":"IF(ISBLANK(PFS_PFD_SelectionTool!O18),\"\",PFS_PFD_SelectionTool!O18)","v":""}]
[{"$f":"IF(ISBLANK(PFS_PFD_SelectionTool!C19),\"\",PFS_PFD_SelectionTool!C19)","v":84603170},{"$f":"IF(ISBLANK(PFS_PFD_SelectionTool!D19),\"\",PFS_PFD_SelectionTool!D19)","v":"PFS 778L-3/1T/N"},{"$f":"IF(ISBLANK(PFS_PFD_SelectionTool!E19&\"_\"&PFS_PFD_SelectionTool!F19&\"_\"&PFS_PFD_SelectionTool!G19&\"_\"&PFS_PFD_SelectionTool!H19&\"_\"&PFS_PFD_SelectionTool!I19&\"_\"&PFS_PFD_SelectionTool!J19),\"\",PFS_PFD_SelectionTool!E19&\"_\"&PFS_PFD_SelectionTool!F19&\"_\"&PFS_PFD_SelectionTool!G19&\"_\"&PFS_PFD_SelectionTool!H19&\"_\"&PFS_PFD_SelectionTool!I19&\"_\"&PFS_PFD_SelectionTool!J19)","v":"230_2_2_1_2_1"},{"$f":"IF(ISBLANK(PFS_PFD_SelectionTool!K19),\"\",PFS_PFD_SelectionTool!K19)","v":88650014},{"$f":"VLOOKUP(D3,Tabelle1!A:B,2,FALSE)","v":"PFU 760LTK1"},{"$f":"IF(ISBLANK(PFS_PFD_SelectionTool!N19),\"\",PFS_PFD_SelectionTool!N19)","v":""},{"$f":"IF(ISBLANK(PFS_PFD_SelectionTool!O19),\"\",PFS_PFD_SelectionTool!O19)","v":""}]
[{"$f":"IF(ISBLANK(PFS_PFD_SelectionTool!C20),\"\",PFS_PFD_SelectionTool!C20)","v":84603670},{"$f":"IF(ISBLANK(PFS_PFD_SelectionTool!D20),\"\",PFS_PFD_SelectionTool!D20)","v":"PFD 778L-3/1T/N"},{"$f":"IF(ISBLANK(PFS_PFD_SelectionTool!E20&\"_\"&PFS_PFD_SelectionTool!F20&\"_\"&PFS_PFD_SelectionTool!G20&\"_\"&PFS_PFD_SelectionTool!H20&\"_\"&PFS_PFD_SelectionTool!I20&\"_\"&PFS_PFD_SelectionTool!J20),\"\",PFS_PFD_SelectionTool!E20&\"_\"&PFS_PFD_SelectionTool!F20&\"_\"&PFS_PFD_SelectionTool!G20&\"_\"&PFS_PFD_SelectionTool!H20&\"_\"&PFS_PFD_SelectionTool!I20&\"_\"&PFS_PFD_SelectionTool!J20)","v":"230_2_2_1_2_1"},{"$f":"IF(ISBLANK(PFS_PFD_SelectionTool!K20),\"\",PFS_PFD_SelectionTool!K20)","v":88650014},{"$f":"VLOOKUP(D4,Tabelle1!A:B,2,FALSE)","v":"PFU 760LTK1"},{"$f":"IF(ISBLANK(PFS_PFD_SelectionTool!N20),\"\",PFS_PFD_SelectionTool!N20)","v":""},{"$f":"IF(ISBLANK(PFS_PFD_SelectionTool!O20),\"\",PFS_PFD_SelectionTool!O20)","v":""}]
[{"$f":"IF(ISBLANK(PFS_PFD_SelectionTool!C21),\"\",PFS_PFD_SelectionTool!C21)","v":84603180},{"$f":"IF(ISBLANK(PFS_PFD_SelectionTool!D21),\"\",PFS_PFD_SelectionTool!D21)","v":"PFS 778L-5/1T/N"},{"$f":"IF(ISBLANK(PFS_PFD_SelectionTool!E21&\"_\"&PFS_PFD_SelectionTool!F21&\"_\"&PFS_PFD_SelectionTool!G21&\"_\"&PFS_PFD_SelectionTool!H21&\"_\"&PFS_PFD_SelectionTool!I21&\"_\"&PFS_PFD_SelectionTool!J21),\"\",PFS_PFD_SelectionTool!E21&\"_\"&PFS_PFD_SelectionTool!F21&\"_\"&PFS_PFD_SelectionTool!G21&\"_\"&PFS_PFD_SelectionTool!H21&\"_\"&PFS_PFD_SelectionTool!I21&\"_\"&PFS_PFD_SelectionTool!J21)","v":"230_2_2_1_2_1"},{"$f":"IF(ISBLANK(PFS_PFD_SelectionTool!K21),\"\",PFS_PFD_SelectionTool!K21)","v":88650015},{"$f":"VLOOKUP(D5,Tabelle1!A:B,2,FALSE)","v":"PFU 760LTK1"},{"$f":"IF(ISBLANK(PFS_PFD_SelectionTool!N21),\"\",PFS_PFD_SelectionTool!N21)","v":""},{"$f":"IF(ISBLANK(PFS_PFD_SelectionTool!O21),\"\",PFS_PFD_SelectionTool!O21)","v":""}]
[{"$f":"IF(ISBLANK(PFS_PFD_SelectionTool!C22),\"\",PFS_PFD_SelectionTool!C22)","v":84603680},{"$f":"IF(ISBLANK(PFS_PFD_SelectionTool!D22),\"\",PFS_PFD_SelectionTool!D22)","v":"PFD 778L-5/1T/N"},{"$f":"IF(ISBLANK(PFS_PFD_SelectionTool!E22&\"_\"&PFS_PFD_SelectionTool!F22&\"_\"&PFS_PFD_SelectionTool!G22&\"_\"&PFS_PFD_SelectionTool!H22&\"_\"&PFS_PFD_SelectionTool!I22&\"_\"&PFS_PFD_SelectionTool!J22),\"\",PFS_PFD_SelectionTool!E22&\"_\"&PFS_PFD_SelectionTool!F22&\"_\"&PFS_PFD_SelectionTool!G22&\"_\"&PFS_PFD_SelectionTool!H22&\"_\"&PFS_PFD_SelectionTool!I22&\"_\"&PFS_PFD_SelectionTool!J22)","v":"230_2_2_1_2_1"},{"$f":"IF(ISBLANK(PFS_PFD_SelectionTool!K22),\"\",PFS_PFD_SelectionTool!K22)","v":88650015},{"$f":"VLOOKUP(D6,Tabelle1!A:B,2,FALSE)","v":"PFU 760LTK1"},{"$f":"IF(ISBLANK(PFS_PFD_SelectionTool!N22),\"\",PFS_PFD_SelectionTool!N22)","v":""},{"$f":"IF(ISBLANK(PFS_PFD_SelectionTool!O22),\"\",PFS_PFD_SelectionTool!O22)","v":""}]
[{"$f":"IF(ISBLANK(PFS_PFD_SelectionTool!C23),\"\",PFS_PFD_SelectionTool!C23)","v":84603910},{"$f":"IF(ISBLANK(PFS_PFD_SelectionTool!D23),\"\",PFS_PFD_SelectionTool!D23)","v":"PFD 748Z-5/1T/N"},{"$f":"IF(ISBLANK(PFS_PFD_SelectionTool!E23&\"_\"&PFS_PFD_SelectionTool!F23&\"_\"&PFS_PFD_SelectionTool!G23&\"_\"&PFS_PFD_SelectionTool!H23&\"_\"&PFS_PFD_SelectionTool!I23&\"_\"&PFS_PFD_SelectionTool!J23),\"\",PFS_PFD_SelectionTool!E23&\"_\"&PFS_PFD_SelectionTool!F23&\"_\"&PFS_PFD_SelectionTool!G23&\"_\"&PFS_PFD_SelectionTool!H23&\"_\"&PFS_PFD_SelectionTool!I23&\"_\"&PFS_PFD_SelectionTool!J23)","v":"230_2_2_1_2_1"},{"$f":"IF(ISBLANK(PFS_PFD_SelectionTool!K23),\"\",PFS_PFD_SelectionTool!K23)","v":88650015},{"$f":"VLOOKUP(D7,Tabelle1!A:B,2,FALSE)","v":"PFU 760LTK1"},{"$f":"IF(ISBLANK(PFS_PFD_SelectionTool!N23),\"\",PFS_PFD_SelectionTool!N23)","v":"Technische Rücksprache mit Kunden !"},{"$f":"IF(ISBLANK(PFS_PFD_SelectionTool!O23),\"\",PFS_PFD_SelectionTool!O23)","v":""}]
[{"$f":"IF(ISBLANK(PFS_PFD_SelectionTool!C24),\"\",PFS_PFD_SelectionTool!C24)","v":84603080},{"$f":"IF(ISBLANK(PFS_PFD_SelectionTool!D24),\"\",PFS_PFD_SelectionTool!D24)","v":"PFS 748L-5/1T/N"},{"$f":"IF(ISBLANK(PFS_PFD_SelectionTool!E24&\"_\"&PFS_PFD_SelectionTool!F24&\"_\"&PFS_PFD_SelectionTool!G24&\"_\"&PFS_PFD_SelectionTool!H24&\"_\"&PFS_PFD_SelectionTool!I24&\"_\"&PFS_PFD_SelectionTool!J24),\"\",PFS_PFD_SelectionTool!E24&\"_\"&PFS_PFD_SelectionTool!F24&\"_\"&PFS_PFD_SelectionTool!G24&\"_\"&PFS_PFD_SelectionTool!H24&\"_\"&PFS_PFD_SelectionTool!I24&\"_\"&PFS_PFD_SelectionTool!J24)","v":"230_2_2_1_2_1"},{"$f":"IF(ISBLANK(PFS_PFD_SelectionTool!K24),\"\",PFS_PFD_SelectionTool!K24)","v":88650015},{"$f":"VLOOKUP(D8,Tabelle1!A:B,2,FALSE)","v":"PFU 760LTK1"},{"$f":"IF(ISBLANK(PFS_PFD_SelectionTool!N24),\"\",PFS_PFD_SelectionTool!N24)","v":"Technische Rücksprache mit Kunden !"},{"$f":"IF(ISBLANK(PFS_PFD_SelectionTool!O24),\"\",PFS_PFD_SelectionTool!O24)","v":""}]
[{"$f":"IF(ISBLANK(PFS_PFD_SelectionTool!C25),\"\",PFS_PFD_SelectionTool!C25)","v":84603190},{"$f":"IF(ISBLANK(PFS_PFD_SelectionTool!D25),\"\",PFS_PFD_SelectionTool!D25)","v":"PFS 778L-10/1T/N"},{"$f":"IF(ISBLANK(PFS_PFD_SelectionTool!E25&\"_\"&PFS_PFD_SelectionTool!F25&\"_\"&PFS_PFD_SelectionTool!G25&\"_\"&PFS_PFD_SelectionTool!H25&\"_\"&PFS_PFD_SelectionTool!I25&\"_\"&PFS_PFD_SelectionTool!J25),\"\",PFS_PFD_SelectionTool!E25&\"_\"&PFS_PFD_SelectionTool!F25&\"_\"&PFS_PFD_SelectionTool!G25&\"_\"&PFS_PFD_SelectionTool!H25&\"_\"&PFS_PFD_SelectionTool!I25&\"_\"&PFS_PFD_SelectionTool!J25)","v":"230_2_2_1_2_1"},{"$f":"IF(ISBLANK(PFS_PFD_SelectionTool!K25),\"\",PFS_PFD_SelectionTool!K25)","v":88650029},{"$f":"VLOOKUP(D9,Tabelle1!A:B,2,FALSE)","v":"PFU 760LTK1"},{"$f":"IF(ISBLANK(PFS_PFD_SelectionTool!N25),\"\",PFS_PFD_SelectionTool!N25)","v":""},{"$f":"IF(ISBLANK(PFS_PFD_SelectionTool!O25),\"\",PFS_PFD_SelectionTool!O25)","v":""}]
[{"$f":"IF(ISBLANK(PFS_PFD_SelectionTool!C26),\"\",PFS_PFD_SelectionTool!C26)","v":84603690},{"$f":"IF(ISBLANK(PFS_PFD_SelectionTool!D26),\"\",PFS_PFD_SelectionTool!D26)","v":"PFD 778L-10/1T/N"},{"$f":"IF(ISBLANK(PFS_PFD_SelectionTool!E26&\"_\"&PFS_PFD_SelectionTool!F26&\"_\"&PFS_PFD_SelectionTool!G26&\"_\"&PFS_PFD_SelectionTool!H26&\"_\"&PFS_PFD_SelectionTool!I26&\"_\"&PFS_PFD_SelectionTool!J26),\"\",PFS_PFD_SelectionTool!E26&\"_\"&PFS_PFD_SelectionTool!F26&\"_\"&PFS_PFD_SelectionTool!G26&\"_\"&PFS_PFD_SelectionTool!H26&\"_\"&PFS_PFD_SelectionTool!I26&\"_\"&PFS_PFD_SelectionTool!J26)","v":"230_2_2_1_2_1"},{"$f":"IF(ISBLANK(PFS_PFD_SelectionTool!K26),\"\",PFS_PFD_SelectionTool!K26)","v":88650029},{"$f":"VLOOKUP(D10,Tabelle1!A:B,2,FALSE)","v":"PFU 760LTK1"},{"$f":"IF(ISBLANK(PFS_PFD_SelectionTool!N26),\"\",PFS_PFD_SelectionTool!N26)","v":""},{"$f":"IF(ISBLANK(PFS_PFD_SelectionTool!O26),\"\",PFS_PFD_SelectionTool!O26)","v":""}]
[{"$f":"IF(ISBLANK(PFS_PFD_SelectionTool!C27),\"\",PFS_PFD_SelectionTool!C27)","v":84603050},{"$f":"IF(ISBLANK(PFS_PFD_SelectionTool!D27),\"\",PFS_PFD_SelectionTool!D27)","v":"PFS 748S-10/1T/N"},{"$f":"IF(ISBLANK(PFS_PFD_SelectionTool!E27&\"_\"&PFS_PFD_SelectionTool!F27&\"_\"&PFS_PFD_SelectionTool!G27&\"_\"&PFS_PFD_SelectionTool!H27&\"_\"&PFS_PFD_SelectionTool!I27&\"_\"&PFS_PFD_SelectionTool!J27),\"\",PFS_PFD_SelectionTool!E27&\"_\"&PFS_PFD_SelectionTool!F27&\"_\"&PFS_PFD_SelectionTool!G27&\"_\"&PFS_PFD_SelectionTool!H27&\"_\"&PFS_PFD_SelectionTool!I27&\"_\"&PFS_PFD_SelectionTool!J27)","v":"230_na_3_1_2_1"},{"$f":"IF(ISBLANK(PFS_PFD_SelectionTool!K27),\"\",PFS_PFD_SelectionTool!K27)","v":88650033},{"$f":"VLOOKUP(D11,Tabelle1!A:B,2,FALSE)","v":"PFU 760TK1"},{"$f":"IF(ISBLANK(PFS_PFD_SelectionTool!N27),\"\",PFS_PFD_SelectionTool!N27)","v":"Technische Rücksprache mit Kunden !"},{"$f":"IF(ISBLANK(PFS_PFD_SelectionTool!O27),\"\",PFS_PFD_SelectionTool!O27)","v":""}]
[{"$f":"IF(ISBLANK(PFS_PFD_SelectionTool!C28),\"\",PFS_PFD_SelectionTool!C28)","v":84603650},{"$f":"IF(ISBLANK(PFS_PFD_SelectionTool!D28),\"\",PFS_PFD_SelectionTool!D28)","v":"PFD 778S-10/1T/N"},{"$f":"IF(ISBLANK(PFS_PFD_SelectionTool!E28&\"_\"&PFS_PFD_SelectionTool!F28&\"_\"&PFS_PFD_SelectionTool!G28&\"_\"&PFS_PFD_SelectionTool!H28&\"_\"&PFS_PFD_SelectionTool!I28&\"_\"&PFS_PFD_SelectionTool!J28),\"\",PFS_PFD_SelectionTool!E28&\"_\"&PFS_PFD_SelectionTool!F28&\"_\"&PFS_PFD_SelectionTool!G28&\"_\"&PFS_PFD_SelectionTool!H28&\"_\"&PFS_PFD_SelectionTool!I28&\"_\"&PFS_PFD_SelectionTool!J28)","v":"230_na_2_1_2_1"},{"$f":"IF(ISBLANK(PFS_PFD_SelectionTool!K28),\"\",PFS_PFD_SelectionTool!K28)","v":88650033},{"$f":"VLOOKUP(D12,Tabelle1!A:B,2,FALSE)","v":"PFU 760TK1"},{"$f":"IF(ISBLANK(PFS_PFD_SelectionTool!N28),\"\",PFS_PFD_SelectionTool!N28)","v":""},{"$f":"IF(ISBLANK(PFS_PFD_SelectionTool!O28),\"\",PFS_PFD_SelectionTool!O28)","v":""}]
[{"$f":"IF(ISBLANK(PFS_PFD_SelectionTool!C29),\"\",PFS_PFD_SelectionTool!C29)","v":84603150},{"$f":"IF(ISBLANK(PFS_PFD_SelectionTool!D29),\"\",PFS_PFD_SelectionTool!D29)","v":"PFS 778S-10/1T/N"},{"$f":"IF(ISBLANK(PFS_PFD_SelectionTool!E29&\"_\"&PFS_PFD_SelectionTool!F29&\"_\"&PFS_PFD_SelectionTool!G29&\"_\"&PFS_PFD_SelectionTool!H29&\"_\"&PFS_PFD_SelectionTool!I29&\"_\"&PFS_PFD_SelectionTool!J29),\"\",PFS_PFD_SelectionTool!E29&\"_\"&PFS_PFD_SelectionTool!F29&\"_\"&PFS_PFD_SelectionTool!G29&\"_\"&PFS_PFD_SelectionTool!H29&\"_\"&PFS_PFD_SelectionTool!I29&\"_\"&PFS_PFD_SelectionTool!J29)","v":"230_na_2_1_2_1"},{"$f":"IF(ISBLANK(PFS_PFD_SelectionTool!K29),\"\",PFS_PFD_SelectionTool!K29)","v":88650033},{"$f":"VLOOKUP(D13,Tabelle1!A:B,2,FALSE)","v":"PFU 760TK1"},{"$f":"IF(ISBLANK(PFS_PFD_SelectionTool!N29),\"\",PFS_PFD_SelectionTool!N29)","v":""},{"$f":"IF(ISBLANK(PFS_PFD_SelectionTool!O29),\"\",PFS_PFD_SelectionTool!O29)","v":""}]
[{"$f":"IF(ISBLANK(PFS_PFD_SelectionTool!C30),\"\",PFS_PFD_SelectionTool!C30)","v":84603130},{"$f":"IF(ISBLANK(PFS_PFD_SelectionTool!D30),\"\",PFS_PFD_SelectionTool!D30)","v":"PFS 778S-3/1T/N"},{"$f":"IF(ISBLANK(PFS_PFD_SelectionTool!E30&\"_\"&PFS_PFD_SelectionTool!F30&\"_\"&PFS_PFD_SelectionTool!G30&\"_\"&PFS_PFD_SelectionTool!H30&\"_\"&PFS_PFD_SelectionTool!I30&\"_\"&PFS_PFD_SelectionTool!J30),\"\",PFS_PFD_SelectionTool!E30&\"_\"&PFS_PFD_SelectionTool!F30&\"_\"&PFS_PFD_SelectionTool!G30&\"_\"&PFS_PFD_SelectionTool!H30&\"_\"&PFS_PFD_SelectionTool!I30&\"_\"&PFS_PFD_SelectionTool!J30)","v":"230_na_2_1_2_1"},{"$f":"IF(ISBLANK(PFS_PFD_SelectionTool!K30),\"\",PFS_PFD_SelectionTool!K30)","v":88650034},{"$f":"VLOOKUP(D14,Tabelle1!A:B,2,FALSE)","v":"PFU 760TK1"},{"$f":"IF(ISBLANK(PFS_PFD_SelectionTool!N30),\"\",PFS_PFD_SelectionTool!N30)","v":""},{"$f":"IF(ISBLANK(PFS_PFD_SelectionTool!O30),\"\",PFS_PFD_SelectionTool!O30)","v":""}]
[{"$f":"IF(ISBLANK(PFS_PFD_SelectionTool!C31),\"\",PFS_PFD_SelectionTool!C31)","v":84603140},{"$f":"IF(ISBLANK(PFS_PFD_SelectionTool!D31),\"\",PFS_PFD_SelectionTool!D31)","v":"PFS 778S-5/1T/N"},{"$f":"IF(ISBLANK(PFS_PFD_SelectionTool!E31&\"_\"&PFS_PFD_SelectionTool!F31&\"_\"&PFS_PFD_SelectionTool!G31&\"_\"&PFS_PFD_SelectionTool!H31&\"_\"&PFS_PFD_SelectionTool!I31&\"_\"&PFS_PFD_SelectionTool!J31),\"\",PFS_PFD_SelectionTool!E31&\"_\"&PFS_PFD_SelectionTool!F31&\"_\"&PFS_PFD_SelectionTool!G31&\"_\"&PFS_PFD_SelectionTool!H31&\"_\"&PFS_PFD_SelectionTool!I31&\"_\"&PFS_PFD_SelectionTool!J31)","v":"230_na_2_1_2_1"},{"$f":"IF(ISBLANK(PFS_PFD_SelectionTool!K31),\"\",PFS_PFD_SelectionTool!K31)","v":88650035},{"$f":"VLOOKUP(D15,Tabelle1!A:B,2,FALSE)","v":"PFU 760TK1"},{"$f":"IF(ISBLANK(PFS_PFD_SelectionTool!N31),\"\",PFS_PFD_SelectionTool!N31)","v":""},{"$f":"IF(ISBLANK(PFS_PFD_SelectionTool!O31),\"\",PFS_PFD_SelectionTool!O31)","v":""}]
[{"$f":"IF(ISBLANK(PFS_PFD_SelectionTool!C32),\"\",PFS_PFD_SelectionTool!C32)","v":84603640},{"$f":"IF(ISBLANK(PFS_PFD_SelectionTool!D32),\"\",PFS_PFD_SelectionTool!D32)","v":"PFD 778S-5/1T/N"},{"$f":"IF(ISBLANK(PFS_PFD_SelectionTool!E32&\"_\"&PFS_PFD_SelectionTool!F32&\"_\"&PFS_PFD_SelectionTool!G32&\"_\"&PFS_PFD_SelectionTool!H32&\"_\"&PFS_PFD_SelectionTool!I32&\"_\"&PFS_PFD_SelectionTool!J32),\"\",PFS_PFD_SelectionTool!E32&\"_\"&PFS_PFD_SelectionTool!F32&\"_\"&PFS_PFD_SelectionTool!G32&\"_\"&PFS_PFD_SelectionTool!H32&\"_\"&PFS_PFD_SelectionTool!I32&\"_\"&PFS_PFD_SelectionTool!J32)","v":"230_2_2_1_2_1"},{"$f":"IF(ISBLANK(PFS_PFD_SelectionTool!K32),\"\",PFS_PFD_SelectionTool!K32)","v":88650035},{"$f":"VLOOKUP(D16,Tabelle1!A:B,2,FALSE)","v":"PFU 760TK1"},{"$f":"IF(ISBLANK(PFS_PFD_SelectionTool!N32),\"\",PFS_PFD_SelectionTool!N32)","v":""},{"$f":"IF(ISBLANK(PFS_PFD_SelectionTool!O32),\"\",PFS_PFD_SelectionTool!O32)","v":""}]
[{"$f":"IF(ISBLANK(PFS_PFD_SelectionTool!C33),\"\",PFS_PFD_SelectionTool!C33)","v":84603640},{"$f":"IF(ISBLANK(PFS_PFD_SelectionTool!D33),\"\",PFS_PFD_SelectionTool!D33)","v":"PFD 778S-5/1T/N"},{"$f":"IF(ISBLANK(PFS_PFD_SelectionTool!E33&\"_\"&PFS_PFD_SelectionTool!F33&\"_\"&PFS_PFD_SelectionTool!G33&\"_\"&PFS_PFD_SelectionTool!H33&\"_\"&PFS_PFD_SelectionTool!I33&\"_\"&PFS_PFD_SelectionTool!J33),\"\",PFS_PFD_SelectionTool!E33&\"_\"&PFS_PFD_SelectionTool!F33&\"_\"&PFS_PFD_SelectionTool!G33&\"_\"&PFS_PFD_SelectionTool!H33&\"_\"&PFS_PFD_SelectionTool!I33&\"_\"&PFS_PFD_SelectionTool!J33)","v":"230_na_2_1_2_1"},{"$f":"IF(ISBLANK(PFS_PFD_SelectionTool!K33),\"\",PFS_PFD_SelectionTool!K33)","v":88650035},{"$f":"VLOOKUP(D17,Tabelle1!A:B,2,FALSE)","v":"PFU 760TK1"},{"$f":"IF(ISBLANK(PFS_PFD_SelectionTool!N33),\"\",PFS_PFD_SelectionTool!N33)","v":""},{"$f":"IF(ISBLANK(PFS_PFD_SelectionTool!O33),\"\",PFS_PFD_SelectionTool!O33)","v":""}]
[{"$f":"IF(ISBLANK(PFS_PFD_SelectionTool!C34),\"\",PFS_PFD_SelectionTool!C34)","v":84603140},{"$f":"IF(ISBLANK(PFS_PFD_SelectionTool!D34),\"\",PFS_PFD_SelectionTool!D34)","v":"PFS 778S-5/1T/N"},{"$f":"IF(ISBLANK(PFS_PFD_SelectionTool!E34&\"_\"&PFS_PFD_SelectionTool!F34&\"_\"&PFS_PFD_SelectionTool!G34&\"_\"&PFS_PFD_SelectionTool!H34&\"_\"&PFS_PFD_SelectionTool!I34&\"_\"&PFS_PFD_SelectionTool!J34),\"\",PFS_PFD_SelectionTool!E34&\"_\"&PFS_PFD_SelectionTool!F34&\"_\"&PFS_PFD_SelectionTool!G34&\"_\"&PFS_PFD_SelectionTool!H34&\"_\"&PFS_PFD_SelectionTool!I34&\"_\"&PFS_PFD_SelectionTool!J34)","v":"230_2_2_1_2_1"},{"$f":"IF(ISBLANK(PFS_PFD_SelectionTool!K34),\"\",PFS_PFD_SelectionTool!K34)","v":88650035},{"$f":"VLOOKUP(D18,Tabelle1!A:B,2,FALSE)","v":"PFU 760TK1"},{"$f":"IF(ISBLANK(PFS_PFD_SelectionTool!N34),\"\",PFS_PFD_SelectionTool!N34)","v":""},{"$f":"IF(ISBLANK(PFS_PFD_SelectionTool!O34),\"\",PFS_PFD_SelectionTool!O34)","v":""}]
[{"$f":"IF(ISBLANK(PFS_PFD_SelectionTool!C35),\"\",PFS_PFD_SelectionTool!C35)","v":84603130},{"$f":"IF(ISBLANK(PFS_PFD_SelectionTool!D35),\"\",PFS_PFD_SelectionTool!D35)","v":"PFS 778S-3/1T/N"},{"$f":"IF(ISBLANK(PFS_PFD_SelectionTool!E35&\"_\"&PFS_PFD_SelectionTool!F35&\"_\"&PFS_PFD_SelectionTool!G35&\"_\"&PFS_PFD_SelectionTool!H35&\"_\"&PFS_PFD_SelectionTool!I35&\"_\"&PFS_PFD_SelectionTool!J35),\"\",PFS_PFD_SelectionTool!E35&\"_\"&PFS_PFD_SelectionTool!F35&\"_\"&PFS_PFD_SelectionTool!G35&\"_\"&PFS_PFD_SelectionTool!H35&\"_\"&PFS_PFD_SelectionTool!I35&\"_\"&PFS_PFD_SelectionTool!J35)","v":"115_na_3_1_1_1"},{"$f":"IF(ISBLANK(PFS_PFD_SelectionTool!K35),\"\",PFS_PFD_SelectionTool!K35)","v":88650037},{"$f":"VLOOKUP(D19,Tabelle1!A:B,2,FALSE)","v":"PFU 760NK1"},{"$f":"IF(ISBLANK(PFS_PFD_SelectionTool!N35),\"\",PFS_PFD_SelectionTool!N35)","v":""},{"$f":"IF(ISBLANK(PFS_PFD_SelectionTool!O35),\"\",PFS_PFD_SelectionTool!O35)","v":""}]
[{"$f":"IF(ISBLANK(PFS_PFD_SelectionTool!C36),\"\",PFS_PFD_SelectionTool!C36)","v":84603790},{"$f":"IF(ISBLANK(PFS_PFD_SelectionTool!D36),\"\",PFS_PFD_SelectionTool!D36)","v":"PFD 778D-10/1T/N"},{"$f":"IF(ISBLANK(PFS_PFD_SelectionTool!E36&\"_\"&PFS_PFD_SelectionTool!F36&\"_\"&PFS_PFD_SelectionTool!G36&\"_\"&PFS_PFD_SelectionTool!H36&\"_\"&PFS_PFD_SelectionTool!I36&\"_\"&PFS_PFD_SelectionTool!J36),\"\",PFS_PFD_SelectionTool!E36&\"_\"&PFS_PFD_SelectionTool!F36&\"_\"&PFS_PFD_SelectionTool!G36&\"_\"&PFS_PFD_SelectionTool!H36&\"_\"&PFS_PFD_SelectionTool!I36&\"_\"&PFS_PFD_SelectionTool!J36)","v":"230_2_2_1_2_1"},{"$f":"IF(ISBLANK(PFS_PFD_SelectionTool!K36),\"\",PFS_PFD_SelectionTool!K36)","v":88650039},{"$f":"VLOOKUP(D20,Tabelle1!A:B,2,FALSE)","v":"PFU 760LTK1"},{"$f":"IF(ISBLANK(PFS_PFD_SelectionTool!N36),\"\",PFS_PFD_SelectionTool!N36)","v":""},{"$f":"IF(ISBLANK(PFS_PFD_SelectionTool!O36),\"\",PFS_PFD_SelectionTool!O36)","v":""}]
[{"$f":"IF(ISBLANK(PFS_PFD_SelectionTool!C37),\"\",PFS_PFD_SelectionTool!C37)","v":84603790},{"$f":"IF(ISBLANK(PFS_PFD_SelectionTool!D37),\"\",PFS_PFD_SelectionTool!D37)","v":"PFD 778D-10/1T/N"},{"$f":"IF(ISBLANK(PFS_PFD_SelectionTool!E37&\"_\"&PFS_PFD_SelectionTool!F37&\"_\"&PFS_PFD_SelectionTool!G37&\"_\"&PFS_PFD_SelectionTool!H37&\"_\"&PFS_PFD_SelectionTool!I37&\"_\"&PFS_PFD_SelectionTool!J37),\"\",PFS_PFD_SelectionTool!E37&\"_\"&PFS_PFD_SelectionTool!F37&\"_\"&PFS_PFD_SelectionTool!G37&\"_\"&PFS_PFD_SelectionTool!H37&\"_\"&PFS_PFD_SelectionTool!I37&\"_\"&PFS_PFD_SelectionTool!J37)","v":"230_2_2_1_2_1"},{"$f":"IF(ISBLANK(PFS_PFD_SelectionTool!K37),\"\",PFS_PFD_SelectionTool!K37)","v":88650039},{"$f":"VLOOKUP(D21,Tabelle1!A:B,2,FALSE)","v":"PFU 760LTK1"},{"$f":"IF(ISBLANK(PFS_PFD_SelectionTool!N37),\"\",PFS_PFD_SelectionTool!N37)","v":""},{"$f":"IF(ISBLANK(PFS_PFD_SelectionTool!O37),\"\",PFS_PFD_SelectionTool!O37)","v":""}]
[{"$f":"IF(ISBLANK(PFS_PFD_SelectionTool!C38),\"\",PFS_PFD_SelectionTool!C38)","v":84603780},{"$f":"IF(ISBLANK(PFS_PFD_SelectionTool!D38),\"\",PFS_PFD_SelectionTool!D38)","v":"PFD 778D-5/1T/N"},{"$f":"IF(ISBLANK(PFS_PFD_SelectionTool!E38&\"_\"&PFS_PFD_SelectionTool!F38&\"_\"&PFS_PFD_SelectionTool!G38&\"_\"&PFS_PFD_SelectionTool!H38&\"_\"&PFS_PFD_SelectionTool!I38&\"_\"&PFS_PFD_SelectionTool!J38),\"\",PFS_PFD_SelectionTool!E38&\"_\"&PFS_PFD_SelectionTool!F38&\"_\"&PFS_PFD_SelectionTool!G38&\"_\"&PFS_PFD_SelectionTool!H38&\"_\"&PFS_PFD_SelectionTool!I38&\"_\"&PFS_PFD_SelectionTool!J38)","v":"230_2_2_1_2_1"},{"$f":"IF(ISBLANK(PFS_PFD_SelectionTool!K38),\"\",PFS_PFD_SelectionTool!K38)","v":88650040},{"$f":"VLOOKUP(D22,Tabelle1!A:B,2,FALSE)","v":"PFU 760LTK1"},{"$f":"IF(ISBLANK(PFS_PFD_SelectionTool!N38),\"\",PFS_PFD_SelectionTool!N38)","v":""},{"$f":"IF(ISBLANK(PFS_PFD_SelectionTool!O38),\"\",PFS_PFD_SelectionTool!O38)","v":""}]
[{"$f":"IF(ISBLANK(PFS_PFD_SelectionTool!C39),\"\",PFS_PFD_SelectionTool!C39)","v":84603280},{"$f":"IF(ISBLANK(PFS_PFD_SelectionTool!D39),\"\",PFS_PFD_SelectionTool!D39)","v":"PFS 778D-5/1T/N"},{"$f":"IF(ISBLANK(PFS_PFD_SelectionTool!E39&\"_\"&PFS_PFD_SelectionTool!F39&\"_\"&PFS_PFD_SelectionTool!G39&\"_\"&PFS_PFD_SelectionTool!H39&\"_\"&PFS_PFD_SelectionTool!I39&\"_\"&PFS_PFD_SelectionTool!J39),\"\",PFS_PFD_SelectionTool!E39&\"_\"&PFS_PFD_SelectionTool!F39&\"_\"&PFS_PFD_SelectionTool!G39&\"_\"&PFS_PFD_SelectionTool!H39&\"_\"&PFS_PFD_SelectionTool!I39&\"_\"&PFS_PFD_SelectionTool!J39)","v":"230_2_2_1_2_1"},{"$f":"IF(ISBLANK(PFS_PFD_SelectionTool!K39),\"\",PFS_PFD_SelectionTool!K39)","v":88650040},{"$f":"VLOOKUP(D23,Tabelle1!A:B,2,FALSE)","v":"PFU 760LTK1"},{"$f":"IF(ISBLANK(PFS_PFD_SelectionTool!N39),\"\",PFS_PFD_SelectionTool!N39)","v":""},{"$f":"IF(ISBLANK(PFS_PFD_SelectionTool!O39),\"\",PFS_PFD_SelectionTool!O39)","v":""}]
[{"$f":"IF(ISBLANK(PFS_PFD_SelectionTool!C40),\"\",PFS_PFD_SelectionTool!C40)","v":84603180},{"$f":"IF(ISBLANK(PFS_PFD_SelectionTool!D40),\"\",PFS_PFD_SelectionTool!D40)","v":"PFS 778L-5/1T/N"},{"$f":"IF(ISBLANK(PFS_PFD_SelectionTool!E40&\"_\"&PFS_PFD_SelectionTool!F40&\"_\"&PFS_PFD_SelectionTool!G40&\"_\"&PFS_PFD_SelectionTool!H40&\"_\"&PFS_PFD_SelectionTool!I40&\"_\"&PFS_PFD_SelectionTool!J40),\"\",PFS_PFD_SelectionTool!E40&\"_\"&PFS_PFD_SelectionTool!F40&\"_\"&PFS_PFD_SelectionTool!G40&\"_\"&PFS_PFD_SelectionTool!H40&\"_\"&PFS_PFD_SelectionTool!I40&\"_\"&PFS_PFD_SelectionTool!J40)","v":"230_1_2_1_1_1"},{"$f":"IF(ISBLANK(PFS_PFD_SelectionTool!K40),\"\",PFS_PFD_SelectionTool!K40)","v":88650057},{"$f":"VLOOKUP(D24,Tabelle1!A:B,2,FALSE)","v":"PFU 760LTK1"},{"$f":"IF(ISBLANK(PFS_PFD_SelectionTool!N40),\"\",PFS_PFD_SelectionTool!N40)","v":""},{"$f":"IF(ISBLANK(PFS_PFD_SelectionTool!O40),\"\",PFS_PFD_SelectionTool!O40)","v":""}]
[{"$f":"IF(ISBLANK(PFS_PFD_SelectionTool!C41),\"\",PFS_PFD_SelectionTool!C41)","v":84603180},{"$f":"IF(ISBLANK(PFS_PFD_SelectionTool!D41),\"\",PFS_PFD_SelectionTool!D41)","v":"PFD 778L-5/1T/N"},{"$f":"IF(ISBLANK(PFS_PFD_SelectionTool!E41&\"_\"&PFS_PFD_SelectionTool!F41&\"_\"&PFS_PFD_SelectionTool!G41&\"_\"&PFS_PFD_SelectionTool!H41&\"_\"&PFS_PFD_SelectionTool!I41&\"_\"&PFS_PFD_SelectionTool!J41),\"\",PFS_PFD_SelectionTool!E41&\"_\"&PFS_PFD_SelectionTool!F41&\"_\"&PFS_PFD_SelectionTool!G41&\"_\"&PFS_PFD_SelectionTool!H41&\"_\"&PFS_PFD_SelectionTool!I41&\"_\"&PFS_PFD_SelectionTool!J41)","v":"230_1_2_1_2_1"},{"$f":"IF(ISBLANK(PFS_PFD_SelectionTool!K41),\"\",PFS_PFD_SelectionTool!K41)","v":88650057},{"$f":"VLOOKUP(D25,Tabelle1!A:B,2,FALSE)","v":"PFU 760LTK1"},{"$f":"IF(ISBLANK(PFS_PFD_SelectionTool!N41),\"\",PFS_PFD_SelectionTool!N41)","v":""},{"$f":"IF(ISBLANK(PFS_PFD_SelectionTool!O41),\"\",PFS_PFD_SelectionTool!O41)","v":""}]
[{"$f":"IF(ISBLANK(PFS_PFD_SelectionTool!C42),\"\",PFS_PFD_SelectionTool!C42)","v":84603680},{"$f":"IF(ISBLANK(PFS_PFD_SelectionTool!D42),\"\",PFS_PFD_SelectionTool!D42)","v":"PFD 778L-5/1T/N"},{"$f":"IF(ISBLANK(PFS_PFD_SelectionTool!E42&\"_\"&PFS_PFD_SelectionTool!F42&\"_\"&PFS_PFD_SelectionTool!G42&\"_\"&PFS_PFD_SelectionTool!H42&\"_\"&PFS_PFD_SelectionTool!I42&\"_\"&PFS_PFD_SelectionTool!J42),\"\",PFS_PFD_SelectionTool!E42&\"_\"&PFS_PFD_SelectionTool!F42&\"_\"&PFS_PFD_SelectionTool!G42&\"_\"&PFS_PFD_SelectionTool!H42&\"_\"&PFS_PFD_SelectionTool!I42&\"_\"&PFS_PFD_SelectionTool!J42)","v":"230_2_1_1_2_1"},{"$f":"IF(ISBLANK(PFS_PFD_SelectionTool!K42),\"\",PFS_PFD_SelectionTool!K42)","v":88650073},{"$f":"VLOOKUP(D26,Tabelle1!A:B,2,FALSE)","v":"PFU 760LTK1"},{"$f":"IF(ISBLANK(PFS_PFD_SelectionTool!N42),\"\",PFS_PFD_SelectionTool!N42)","v":""},{"$f":"IF(ISBLANK(PFS_PFD_SelectionTool!O42),\"\",PFS_PFD_SelectionTool!O42)","v":""}]
[{"$f":"IF(ISBLANK(PFS_PFD_SelectionTool!C43),\"\",PFS_PFD_SelectionTool!C43)","v":84603640},{"$f":"IF(ISBLANK(PFS_PFD_SelectionTool!D43),\"\",PFS_PFD_SelectionTool!D43)","v":"PFS 778S-5/1T/N"},{"$f":"IF(ISBLANK(PFS_PFD_SelectionTool!E43&\"_\"&PFS_PFD_SelectionTool!F43&\"_\"&PFS_PFD_SelectionTool!G43&\"_\"&PFS_PFD_SelectionTool!H43&\"_\"&PFS_PFD_SelectionTool!I43&\"_\"&PFS_PFD_SelectionTool!J43),\"\",PFS_PFD_SelectionTool!E43&\"_\"&PFS_PFD_SelectionTool!F43&\"_\"&PFS_PFD_SelectionTool!G43&\"_\"&PFS_PFD_SelectionTool!H43&\"_\"&PFS_PFD_SelectionTool!I43&\"_\"&PFS_PFD_SelectionTool!J43)","v":"230_na_1_1_2_1"},{"$f":"IF(ISBLANK(PFS_PFD_SelectionTool!K43),\"\",PFS_PFD_SelectionTool!K43)","v":88650082},{"$f":"VLOOKUP(D27,Tabelle1!A:B,2,FALSE)","v":"PFU 760TK1"},{"$f":"IF(ISBLANK(PFS_PFD_SelectionTool!N43),\"\",PFS_PFD_SelectionTool!N43)","v":""},{"$f":"IF(ISBLANK(PFS_PFD_SelectionTool!O43),\"\",PFS_PFD_SelectionTool!O43)","v":""}]
[{"$f":"IF(ISBLANK(PFS_PFD_SelectionTool!C44),\"\",PFS_PFD_SelectionTool!C44)","v":84603690},{"$f":"IF(ISBLANK(PFS_PFD_SelectionTool!D44),\"\",PFS_PFD_SelectionTool!D44)","v":"PFD 778L-10/1T/N"},{"$f":"IF(ISBLANK(PFS_PFD_SelectionTool!E44&\"_\"&PFS_PFD_SelectionTool!F44&\"_\"&PFS_PFD_SelectionTool!G44&\"_\"&PFS_PFD_SelectionTool!H44&\"_\"&PFS_PFD_SelectionTool!I44&\"_\"&PFS_PFD_SelectionTool!J44),\"\",PFS_PFD_SelectionTool!E44&\"_\"&PFS_PFD_SelectionTool!F44&\"_\"&PFS_PFD_SelectionTool!G44&\"_\"&PFS_PFD_SelectionTool!H44&\"_\"&PFS_PFD_SelectionTool!I44&\"_\"&PFS_PFD_SelectionTool!J44)","v":"230_2_2_1_1_1"},{"$f":"IF(ISBLANK(PFS_PFD_SelectionTool!K44),\"\",PFS_PFD_SelectionTool!K44)","v":88650147},{"$f":"VLOOKUP(D28,Tabelle1!A:B,2,FALSE)","v":"PFU 760LTK1"},{"$f":"IF(ISBLANK(PFS_PFD_SelectionTool!N44),\"\",PFS_PFD_SelectionTool!N44)","v":""},{"$f":"IF(ISBLANK(PFS_PFD_SelectionTool!O44),\"\",PFS_PFD_SelectionTool!O44)","v":""}]
[{"$f":"IF(ISBLANK(PFS_PFD_SelectionTool!C45),\"\",PFS_PFD_SelectionTool!C45)","v":84603170},{"$f":"IF(ISBLANK(PFS_PFD_SelectionTool!D45),\"\",PFS_PFD_SelectionTool!D45)","v":"PFS 778L-3/1T/N"},{"$f":"IF(ISBLANK(PFS_PFD_SelectionTool!E45&\"_\"&PFS_PFD_SelectionTool!F45&\"_\"&PFS_PFD_SelectionTool!G45&\"_\"&PFS_PFD_SelectionTool!H45&\"_\"&PFS_PFD_SelectionTool!I45&\"_\"&PFS_PFD_SelectionTool!J45),\"\",PFS_PFD_SelectionTool!E45&\"_\"&PFS_PFD_SelectionTool!F45&\"_\"&PFS_PFD_SelectionTool!G45&\"_\"&PFS_PFD_SelectionTool!H45&\"_\"&PFS_PFD_SelectionTool!I45&\"_\"&PFS_PFD_SelectionTool!J45)","v":"230_1_2_1_2_1"},{"$f":"IF(ISBLANK(PFS_PFD_SelectionTool!K45),\"\",PFS_PFD_SelectionTool!K45)","v":88650159},{"$f":"VLOOKUP(D29,Tabelle1!A:B,2,FALSE)","v":"PFU 760LTK1"},{"$f":"IF(ISBLANK(PFS_PFD_SelectionTool!N45),\"\",PFS_PFD_SelectionTool!N45)","v":""},{"$f":"IF(ISBLANK(PFS_PFD_SelectionTool!O45),\"\",PFS_PFD_SelectionTool!O45)","v":""}]
[{"$f":"IF(ISBLANK(PFS_PFD_SelectionTool!C46),\"\",PFS_PFD_SelectionTool!C46)","v":84603170},{"$f":"IF(ISBLANK(PFS_PFD_SelectionTool!D46),\"\",PFS_PFD_SelectionTool!D46)","v":"PFS 778L-3/1T/N"},{"$f":"IF(ISBLANK(PFS_PFD_SelectionTool!E46&\"_\"&PFS_PFD_SelectionTool!F46&\"_\"&PFS_PFD_SelectionTool!G46&\"_\"&PFS_PFD_SelectionTool!H46&\"_\"&PFS_PFD_SelectionTool!I46&\"_\"&PFS_PFD_SelectionTool!J46),\"\",PFS_PFD_SelectionTool!E46&\"_\"&PFS_PFD_SelectionTool!F46&\"_\"&PFS_PFD_SelectionTool!G46&\"_\"&PFS_PFD_SelectionTool!H46&\"_\"&PFS_PFD_SelectionTool!I46&\"_\"&PFS_PFD_SelectionTool!J46)","v":"230_1_2_1_1_1"},{"$f":"IF(ISBLANK(PFS_PFD_SelectionTool!K46),\"\",PFS_PFD_SelectionTool!K46)","v":88650159},{"$f":"VLOOKUP(D30,Tabelle1!A:B,2,FALSE)","v":"PFU 760LTK1"},{"$f":"IF(ISBLANK(PFS_PFD_SelectionTool!N46),\"\",PFS_PFD_SelectionTool!N46)","v":""},{"$f":"IF(ISBLANK(PFS_PFD_SelectionTool!O46),\"\",PFS_PFD_SelectionTool!O46)","v":""}]
[{"$f":"IF(ISBLANK(PFS_PFD_SelectionTool!C47),\"\",PFS_PFD_SelectionTool!C47)","v":84603070},{"$f":"IF(ISBLANK(PFS_PFD_SelectionTool!D47),\"\",PFS_PFD_SelectionTool!D47)","v":"PFS 748L-3/1T/N"},{"$f":"IF(ISBLANK(PFS_PFD_SelectionTool!E47&\"_\"&PFS_PFD_SelectionTool!F47&\"_\"&PFS_PFD_SelectionTool!G47&\"_\"&PFS_PFD_SelectionTool!H47&\"_\"&PFS_PFD_SelectionTool!I47&\"_\"&PFS_PFD_SelectionTool!J47),\"\",PFS_PFD_SelectionTool!E47&\"_\"&PFS_PFD_SelectionTool!F47&\"_\"&PFS_PFD_SelectionTool!G47&\"_\"&PFS_PFD_SelectionTool!H47&\"_\"&PFS_PFD_SelectionTool!I47&\"_\"&PFS_PFD_SelectionTool!J47)","v":"230_1_2_1_1_1"},{"$f":"IF(ISBLANK(PFS_PFD_SelectionTool!K47),\"\",PFS_PFD_SelectionTool!K47)","v":88650159},{"$f":"VLOOKUP(D31,Tabelle1!A:B,2,FALSE)","v":"PFU 760LTK1"},{"$f":"IF(ISBLANK(PFS_PFD_SelectionTool!N47),\"\",PFS_PFD_SelectionTool!N47)","v":"Technische Rücksprache mit Kunden !"},{"$f":"IF(ISBLANK(PFS_PFD_SelectionTool!O47),\"\",PFS_PFD_SelectionTool!O47)","v":"Technical discussion with customer !"}]
[{"$f":"IF(ISBLANK(PFS_PFD_SelectionTool!C48),\"\",PFS_PFD_SelectionTool!C48)","v":84603180},{"$f":"IF(ISBLANK(PFS_PFD_SelectionTool!D48),\"\",PFS_PFD_SelectionTool!D48)","v":"PFS 778L-5/1T/N"},{"$f":"IF(ISBLANK(PFS_PFD_SelectionTool!E48&\"_\"&PFS_PFD_SelectionTool!F48&\"_\"&PFS_PFD_SelectionTool!G48&\"_\"&PFS_PFD_SelectionTool!H48&\"_\"&PFS_PFD_SelectionTool!I48&\"_\"&PFS_PFD_SelectionTool!J48),\"\",PFS_PFD_SelectionTool!E48&\"_\"&PFS_PFD_SelectionTool!F48&\"_\"&PFS_PFD_SelectionTool!G48&\"_\"&PFS_PFD_SelectionTool!H48&\"_\"&PFS_PFD_SelectionTool!I48&\"_\"&PFS_PFD_SelectionTool!J48)","v":"230_2_2_2_2_1"},{"$f":"IF(ISBLANK(PFS_PFD_SelectionTool!K48),\"\",PFS_PFD_SelectionTool!K48)","v":88650167},{"$f":"VLOOKUP(D32,Tabelle1!A:B,2,FALSE)","v":"PFU 760LTK1"},{"$f":"IF(ISBLANK(PFS_PFD_SelectionTool!N48),\"\",PFS_PFD_SelectionTool!N48)","v":""},{"$f":"IF(ISBLANK(PFS_PFD_SelectionTool!O48),\"\",PFS_PFD_SelectionTool!O48)","v":""}]
[{"$f":"IF(ISBLANK(PFS_PFD_SelectionTool!C49),\"\",PFS_PFD_SelectionTool!C49)","v":84603180},{"$f":"IF(ISBLANK(PFS_PFD_SelectionTool!D49),\"\",PFS_PFD_SelectionTool!D49)","v":"PFS 778L-5/1T/N"},{"$f":"IF(ISBLANK(PFS_PFD_SelectionTool!E49&\"_\"&PFS_PFD_SelectionTool!F49&\"_\"&PFS_PFD_SelectionTool!G49&\"_\"&PFS_PFD_SelectionTool!H49&\"_\"&PFS_PFD_SelectionTool!I49&\"_\"&PFS_PFD_SelectionTool!J49),\"\",PFS_PFD_SelectionTool!E49&\"_\"&PFS_PFD_SelectionTool!F49&\"_\"&PFS_PFD_SelectionTool!G49&\"_\"&PFS_PFD_SelectionTool!H49&\"_\"&PFS_PFD_SelectionTool!I49&\"_\"&PFS_PFD_SelectionTool!J49)","v":"230_2_2_1_1_1"},{"$f":"IF(ISBLANK(PFS_PFD_SelectionTool!K49),\"\",PFS_PFD_SelectionTool!K49)","v":88650177},{"$f":"VLOOKUP(D33,Tabelle1!A:B,2,FALSE)","v":"PFU 760LTK1"},{"$f":"IF(ISBLANK(PFS_PFD_SelectionTool!N49),\"\",PFS_PFD_SelectionTool!N49)","v":""},{"$f":"IF(ISBLANK(PFS_PFD_SelectionTool!O49),\"\",PFS_PFD_SelectionTool!O49)","v":""}]
[{"$f":"IF(ISBLANK(PFS_PFD_SelectionTool!C50),\"\",PFS_PFD_SelectionTool!C50)","v":84603180},{"$f":"IF(ISBLANK(PFS_PFD_SelectionTool!D50),\"\",PFS_PFD_SelectionTool!D50)","v":"PFS 778L-5/1T/N"},{"$f":"IF(ISBLANK(PFS_PFD_SelectionTool!E50&\"_\"&PFS_PFD_SelectionTool!F50&\"_\"&PFS_PFD_SelectionTool!G50&\"_\"&PFS_PFD_SelectionTool!H50&\"_\"&PFS_PFD_SelectionTool!I50&\"_\"&PFS_PFD_SelectionTool!J50),\"\",PFS_PFD_SelectionTool!E50&\"_\"&PFS_PFD_SelectionTool!F50&\"_\"&PFS_PFD_SelectionTool!G50&\"_\"&PFS_PFD_SelectionTool!H50&\"_\"&PFS_PFD_SelectionTool!I50&\"_\"&PFS_PFD_SelectionTool!J50)","v":"230_1_1_1_1_1"},{"$f":"IF(ISBLANK(PFS_PFD_SelectionTool!K50),\"\",PFS_PFD_SelectionTool!K50)","v":88650232},{"$f":"VLOOKUP(D34,Tabelle1!A:B,2,FALSE)","v":"PFU 760LTK1"},{"$f":"IF(ISBLANK(PFS_PFD_SelectionTool!N50),\"\",PFS_PFD_SelectionTool!N50)","v":""},{"$f":"IF(ISBLANK(PFS_PFD_SelectionTool!O50),\"\",PFS_PFD_SelectionTool!O50)","v":""}]
[{"$f":"IF(ISBLANK(PFS_PFD_SelectionTool!C51),\"\",PFS_PFD_SelectionTool!C51)","v":84603680},{"$f":"IF(ISBLANK(PFS_PFD_SelectionTool!D51),\"\",PFS_PFD_SelectionTool!D51)","v":"PFD 778L-5/1T/N"},{"$f":"IF(ISBLANK(PFS_PFD_SelectionTool!E51&\"_\"&PFS_PFD_SelectionTool!F51&\"_\"&PFS_PFD_SelectionTool!G51&\"_\"&PFS_PFD_SelectionTool!H51&\"_\"&PFS_PFD_SelectionTool!I51&\"_\"&PFS_PFD_SelectionTool!J51),\"\",PFS_PFD_SelectionTool!E51&\"_\"&PFS_PFD_SelectionTool!F51&\"_\"&PFS_PFD_SelectionTool!G51&\"_\"&PFS_PFD_SelectionTool!H51&\"_\"&PFS_PFD_SelectionTool!I51&\"_\"&PFS_PFD_SelectionTool!J51)","v":"230_1_1_1_1_1"},{"$f":"IF(ISBLANK(PFS_PFD_SelectionTool!K51),\"\",PFS_PFD_SelectionTool!K51)","v":88650232},{"$f":"VLOOKUP(D35,Tabelle1!A:B,2,FALSE)","v":"PFU 760LTK1"},{"$f":"IF(ISBLANK(PFS_PFD_SelectionTool!N51),\"\",PFS_PFD_SelectionTool!N51)","v":""},{"$f":"IF(ISBLANK(PFS_PFD_SelectionTool!O51),\"\",PFS_PFD_SelectionTool!O51)","v":""}]
[{"$f":"IF(ISBLANK(PFS_PFD_SelectionTool!C52),\"\",PFS_PFD_SelectionTool!C52)","v":84603180},{"$f":"IF(ISBLANK(PFS_PFD_SelectionTool!D52),\"\",PFS_PFD_SelectionTool!D52)","v":"PFS 778L-5/1T/N"},{"$f":"IF(ISBLANK(PFS_PFD_SelectionTool!E52&\"_\"&PFS_PFD_SelectionTool!F52&\"_\"&PFS_PFD_SelectionTool!G52&\"_\"&PFS_PFD_SelectionTool!H52&\"_\"&PFS_PFD_SelectionTool!I52&\"_\"&PFS_PFD_SelectionTool!J52),\"\",PFS_PFD_SelectionTool!E52&\"_\"&PFS_PFD_SelectionTool!F52&\"_\"&PFS_PFD_SelectionTool!G52&\"_\"&PFS_PFD_SelectionTool!H52&\"_\"&PFS_PFD_SelectionTool!I52&\"_\"&PFS_PFD_SelectionTool!J52)","v":"230_1_1_1_2_4"},{"$f":"IF(ISBLANK(PFS_PFD_SelectionTool!K52),\"\",PFS_PFD_SelectionTool!K52)","v":88650395},{"$f":"VLOOKUP(D36,Tabelle1!A:B,2,FALSE)","v":"PFU 760LTK1"},{"$f":"IF(ISBLANK(PFS_PFD_SelectionTool!N52),\"\",PFS_PFD_SelectionTool!N52)","v":""},{"$f":"IF(ISBLANK(PFS_PFD_SelectionTool!O52),\"\",PFS_PFD_SelectionTool!O52)","v":""}]
[{"$f":"IF(ISBLANK(PFS_PFD_SelectionTool!C53),\"\",PFS_PFD_SelectionTool!C53)","v":84603180},{"$f":"IF(ISBLANK(PFS_PFD_SelectionTool!D53),\"\",PFS_PFD_SelectionTool!D53)","v":"PFS 778L-5/1T/N"},{"$f":"IF(ISBLANK(PFS_PFD_SelectionTool!E53&\"_\"&PFS_PFD_SelectionTool!F53&\"_\"&PFS_PFD_SelectionTool!G53&\"_\"&PFS_PFD_SelectionTool!H53&\"_\"&PFS_PFD_SelectionTool!I53&\"_\"&PFS_PFD_SelectionTool!J53),\"\",PFS_PFD_SelectionTool!E53&\"_\"&PFS_PFD_SelectionTool!F53&\"_\"&PFS_PFD_SelectionTool!G53&\"_\"&PFS_PFD_SelectionTool!H53&\"_\"&PFS_PFD_SelectionTool!I53&\"_\"&PFS_PFD_SelectionTool!J53)","v":"115_2_2_2_2_1"},{"$f":"IF(ISBLANK(PFS_PFD_SelectionTool!K53),\"\",PFS_PFD_SelectionTool!K53)","v":88650440},{"$f":"VLOOKUP(D37,Tabelle1!A:B,2,FALSE)","v":"PFU 760LNK1"},{"$f":"IF(ISBLANK(PFS_PFD_SelectionTool!N53),\"\",PFS_PFD_SelectionTool!N53)","v":""},{"$f":"IF(ISBLANK(PFS_PFD_SelectionTool!O53),\"\",PFS_PFD_SelectionTool!O53)","v":""}]
[{"$f":"IF(ISBLANK(PFS_PFD_SelectionTool!C54),\"\",PFS_PFD_SelectionTool!C54)","v":84603180},{"$f":"IF(ISBLANK(PFS_PFD_SelectionTool!D54),\"\",PFS_PFD_SelectionTool!D54)","v":"PFS 778L-5/1T/N"},{"$f":"IF(ISBLANK(PFS_PFD_SelectionTool!E54&\"_\"&PFS_PFD_SelectionTool!F54&\"_\"&PFS_PFD_SelectionTool!G54&\"_\"&PFS_PFD_SelectionTool!H54&\"_\"&PFS_PFD_SelectionTool!I54&\"_\"&PFS_PFD_SelectionTool!J54),\"\",PFS_PFD_SelectionTool!E54&\"_\"&PFS_PFD_SelectionTool!F54&\"_\"&PFS_PFD_SelectionTool!G54&\"_\"&PFS_PFD_SelectionTool!H54&\"_\"&PFS_PFD_SelectionTool!I54&\"_\"&PFS_PFD_SelectionTool!J54)","v":"230_2_3_1_1_3"},{"$f":"IF(ISBLANK(PFS_PFD_SelectionTool!K54),\"\",PFS_PFD_SelectionTool!K54)","v":88650491},{"$f":"VLOOKUP(D38,Tabelle1!A:B,2,FALSE)","v":"PFU 760LTK1"},{"$f":"IF(ISBLANK(PFS_PFD_SelectionTool!N54),\"\",PFS_PFD_SelectionTool!N54)","v":""},{"$f":"IF(ISBLANK(PFS_PFD_SelectionTool!O54),\"\",PFS_PFD_SelectionTool!O54)","v":""}]
[{"$f":"IF(ISBLANK(PFS_PFD_SelectionTool!C55),\"\",PFS_PFD_SelectionTool!C55)","v":84603170},{"$f":"IF(ISBLANK(PFS_PFD_SelectionTool!D55),\"\",PFS_PFD_SelectionTool!D55)","v":"PFS 778L-3/1T/N"},{"$f":"IF(ISBLANK(PFS_PFD_SelectionTool!E55&\"_\"&PFS_PFD_SelectionTool!F55&\"_\"&PFS_PFD_SelectionTool!G55&\"_\"&PFS_PFD_SelectionTool!H55&\"_\"&PFS_PFD_SelectionTool!I55&\"_\"&PFS_PFD_SelectionTool!J55),\"\",PFS_PFD_SelectionTool!E55&\"_\"&PFS_PFD_SelectionTool!F55&\"_\"&PFS_PFD_SelectionTool!G55&\"_\"&PFS_PFD_SelectionTool!H55&\"_\"&PFS_PFD_SelectionTool!I55&\"_\"&PFS_PFD_SelectionTool!J55)","v":"230_2_2_1_1_1"},{"$f":"IF(ISBLANK(PFS_PFD_SelectionTool!K55),\"\",PFS_PFD_SelectionTool!K55)","v":88650500},{"$f":"VLOOKUP(D39,Tabelle1!A:B,2,FALSE)","v":"PFU 760LTK1"},{"$f":"IF(ISBLANK(PFS_PFD_SelectionTool!N55),\"\",PFS_PFD_SelectionTool!N55)","v":""},{"$f":"IF(ISBLANK(PFS_PFD_SelectionTool!O55),\"\",PFS_PFD_SelectionTool!O55)","v":""}]
[{"$f":"IF(ISBLANK(PFS_PFD_SelectionTool!C56),\"\",PFS_PFD_SelectionTool!C56)","v":84603170},{"$f":"IF(ISBLANK(PFS_PFD_SelectionTool!D56),\"\",PFS_PFD_SelectionTool!D56)","v":"PFS 778L-3/1T/N"},{"$f":"IF(ISBLANK(PFS_PFD_SelectionTool!E56&\"_\"&PFS_PFD_SelectionTool!F56&\"_\"&PFS_PFD_SelectionTool!G56&\"_\"&PFS_PFD_SelectionTool!H56&\"_\"&PFS_PFD_SelectionTool!I56&\"_\"&PFS_PFD_SelectionTool!J56),\"\",PFS_PFD_SelectionTool!E56&\"_\"&PFS_PFD_SelectionTool!F56&\"_\"&PFS_PFD_SelectionTool!G56&\"_\"&PFS_PFD_SelectionTool!H56&\"_\"&PFS_PFD_SelectionTool!I56&\"_\"&PFS_PFD_SelectionTool!J56)","v":"230_2_1_1_2_1"},{"$f":"IF(ISBLANK(PFS_PFD_SelectionTool!K56),\"\",PFS_PFD_SelectionTool!K56)","v":88650506},{"$f":"VLOOKUP(D40,Tabelle1!A:B,2,FALSE)","v":"PFU 760LTK1"},{"$f":"IF(ISBLANK(PFS_PFD_SelectionTool!N56),\"\",PFS_PFD_SelectionTool!N56)","v":""},{"$f":"IF(ISBLANK(PFS_PFD_SelectionTool!O56),\"\",PFS_PFD_SelectionTool!O56)","v":""}]
[{"$f":"IF(ISBLANK(PFS_PFD_SelectionTool!C57),\"\",PFS_PFD_SelectionTool!C57)","v":84603130},{"$f":"IF(ISBLANK(PFS_PFD_SelectionTool!D57),\"\",PFS_PFD_SelectionTool!D57)","v":"PFS 778S-3/1T/N"},{"$f":"IF(ISBLANK(PFS_PFD_SelectionTool!E57&\"_\"&PFS_PFD_SelectionTool!F57&\"_\"&PFS_PFD_SelectionTool!G57&\"_\"&PFS_PFD_SelectionTool!H57&\"_\"&PFS_PFD_SelectionTool!I57&\"_\"&PFS_PFD_SelectionTool!J57),\"\",PFS_PFD_SelectionTool!E57&\"_\"&PFS_PFD_SelectionTool!F57&\"_\"&PFS_PFD_SelectionTool!G57&\"_\"&PFS_PFD_SelectionTool!H57&\"_\"&PFS_PFD_SelectionTool!I57&\"_\"&PFS_PFD_SelectionTool!J57)","v":"230_na_2_1_2_3"},{"$f":"IF(ISBLANK(PFS_PFD_SelectionTool!K57),\"\",PFS_PFD_SelectionTool!K57)","v":88650508},{"$f":"VLOOKUP(D41,Tabelle1!A:B,2,FALSE)","v":"PFU 760TK1"},{"$f":"IF(ISBLANK(PFS_PFD_SelectionTool!N57),\"\",PFS_PFD_SelectionTool!N57)","v":""},{"$f":"IF(ISBLANK(PFS_PFD_SelectionTool!O57),\"\",PFS_PFD_SelectionTool!O57)","v":""}]
[{"$f":"IF(ISBLANK(PFS_PFD_SelectionTool!C58),\"\",PFS_PFD_SelectionTool!C58)","v":84603280},{"$f":"IF(ISBLANK(PFS_PFD_SelectionTool!D58),\"\",PFS_PFD_SelectionTool!D58)","v":"PFS 778D-5/1T/N"},{"$f":"IF(ISBLANK(PFS_PFD_SelectionTool!E58&\"_\"&PFS_PFD_SelectionTool!F58&\"_\"&PFS_PFD_SelectionTool!G58&\"_\"&PFS_PFD_SelectionTool!H58&\"_\"&PFS_PFD_SelectionTool!I58&\"_\"&PFS_PFD_SelectionTool!J58),\"\",PFS_PFD_SelectionTool!E58&\"_\"&PFS_PFD_SelectionTool!F58&\"_\"&PFS_PFD_SelectionTool!G58&\"_\"&PFS_PFD_SelectionTool!H58&\"_\"&PFS_PFD_SelectionTool!I58&\"_\"&PFS_PFD_SelectionTool!J58)","v":"230_1_2_1_2_1"},{"$f":"IF(ISBLANK(PFS_PFD_SelectionTool!K58),\"\",PFS_PFD_SelectionTool!K58)","v":88650530},{"$f":"VLOOKUP(D42,Tabelle1!A:B,2,FALSE)","v":"PFU 760LTK1"},{"$f":"IF(ISBLANK(PFS_PFD_SelectionTool!N58),\"\",PFS_PFD_SelectionTool!N58)","v":""},{"$f":"IF(ISBLANK(PFS_PFD_SelectionTool!O58),\"\",PFS_PFD_SelectionTool!O58)","v":""}]
[{"$f":"IF(ISBLANK(PFS_PFD_SelectionTool!C59),\"\",PFS_PFD_SelectionTool!C59)","v":84603280},{"$f":"IF(ISBLANK(PFS_PFD_SelectionTool!D59),\"\",PFS_PFD_SelectionTool!D59)","v":"PFS 778D-5/1T/N"},{"$f":"IF(ISBLANK(PFS_PFD_SelectionTool!E59&\"_\"&PFS_PFD_SelectionTool!F59&\"_\"&PFS_PFD_SelectionTool!G59&\"_\"&PFS_PFD_SelectionTool!H59&\"_\"&PFS_PFD_SelectionTool!I59&\"_\"&PFS_PFD_SelectionTool!J59),\"\",PFS_PFD_SelectionTool!E59&\"_\"&PFS_PFD_SelectionTool!F59&\"_\"&PFS_PFD_SelectionTool!G59&\"_\"&PFS_PFD_SelectionTool!H59&\"_\"&PFS_PFD_SelectionTool!I59&\"_\"&PFS_PFD_SelectionTool!J59)","v":"230_1_1_1_1_1"},{"$f":"IF(ISBLANK(PFS_PFD_SelectionTool!K59),\"\",PFS_PFD_SelectionTool!K59)","v":88650531},{"$f":"VLOOKUP(D43,Tabelle1!A:B,2,FALSE)","v":"PFU 760LTK1"},{"$f":"IF(ISBLANK(PFS_PFD_SelectionTool!N59),\"\",PFS_PFD_SelectionTool!N59)","v":""},{"$f":"IF(ISBLANK(PFS_PFD_SelectionTool!O59),\"\",PFS_PFD_SelectionTool!O59)","v":""}]
[{"$f":"IF(ISBLANK(PFS_PFD_SelectionTool!C60),\"\",PFS_PFD_SelectionTool!C60)","v":84603640},{"$f":"IF(ISBLANK(PFS_PFD_SelectionTool!D60),\"\",PFS_PFD_SelectionTool!D60)","v":"PFD 778S-5/1T/N"},{"$f":"IF(ISBLANK(PFS_PFD_SelectionTool!E60&\"_\"&PFS_PFD_SelectionTool!F60&\"_\"&PFS_PFD_SelectionTool!G60&\"_\"&PFS_PFD_SelectionTool!H60&\"_\"&PFS_PFD_SelectionTool!I60&\"_\"&PFS_PFD_SelectionTool!J60),\"\",PFS_PFD_SelectionTool!E60&\"_\"&PFS_PFD_SelectionTool!F60&\"_\"&PFS_PFD_SelectionTool!G60&\"_\"&PFS_PFD_SelectionTool!H60&\"_\"&PFS_PFD_SelectionTool!I60&\"_\"&PFS_PFD_SelectionTool!J60)","v":"230_na_2_2_2_1"},{"$f":"IF(ISBLANK(PFS_PFD_SelectionTool!K60),\"\",PFS_PFD_SelectionTool!K60)","v":88650532},{"$f":"VLOOKUP(D44,Tabelle1!A:B,2,FALSE)","v":"PFU 760TK1"},{"$f":"IF(ISBLANK(PFS_PFD_SelectionTool!N60),\"\",PFS_PFD_SelectionTool!N60)","v":""},{"$f":"IF(ISBLANK(PFS_PFD_SelectionTool!O60),\"\",PFS_PFD_SelectionTool!O60)","v":""}]
[{"$f":"IF(ISBLANK(PFS_PFD_SelectionTool!C61),\"\",PFS_PFD_SelectionTool!C61)","v":84603140},{"$f":"IF(ISBLANK(PFS_PFD_SelectionTool!D61),\"\",PFS_PFD_SelectionTool!D61)","v":"PFS 778S-5/1T/N "},{"$f":"IF(ISBLANK(PFS_PFD_SelectionTool!E61&\"_\"&PFS_PFD_SelectionTool!F61&\"_\"&PFS_PFD_SelectionTool!G61&\"_\"&PFS_PFD_SelectionTool!H61&\"_\"&PFS_PFD_SelectionTool!I61&\"_\"&PFS_PFD_SelectionTool!J61),\"\",PFS_PFD_SelectionTool!E61&\"_\"&PFS_PFD_SelectionTool!F61&\"_\"&PFS_PFD_SelectionTool!G61&\"_\"&PFS_PFD_SelectionTool!H61&\"_\"&PFS_PFD_SelectionTool!I61&\"_\"&PFS_PFD_SelectionTool!J61)","v":"230_na_2_2_2_1"},{"$f":"IF(ISBLANK(PFS_PFD_SelectionTool!K61),\"\",PFS_PFD_SelectionTool!K61)","v":88650532},{"$f":"VLOOKUP(D45,Tabelle1!A:B,2,FALSE)","v":"PFU 760TK1"},{"$f":"IF(ISBLANK(PFS_PFD_SelectionTool!N61),\"\",PFS_PFD_SelectionTool!N61)","v":""},{"$f":"IF(ISBLANK(PFS_PFD_SelectionTool!O61),\"\",PFS_PFD_SelectionTool!O61)","v":""}]
[{"$f":"IF(ISBLANK(PFS_PFD_SelectionTool!C62),\"\",PFS_PFD_SelectionTool!C62)","v":84603180},{"$f":"IF(ISBLANK(PFS_PFD_SelectionTool!D62),\"\",PFS_PFD_SelectionTool!D62)","v":"PFS 778L-5/1T/N"},{"$f":"IF(ISBLANK(PFS_PFD_SelectionTool!E62&\"_\"&PFS_PFD_SelectionTool!F62&\"_\"&PFS_PFD_SelectionTool!G62&\"_\"&PFS_PFD_SelectionTool!H62&\"_\"&PFS_PFD_SelectionTool!I62&\"_\"&PFS_PFD_SelectionTool!J62),\"\",PFS_PFD_SelectionTool!E62&\"_\"&PFS_PFD_SelectionTool!F62&\"_\"&PFS_PFD_SelectionTool!G62&\"_\"&PFS_PFD_SelectionTool!H62&\"_\"&PFS_PFD_SelectionTool!I62&\"_\"&PFS_PFD_SelectionTool!J62)","v":"230_1_1_1_2_5"},{"$f":"IF(ISBLANK(PFS_PFD_SelectionTool!K62),\"\",PFS_PFD_SelectionTool!K62)","v":88650546},{"$f":"VLOOKUP(D46,Tabelle1!A:B,2,FALSE)","v":"PFU 760LTK1"},{"$f":"IF(ISBLANK(PFS_PFD_SelectionTool!N62),\"\",PFS_PFD_SelectionTool!N62)","v":""},{"$f":"IF(ISBLANK(PFS_PFD_SelectionTool!O62),\"\",PFS_PFD_SelectionTool!O62)","v":""}]
[{"$f":"IF(ISBLANK(PFS_PFD_SelectionTool!C63),\"\",PFS_PFD_SelectionTool!C63)","v":84603180},{"$f":"IF(ISBLANK(PFS_PFD_SelectionTool!D63),\"\",PFS_PFD_SelectionTool!D63)","v":"PFS 778L-5/1T/N"},{"$f":"IF(ISBLANK(PFS_PFD_SelectionTool!E63&\"_\"&PFS_PFD_SelectionTool!F63&\"_\"&PFS_PFD_SelectionTool!G63&\"_\"&PFS_PFD_SelectionTool!H63&\"_\"&PFS_PFD_SelectionTool!I63&\"_\"&PFS_PFD_SelectionTool!J63),\"\",PFS_PFD_SelectionTool!E63&\"_\"&PFS_PFD_SelectionTool!F63&\"_\"&PFS_PFD_SelectionTool!G63&\"_\"&PFS_PFD_SelectionTool!H63&\"_\"&PFS_PFD_SelectionTool!I63&\"_\"&PFS_PFD_SelectionTool!J63)","v":"230_1_1_1_1_5"},{"$f":"IF(ISBLANK(PFS_PFD_SelectionTool!K63),\"\",PFS_PFD_SelectionTool!K63)","v":88650546},{"$f":"VLOOKUP(D47,Tabelle1!A:B,2,FALSE)","v":"PFU 760LTK1"},{"$f":"IF(ISBLANK(PFS_PFD_SelectionTool!N63),\"\",PFS_PFD_SelectionTool!N63)","v":""},{"$f":"IF(ISBLANK(PFS_PFD_SelectionTool!O63),\"\",PFS_PFD_SelectionTool!O63)","v":""}]
[{"$f":"IF(ISBLANK(PFS_PFD_SelectionTool!C64),\"\",PFS_PFD_SelectionTool!C64)","v":84603180},{"$f":"IF(ISBLANK(PFS_PFD_SelectionTool!D64),\"\",PFS_PFD_SelectionTool!D64)","v":"PFS 778L-5/1T/N"},{"$f":"IF(ISBLANK(PFS_PFD_SelectionTool!E64&\"_\"&PFS_PFD_SelectionTool!F64&\"_\"&PFS_PFD_SelectionTool!G64&\"_\"&PFS_PFD_SelectionTool!H64&\"_\"&PFS_PFD_SelectionTool!I64&\"_\"&PFS_PFD_SelectionTool!J64),\"\",PFS_PFD_SelectionTool!E64&\"_\"&PFS_PFD_SelectionTool!F64&\"_\"&PFS_PFD_SelectionTool!G64&\"_\"&PFS_PFD_SelectionTool!H64&\"_\"&PFS_PFD_SelectionTool!I64&\"_\"&PFS_PFD_SelectionTool!J64)","v":"230_1_1_2_1_1"},{"$f":"IF(ISBLANK(PFS_PFD_SelectionTool!K64),\"\",PFS_PFD_SelectionTool!K64)","v":88650547},{"$f":"VLOOKUP(D48,Tabelle1!A:B,2,FALSE)","v":"PFU 760LTK1"},{"$f":"IF(ISBLANK(PFS_PFD_SelectionTool!N64),\"\",PFS_PFD_SelectionTool!N64)","v":""},{"$f":"IF(ISBLANK(PFS_PFD_SelectionTool!O64),\"\",PFS_PFD_SelectionTool!O64)","v":""}]
[{"$f":"IF(ISBLANK(PFS_PFD_SelectionTool!C65),\"\",PFS_PFD_SelectionTool!C65)","v":84603180},{"$f":"IF(ISBLANK(PFS_PFD_SelectionTool!D65),\"\",PFS_PFD_SelectionTool!D65)","v":"PFS 778L-5/1T/N"},{"$f":"IF(ISBLANK(PFS_PFD_SelectionTool!E65&\"_\"&PFS_PFD_SelectionTool!F65&\"_\"&PFS_PFD_SelectionTool!G65&\"_\"&PFS_PFD_SelectionTool!H65&\"_\"&PFS_PFD_SelectionTool!I65&\"_\"&PFS_PFD_SelectionTool!J65),\"\",PFS_PFD_SelectionTool!E65&\"_\"&PFS_PFD_SelectionTool!F65&\"_\"&PFS_PFD_SelectionTool!G65&\"_\"&PFS_PFD_SelectionTool!H65&\"_\"&PFS_PFD_SelectionTool!I65&\"_\"&PFS_PFD_SelectionTool!J65)","v":"230_1_1_2_2_1"},{"$f":"IF(ISBLANK(PFS_PFD_SelectionTool!K65),\"\",PFS_PFD_SelectionTool!K65)","v":88650547},{"$f":"VLOOKUP(D49,Tabelle1!A:B,2,FALSE)","v":"PFU 760LTK1"},{"$f":"IF(ISBLANK(PFS_PFD_SelectionTool!N65),\"\",PFS_PFD_SelectionTool!N65)","v":""},{"$f":"IF(ISBLANK(PFS_PFD_SelectionTool!O65),\"\",PFS_PFD_SelectionTool!O65)","v":""}]
[{"$f":"IF(ISBLANK(PFS_PFD_SelectionTool!C66),\"\",PFS_PFD_SelectionTool!C66)","v":84603180},{"$f":"IF(ISBLANK(PFS_PFD_SelectionTool!D66),\"\",PFS_PFD_SelectionTool!D66)","v":"PFS 778L-5/1T/N"},{"$f":"IF(ISBLANK(PFS_PFD_SelectionTool!E66&\"_\"&PFS_PFD_SelectionTool!F66&\"_\"&PFS_PFD_SelectionTool!G66&\"_\"&PFS_PFD_SelectionTool!H66&\"_\"&PFS_PFD_SelectionTool!I66&\"_\"&PFS_PFD_SelectionTool!J66),\"\",PFS_PFD_SelectionTool!E66&\"_\"&PFS_PFD_SelectionTool!F66&\"_\"&PFS_PFD_SelectionTool!G66&\"_\"&PFS_PFD_SelectionTool!H66&\"_\"&PFS_PFD_SelectionTool!I66&\"_\"&PFS_PFD_SelectionTool!J66)","v":"230_3_1_2_2_4"},{"$f":"IF(ISBLANK(PFS_PFD_SelectionTool!K66),\"\",PFS_PFD_SelectionTool!K66)","v":88650550},{"$f":"VLOOKUP(D50,Tabelle1!A:B,2,FALSE)","v":"PFU 760LTK1"},{"$f":"IF(ISBLANK(PFS_PFD_SelectionTool!N66),\"\",PFS_PFD_SelectionTool!N66)","v":""},{"$f":"IF(ISBLANK(PFS_PFD_SelectionTool!O66),\"\",PFS_PFD_SelectionTool!O66)","v":""}]
[{"$f":"IF(ISBLANK(PFS_PFD_SelectionTool!C67),\"\",PFS_PFD_SelectionTool!C67)","v":84603170},{"$f":"IF(ISBLANK(PFS_PFD_SelectionTool!D67),\"\",PFS_PFD_SelectionTool!D67)","v":"PFS 778L-3/1T/N"},{"$f":"IF(ISBLANK(PFS_PFD_SelectionTool!E67&\"_\"&PFS_PFD_SelectionTool!F67&\"_\"&PFS_PFD_SelectionTool!G67&\"_\"&PFS_PFD_SelectionTool!H67&\"_\"&PFS_PFD_SelectionTool!I67&\"_\"&PFS_PFD_SelectionTool!J67),\"\",PFS_PFD_SelectionTool!E67&\"_\"&PFS_PFD_SelectionTool!F67&\"_\"&PFS_PFD_SelectionTool!G67&\"_\"&PFS_PFD_SelectionTool!H67&\"_\"&PFS_PFD_SelectionTool!I67&\"_\"&PFS_PFD_SelectionTool!J67)","v":"230_3_3_1_2_4"},{"$f":"IF(ISBLANK(PFS_PFD_SelectionTool!K67),\"\",PFS_PFD_SelectionTool!K67)","v":88650555},{"$f":"VLOOKUP(D51,Tabelle1!A:B,2,FALSE)","v":"PFU 760LTK1"},{"$f":"IF(ISBLANK(PFS_PFD_SelectionTool!N67),\"\",PFS_PFD_SelectionTool!N67)","v":""},{"$f":"IF(ISBLANK(PFS_PFD_SelectionTool!O67),\"\",PFS_PFD_SelectionTool!O67)","v":""}]
[{"$f":"IF(ISBLANK(PFS_PFD_SelectionTool!C68),\"\",PFS_PFD_SelectionTool!C68)","v":84603690},{"$f":"IF(ISBLANK(PFS_PFD_SelectionTool!D68),\"\",PFS_PFD_SelectionTool!D68)","v":"PFD 778L-10/1T/N"},{"$f":"IF(ISBLANK(PFS_PFD_SelectionTool!E68&\"_\"&PFS_PFD_SelectionTool!F68&\"_\"&PFS_PFD_SelectionTool!G68&\"_\"&PFS_PFD_SelectionTool!H68&\"_\"&PFS_PFD_SelectionTool!I68&\"_\"&PFS_PFD_SelectionTool!J68),\"\",PFS_PFD_SelectionTool!E68&\"_\"&PFS_PFD_SelectionTool!F68&\"_\"&PFS_PFD_SelectionTool!G68&\"_\"&PFS_PFD_SelectionTool!H68&\"_\"&PFS_PFD_SelectionTool!I68&\"_\"&PFS_PFD_SelectionTool!J68)","v":"230_2_1_1_2_1"},{"$f":"IF(ISBLANK(PFS_PFD_SelectionTool!K68),\"\",PFS_PFD_SelectionTool!K68)","v":88650557},{"$f":"VLOOKUP(D52,Tabelle1!A:B,2,FALSE)","v":"PFU 760LTK1"},{"$f":"IF(ISBLANK(PFS_PFD_SelectionTool!N68),\"\",PFS_PFD_SelectionTool!N68)","v":""},{"$f":"IF(ISBLANK(PFS_PFD_SelectionTool!O68),\"\",PFS_PFD_SelectionTool!O68)","v":""}]
[{"$f":"IF(ISBLANK(PFS_PFD_SelectionTool!C69),\"\",PFS_PFD_SelectionTool!C69)","v":84603640},{"$f":"IF(ISBLANK(PFS_PFD_SelectionTool!D69),\"\",PFS_PFD_SelectionTool!D69)","v":"PFD 778S-5/1T/N"},{"$f":"IF(ISBLANK(PFS_PFD_SelectionTool!E69&\"_\"&PFS_PFD_SelectionTool!F69&\"_\"&PFS_PFD_SelectionTool!G69&\"_\"&PFS_PFD_SelectionTool!H69&\"_\"&PFS_PFD_SelectionTool!I69&\"_\"&PFS_PFD_SelectionTool!J69),\"\",PFS_PFD_SelectionTool!E69&\"_\"&PFS_PFD_SelectionTool!F69&\"_\"&PFS_PFD_SelectionTool!G69&\"_\"&PFS_PFD_SelectionTool!H69&\"_\"&PFS_PFD_SelectionTool!I69&\"_\"&PFS_PFD_SelectionTool!J69)","v":"230_na_1_2_2_1"},{"$f":"IF(ISBLANK(PFS_PFD_SelectionTool!K69),\"\",PFS_PFD_SelectionTool!K69)","v":88650608},{"$f":"VLOOKUP(D53,Tabelle1!A:B,2,FALSE)","v":"PFU 760TK1"},{"$f":"IF(ISBLANK(PFS_PFD_SelectionTool!N69),\"\",PFS_PFD_SelectionTool!N69)","v":""},{"$f":"IF(ISBLANK(PFS_PFD_SelectionTool!O69),\"\",PFS_PFD_SelectionTool!O69)","v":""}]
[{"$f":"IF(ISBLANK(PFS_PFD_SelectionTool!C70),\"\",PFS_PFD_SelectionTool!C70)","v":84603180},{"$f":"IF(ISBLANK(PFS_PFD_SelectionTool!D70),\"\",PFS_PFD_SelectionTool!D70)","v":"PFS 778L-5/1T/N"},{"$f":"IF(ISBLANK(PFS_PFD_SelectionTool!E70&\"_\"&PFS_PFD_SelectionTool!F70&\"_\"&PFS_PFD_SelectionTool!G70&\"_\"&PFS_PFD_SelectionTool!H70&\"_\"&PFS_PFD_SelectionTool!I70&\"_\"&PFS_PFD_SelectionTool!J70),\"\",PFS_PFD_SelectionTool!E70&\"_\"&PFS_PFD_SelectionTool!F70&\"_\"&PFS_PFD_SelectionTool!G70&\"_\"&PFS_PFD_SelectionTool!H70&\"_\"&PFS_PFD_SelectionTool!I70&\"_\"&PFS_PFD_SelectionTool!J70)","v":"230_1_2_1_1_5"},{"$f":"IF(ISBLANK(PFS_PFD_SelectionTool!K70),\"\",PFS_PFD_SelectionTool!K70)","v":88650629},{"$f":"VLOOKUP(D54,Tabelle1!A:B,2,FALSE)","v":"PFU 760LTK1"},{"$f":"IF(ISBLANK(PFS_PFD_SelectionTool!N70),\"\",PFS_PFD_SelectionTool!N70)","v":""},{"$f":"IF(ISBLANK(PFS_PFD_SelectionTool!O70),\"\",PFS_PFD_SelectionTool!O70)","v":""}]
[{"$f":"IF(ISBLANK(PFS_PFD_SelectionTool!C71),\"\",PFS_PFD_SelectionTool!C71)","v":84603140},{"$f":"IF(ISBLANK(PFS_PFD_SelectionTool!D71),\"\",PFS_PFD_SelectionTool!D71)","v":"PFS 778S-5/1T/N"},{"$f":"IF(ISBLANK(PFS_PFD_SelectionTool!E71&\"_\"&PFS_PFD_SelectionTool!F71&\"_\"&PFS_PFD_SelectionTool!G71&\"_\"&PFS_PFD_SelectionTool!H71&\"_\"&PFS_PFD_SelectionTool!I71&\"_\"&PFS_PFD_SelectionTool!J71),\"\",PFS_PFD_SelectionTool!E71&\"_\"&PFS_PFD_SelectionTool!F71&\"_\"&PFS_PFD_SelectionTool!G71&\"_\"&PFS_PFD_SelectionTool!H71&\"_\"&PFS_PFD_SelectionTool!I71&\"_\"&PFS_PFD_SelectionTool!J71)","v":"230_na_2_1_2_2"},{"$f":"IF(ISBLANK(PFS_PFD_SelectionTool!K71),\"\",PFS_PFD_SelectionTool!K71)","v":88650639},{"$f":"VLOOKUP(D55,Tabelle1!A:B,2,FALSE)","v":"PFU 760TK1"},{"$f":"IF(ISBLANK(PFS_PFD_SelectionTool!N71),\"\",PFS_PFD_SelectionTool!N71)","v":""},{"$f":"IF(ISBLANK(PFS_PFD_SelectionTool!O71),\"\",PFS_PFD_SelectionTool!O71)","v":""}]
[{"$f":"IF(ISBLANK(PFS_PFD_SelectionTool!C72),\"\",PFS_PFD_SelectionTool!C72)","v":84603180},{"$f":"IF(ISBLANK(PFS_PFD_SelectionTool!D72),\"\",PFS_PFD_SelectionTool!D72)","v":"PFS 778L-5/1T/N"},{"$f":"IF(ISBLANK(PFS_PFD_SelectionTool!E72&\"_\"&PFS_PFD_SelectionTool!F72&\"_\"&PFS_PFD_SelectionTool!G72&\"_\"&PFS_PFD_SelectionTool!H72&\"_\"&PFS_PFD_SelectionTool!I72&\"_\"&PFS_PFD_SelectionTool!J72),\"\",PFS_PFD_SelectionTool!E72&\"_\"&PFS_PFD_SelectionTool!F72&\"_\"&PFS_PFD_SelectionTool!G72&\"_\"&PFS_PFD_SelectionTool!H72&\"_\"&PFS_PFD_SelectionTool!I72&\"_\"&PFS_PFD_SelectionTool!J72)","v":"230_2_2_2_2_10"},{"$f":"IF(ISBLANK(PFS_PFD_SelectionTool!K72),\"\",PFS_PFD_SelectionTool!K72)","v":88650641},{"$f":"VLOOKUP(D56,Tabelle1!A:B,2,FALSE)","v":"PFU 760LTK1"},{"$f":"IF(ISBLANK(PFS_PFD_SelectionTool!N72),\"\",PFS_PFD_SelectionTool!N72)","v":""},{"$f":"IF(ISBLANK(PFS_PFD_SelectionTool!O72),\"\",PFS_PFD_SelectionTool!O72)","v":""}]
[{"$f":"IF(ISBLANK(PFS_PFD_SelectionTool!C73),\"\",PFS_PFD_SelectionTool!C73)","v":84603180},{"$f":"IF(ISBLANK(PFS_PFD_SelectionTool!D73),\"\",PFS_PFD_SelectionTool!D73)","v":"PFS 778L-5/1T/N"},{"$f":"IF(ISBLANK(PFS_PFD_SelectionTool!E73&\"_\"&PFS_PFD_SelectionTool!F73&\"_\"&PFS_PFD_SelectionTool!G73&\"_\"&PFS_PFD_SelectionTool!H73&\"_\"&PFS_PFD_SelectionTool!I73&\"_\"&PFS_PFD_SelectionTool!J73),\"\",PFS_PFD_SelectionTool!E73&\"_\"&PFS_PFD_SelectionTool!F73&\"_\"&PFS_PFD_SelectionTool!G73&\"_\"&PFS_PFD_SelectionTool!H73&\"_\"&PFS_PFD_SelectionTool!I73&\"_\"&PFS_PFD_SelectionTool!J73)","v":"230_2_1_1_2_2"},{"$f":"IF(ISBLANK(PFS_PFD_SelectionTool!K73),\"\",PFS_PFD_SelectionTool!K73)","v":88650645},{"$f":"VLOOKUP(D57,Tabelle1!A:B,2,FALSE)","v":"PFU 760LTK1"},{"$f":"IF(ISBLANK(PFS_PFD_SelectionTool!N73),\"\",PFS_PFD_SelectionTool!N73)","v":""},{"$f":"IF(ISBLANK(PFS_PFD_SelectionTool!O73),\"\",PFS_PFD_SelectionTool!O73)","v":""}]
[{"$f":"IF(ISBLANK(PFS_PFD_SelectionTool!C74),\"\",PFS_PFD_SelectionTool!C74)","v":84603680},{"$f":"IF(ISBLANK(PFS_PFD_SelectionTool!D74),\"\",PFS_PFD_SelectionTool!D74)","v":"PFD 778L-5/1T/N"},{"$f":"IF(ISBLANK(PFS_PFD_SelectionTool!E74&\"_\"&PFS_PFD_SelectionTool!F74&\"_\"&PFS_PFD_SelectionTool!G74&\"_\"&PFS_PFD_SelectionTool!H74&\"_\"&PFS_PFD_SelectionTool!I74&\"_\"&PFS_PFD_SelectionTool!J74),\"\",PFS_PFD_SelectionTool!E74&\"_\"&PFS_PFD_SelectionTool!F74&\"_\"&PFS_PFD_SelectionTool!G74&\"_\"&PFS_PFD_SelectionTool!H74&\"_\"&PFS_PFD_SelectionTool!I74&\"_\"&PFS_PFD_SelectionTool!J74)","v":"230_2_2_1_1_1"},{"$f":"IF(ISBLANK(PFS_PFD_SelectionTool!K74),\"\",PFS_PFD_SelectionTool!K74)","v":88650177},{"$f":"VLOOKUP(D58,Tabelle1!A:B,2,FALSE)","v":"PFU 760LTK1"},{"$f":"IF(ISBLANK(PFS_PFD_SelectionTool!N74),\"\",PFS_PFD_SelectionTool!N74)","v":""},{"$f":"IF(ISBLANK(PFS_PFD_SelectionTool!O74),\"\",PFS_PFD_SelectionTool!O74)","v":""}]
[{"$f":"IF(ISBLANK(PFS_PFD_SelectionTool!C75),\"\",PFS_PFD_SelectionTool!C75)","v":84603670},{"$f":"IF(ISBLANK(PFS_PFD_SelectionTool!D75),\"\",PFS_PFD_SelectionTool!D75)","v":"PFD 778L-3/1T/N"},{"$f":"IF(ISBLANK(PFS_PFD_SelectionTool!E75&\"_\"&PFS_PFD_SelectionTool!F75&\"_\"&PFS_PFD_SelectionTool!G75&\"_\"&PFS_PFD_SelectionTool!H75&\"_\"&PFS_PFD_SelectionTool!I75&\"_\"&PFS_PFD_SelectionTool!J75),\"\",PFS_PFD_SelectionTool!E75&\"_\"&PFS_PFD_SelectionTool!F75&\"_\"&PFS_PFD_SelectionTool!G75&\"_\"&PFS_PFD_SelectionTool!H75&\"_\"&PFS_PFD_SelectionTool!I75&\"_\"&PFS_PFD_SelectionTool!J75)","v":"230_3_3_1_2_1"},{"$f":"IF(ISBLANK(PFS_PFD_SelectionTool!K75),\"\",PFS_PFD_SelectionTool!K75)","v":88650243},{"$f":"VLOOKUP(D59,Tabelle1!A:B,2,FALSE)","v":"PFU 760LTK1"},{"$f":"IF(ISBLANK(PFS_PFD_SelectionTool!N75),\"\",PFS_PFD_SelectionTool!N75)","v":""},{"$f":"IF(ISBLANK(PFS_PFD_SelectionTool!O75),\"\",PFS_PFD_SelectionTool!O75)","v":""}]
[{"$f":"IF(ISBLANK(PFS_PFD_SelectionTool!C76),\"\",PFS_PFD_SelectionTool!C76)","v":84603090},{"$f":"IF(ISBLANK(PFS_PFD_SelectionTool!D76),\"\",PFS_PFD_SelectionTool!D76)","v":"PFS 748L-10/1T/N"},{"$f":"IF(ISBLANK(PFS_PFD_SelectionTool!E76&\"_\"&PFS_PFD_SelectionTool!F76&\"_\"&PFS_PFD_SelectionTool!G76&\"_\"&PFS_PFD_SelectionTool!H76&\"_\"&PFS_PFD_SelectionTool!I76&\"_\"&PFS_PFD_SelectionTool!J76),\"\",PFS_PFD_SelectionTool!E76&\"_\"&PFS_PFD_SelectionTool!F76&\"_\"&PFS_PFD_SelectionTool!G76&\"_\"&PFS_PFD_SelectionTool!H76&\"_\"&PFS_PFD_SelectionTool!I76&\"_\"&PFS_PFD_SelectionTool!J76)","v":"230_2_2_1_2_1"},{"$f":"IF(ISBLANK(PFS_PFD_SelectionTool!K76),\"\",PFS_PFD_SelectionTool!K76)","v":88650029},{"$f":"VLOOKUP(D60,Tabelle1!A:B,2,FALSE)","v":"PFU 760LTK1"},{"$f":"IF(ISBLANK(PFS_PFD_SelectionTool!N76),\"\",PFS_PFD_SelectionTool!N76)","v":"Technische Rücksprache mit Kunden !"},{"$f":"IF(ISBLANK(PFS_PFD_SelectionTool!O76),\"\",PFS_PFD_SelectionTool!O76)","v":"Technical discussion with customer !"}]
[{"$f":"IF(ISBLANK(PFS_PFD_SelectionTool!C77),\"\",PFS_PFD_SelectionTool!C77)","v":84603180},{"$f":"IF(ISBLANK(PFS_PFD_SelectionTool!D77),\"\",PFS_PFD_SelectionTool!D77)","v":"PFS 778L-5/1T/N"},{"$f":"IF(ISBLANK(PFS_PFD_SelectionTool!E77&\"_\"&PFS_PFD_SelectionTool!F77&\"_\"&PFS_PFD_SelectionTool!G77&\"_\"&PFS_PFD_SelectionTool!H77&\"_\"&PFS_PFD_SelectionTool!I77&\"_\"&PFS_PFD_SelectionTool!J77),\"\",PFS_PFD_SelectionTool!E77&\"_\"&PFS_PFD_SelectionTool!F77&\"_\"&PFS_PFD_SelectionTool!G77&\"_\"&PFS_PFD_SelectionTool!H77&\"_\"&PFS_PFD_SelectionTool!I77&\"_\"&PFS_PFD_SelectionTool!J77)","v":"230_1_2_1_2_2"},{"$f":"IF(ISBLANK(PFS_PFD_SelectionTool!K77),\"\",PFS_PFD_SelectionTool!K77)","v":88650630},{"$f":"VLOOKUP(D61,Tabelle1!A:B,2,FALSE)","v":"PFU 760LTK1"},{"$f":"IF(ISBLANK(PFS_PFD_SelectionTool!N77),\"\",PFS_PFD_SelectionTool!N77)","v":""},{"$f":"IF(ISBLANK(PFS_PFD_SelectionTool!O77),\"\",PFS_PFD_SelectionTool!O77)","v":""}]
[{"$f":"IF(ISBLANK(PFS_PFD_SelectionTool!C78),\"\",PFS_PFD_SelectionTool!C78)","v":84603180},{"$f":"IF(ISBLANK(PFS_PFD_SelectionTool!D78),\"\",PFS_PFD_SelectionTool!D78)","v":"PFS 778L-5/1T/N"},{"$f":"IF(ISBLANK(PFS_PFD_SelectionTool!E78&\"_\"&PFS_PFD_SelectionTool!F78&\"_\"&PFS_PFD_SelectionTool!G78&\"_\"&PFS_PFD_SelectionTool!H78&\"_\"&PFS_PFD_SelectionTool!I78&\"_\"&PFS_PFD_SelectionTool!J78),\"\",PFS_PFD_SelectionTool!E78&\"_\"&PFS_PFD_SelectionTool!F78&\"_\"&PFS_PFD_SelectionTool!G78&\"_\"&PFS_PFD_SelectionTool!H78&\"_\"&PFS_PFD_SelectionTool!I78&\"_\"&PFS_PFD_SelectionTool!J78)","v":"230_1_1_1_2_1"},{"$f":"IF(ISBLANK(PFS_PFD_SelectionTool!K78),\"\",PFS_PFD_SelectionTool!K78)","v":88650232},{"$f":"VLOOKUP(D62,Tabelle1!A:B,2,FALSE)","v":"PFU 760LTK1"},{"$f":"IF(ISBLANK(PFS_PFD_SelectionTool!N78),\"\",PFS_PFD_SelectionTool!N78)","v":""},{"$f":"IF(ISBLANK(PFS_PFD_SelectionTool!O78),\"\",PFS_PFD_SelectionTool!O78)","v":""}]
[{"$f":"IF(ISBLANK(PFS_PFD_SelectionTool!C79),\"\",PFS_PFD_SelectionTool!C79)","v":84603180},{"$f":"IF(ISBLANK(PFS_PFD_SelectionTool!D79),\"\",PFS_PFD_SelectionTool!D79)","v":"PFS 778L-5/1T/N"},{"$f":"IF(ISBLANK(PFS_PFD_SelectionTool!E79&\"_\"&PFS_PFD_SelectionTool!F79&\"_\"&PFS_PFD_SelectionTool!G79&\"_\"&PFS_PFD_SelectionTool!H79&\"_\"&PFS_PFD_SelectionTool!I79&\"_\"&PFS_PFD_SelectionTool!J79),\"\",PFS_PFD_SelectionTool!E79&\"_\"&PFS_PFD_SelectionTool!F79&\"_\"&PFS_PFD_SelectionTool!G79&\"_\"&PFS_PFD_SelectionTool!H79&\"_\"&PFS_PFD_SelectionTool!I79&\"_\"&PFS_PFD_SelectionTool!J79)","v":"230_1_1_1_2_2"},{"$f":"IF(ISBLANK(PFS_PFD_SelectionTool!K79),\"\",PFS_PFD_SelectionTool!K79)","v":88650722},{"$f":"VLOOKUP(D63,Tabelle1!A:B,2,FALSE)","v":"PFU 760LTK1"},{"$f":"IF(ISBLANK(PFS_PFD_SelectionTool!N79),\"\",PFS_PFD_SelectionTool!N79)","v":""},{"$f":"IF(ISBLANK(PFS_PFD_SelectionTool!O79),\"\",PFS_PFD_SelectionTool!O79)","v":""}]
[{"$f":"IF(ISBLANK(PFS_PFD_SelectionTool!C80),\"\",PFS_PFD_SelectionTool!C80)","v":84603290},{"$f":"IF(ISBLANK(PFS_PFD_SelectionTool!D80),\"\",PFS_PFD_SelectionTool!D80)","v":"PFS 778D-10/1T/N"},{"$f":"IF(ISBLANK(PFS_PFD_SelectionTool!E80&\"_\"&PFS_PFD_SelectionTool!F80&\"_\"&PFS_PFD_SelectionTool!G80&\"_\"&PFS_PFD_SelectionTool!H80&\"_\"&PFS_PFD_SelectionTool!I80&\"_\"&PFS_PFD_SelectionTool!J80),\"\",PFS_PFD_SelectionTool!E80&\"_\"&PFS_PFD_SelectionTool!F80&\"_\"&PFS_PFD_SelectionTool!G80&\"_\"&PFS_PFD_SelectionTool!H80&\"_\"&PFS_PFD_SelectionTool!I80&\"_\"&PFS_PFD_SelectionTool!J80)","v":"230_2_2_1_2_5"},{"$f":"IF(ISBLANK(PFS_PFD_SelectionTool!K80),\"\",PFS_PFD_SelectionTool!K80)","v":88650725},{"$f":"VLOOKUP(D64,Tabelle1!A:B,2,FALSE)","v":"PFU 760LTK1"},{"$f":"IF(ISBLANK(PFS_PFD_SelectionTool!N80),\"\",PFS_PFD_SelectionTool!N80)","v":""},{"$f":"IF(ISBLANK(PFS_PFD_SelectionTool!O80),\"\",PFS_PFD_SelectionTool!O80)","v":""}]
[{"$f":"IF(ISBLANK(PFS_PFD_SelectionTool!C81),\"\",PFS_PFD_SelectionTool!C81)","v":84603290},{"$f":"IF(ISBLANK(PFS_PFD_SelectionTool!D81),\"\",PFS_PFD_SelectionTool!D81)","v":"PFS 778D-10/1T/N"},{"$f":"IF(ISBLANK(PFS_PFD_SelectionTool!E81&\"_\"&PFS_PFD_SelectionTool!F81&\"_\"&PFS_PFD_SelectionTool!G81&\"_\"&PFS_PFD_SelectionTool!H81&\"_\"&PFS_PFD_SelectionTool!I81&\"_\"&PFS_PFD_SelectionTool!J81),\"\",PFS_PFD_SelectionTool!E81&\"_\"&PFS_PFD_SelectionTool!F81&\"_\"&PFS_PFD_SelectionTool!G81&\"_\"&PFS_PFD_SelectionTool!H81&\"_\"&PFS_PFD_SelectionTool!I81&\"_\"&PFS_PFD_SelectionTool!J81)","v":"230_2_2_1_2_1"},{"$f":"IF(ISBLANK(PFS_PFD_SelectionTool!K81),\"\",PFS_PFD_SelectionTool!K81)","v":88650039},{"$f":"VLOOKUP(D65,Tabelle1!A:B,2,FALSE)","v":"PFU 760LTK1"},{"$f":"IF(ISBLANK(PFS_PFD_SelectionTool!N81),\"\",PFS_PFD_SelectionTool!N81)","v":""},{"$f":"IF(ISBLANK(PFS_PFD_SelectionTool!O81),\"\",PFS_PFD_SelectionTool!O81)","v":""}]
[{"$f":"IF(ISBLANK(PFS_PFD_SelectionTool!C82),\"\",PFS_PFD_SelectionTool!C82)","v":84603180},{"$f":"IF(ISBLANK(PFS_PFD_SelectionTool!D82),\"\",PFS_PFD_SelectionTool!D82)","v":"PFS 778L-5/1T/N"},{"$f":"IF(ISBLANK(PFS_PFD_SelectionTool!E82&\"_\"&PFS_PFD_SelectionTool!F82&\"_\"&PFS_PFD_SelectionTool!G82&\"_\"&PFS_PFD_SelectionTool!H82&\"_\"&PFS_PFD_SelectionTool!I82&\"_\"&PFS_PFD_SelectionTool!J82),\"\",PFS_PFD_SelectionTool!E82&\"_\"&PFS_PFD_SelectionTool!F82&\"_\"&PFS_PFD_SelectionTool!G82&\"_\"&PFS_PFD_SelectionTool!H82&\"_\"&PFS_PFD_SelectionTool!I82&\"_\"&PFS_PFD_SelectionTool!J82)","v":"230_1_2_2_2_1"},{"$f":"IF(ISBLANK(PFS_PFD_SelectionTool!K82),\"\",PFS_PFD_SelectionTool!K82)","v":88650445},{"$f":"VLOOKUP(D66,Tabelle1!A:B,2,FALSE)","v":"PFU 760LTK1"},{"$f":"IF(ISBLANK(PFS_PFD_SelectionTool!N82),\"\",PFS_PFD_SelectionTool!N82)","v":""},{"$f":"IF(ISBLANK(PFS_PFD_SelectionTool!O82),\"\",PFS_PFD_SelectionTool!O82)","v":""}]
[{"$f":"IF(ISBLANK(PFS_PFD_SelectionTool!C83),\"\",PFS_PFD_SelectionTool!C83)","v":84603680},{"$f":"IF(ISBLANK(PFS_PFD_SelectionTool!D83),\"\",PFS_PFD_SelectionTool!D83)","v":"PFD 778L-5/1T/N"},{"$f":"IF(ISBLANK(PFS_PFD_SelectionTool!E83&\"_\"&PFS_PFD_SelectionTool!F83&\"_\"&PFS_PFD_SelectionTool!G83&\"_\"&PFS_PFD_SelectionTool!H83&\"_\"&PFS_PFD_SelectionTool!I83&\"_\"&PFS_PFD_SelectionTool!J83),\"\",PFS_PFD_SelectionTool!E83&\"_\"&PFS_PFD_SelectionTool!F83&\"_\"&PFS_PFD_SelectionTool!G83&\"_\"&PFS_PFD_SelectionTool!H83&\"_\"&PFS_PFD_SelectionTool!I83&\"_\"&PFS_PFD_SelectionTool!J83)","v":"230_3_2_1_2_1"},{"$f":"IF(ISBLANK(PFS_PFD_SelectionTool!K83),\"\",PFS_PFD_SelectionTool!K83)","v":88650153},{"$f":"VLOOKUP(D67,Tabelle1!A:B,2,FALSE)","v":"PFU 760LTK1"},{"$f":"IF(ISBLANK(PFS_PFD_SelectionTool!N83),\"\",PFS_PFD_SelectionTool!N83)","v":""},{"$f":"IF(ISBLANK(PFS_PFD_SelectionTool!O83),\"\",PFS_PFD_SelectionTool!O83)","v":""}]
[{"$f":"IF(ISBLANK(PFS_PFD_SelectionTool!C84),\"\",PFS_PFD_SelectionTool!C84)","v":84603070},{"$f":"IF(ISBLANK(PFS_PFD_SelectionTool!D84),\"\",PFS_PFD_SelectionTool!D84)","v":"PFS 748L-3/1T/N"},{"$f":"IF(ISBLANK(PFS_PFD_SelectionTool!E84&\"_\"&PFS_PFD_SelectionTool!F84&\"_\"&PFS_PFD_SelectionTool!G84&\"_\"&PFS_PFD_SelectionTool!H84&\"_\"&PFS_PFD_SelectionTool!I84&\"_\"&PFS_PFD_SelectionTool!J84),\"\",PFS_PFD_SelectionTool!E84&\"_\"&PFS_PFD_SelectionTool!F84&\"_\"&PFS_PFD_SelectionTool!G84&\"_\"&PFS_PFD_SelectionTool!H84&\"_\"&PFS_PFD_SelectionTool!I84&\"_\"&PFS_PFD_SelectionTool!J84)","v":"230_1_1_1_1_1"},{"$f":"IF(ISBLANK(PFS_PFD_SelectionTool!K84),\"\",PFS_PFD_SelectionTool!K84)","v":88650308},{"$f":"VLOOKUP(D68,Tabelle1!A:B,2,FALSE)","v":"PFU 760LTK1"},{"$f":"IF(ISBLANK(PFS_PFD_SelectionTool!N84),\"\",PFS_PFD_SelectionTool!N84)","v":"Technische Rücksprache mit Kunden !"},{"$f":"IF(ISBLANK(PFS_PFD_SelectionTool!O84),\"\",PFS_PFD_SelectionTool!O84)","v":"Technical discussion with customer !"}]
[{"$f":"IF(ISBLANK(PFS_PFD_SelectionTool!C85),\"\",PFS_PFD_SelectionTool!C85)","v":84603130},{"$f":"IF(ISBLANK(PFS_PFD_SelectionTool!D85),\"\",PFS_PFD_SelectionTool!D85)","v":"PFS 778S-3/1T/N"},{"$f":"IF(ISBLANK(PFS_PFD_SelectionTool!E85&\"_\"&PFS_PFD_SelectionTool!F85&\"_\"&PFS_PFD_SelectionTool!G85&\"_\"&PFS_PFD_SelectionTool!H85&\"_\"&PFS_PFD_SelectionTool!I85&\"_\"&PFS_PFD_SelectionTool!J85),\"\",PFS_PFD_SelectionTool!E85&\"_\"&PFS_PFD_SelectionTool!F85&\"_\"&PFS_PFD_SelectionTool!G85&\"_\"&PFS_PFD_SelectionTool!H85&\"_\"&PFS_PFD_SelectionTool!I85&\"_\"&PFS_PFD_SelectionTool!J85)","v":"230_na_1_1_2_5"},{"$f":"IF(ISBLANK(PFS_PFD_SelectionTool!K85),\"\",PFS_PFD_SelectionTool!K85)","v":88650732},{"$f":"VLOOKUP(D69,Tabelle1!A:B,2,FALSE)","v":"PFU 760TK1"},{"$f":"IF(ISBLANK(PFS_PFD_SelectionTool!N85),\"\",PFS_PFD_SelectionTool!N85)","v":""},{"$f":"IF(ISBLANK(PFS_PFD_SelectionTool!O85),\"\",PFS_PFD_SelectionTool!O85)","v":""}]
[{"$f":"IF(ISBLANK(PFS_PFD_SelectionTool!C86),\"\",PFS_PFD_SelectionTool!C86)","v":84603180},{"$f":"IF(ISBLANK(PFS_PFD_SelectionTool!D86),\"\",PFS_PFD_SelectionTool!D86)","v":"PFS 778L-5/1T/N"},{"$f":"IF(ISBLANK(PFS_PFD_SelectionTool!E86&\"_\"&PFS_PFD_SelectionTool!F86&\"_\"&PFS_PFD_SelectionTool!G86&\"_\"&PFS_PFD_SelectionTool!H86&\"_\"&PFS_PFD_SelectionTool!I86&\"_\"&PFS_PFD_SelectionTool!J86),\"\",PFS_PFD_SelectionTool!E86&\"_\"&PFS_PFD_SelectionTool!F86&\"_\"&PFS_PFD_SelectionTool!G86&\"_\"&PFS_PFD_SelectionTool!H86&\"_\"&PFS_PFD_SelectionTool!I86&\"_\"&PFS_PFD_SelectionTool!J86)","v":"230_3_1_1_2_1"},{"$f":"IF(ISBLANK(PFS_PFD_SelectionTool!K86),\"\",PFS_PFD_SelectionTool!K86)","v":88650153},{"$f":"VLOOKUP(D70,Tabelle1!A:B,2,FALSE)","v":"PFU 760LTK1"},{"$f":"IF(ISBLANK(PFS_PFD_SelectionTool!N86),\"\",PFS_PFD_SelectionTool!N86)","v":""},{"$f":"IF(ISBLANK(PFS_PFD_SelectionTool!O86),\"\",PFS_PFD_SelectionTool!O86)","v":""}]
[{"$f":"IF(ISBLANK(PFS_PFD_SelectionTool!C87),\"\",PFS_PFD_SelectionTool!C87)","v":84603170},{"$f":"IF(ISBLANK(PFS_PFD_SelectionTool!D87),\"\",PFS_PFD_SelectionTool!D87)","v":"PFS 778L-3/1T/N"},{"$f":"IF(ISBLANK(PFS_PFD_SelectionTool!E87&\"_\"&PFS_PFD_SelectionTool!F87&\"_\"&PFS_PFD_SelectionTool!G87&\"_\"&PFS_PFD_SelectionTool!H87&\"_\"&PFS_PFD_SelectionTool!I87&\"_\"&PFS_PFD_SelectionTool!J87),\"\",PFS_PFD_SelectionTool!E87&\"_\"&PFS_PFD_SelectionTool!F87&\"_\"&PFS_PFD_SelectionTool!G87&\"_\"&PFS_PFD_SelectionTool!H87&\"_\"&PFS_PFD_SelectionTool!I87&\"_\"&PFS_PFD_SelectionTool!J87)","v":"230_2_2_1_2_5"},{"$f":"IF(ISBLANK(PFS_PFD_SelectionTool!K87),\"\",PFS_PFD_SelectionTool!K87)","v":88650734},{"$f":"VLOOKUP(D71,Tabelle1!A:B,2,FALSE)","v":"PFU 760LTK1"},{"$f":"IF(ISBLANK(PFS_PFD_SelectionTool!N87),\"\",PFS_PFD_SelectionTool!N87)","v":""},{"$f":"IF(ISBLANK(PFS_PFD_SelectionTool!O87),\"\",PFS_PFD_SelectionTool!O87)","v":""}]
[{"$f":"IF(ISBLANK(PFS_PFD_SelectionTool!C88),\"\",PFS_PFD_SelectionTool!C88)","v":84603280},{"$f":"IF(ISBLANK(PFS_PFD_SelectionTool!D88),\"\",PFS_PFD_SelectionTool!D88)","v":"PFS 778D-5/1T/N"},{"$f":"IF(ISBLANK(PFS_PFD_SelectionTool!E88&\"_\"&PFS_PFD_SelectionTool!F88&\"_\"&PFS_PFD_SelectionTool!G88&\"_\"&PFS_PFD_SelectionTool!H88&\"_\"&PFS_PFD_SelectionTool!I88&\"_\"&PFS_PFD_SelectionTool!J88),\"\",PFS_PFD_SelectionTool!E88&\"_\"&PFS_PFD_SelectionTool!F88&\"_\"&PFS_PFD_SelectionTool!G88&\"_\"&PFS_PFD_SelectionTool!H88&\"_\"&PFS_PFD_SelectionTool!I88&\"_\"&PFS_PFD_SelectionTool!J88)","v":"230_1_2_1_1_1"},{"$f":"IF(ISBLANK(PFS_PFD_SelectionTool!K88),\"\",PFS_PFD_SelectionTool!K88)","v":88650530},{"$f":"VLOOKUP(D72,Tabelle1!A:B,2,FALSE)","v":"PFU 760LTK1"},{"$f":"IF(ISBLANK(PFS_PFD_SelectionTool!N88),\"\",PFS_PFD_SelectionTool!N88)","v":""},{"$f":"IF(ISBLANK(PFS_PFD_SelectionTool!O88),\"\",PFS_PFD_SelectionTool!O88)","v":""}]
[{"$f":"IF(ISBLANK(PFS_PFD_SelectionTool!C89),\"\",PFS_PFD_SelectionTool!C89)","v":84603170},{"$f":"IF(ISBLANK(PFS_PFD_SelectionTool!D89),\"\",PFS_PFD_SelectionTool!D89)","v":"PFS 778L-3/1T/N"},{"$f":"IF(ISBLANK(PFS_PFD_SelectionTool!E89&\"_\"&PFS_PFD_SelectionTool!F89&\"_\"&PFS_PFD_SelectionTool!G89&\"_\"&PFS_PFD_SelectionTool!H89&\"_\"&PFS_PFD_SelectionTool!I89&\"_\"&PFS_PFD_SelectionTool!J89),\"\",PFS_PFD_SelectionTool!E89&\"_\"&PFS_PFD_SelectionTool!F89&\"_\"&PFS_PFD_SelectionTool!G89&\"_\"&PFS_PFD_SelectionTool!H89&\"_\"&PFS_PFD_SelectionTool!I89&\"_\"&PFS_PFD_SelectionTool!J89)","v":"230_1_1_1_2_1"},{"$f":"IF(ISBLANK(PFS_PFD_SelectionTool!K89),\"\",PFS_PFD_SelectionTool!K89)","v":88650308},{"$f":"VLOOKUP(D73,Tabelle1!A:B,2,FALSE)","v":"PFU 760LTK1"},{"$f":"IF(ISBLANK(PFS_PFD_SelectionTool!N89),\"\",PFS_PFD_SelectionTool!N89)","v":""},{"$f":"IF(ISBLANK(PFS_PFD_SelectionTool!O89),\"\",PFS_PFD_SelectionTool!O89)","v":""}]
[{"$f":"IF(ISBLANK(PFS_PFD_SelectionTool!C90),\"\",PFS_PFD_SelectionTool!C90)","v":84603680},{"$f":"IF(ISBLANK(PFS_PFD_SelectionTool!D90),\"\",PFS_PFD_SelectionTool!D90)","v":"PFD 778L-5/1T/N"},{"$f":"IF(ISBLANK(PFS_PFD_SelectionTool!E90&\"_\"&PFS_PFD_SelectionTool!F90&\"_\"&PFS_PFD_SelectionTool!G90&\"_\"&PFS_PFD_SelectionTool!H90&\"_\"&PFS_PFD_SelectionTool!I90&\"_\"&PFS_PFD_SelectionTool!J90),\"\",PFS_PFD_SelectionTool!E90&\"_\"&PFS_PFD_SelectionTool!F90&\"_\"&PFS_PFD_SelectionTool!G90&\"_\"&PFS_PFD_SelectionTool!H90&\"_\"&PFS_PFD_SelectionTool!I90&\"_\"&PFS_PFD_SelectionTool!J90)","v":"230_1_2_1_1_1"},{"$f":"IF(ISBLANK(PFS_PFD_SelectionTool!K90),\"\",PFS_PFD_SelectionTool!K90)","v":88650530},{"$f":"VLOOKUP(D74,Tabelle1!A:B,2,FALSE)","v":"PFU 760LTK1"},{"$f":"IF(ISBLANK(PFS_PFD_SelectionTool!N90),\"\",PFS_PFD_SelectionTool!N90)","v":""},{"$f":"IF(ISBLANK(PFS_PFD_SelectionTool!O90),\"\",PFS_PFD_SelectionTool!O90)","v":""}]
[{"$f":"IF(ISBLANK(PFS_PFD_SelectionTool!C91),\"\",PFS_PFD_SelectionTool!C91)","v":84603180},{"$f":"IF(ISBLANK(PFS_PFD_SelectionTool!D91),\"\",PFS_PFD_SelectionTool!D91)","v":"PFS 778L-5/1T/N"},{"$f":"IF(ISBLANK(PFS_PFD_SelectionTool!E91&\"_\"&PFS_PFD_SelectionTool!F91&\"_\"&PFS_PFD_SelectionTool!G91&\"_\"&PFS_PFD_SelectionTool!H91&\"_\"&PFS_PFD_SelectionTool!I91&\"_\"&PFS_PFD_SelectionTool!J91),\"\",PFS_PFD_SelectionTool!E91&\"_\"&PFS_PFD_SelectionTool!F91&\"_\"&PFS_PFD_SelectionTool!G91&\"_\"&PFS_PFD_SelectionTool!H91&\"_\"&PFS_PFD_SelectionTool!I91&\"_\"&PFS_PFD_SelectionTool!J91)","v":"230_1_2_1_1_2"},{"$f":"IF(ISBLANK(PFS_PFD_SelectionTool!K91),\"\",PFS_PFD_SelectionTool!K91)","v":88650630},{"$f":"VLOOKUP(D75,Tabelle1!A:B,2,FALSE)","v":"PFU 760LTK1"},{"$f":"IF(ISBLANK(PFS_PFD_SelectionTool!N91),\"\",PFS_PFD_SelectionTool!N91)","v":""},{"$f":"IF(ISBLANK(PFS_PFD_SelectionTool!O91),\"\",PFS_PFD_SelectionTool!O91)","v":""}]
[{"$f":"IF(ISBLANK(PFS_PFD_SelectionTool!C92),\"\",PFS_PFD_SelectionTool!C92)","v":84603180},{"$f":"IF(ISBLANK(PFS_PFD_SelectionTool!D92),\"\",PFS_PFD_SelectionTool!D92)","v":"PFS 778L-5/1T/N"},{"$f":"IF(ISBLANK(PFS_PFD_SelectionTool!E92&\"_\"&PFS_PFD_SelectionTool!F92&\"_\"&PFS_PFD_SelectionTool!G92&\"_\"&PFS_PFD_SelectionTool!H92&\"_\"&PFS_PFD_SelectionTool!I92&\"_\"&PFS_PFD_SelectionTool!J92),\"\",PFS_PFD_SelectionTool!E92&\"_\"&PFS_PFD_SelectionTool!F92&\"_\"&PFS_PFD_SelectionTool!G92&\"_\"&PFS_PFD_SelectionTool!H92&\"_\"&PFS_PFD_SelectionTool!I92&\"_\"&PFS_PFD_SelectionTool!J92)","v":"115_1_2_1_1_4"},{"$f":"IF(ISBLANK(PFS_PFD_SelectionTool!K92),\"\",PFS_PFD_SelectionTool!K92)","v":88650264},{"$f":"VLOOKUP(D76,Tabelle1!A:B,2,FALSE)","v":"PFU 760LNK1"},{"$f":"IF(ISBLANK(PFS_PFD_SelectionTool!N92),\"\",PFS_PFD_SelectionTool!N92)","v":""},{"$f":"IF(ISBLANK(PFS_PFD_SelectionTool!O92),\"\",PFS_PFD_SelectionTool!O92)","v":""}]
[{"$f":"IF(ISBLANK(PFS_PFD_SelectionTool!C93),\"\",PFS_PFD_SelectionTool!C93)","v":84603180},{"$f":"IF(ISBLANK(PFS_PFD_SelectionTool!D93),\"\",PFS_PFD_SelectionTool!D93)","v":"PFS 778L-5/1T/N"},{"$f":"IF(ISBLANK(PFS_PFD_SelectionTool!E93&\"_\"&PFS_PFD_SelectionTool!F93&\"_\"&PFS_PFD_SelectionTool!G93&\"_\"&PFS_PFD_SelectionTool!H93&\"_\"&PFS_PFD_SelectionTool!I93&\"_\"&PFS_PFD_SelectionTool!J93),\"\",PFS_PFD_SelectionTool!E93&\"_\"&PFS_PFD_SelectionTool!F93&\"_\"&PFS_PFD_SelectionTool!G93&\"_\"&PFS_PFD_SelectionTool!H93&\"_\"&PFS_PFD_SelectionTool!I93&\"_\"&PFS_PFD_SelectionTool!J93)","v":"230_2_1_1_2_1"},{"$f":"IF(ISBLANK(PFS_PFD_SelectionTool!K93),\"\",PFS_PFD_SelectionTool!K93)","v":88650073},{"$f":"VLOOKUP(D77,Tabelle1!A:B,2,FALSE)","v":"PFU 760LTK1"},{"$f":"IF(ISBLANK(PFS_PFD_SelectionTool!N93),\"\",PFS_PFD_SelectionTool!N93)","v":""},{"$f":"IF(ISBLANK(PFS_PFD_SelectionTool!O93),\"\",PFS_PFD_SelectionTool!O93)","v":""}]
[{"$f":"IF(ISBLANK(PFS_PFD_SelectionTool!C94),\"\",PFS_PFD_SelectionTool!C94)","v":84603140},{"$f":"IF(ISBLANK(PFS_PFD_SelectionTool!D94),\"\",PFS_PFD_SelectionTool!D94)","v":"PFS 778S-5/1T/N "},{"$f":"IF(ISBLANK(PFS_PFD_SelectionTool!E94&\"_\"&PFS_PFD_SelectionTool!F94&\"_\"&PFS_PFD_SelectionTool!G94&\"_\"&PFS_PFD_SelectionTool!H94&\"_\"&PFS_PFD_SelectionTool!I94&\"_\"&PFS_PFD_SelectionTool!J94),\"\",PFS_PFD_SelectionTool!E94&\"_\"&PFS_PFD_SelectionTool!F94&\"_\"&PFS_PFD_SelectionTool!G94&\"_\"&PFS_PFD_SelectionTool!H94&\"_\"&PFS_PFD_SelectionTool!I94&\"_\"&PFS_PFD_SelectionTool!J94)","v":"230_na_2_2_2_3"},{"$f":"IF(ISBLANK(PFS_PFD_SelectionTool!K94),\"\",PFS_PFD_SelectionTool!K94)","v":88650738},{"$f":"VLOOKUP(D78,Tabelle1!A:B,2,FALSE)","v":"PFU 760TK1"},{"$f":"IF(ISBLANK(PFS_PFD_SelectionTool!N94),\"\",PFS_PFD_SelectionTool!N94)","v":""},{"$f":"IF(ISBLANK(PFS_PFD_SelectionTool!O94),\"\",PFS_PFD_SelectionTool!O94)","v":""}]
[{"$f":"IF(ISBLANK(PFS_PFD_SelectionTool!C95),\"\",PFS_PFD_SelectionTool!C95)","v":84603180},{"$f":"IF(ISBLANK(PFS_PFD_SelectionTool!D95),\"\",PFS_PFD_SelectionTool!D95)","v":"PFS 778L-5/1T/N"},{"$f":"IF(ISBLANK(PFS_PFD_SelectionTool!E95&\"_\"&PFS_PFD_SelectionTool!F95&\"_\"&PFS_PFD_SelectionTool!G95&\"_\"&PFS_PFD_SelectionTool!H95&\"_\"&PFS_PFD_SelectionTool!I95&\"_\"&PFS_PFD_SelectionTool!J95),\"\",PFS_PFD_SelectionTool!E95&\"_\"&PFS_PFD_SelectionTool!F95&\"_\"&PFS_PFD_SelectionTool!G95&\"_\"&PFS_PFD_SelectionTool!H95&\"_\"&PFS_PFD_SelectionTool!I95&\"_\"&PFS_PFD_SelectionTool!J95)","v":"230_3_2_2_1_1"},{"$f":"IF(ISBLANK(PFS_PFD_SelectionTool!K95),\"\",PFS_PFD_SelectionTool!K95)","v":88650226},{"$f":"VLOOKUP(D79,Tabelle1!A:B,2,FALSE)","v":"PFU 760LTK1"},{"$f":"IF(ISBLANK(PFS_PFD_SelectionTool!N95),\"\",PFS_PFD_SelectionTool!N95)","v":""},{"$f":"IF(ISBLANK(PFS_PFD_SelectionTool!O95),\"\",PFS_PFD_SelectionTool!O95)","v":""}]
[{"$f":"IF(ISBLANK(PFS_PFD_SelectionTool!C96),\"\",PFS_PFD_SelectionTool!C96)","v":84603170},{"$f":"IF(ISBLANK(PFS_PFD_SelectionTool!D96),\"\",PFS_PFD_SelectionTool!D96)","v":"PFS 778L-3/1T/N"},{"$f":"IF(ISBLANK(PFS_PFD_SelectionTool!E96&\"_\"&PFS_PFD_SelectionTool!F96&\"_\"&PFS_PFD_SelectionTool!G96&\"_\"&PFS_PFD_SelectionTool!H96&\"_\"&PFS_PFD_SelectionTool!I96&\"_\"&PFS_PFD_SelectionTool!J96),\"\",PFS_PFD_SelectionTool!E96&\"_\"&PFS_PFD_SelectionTool!F96&\"_\"&PFS_PFD_SelectionTool!G96&\"_\"&PFS_PFD_SelectionTool!H96&\"_\"&PFS_PFD_SelectionTool!I96&\"_\"&PFS_PFD_SelectionTool!J96)","v":"230_2_2_1_1_1"},{"$f":"IF(ISBLANK(PFS_PFD_SelectionTool!K96),\"\",PFS_PFD_SelectionTool!K96)","v":88650263},{"$f":"VLOOKUP(D80,Tabelle1!A:B,2,FALSE)","v":"PFU 760LTK1"},{"$f":"IF(ISBLANK(PFS_PFD_SelectionTool!N96),\"\",PFS_PFD_SelectionTool!N96)","v":""},{"$f":"IF(ISBLANK(PFS_PFD_SelectionTool!O96),\"\",PFS_PFD_SelectionTool!O96)","v":""}]
[{"$f":"IF(ISBLANK(PFS_PFD_SelectionTool!C97),\"\",PFS_PFD_SelectionTool!C97)","v":84603180},{"$f":"IF(ISBLANK(PFS_PFD_SelectionTool!D97),\"\",PFS_PFD_SelectionTool!D97)","v":"PFS 778L-5/1T/N"},{"$f":"IF(ISBLANK(PFS_PFD_SelectionTool!E97&\"_\"&PFS_PFD_SelectionTool!F97&\"_\"&PFS_PFD_SelectionTool!G97&\"_\"&PFS_PFD_SelectionTool!H97&\"_\"&PFS_PFD_SelectionTool!I97&\"_\"&PFS_PFD_SelectionTool!J97),\"\",PFS_PFD_SelectionTool!E97&\"_\"&PFS_PFD_SelectionTool!F97&\"_\"&PFS_PFD_SelectionTool!G97&\"_\"&PFS_PFD_SelectionTool!H97&\"_\"&PFS_PFD_SelectionTool!I97&\"_\"&PFS_PFD_SelectionTool!J97)","v":"230_3_3_1_2_1"},{"$f":"IF(ISBLANK(PFS_PFD_SelectionTool!K97),\"\",PFS_PFD_SelectionTool!K97)","v":88650153},{"$f":"VLOOKUP(D81,Tabelle1!A:B,2,FALSE)","v":"PFU 760LTK1"},{"$f":"IF(ISBLANK(PFS_PFD_SelectionTool!N97),\"\",PFS_PFD_SelectionTool!N97)","v":""},{"$f":"IF(ISBLANK(PFS_PFD_SelectionTool!O97),\"\",PFS_PFD_SelectionTool!O97)","v":""}]
[{"$f":"IF(ISBLANK(PFS_PFD_SelectionTool!C98),\"\",PFS_PFD_SelectionTool!C98)","v":84603180},{"$f":"IF(ISBLANK(PFS_PFD_SelectionTool!D98),\"\",PFS_PFD_SelectionTool!D98)","v":"PFS 778L-5/1T/N"},{"$f":"IF(ISBLANK(PFS_PFD_SelectionTool!E98&\"_\"&PFS_PFD_SelectionTool!F98&\"_\"&PFS_PFD_SelectionTool!G98&\"_\"&PFS_PFD_SelectionTool!H98&\"_\"&PFS_PFD_SelectionTool!I98&\"_\"&PFS_PFD_SelectionTool!J98),\"\",PFS_PFD_SelectionTool!E98&\"_\"&PFS_PFD_SelectionTool!F98&\"_\"&PFS_PFD_SelectionTool!G98&\"_\"&PFS_PFD_SelectionTool!H98&\"_\"&PFS_PFD_SelectionTool!I98&\"_\"&PFS_PFD_SelectionTool!J98)","v":"230_1_2_1_2_5"},{"$f":"IF(ISBLANK(PFS_PFD_SelectionTool!K98),\"\",PFS_PFD_SelectionTool!K98)","v":88650629},{"$f":"VLOOKUP(D82,Tabelle1!A:B,2,FALSE)","v":"PFU 760LTK1"},{"$f":"IF(ISBLANK(PFS_PFD_SelectionTool!N98),\"\",PFS_PFD_SelectionTool!N98)","v":""},{"$f":"IF(ISBLANK(PFS_PFD_SelectionTool!O98),\"\",PFS_PFD_SelectionTool!O98)","v":""}]
[{"$f":"IF(ISBLANK(PFS_PFD_SelectionTool!C99),\"\",PFS_PFD_SelectionTool!C99)","v":84603180},{"$f":"IF(ISBLANK(PFS_PFD_SelectionTool!D99),\"\",PFS_PFD_SelectionTool!D99)","v":"PFS 778L-5/1T/N"},{"$f":"IF(ISBLANK(PFS_PFD_SelectionTool!E99&\"_\"&PFS_PFD_SelectionTool!F99&\"_\"&PFS_PFD_SelectionTool!G99&\"_\"&PFS_PFD_SelectionTool!H99&\"_\"&PFS_PFD_SelectionTool!I99&\"_\"&PFS_PFD_SelectionTool!J99),\"\",PFS_PFD_SelectionTool!E99&\"_\"&PFS_PFD_SelectionTool!F99&\"_\"&PFS_PFD_SelectionTool!G99&\"_\"&PFS_PFD_SelectionTool!H99&\"_\"&PFS_PFD_SelectionTool!I99&\"_\"&PFS_PFD_SelectionTool!J99)","v":"230_1_2_1_2_4"},{"$f":"IF(ISBLANK(PFS_PFD_SelectionTool!K99),\"\",PFS_PFD_SelectionTool!K99)","v":88650281},{"$f":"VLOOKUP(D83,Tabelle1!A:B,2,FALSE)","v":"PFU 760LTK1"},{"$f":"IF(ISBLANK(PFS_PFD_SelectionTool!N99),\"\",PFS_PFD_SelectionTool!N99)","v":""},{"$f":"IF(ISBLANK(PFS_PFD_SelectionTool!O99),\"\",PFS_PFD_SelectionTool!O99)","v":""}]
[{"$f":"IF(ISBLANK(PFS_PFD_SelectionTool!C100),\"\",PFS_PFD_SelectionTool!C100)","v":84603180},{"$f":"IF(ISBLANK(PFS_PFD_SelectionTool!D100),\"\",PFS_PFD_SelectionTool!D100)","v":"PFS 778L-5/1T/N"},{"$f":"IF(ISBLANK(PFS_PFD_SelectionTool!E100&\"_\"&PFS_PFD_SelectionTool!F100&\"_\"&PFS_PFD_SelectionTool!G100&\"_\"&PFS_PFD_SelectionTool!H100&\"_\"&PFS_PFD_SelectionTool!I100&\"_\"&PFS_PFD_SelectionTool!J100),\"\",PFS_PFD_SelectionTool!E100&\"_\"&PFS_PFD_SelectionTool!F100&\"_\"&PFS_PFD_SelectionTool!G100&\"_\"&PFS_PFD_SelectionTool!H100&\"_\"&PFS_PFD_SelectionTool!I100&\"_\"&PFS_PFD_SelectionTool!J100)","v":"230_1_1_1_2_3"},{"$f":"IF(ISBLANK(PFS_PFD_SelectionTool!K100),\"\",PFS_PFD_SelectionTool!K100)","v":88650765},{"$f":"VLOOKUP(D84,Tabelle1!A:B,2,FALSE)","v":"PFU 760LTK1"},{"$f":"IF(ISBLANK(PFS_PFD_SelectionTool!N100),\"\",PFS_PFD_SelectionTool!N100)","v":""},{"$f":"IF(ISBLANK(PFS_PFD_SelectionTool!O100),\"\",PFS_PFD_SelectionTool!O100)","v":""}]
[{"$f":"IF(ISBLANK(PFS_PFD_SelectionTool!C101),\"\",PFS_PFD_SelectionTool!C101)","v":84603130},{"$f":"IF(ISBLANK(PFS_PFD_SelectionTool!D101),\"\",PFS_PFD_SelectionTool!D101)","v":"PFS 778S-3/1T/N"},{"$f":"IF(ISBLANK(PFS_PFD_SelectionTool!E101&\"_\"&PFS_PFD_SelectionTool!F101&\"_\"&PFS_PFD_SelectionTool!G101&\"_\"&PFS_PFD_SelectionTool!H101&\"_\"&PFS_PFD_SelectionTool!I101&\"_\"&PFS_PFD_SelectionTool!J101),\"\",PFS_PFD_SelectionTool!E101&\"_\"&PFS_PFD_SelectionTool!F101&\"_\"&PFS_PFD_SelectionTool!G101&\"_\"&PFS_PFD_SelectionTool!H101&\"_\"&PFS_PFD_SelectionTool!I101&\"_\"&PFS_PFD_SelectionTool!J101)","v":"230_na_2_1_2_4"},{"$f":"IF(ISBLANK(PFS_PFD_SelectionTool!K101),\"\",PFS_PFD_SelectionTool!K101)","v":88650768},{"$f":"VLOOKUP(D85,Tabelle1!A:B,2,FALSE)","v":"PFU 760TK1"},{"$f":"IF(ISBLANK(PFS_PFD_SelectionTool!N101),\"\",PFS_PFD_SelectionTool!N101)","v":""},{"$f":"IF(ISBLANK(PFS_PFD_SelectionTool!O101),\"\",PFS_PFD_SelectionTool!O101)","v":""}]
[{"$f":"IF(ISBLANK(PFS_PFD_SelectionTool!C102),\"\",PFS_PFD_SelectionTool!C102)","v":84603170},{"$f":"IF(ISBLANK(PFS_PFD_SelectionTool!D102),\"\",PFS_PFD_SelectionTool!D102)","v":"PFS 778L-3/1T/N"},{"$f":"IF(ISBLANK(PFS_PFD_SelectionTool!E102&\"_\"&PFS_PFD_SelectionTool!F102&\"_\"&PFS_PFD_SelectionTool!G102&\"_\"&PFS_PFD_SelectionTool!H102&\"_\"&PFS_PFD_SelectionTool!I102&\"_\"&PFS_PFD_SelectionTool!J102),\"\",PFS_PFD_SelectionTool!E102&\"_\"&PFS_PFD_SelectionTool!F102&\"_\"&PFS_PFD_SelectionTool!G102&\"_\"&PFS_PFD_SelectionTool!H102&\"_\"&PFS_PFD_SelectionTool!I102&\"_\"&PFS_PFD_SelectionTool!J102)","v":"230_2_2_1_2_10"},{"$f":"IF(ISBLANK(PFS_PFD_SelectionTool!K102),\"\",PFS_PFD_SelectionTool!K102)","v":88650772},{"$f":"VLOOKUP(D86,Tabelle1!A:B,2,FALSE)","v":"PFU 760LTK1"},{"$f":"IF(ISBLANK(PFS_PFD_SelectionTool!N102),\"\",PFS_PFD_SelectionTool!N102)","v":""},{"$f":"IF(ISBLANK(PFS_PFD_SelectionTool!O102),\"\",PFS_PFD_SelectionTool!O102)","v":""}]
[{"$f":"IF(ISBLANK(PFS_PFD_SelectionTool!C103),\"\",PFS_PFD_SelectionTool!C103)","v":84603180},{"$f":"IF(ISBLANK(PFS_PFD_SelectionTool!D103),\"\",PFS_PFD_SelectionTool!D103)","v":"PFS 778L-5/1T/N"},{"$f":"IF(ISBLANK(PFS_PFD_SelectionTool!E103&\"_\"&PFS_PFD_SelectionTool!F103&\"_\"&PFS_PFD_SelectionTool!G103&\"_\"&PFS_PFD_SelectionTool!H103&\"_\"&PFS_PFD_SelectionTool!I103&\"_\"&PFS_PFD_SelectionTool!J103),\"\",PFS_PFD_SelectionTool!E103&\"_\"&PFS_PFD_SelectionTool!F103&\"_\"&PFS_PFD_SelectionTool!G103&\"_\"&PFS_PFD_SelectionTool!H103&\"_\"&PFS_PFD_SelectionTool!I103&\"_\"&PFS_PFD_SelectionTool!J103)","v":"230_3_2_1_2_1"},{"$f":"IF(ISBLANK(PFS_PFD_SelectionTool!K103),\"\",PFS_PFD_SelectionTool!K103)","v":88650153},{"$f":"VLOOKUP(D87,Tabelle1!A:B,2,FALSE)","v":"PFU 760LTK1"},{"$f":"IF(ISBLANK(PFS_PFD_SelectionTool!N103),\"\",PFS_PFD_SelectionTool!N103)","v":""},{"$f":"IF(ISBLANK(PFS_PFD_SelectionTool!O103),\"\",PFS_PFD_SelectionTool!O103)","v":""}]
[{"$f":"IF(ISBLANK(PFS_PFD_SelectionTool!C104),\"\",PFS_PFD_SelectionTool!C104)","v":84603180},{"$f":"IF(ISBLANK(PFS_PFD_SelectionTool!D104),\"\",PFS_PFD_SelectionTool!D104)","v":"PFS 778L-5/1T/N"},{"$f":"IF(ISBLANK(PFS_PFD_SelectionTool!E104&\"_\"&PFS_PFD_SelectionTool!F104&\"_\"&PFS_PFD_SelectionTool!G104&\"_\"&PFS_PFD_SelectionTool!H104&\"_\"&PFS_PFD_SelectionTool!I104&\"_\"&PFS_PFD_SelectionTool!J104),\"\",PFS_PFD_SelectionTool!E104&\"_\"&PFS_PFD_SelectionTool!F104&\"_\"&PFS_PFD_SelectionTool!G104&\"_\"&PFS_PFD_SelectionTool!H104&\"_\"&PFS_PFD_SelectionTool!I104&\"_\"&PFS_PFD_SelectionTool!J104)","v":"230_2_2_1_1_3"},{"$f":"IF(ISBLANK(PFS_PFD_SelectionTool!K104),\"\",PFS_PFD_SelectionTool!K104)","v":88650491},{"$f":"VLOOKUP(D88,Tabelle1!A:B,2,FALSE)","v":"PFU 760LTK1"},{"$f":"IF(ISBLANK(PFS_PFD_SelectionTool!N104),\"\",PFS_PFD_SelectionTool!N104)","v":""},{"$f":"IF(ISBLANK(PFS_PFD_SelectionTool!O104),\"\",PFS_PFD_SelectionTool!O104)","v":""}]
[{"$f":"IF(ISBLANK(PFS_PFD_SelectionTool!C105),\"\",PFS_PFD_SelectionTool!C105)","v":84603180},{"$f":"IF(ISBLANK(PFS_PFD_SelectionTool!D105),\"\",PFS_PFD_SelectionTool!D105)","v":"PFS 778L-5/1T/N"},{"$f":"IF(ISBLANK(PFS_PFD_SelectionTool!E105&\"_\"&PFS_PFD_SelectionTool!F105&\"_\"&PFS_PFD_SelectionTool!G105&\"_\"&PFS_PFD_SelectionTool!H105&\"_\"&PFS_PFD_SelectionTool!I105&\"_\"&PFS_PFD_SelectionTool!J105),\"\",PFS_PFD_SelectionTool!E105&\"_\"&PFS_PFD_SelectionTool!F105&\"_\"&PFS_PFD_SelectionTool!G105&\"_\"&PFS_PFD_SelectionTool!H105&\"_\"&PFS_PFD_SelectionTool!I105&\"_\"&PFS_PFD_SelectionTool!J105)","v":"230_3_1_1_2_1"},{"$f":"IF(ISBLANK(PFS_PFD_SelectionTool!K105),\"\",PFS_PFD_SelectionTool!K105)","v":88650745},{"$f":"VLOOKUP(D89,Tabelle1!A:B,2,FALSE)","v":"PFU 760LTK1"},{"$f":"IF(ISBLANK(PFS_PFD_SelectionTool!N105),\"\",PFS_PFD_SelectionTool!N105)","v":""},{"$f":"IF(ISBLANK(PFS_PFD_SelectionTool!O105),\"\",PFS_PFD_SelectionTool!O105)","v":""}]
[{"$f":"IF(ISBLANK(PFS_PFD_SelectionTool!C106),\"\",PFS_PFD_SelectionTool!C106)","v":84603680},{"$f":"IF(ISBLANK(PFS_PFD_SelectionTool!D106),\"\",PFS_PFD_SelectionTool!D106)","v":"PFD 778D-5/1T/N"},{"$f":"IF(ISBLANK(PFS_PFD_SelectionTool!E106&\"_\"&PFS_PFD_SelectionTool!F106&\"_\"&PFS_PFD_SelectionTool!G106&\"_\"&PFS_PFD_SelectionTool!H106&\"_\"&PFS_PFD_SelectionTool!I106&\"_\"&PFS_PFD_SelectionTool!J106),\"\",PFS_PFD_SelectionTool!E106&\"_\"&PFS_PFD_SelectionTool!F106&\"_\"&PFS_PFD_SelectionTool!G106&\"_\"&PFS_PFD_SelectionTool!H106&\"_\"&PFS_PFD_SelectionTool!I106&\"_\"&PFS_PFD_SelectionTool!J106)","v":"230_1_2_1_2_1"},{"$f":"IF(ISBLANK(PFS_PFD_SelectionTool!K106),\"\",PFS_PFD_SelectionTool!K106)","v":88650057},{"$f":"VLOOKUP(D90,Tabelle1!A:B,2,FALSE)","v":"PFU 760LTK1"},{"$f":"IF(ISBLANK(PFS_PFD_SelectionTool!N106),\"\",PFS_PFD_SelectionTool!N106)","v":""},{"$f":"IF(ISBLANK(PFS_PFD_SelectionTool!O106),\"\",PFS_PFD_SelectionTool!O106)","v":""}]
[{"$f":"IF(ISBLANK(PFS_PFD_SelectionTool!C107),\"\",PFS_PFD_SelectionTool!C107)","v":84603680},{"$f":"IF(ISBLANK(PFS_PFD_SelectionTool!D107),\"\",PFS_PFD_SelectionTool!D107)","v":"PFD 778D-5/1T/N"},{"$f":"IF(ISBLANK(PFS_PFD_SelectionTool!E107&\"_\"&PFS_PFD_SelectionTool!F107&\"_\"&PFS_PFD_SelectionTool!G107&\"_\"&PFS_PFD_SelectionTool!H107&\"_\"&PFS_PFD_SelectionTool!I107&\"_\"&PFS_PFD_SelectionTool!J107),\"\",PFS_PFD_SelectionTool!E107&\"_\"&PFS_PFD_SelectionTool!F107&\"_\"&PFS_PFD_SelectionTool!G107&\"_\"&PFS_PFD_SelectionTool!H107&\"_\"&PFS_PFD_SelectionTool!I107&\"_\"&PFS_PFD_SelectionTool!J107)","v":"230_2_1_1_1_1"},{"$f":"IF(ISBLANK(PFS_PFD_SelectionTool!K107),\"\",PFS_PFD_SelectionTool!K107)","v":88650783},{"$f":"VLOOKUP(D91,Tabelle1!A:B,2,FALSE)","v":"PFU 760LTK1"},{"$f":"IF(ISBLANK(PFS_PFD_SelectionTool!N107),\"\",PFS_PFD_SelectionTool!N107)","v":""},{"$f":"IF(ISBLANK(PFS_PFD_SelectionTool!O107),\"\",PFS_PFD_SelectionTool!O107)","v":""}]
[{"$f":"IF(ISBLANK(PFS_PFD_SelectionTool!C108),\"\",PFS_PFD_SelectionTool!C108)","v":84603280},{"$f":"IF(ISBLANK(PFS_PFD_SelectionTool!D108),\"\",PFS_PFD_SelectionTool!D108)","v":"PFS 778D-5/1T/N"},{"$f":"IF(ISBLANK(PFS_PFD_SelectionTool!E108&\"_\"&PFS_PFD_SelectionTool!F108&\"_\"&PFS_PFD_SelectionTool!G108&\"_\"&PFS_PFD_SelectionTool!H108&\"_\"&PFS_PFD_SelectionTool!I108&\"_\"&PFS_PFD_SelectionTool!J108),\"\",PFS_PFD_SelectionTool!E108&\"_\"&PFS_PFD_SelectionTool!F108&\"_\"&PFS_PFD_SelectionTool!G108&\"_\"&PFS_PFD_SelectionTool!H108&\"_\"&PFS_PFD_SelectionTool!I108&\"_\"&PFS_PFD_SelectionTool!J108)","v":"230_3_2_2_1_1"},{"$f":"IF(ISBLANK(PFS_PFD_SelectionTool!K108),\"\",PFS_PFD_SelectionTool!K108)","v":88650712},{"$f":"VLOOKUP(D92,Tabelle1!A:B,2,FALSE)","v":"PFU 760LTK1"},{"$f":"IF(ISBLANK(PFS_PFD_SelectionTool!N108),\"\",PFS_PFD_SelectionTool!N108)","v":""},{"$f":"IF(ISBLANK(PFS_PFD_SelectionTool!O108),\"\",PFS_PFD_SelectionTool!O108)","v":""}]
[{"$f":"IF(ISBLANK(PFS_PFD_SelectionTool!C109),\"\",PFS_PFD_SelectionTool!C109)","v":84603050},{"$f":"IF(ISBLANK(PFS_PFD_SelectionTool!D109),\"\",PFS_PFD_SelectionTool!D109)","v":"PFS 748S-10/1T/N"},{"$f":"IF(ISBLANK(PFS_PFD_SelectionTool!E109&\"_\"&PFS_PFD_SelectionTool!F109&\"_\"&PFS_PFD_SelectionTool!G109&\"_\"&PFS_PFD_SelectionTool!H109&\"_\"&PFS_PFD_SelectionTool!I109&\"_\"&PFS_PFD_SelectionTool!J109),\"\",PFS_PFD_SelectionTool!E109&\"_\"&PFS_PFD_SelectionTool!F109&\"_\"&PFS_PFD_SelectionTool!G109&\"_\"&PFS_PFD_SelectionTool!H109&\"_\"&PFS_PFD_SelectionTool!I109&\"_\"&PFS_PFD_SelectionTool!J109)","v":"230_na_2_1_2_1"},{"$f":"IF(ISBLANK(PFS_PFD_SelectionTool!K109),\"\",PFS_PFD_SelectionTool!K109)","v":88650033},{"$f":"VLOOKUP(D93,Tabelle1!A:B,2,FALSE)","v":"PFU 760TK1"},{"$f":"IF(ISBLANK(PFS_PFD_SelectionTool!N109),\"\",PFS_PFD_SelectionTool!N109)","v":""},{"$f":"IF(ISBLANK(PFS_PFD_SelectionTool!O109),\"\",PFS_PFD_SelectionTool!O109)","v":""}]
[{"$f":"IF(ISBLANK(PFS_PFD_SelectionTool!C110),\"\",PFS_PFD_SelectionTool!C110)","v":84603180},{"$f":"IF(ISBLANK(PFS_PFD_SelectionTool!D110),\"\",PFS_PFD_SelectionTool!D110)","v":"PFS 778L-5/1T/N"},{"$f":"IF(ISBLANK(PFS_PFD_SelectionTool!E110&\"_\"&PFS_PFD_SelectionTool!F110&\"_\"&PFS_PFD_SelectionTool!G110&\"_\"&PFS_PFD_SelectionTool!H110&\"_\"&PFS_PFD_SelectionTool!I110&\"_\"&PFS_PFD_SelectionTool!J110),\"\",PFS_PFD_SelectionTool!E110&\"_\"&PFS_PFD_SelectionTool!F110&\"_\"&PFS_PFD_SelectionTool!G110&\"_\"&PFS_PFD_SelectionTool!H110&\"_\"&PFS_PFD_SelectionTool!I110&\"_\"&PFS_PFD_SelectionTool!J110)","v":"115_1_2_1_2_4"},{"$f":"IF(ISBLANK(PFS_PFD_SelectionTool!K110),\"\",PFS_PFD_SelectionTool!K110)","v":88650249},{"$f":"VLOOKUP(D94,Tabelle1!A:B,2,FALSE)","v":"PFU 760LNK1"},{"$f":"IF(ISBLANK(PFS_PFD_SelectionTool!N110),\"\",PFS_PFD_SelectionTool!N110)","v":""},{"$f":"IF(ISBLANK(PFS_PFD_SelectionTool!O110),\"\",PFS_PFD_SelectionTool!O110)","v":""}]
[{"$f":"IF(ISBLANK(PFS_PFD_SelectionTool!C111),\"\",PFS_PFD_SelectionTool!C111)","v":84603190},{"$f":"IF(ISBLANK(PFS_PFD_SelectionTool!D111),\"\",PFS_PFD_SelectionTool!D111)","v":"PFS 778L-10/1T/N"},{"$f":"IF(ISBLANK(PFS_PFD_SelectionTool!E111&\"_\"&PFS_PFD_SelectionTool!F111&\"_\"&PFS_PFD_SelectionTool!G111&\"_\"&PFS_PFD_SelectionTool!H111&\"_\"&PFS_PFD_SelectionTool!I111&\"_\"&PFS_PFD_SelectionTool!J111),\"\",PFS_PFD_SelectionTool!E111&\"_\"&PFS_PFD_SelectionTool!F111&\"_\"&PFS_PFD_SelectionTool!G111&\"_\"&PFS_PFD_SelectionTool!H111&\"_\"&PFS_PFD_SelectionTool!I111&\"_\"&PFS_PFD_SelectionTool!J111)","v":"230_2_2_1_2_10"},{"$f":"IF(ISBLANK(PFS_PFD_SelectionTool!K111),\"\",PFS_PFD_SelectionTool!K111)","v":88650789},{"$f":"VLOOKUP(D95,Tabelle1!A:B,2,FALSE)","v":"PFU 760LTK1"},{"$f":"IF(ISBLANK(PFS_PFD_SelectionTool!N111),\"\",PFS_PFD_SelectionTool!N111)","v":""},{"$f":"IF(ISBLANK(PFS_PFD_SelectionTool!O111),\"\",PFS_PFD_SelectionTool!O111)","v":""}]
[{"$f":"IF(ISBLANK(PFS_PFD_SelectionTool!C112),\"\",PFS_PFD_SelectionTool!C112)","v":84603750},{"$f":"IF(ISBLANK(PFS_PFD_SelectionTool!D112),\"\",PFS_PFD_SelectionTool!D112)","v":"PFD 778M-10/1T/N"},{"$f":"IF(ISBLANK(PFS_PFD_SelectionTool!E112&\"_\"&PFS_PFD_SelectionTool!F112&\"_\"&PFS_PFD_SelectionTool!G112&\"_\"&PFS_PFD_SelectionTool!H112&\"_\"&PFS_PFD_SelectionTool!I112&\"_\"&PFS_PFD_SelectionTool!J112),\"\",PFS_PFD_SelectionTool!E112&\"_\"&PFS_PFD_SelectionTool!F112&\"_\"&PFS_PFD_SelectionTool!G112&\"_\"&PFS_PFD_SelectionTool!H112&\"_\"&PFS_PFD_SelectionTool!I112&\"_\"&PFS_PFD_SelectionTool!J112)","v":"230_2_2_1_2_1"},{"$f":"IF(ISBLANK(PFS_PFD_SelectionTool!K112),\"\",PFS_PFD_SelectionTool!K112)","v":88650210},{"$f":"VLOOKUP(D96,Tabelle1!A:B,2,FALSE)","v":"PFU 760TK1"},{"$f":"IF(ISBLANK(PFS_PFD_SelectionTool!N112),\"\",PFS_PFD_SelectionTool!N112)","v":""},{"$f":"IF(ISBLANK(PFS_PFD_SelectionTool!O112),\"\",PFS_PFD_SelectionTool!O112)","v":""}]
[{"$f":"IF(ISBLANK(PFS_PFD_SelectionTool!C113),\"\",PFS_PFD_SelectionTool!C113)","v":84603140},{"$f":"IF(ISBLANK(PFS_PFD_SelectionTool!D113),\"\",PFS_PFD_SelectionTool!D113)","v":"PFS 778S-5/1T/N"},{"$f":"IF(ISBLANK(PFS_PFD_SelectionTool!E113&\"_\"&PFS_PFD_SelectionTool!F113&\"_\"&PFS_PFD_SelectionTool!G113&\"_\"&PFS_PFD_SelectionTool!H113&\"_\"&PFS_PFD_SelectionTool!I113&\"_\"&PFS_PFD_SelectionTool!J113),\"\",PFS_PFD_SelectionTool!E113&\"_\"&PFS_PFD_SelectionTool!F113&\"_\"&PFS_PFD_SelectionTool!G113&\"_\"&PFS_PFD_SelectionTool!H113&\"_\"&PFS_PFD_SelectionTool!I113&\"_\"&PFS_PFD_SelectionTool!J113)","v":"230_na_1_2_2_1"},{"$f":"IF(ISBLANK(PFS_PFD_SelectionTool!K113),\"\",PFS_PFD_SelectionTool!K113)","v":88650608},{"$f":"VLOOKUP(D97,Tabelle1!A:B,2,FALSE)","v":"PFU 760TK1"},{"$f":"IF(ISBLANK(PFS_PFD_SelectionTool!N113),\"\",PFS_PFD_SelectionTool!N113)","v":""},{"$f":"IF(ISBLANK(PFS_PFD_SelectionTool!O113),\"\",PFS_PFD_SelectionTool!O113)","v":""}]
[{"$f":"IF(ISBLANK(PFS_PFD_SelectionTool!C114),\"\",PFS_PFD_SelectionTool!C114)","v":84603170},{"$f":"IF(ISBLANK(PFS_PFD_SelectionTool!D114),\"\",PFS_PFD_SelectionTool!D114)","v":"PFS 778L-3/1"},{"$f":"IF(ISBLANK(PFS_PFD_SelectionTool!E114&\"_\"&PFS_PFD_SelectionTool!F114&\"_\"&PFS_PFD_SelectionTool!G114&\"_\"&PFS_PFD_SelectionTool!H114&\"_\"&PFS_PFD_SelectionTool!I114&\"_\"&PFS_PFD_SelectionTool!J114),\"\",PFS_PFD_SelectionTool!E114&\"_\"&PFS_PFD_SelectionTool!F114&\"_\"&PFS_PFD_SelectionTool!G114&\"_\"&PFS_PFD_SelectionTool!H114&\"_\"&PFS_PFD_SelectionTool!I114&\"_\"&PFS_PFD_SelectionTool!J114)","v":"230_1_2_2_1_4"},{"$f":"IF(ISBLANK(PFS_PFD_SelectionTool!K114),\"\",PFS_PFD_SelectionTool!K114)","v":88650803},{"$f":"VLOOKUP(D98,Tabelle1!A:B,2,FALSE)","v":"PFU 760LTK1"},{"$f":"IF(ISBLANK(PFS_PFD_SelectionTool!N114),\"\",PFS_PFD_SelectionTool!N114)","v":""},{"$f":"IF(ISBLANK(PFS_PFD_SelectionTool!O114),\"\",PFS_PFD_SelectionTool!O114)","v":""}]
[{"$f":"IF(ISBLANK(PFS_PFD_SelectionTool!C115),\"\",PFS_PFD_SelectionTool!C115)","v":84603170},{"$f":"IF(ISBLANK(PFS_PFD_SelectionTool!D115),\"\",PFS_PFD_SelectionTool!D115)","v":"PFS 778L-3/1"},{"$f":"IF(ISBLANK(PFS_PFD_SelectionTool!E115&\"_\"&PFS_PFD_SelectionTool!F115&\"_\"&PFS_PFD_SelectionTool!G115&\"_\"&PFS_PFD_SelectionTool!H115&\"_\"&PFS_PFD_SelectionTool!I115&\"_\"&PFS_PFD_SelectionTool!J115),\"\",PFS_PFD_SelectionTool!E115&\"_\"&PFS_PFD_SelectionTool!F115&\"_\"&PFS_PFD_SelectionTool!G115&\"_\"&PFS_PFD_SelectionTool!H115&\"_\"&PFS_PFD_SelectionTool!I115&\"_\"&PFS_PFD_SelectionTool!J115)","v":"230_1_2_2_1_2"},{"$f":"IF(ISBLANK(PFS_PFD_SelectionTool!K115),\"\",PFS_PFD_SelectionTool!K115)","v":88650804},{"$f":"VLOOKUP(D99,Tabelle1!A:B,2,FALSE)","v":"PFU 760LTK1"},{"$f":"IF(ISBLANK(PFS_PFD_SelectionTool!N115),\"\",PFS_PFD_SelectionTool!N115)","v":""},{"$f":"IF(ISBLANK(PFS_PFD_SelectionTool!O115),\"\",PFS_PFD_SelectionTool!O115)","v":""}]
[{"$f":"IF(ISBLANK(PFS_PFD_SelectionTool!C116),\"\",PFS_PFD_SelectionTool!C116)","v":84603090},{"$f":"IF(ISBLANK(PFS_PFD_SelectionTool!D116),\"\",PFS_PFD_SelectionTool!D116)","v":"PFS 748L-10/1T/N"},{"$f":"IF(ISBLANK(PFS_PFD_SelectionTool!E116&\"_\"&PFS_PFD_SelectionTool!F116&\"_\"&PFS_PFD_SelectionTool!G116&\"_\"&PFS_PFD_SelectionTool!H116&\"_\"&PFS_PFD_SelectionTool!I116&\"_\"&PFS_PFD_SelectionTool!J116),\"\",PFS_PFD_SelectionTool!E116&\"_\"&PFS_PFD_SelectionTool!F116&\"_\"&PFS_PFD_SelectionTool!G116&\"_\"&PFS_PFD_SelectionTool!H116&\"_\"&PFS_PFD_SelectionTool!I116&\"_\"&PFS_PFD_SelectionTool!J116)","v":"115_2_2_1_2_1"},{"$f":"IF(ISBLANK(PFS_PFD_SelectionTool!K116),\"\",PFS_PFD_SelectionTool!K116)","v":88650032},{"$f":"VLOOKUP(D100,Tabelle1!A:B,2,FALSE)","v":"PFU 760LNK1"},{"$f":"IF(ISBLANK(PFS_PFD_SelectionTool!N116),\"\",PFS_PFD_SelectionTool!N116)","v":""},{"$f":"IF(ISBLANK(PFS_PFD_SelectionTool!O116),\"\",PFS_PFD_SelectionTool!O116)","v":""}]
[{"$f":"IF(ISBLANK(PFS_PFD_SelectionTool!C117),\"\",PFS_PFD_SelectionTool!C117)","v":84603170},{"$f":"IF(ISBLANK(PFS_PFD_SelectionTool!D117),\"\",PFS_PFD_SelectionTool!D117)","v":"PFS 778L-3/1"},{"$f":"IF(ISBLANK(PFS_PFD_SelectionTool!E117&\"_\"&PFS_PFD_SelectionTool!F117&\"_\"&PFS_PFD_SelectionTool!G117&\"_\"&PFS_PFD_SelectionTool!H117&\"_\"&PFS_PFD_SelectionTool!I117&\"_\"&PFS_PFD_SelectionTool!J117),\"\",PFS_PFD_SelectionTool!E117&\"_\"&PFS_PFD_SelectionTool!F117&\"_\"&PFS_PFD_SelectionTool!G117&\"_\"&PFS_PFD_SelectionTool!H117&\"_\"&PFS_PFD_SelectionTool!I117&\"_\"&PFS_PFD_SelectionTool!J117)","v":"230_2_2_2_1_1"},{"$f":"IF(ISBLANK(PFS_PFD_SelectionTool!K117),\"\",PFS_PFD_SelectionTool!K117)","v":88650819},{"$f":"VLOOKUP(D101,Tabelle1!A:B,2,FALSE)","v":"PFU 760LTK1"},{"$f":"IF(ISBLANK(PFS_PFD_SelectionTool!N117),\"\",PFS_PFD_SelectionTool!N117)","v":""},{"$f":"IF(ISBLANK(PFS_PFD_SelectionTool!O117),\"\",PFS_PFD_SelectionTool!O117)","v":""}]
[{"$f":"IF(ISBLANK(PFS_PFD_SelectionTool!C118),\"\",PFS_PFD_SelectionTool!C118)","v":84603180},{"$f":"IF(ISBLANK(PFS_PFD_SelectionTool!D118),\"\",PFS_PFD_SelectionTool!D118)","v":"PFS 778L-5/1T/N"},{"$f":"IF(ISBLANK(PFS_PFD_SelectionTool!E118&\"_\"&PFS_PFD_SelectionTool!F118&\"_\"&PFS_PFD_SelectionTool!G118&\"_\"&PFS_PFD_SelectionTool!H118&\"_\"&PFS_PFD_SelectionTool!I118&\"_\"&PFS_PFD_SelectionTool!J118),\"\",PFS_PFD_SelectionTool!E118&\"_\"&PFS_PFD_SelectionTool!F118&\"_\"&PFS_PFD_SelectionTool!G118&\"_\"&PFS_PFD_SelectionTool!H118&\"_\"&PFS_PFD_SelectionTool!I118&\"_\"&PFS_PFD_SelectionTool!J118)","v":"230_2_2_1_2_4"},{"$f":"IF(ISBLANK(PFS_PFD_SelectionTool!K118),\"\",PFS_PFD_SelectionTool!K118)","v":88650682},{"$f":"VLOOKUP(D102,Tabelle1!A:B,2,FALSE)","v":"PFU 760LTK1"},{"$f":"IF(ISBLANK(PFS_PFD_SelectionTool!N118),\"\",PFS_PFD_SelectionTool!N118)","v":""},{"$f":"IF(ISBLANK(PFS_PFD_SelectionTool!O118),\"\",PFS_PFD_SelectionTool!O118)","v":""}]
[{"$f":"IF(ISBLANK(PFS_PFD_SelectionTool!C119),\"\",PFS_PFD_SelectionTool!C119)","v":84603170},{"$f":"IF(ISBLANK(PFS_PFD_SelectionTool!D119),\"\",PFS_PFD_SelectionTool!D119)","v":"PFS 778L-3/1T/N"},{"$f":"IF(ISBLANK(PFS_PFD_SelectionTool!E119&\"_\"&PFS_PFD_SelectionTool!F119&\"_\"&PFS_PFD_SelectionTool!G119&\"_\"&PFS_PFD_SelectionTool!H119&\"_\"&PFS_PFD_SelectionTool!I119&\"_\"&PFS_PFD_SelectionTool!J119),\"\",PFS_PFD_SelectionTool!E119&\"_\"&PFS_PFD_SelectionTool!F119&\"_\"&PFS_PFD_SelectionTool!G119&\"_\"&PFS_PFD_SelectionTool!H119&\"_\"&PFS_PFD_SelectionTool!I119&\"_\"&PFS_PFD_SelectionTool!J119)","v":"230_1_3_1_2_5"},{"$f":"IF(ISBLANK(PFS_PFD_SelectionTool!K119),\"\",PFS_PFD_SelectionTool!K119)","v":88650962},{"$f":"VLOOKUP(D103,Tabelle1!A:B,2,FALSE)","v":"PFU 760LTK1"},{"$f":"IF(ISBLANK(PFS_PFD_SelectionTool!N119),\"\",PFS_PFD_SelectionTool!N119)","v":""},{"$f":"IF(ISBLANK(PFS_PFD_SelectionTool!O119),\"\",PFS_PFD_SelectionTool!O119)","v":""}]
[{"$f":"IF(ISBLANK(PFS_PFD_SelectionTool!C120),\"\",PFS_PFD_SelectionTool!C120)","v":84603070},{"$f":"IF(ISBLANK(PFS_PFD_SelectionTool!D120),\"\",PFS_PFD_SelectionTool!D120)","v":"PFS 748L-3/1T/N"},{"$f":"IF(ISBLANK(PFS_PFD_SelectionTool!E120&\"_\"&PFS_PFD_SelectionTool!F120&\"_\"&PFS_PFD_SelectionTool!G120&\"_\"&PFS_PFD_SelectionTool!H120&\"_\"&PFS_PFD_SelectionTool!I120&\"_\"&PFS_PFD_SelectionTool!J120),\"\",PFS_PFD_SelectionTool!E120&\"_\"&PFS_PFD_SelectionTool!F120&\"_\"&PFS_PFD_SelectionTool!G120&\"_\"&PFS_PFD_SelectionTool!H120&\"_\"&PFS_PFD_SelectionTool!I120&\"_\"&PFS_PFD_SelectionTool!J120)","v":"230_1_2_1_2_1"},{"$f":"IF(ISBLANK(PFS_PFD_SelectionTool!K120),\"\",PFS_PFD_SelectionTool!K120)","v":88650159},{"$f":"VLOOKUP(D104,Tabelle1!A:B,2,FALSE)","v":"PFU 760LTK1"},{"$f":"IF(ISBLANK(PFS_PFD_SelectionTool!N120),\"\",PFS_PFD_SelectionTool!N120)","v":""},{"$f":"IF(ISBLANK(PFS_PFD_SelectionTool!O120),\"\",PFS_PFD_SelectionTool!O120)","v":""}]
[{"$f":"IF(ISBLANK(PFS_PFD_SelectionTool!C121),\"\",PFS_PFD_SelectionTool!C121)","v":84603680},{"$f":"IF(ISBLANK(PFS_PFD_SelectionTool!D121),\"\",PFS_PFD_SelectionTool!D121)","v":"PFD 778L-5/1"},{"$f":"IF(ISBLANK(PFS_PFD_SelectionTool!E121&\"_\"&PFS_PFD_SelectionTool!F121&\"_\"&PFS_PFD_SelectionTool!G121&\"_\"&PFS_PFD_SelectionTool!H121&\"_\"&PFS_PFD_SelectionTool!I121&\"_\"&PFS_PFD_SelectionTool!J121),\"\",PFS_PFD_SelectionTool!E121&\"_\"&PFS_PFD_SelectionTool!F121&\"_\"&PFS_PFD_SelectionTool!G121&\"_\"&PFS_PFD_SelectionTool!H121&\"_\"&PFS_PFD_SelectionTool!I121&\"_\"&PFS_PFD_SelectionTool!J121)","v":"230_2_2_2_1_1"},{"$f":"IF(ISBLANK(PFS_PFD_SelectionTool!K121),\"\",PFS_PFD_SelectionTool!K121)","v":88650368},{"$f":"VLOOKUP(D105,Tabelle1!A:B,2,FALSE)","v":"PFU 760LTK1"},{"$f":"IF(ISBLANK(PFS_PFD_SelectionTool!N121),\"\",PFS_PFD_SelectionTool!N121)","v":""},{"$f":"IF(ISBLANK(PFS_PFD_SelectionTool!O121),\"\",PFS_PFD_SelectionTool!O121)","v":""}]
[{"$f":"IF(ISBLANK(PFS_PFD_SelectionTool!C122),\"\",PFS_PFD_SelectionTool!C122)","v":84603180},{"$f":"IF(ISBLANK(PFS_PFD_SelectionTool!D122),\"\",PFS_PFD_SelectionTool!D122)","v":"PFS 778L-5/1"},{"$f":"IF(ISBLANK(PFS_PFD_SelectionTool!E122&\"_\"&PFS_PFD_SelectionTool!F122&\"_\"&PFS_PFD_SelectionTool!G122&\"_\"&PFS_PFD_SelectionTool!H122&\"_\"&PFS_PFD_SelectionTool!I122&\"_\"&PFS_PFD_SelectionTool!J122),\"\",PFS_PFD_SelectionTool!E122&\"_\"&PFS_PFD_SelectionTool!F122&\"_\"&PFS_PFD_SelectionTool!G122&\"_\"&PFS_PFD_SelectionTool!H122&\"_\"&PFS_PFD_SelectionTool!I122&\"_\"&PFS_PFD_SelectionTool!J122)","v":"230_1_1_1_2_3"},{"$f":"IF(ISBLANK(PFS_PFD_SelectionTool!K122),\"\",PFS_PFD_SelectionTool!K122)","v":88650765},{"$f":"VLOOKUP(D106,Tabelle1!A:B,2,FALSE)","v":"PFU 760LTK1"},{"$f":"IF(ISBLANK(PFS_PFD_SelectionTool!N122),\"\",PFS_PFD_SelectionTool!N122)","v":""},{"$f":"IF(ISBLANK(PFS_PFD_SelectionTool!O122),\"\",PFS_PFD_SelectionTool!O122)","v":""}]
[{"$f":"IF(ISBLANK(PFS_PFD_SelectionTool!C123),\"\",PFS_PFD_SelectionTool!C123)","v":84603130},{"$f":"IF(ISBLANK(PFS_PFD_SelectionTool!D123),\"\",PFS_PFD_SelectionTool!D123)","v":"PFS 778S-3/1"},{"$f":"IF(ISBLANK(PFS_PFD_SelectionTool!E123&\"_\"&PFS_PFD_SelectionTool!F123&\"_\"&PFS_PFD_SelectionTool!G123&\"_\"&PFS_PFD_SelectionTool!H123&\"_\"&PFS_PFD_SelectionTool!I123&\"_\"&PFS_PFD_SelectionTool!J123),\"\",PFS_PFD_SelectionTool!E123&\"_\"&PFS_PFD_SelectionTool!F123&\"_\"&PFS_PFD_SelectionTool!G123&\"_\"&PFS_PFD_SelectionTool!H123&\"_\"&PFS_PFD_SelectionTool!I123&\"_\"&PFS_PFD_SelectionTool!J123)","v":"230_na_2_1_2_2"},{"$f":"IF(ISBLANK(PFS_PFD_SelectionTool!K123),\"\",PFS_PFD_SelectionTool!K123)","v":88650801},{"$f":"VLOOKUP(D107,Tabelle1!A:B,2,FALSE)","v":"PFU 760TK1"},{"$f":"IF(ISBLANK(PFS_PFD_SelectionTool!N123),\"\",PFS_PFD_SelectionTool!N123)","v":""},{"$f":"IF(ISBLANK(PFS_PFD_SelectionTool!O123),\"\",PFS_PFD_SelectionTool!O123)","v":""}]
[{"$f":"IF(ISBLANK(PFS_PFD_SelectionTool!C124),\"\",PFS_PFD_SelectionTool!C124)","v":84603180},{"$f":"IF(ISBLANK(PFS_PFD_SelectionTool!D124),\"\",PFS_PFD_SelectionTool!D124)","v":"PFS 778L-5/1T/N"},{"$f":"IF(ISBLANK(PFS_PFD_SelectionTool!E124&\"_\"&PFS_PFD_SelectionTool!F124&\"_\"&PFS_PFD_SelectionTool!G124&\"_\"&PFS_PFD_SelectionTool!H124&\"_\"&PFS_PFD_SelectionTool!I124&\"_\"&PFS_PFD_SelectionTool!J124),\"\",PFS_PFD_SelectionTool!E124&\"_\"&PFS_PFD_SelectionTool!F124&\"_\"&PFS_PFD_SelectionTool!G124&\"_\"&PFS_PFD_SelectionTool!H124&\"_\"&PFS_PFD_SelectionTool!I124&\"_\"&PFS_PFD_SelectionTool!J124)","v":"230_1_1_1_1_3"},{"$f":"IF(ISBLANK(PFS_PFD_SelectionTool!K124),\"\",PFS_PFD_SelectionTool!K124)","v":88650765},{"$f":"VLOOKUP(D108,Tabelle1!A:B,2,FALSE)","v":"PFU 760LTK1"},{"$f":"IF(ISBLANK(PFS_PFD_SelectionTool!N124),\"\",PFS_PFD_SelectionTool!N124)","v":""},{"$f":"IF(ISBLANK(PFS_PFD_SelectionTool!O124),\"\",PFS_PFD_SelectionTool!O124)","v":""}]
[{"$f":"IF(ISBLANK(PFS_PFD_SelectionTool!C125),\"\",PFS_PFD_SelectionTool!C125)","v":84603280},{"$f":"IF(ISBLANK(PFS_PFD_SelectionTool!D125),\"\",PFS_PFD_SelectionTool!D125)","v":"PFS 778D-5/1T/N"},{"$f":"IF(ISBLANK(PFS_PFD_SelectionTool!E125&\"_\"&PFS_PFD_SelectionTool!F125&\"_\"&PFS_PFD_SelectionTool!G125&\"_\"&PFS_PFD_SelectionTool!H125&\"_\"&PFS_PFD_SelectionTool!I125&\"_\"&PFS_PFD_SelectionTool!J125),\"\",PFS_PFD_SelectionTool!E125&\"_\"&PFS_PFD_SelectionTool!F125&\"_\"&PFS_PFD_SelectionTool!G125&\"_\"&PFS_PFD_SelectionTool!H125&\"_\"&PFS_PFD_SelectionTool!I125&\"_\"&PFS_PFD_SelectionTool!J125)","v":"230_2_1_1_2_1"},{"$f":"IF(ISBLANK(PFS_PFD_SelectionTool!K125),\"\",PFS_PFD_SelectionTool!K125)","v":88650964},{"$f":"VLOOKUP(D109,Tabelle1!A:B,2,FALSE)","v":"PFU 760LTK1"},{"$f":"IF(ISBLANK(PFS_PFD_SelectionTool!N125),\"\",PFS_PFD_SelectionTool!N125)","v":""},{"$f":"IF(ISBLANK(PFS_PFD_SelectionTool!O125),\"\",PFS_PFD_SelectionTool!O125)","v":""}]
[{"$f":"IF(ISBLANK(PFS_PFD_SelectionTool!C126),\"\",PFS_PFD_SelectionTool!C126)","v":84603170},{"$f":"IF(ISBLANK(PFS_PFD_SelectionTool!D126),\"\",PFS_PFD_SelectionTool!D126)","v":"PFS 778L-3/1T/N"},{"$f":"IF(ISBLANK(PFS_PFD_SelectionTool!E126&\"_\"&PFS_PFD_SelectionTool!F126&\"_\"&PFS_PFD_SelectionTool!G126&\"_\"&PFS_PFD_SelectionTool!H126&\"_\"&PFS_PFD_SelectionTool!I126&\"_\"&PFS_PFD_SelectionTool!J126),\"\",PFS_PFD_SelectionTool!E126&\"_\"&PFS_PFD_SelectionTool!F126&\"_\"&PFS_PFD_SelectionTool!G126&\"_\"&PFS_PFD_SelectionTool!H126&\"_\"&PFS_PFD_SelectionTool!I126&\"_\"&PFS_PFD_SelectionTool!J126)","v":"230_3_2_1_1_4"},{"$f":"IF(ISBLANK(PFS_PFD_SelectionTool!K126),\"\",PFS_PFD_SelectionTool!K126)","v":88650555},{"$f":"VLOOKUP(D110,Tabelle1!A:B,2,FALSE)","v":"PFU 760LTK1"},{"$f":"IF(ISBLANK(PFS_PFD_SelectionTool!N126),\"\",PFS_PFD_SelectionTool!N126)","v":""},{"$f":"IF(ISBLANK(PFS_PFD_SelectionTool!O126),\"\",PFS_PFD_SelectionTool!O126)","v":""}]
[{"$f":"IF(ISBLANK(PFS_PFD_SelectionTool!C127),\"\",PFS_PFD_SelectionTool!C127)","v":84603170},{"$f":"IF(ISBLANK(PFS_PFD_SelectionTool!D127),\"\",PFS_PFD_SelectionTool!D127)","v":"PFS 778L-3/1T/N"},{"$f":"IF(ISBLANK(PFS_PFD_SelectionTool!E127&\"_\"&PFS_PFD_SelectionTool!F127&\"_\"&PFS_PFD_SelectionTool!G127&\"_\"&PFS_PFD_SelectionTool!H127&\"_\"&PFS_PFD_SelectionTool!I127&\"_\"&PFS_PFD_SelectionTool!J127),\"\",PFS_PFD_SelectionTool!E127&\"_\"&PFS_PFD_SelectionTool!F127&\"_\"&PFS_PFD_SelectionTool!G127&\"_\"&PFS_PFD_SelectionTool!H127&\"_\"&PFS_PFD_SelectionTool!I127&\"_\"&PFS_PFD_SelectionTool!J127)","v":"230_3_2_1_1_2"},{"$f":"IF(ISBLANK(PFS_PFD_SelectionTool!K127),\"\",PFS_PFD_SelectionTool!K127)","v":88650965},{"$f":"VLOOKUP(D111,Tabelle1!A:B,2,FALSE)","v":"PFU 760LTK1"},{"$f":"IF(ISBLANK(PFS_PFD_SelectionTool!N127),\"\",PFS_PFD_SelectionTool!N127)","v":""},{"$f":"IF(ISBLANK(PFS_PFD_SelectionTool!O127),\"\",PFS_PFD_SelectionTool!O127)","v":""}]
[{"$f":"IF(ISBLANK(PFS_PFD_SelectionTool!C128),\"\",PFS_PFD_SelectionTool!C128)","v":84603670},{"$f":"IF(ISBLANK(PFS_PFD_SelectionTool!D128),\"\",PFS_PFD_SelectionTool!D128)","v":"PFD 778L-3/1T/N"},{"$f":"IF(ISBLANK(PFS_PFD_SelectionTool!E128&\"_\"&PFS_PFD_SelectionTool!F128&\"_\"&PFS_PFD_SelectionTool!G128&\"_\"&PFS_PFD_SelectionTool!H128&\"_\"&PFS_PFD_SelectionTool!I128&\"_\"&PFS_PFD_SelectionTool!J128),\"\",PFS_PFD_SelectionTool!E128&\"_\"&PFS_PFD_SelectionTool!F128&\"_\"&PFS_PFD_SelectionTool!G128&\"_\"&PFS_PFD_SelectionTool!H128&\"_\"&PFS_PFD_SelectionTool!I128&\"_\"&PFS_PFD_SelectionTool!J128)","v":"230_2_1_2_2_1"},{"$f":"IF(ISBLANK(PFS_PFD_SelectionTool!K128),\"\",PFS_PFD_SelectionTool!K128)","v":88650963},{"$f":"VLOOKUP(D112,Tabelle1!A:B,2,FALSE)","v":"PFU 760LTK1"},{"$f":"IF(ISBLANK(PFS_PFD_SelectionTool!N128),\"\",PFS_PFD_SelectionTool!N128)","v":""},{"$f":"IF(ISBLANK(PFS_PFD_SelectionTool!O128),\"\",PFS_PFD_SelectionTool!O128)","v":""}]
[{"$f":"IF(ISBLANK(PFS_PFD_SelectionTool!C129),\"\",PFS_PFD_SelectionTool!C129)","v":84603180},{"$f":"IF(ISBLANK(PFS_PFD_SelectionTool!D129),\"\",PFS_PFD_SelectionTool!D129)","v":"PFS 778L-5/1T/N"},{"$f":"IF(ISBLANK(PFS_PFD_SelectionTool!E129&\"_\"&PFS_PFD_SelectionTool!F129&\"_\"&PFS_PFD_SelectionTool!G129&\"_\"&PFS_PFD_SelectionTool!H129&\"_\"&PFS_PFD_SelectionTool!I129&\"_\"&PFS_PFD_SelectionTool!J129),\"\",PFS_PFD_SelectionTool!E129&\"_\"&PFS_PFD_SelectionTool!F129&\"_\"&PFS_PFD_SelectionTool!G129&\"_\"&PFS_PFD_SelectionTool!H129&\"_\"&PFS_PFD_SelectionTool!I129&\"_\"&PFS_PFD_SelectionTool!J129)","v":"230_1_2_1_1_4"},{"$f":"IF(ISBLANK(PFS_PFD_SelectionTool!K129),\"\",PFS_PFD_SelectionTool!K129)","v":88650281},{"$f":"VLOOKUP(D113,Tabelle1!A:B,2,FALSE)","v":"PFU 760LTK1"},{"$f":"IF(ISBLANK(PFS_PFD_SelectionTool!N129),\"\",PFS_PFD_SelectionTool!N129)","v":""},{"$f":"IF(ISBLANK(PFS_PFD_SelectionTool!O129),\"\",PFS_PFD_SelectionTool!O129)","v":""}]
[{"$f":"IF(ISBLANK(PFS_PFD_SelectionTool!C130),\"\",PFS_PFD_SelectionTool!C130)","v":84603180},{"$f":"IF(ISBLANK(PFS_PFD_SelectionTool!D130),\"\",PFS_PFD_SelectionTool!D130)","v":"PFS 778L-5/1"},{"$f":"IF(ISBLANK(PFS_PFD_SelectionTool!E130&\"_\"&PFS_PFD_SelectionTool!F130&\"_\"&PFS_PFD_SelectionTool!G130&\"_\"&PFS_PFD_SelectionTool!H130&\"_\"&PFS_PFD_SelectionTool!I130&\"_\"&PFS_PFD_SelectionTool!J130),\"\",PFS_PFD_SelectionTool!E130&\"_\"&PFS_PFD_SelectionTool!F130&\"_\"&PFS_PFD_SelectionTool!G130&\"_\"&PFS_PFD_SelectionTool!H130&\"_\"&PFS_PFD_SelectionTool!I130&\"_\"&PFS_PFD_SelectionTool!J130)","v":"115_2_1_2_1_1"},{"$f":"IF(ISBLANK(PFS_PFD_SelectionTool!K130),\"\",PFS_PFD_SelectionTool!K130)","v":88650856},{"$f":"VLOOKUP(D114,Tabelle1!A:B,2,FALSE)","v":"PFU 760LNK1"},{"$f":"IF(ISBLANK(PFS_PFD_SelectionTool!N130),\"\",PFS_PFD_SelectionTool!N130)","v":""},{"$f":"IF(ISBLANK(PFS_PFD_SelectionTool!O130),\"\",PFS_PFD_SelectionTool!O130)","v":""}]
[{"$f":"IF(ISBLANK(PFS_PFD_SelectionTool!C131),\"\",PFS_PFD_SelectionTool!C131)","v":84603180},{"$f":"IF(ISBLANK(PFS_PFD_SelectionTool!D131),\"\",PFS_PFD_SelectionTool!D131)","v":"PFS 778L-5/1T/N"},{"$f":"IF(ISBLANK(PFS_PFD_SelectionTool!E131&\"_\"&PFS_PFD_SelectionTool!F131&\"_\"&PFS_PFD_SelectionTool!G131&\"_\"&PFS_PFD_SelectionTool!H131&\"_\"&PFS_PFD_SelectionTool!I131&\"_\"&PFS_PFD_SelectionTool!J131),\"\",PFS_PFD_SelectionTool!E131&\"_\"&PFS_PFD_SelectionTool!F131&\"_\"&PFS_PFD_SelectionTool!G131&\"_\"&PFS_PFD_SelectionTool!H131&\"_\"&PFS_PFD_SelectionTool!I131&\"_\"&PFS_PFD_SelectionTool!J131)","v":"230_2_2_1_2_2"},{"$f":"IF(ISBLANK(PFS_PFD_SelectionTool!K131),\"\",PFS_PFD_SelectionTool!K131)","v":88650966},{"$f":"VLOOKUP(D115,Tabelle1!A:B,2,FALSE)","v":"PFU 760LTK1"},{"$f":"IF(ISBLANK(PFS_PFD_SelectionTool!N131),\"\",PFS_PFD_SelectionTool!N131)","v":""},{"$f":"IF(ISBLANK(PFS_PFD_SelectionTool!O131),\"\",PFS_PFD_SelectionTool!O131)","v":""}]
[{"$f":"IF(ISBLANK(PFS_PFD_SelectionTool!C132),\"\",PFS_PFD_SelectionTool!C132)","v":84603780},{"$f":"IF(ISBLANK(PFS_PFD_SelectionTool!D132),\"\",PFS_PFD_SelectionTool!D132)","v":"PFD 778D-5/1T/N"},{"$f":"IF(ISBLANK(PFS_PFD_SelectionTool!E132&\"_\"&PFS_PFD_SelectionTool!F132&\"_\"&PFS_PFD_SelectionTool!G132&\"_\"&PFS_PFD_SelectionTool!H132&\"_\"&PFS_PFD_SelectionTool!I132&\"_\"&PFS_PFD_SelectionTool!J132),\"\",PFS_PFD_SelectionTool!E132&\"_\"&PFS_PFD_SelectionTool!F132&\"_\"&PFS_PFD_SelectionTool!G132&\"_\"&PFS_PFD_SelectionTool!H132&\"_\"&PFS_PFD_SelectionTool!I132&\"_\"&PFS_PFD_SelectionTool!J132)","v":"230_2_2_2_2_1"},{"$f":"IF(ISBLANK(PFS_PFD_SelectionTool!K132),\"\",PFS_PFD_SelectionTool!K132)","v":88650933},{"$f":"VLOOKUP(D116,Tabelle1!A:B,2,FALSE)","v":"PFU 760LTK1"},{"$f":"IF(ISBLANK(PFS_PFD_SelectionTool!N132),\"\",PFS_PFD_SelectionTool!N132)","v":""},{"$f":"IF(ISBLANK(PFS_PFD_SelectionTool!O132),\"\",PFS_PFD_SelectionTool!O132)","v":""}]
[{"$f":"IF(ISBLANK(PFS_PFD_SelectionTool!C133),\"\",PFS_PFD_SelectionTool!C133)","v":84603690},{"$f":"IF(ISBLANK(PFS_PFD_SelectionTool!D133),\"\",PFS_PFD_SelectionTool!D133)","v":"PFD 778L-10/1T/N"},{"$f":"IF(ISBLANK(PFS_PFD_SelectionTool!E133&\"_\"&PFS_PFD_SelectionTool!F133&\"_\"&PFS_PFD_SelectionTool!G133&\"_\"&PFS_PFD_SelectionTool!H133&\"_\"&PFS_PFD_SelectionTool!I133&\"_\"&PFS_PFD_SelectionTool!J133),\"\",PFS_PFD_SelectionTool!E133&\"_\"&PFS_PFD_SelectionTool!F133&\"_\"&PFS_PFD_SelectionTool!G133&\"_\"&PFS_PFD_SelectionTool!H133&\"_\"&PFS_PFD_SelectionTool!I133&\"_\"&PFS_PFD_SelectionTool!J133)","v":"115_2_2_2_2_1"},{"$f":"IF(ISBLANK(PFS_PFD_SelectionTool!K133),\"\",PFS_PFD_SelectionTool!K133)","v":88650967},{"$f":"VLOOKUP(D117,Tabelle1!A:B,2,FALSE)","v":"PFU 760LNK1"},{"$f":"IF(ISBLANK(PFS_PFD_SelectionTool!N133),\"\",PFS_PFD_SelectionTool!N133)","v":""},{"$f":"IF(ISBLANK(PFS_PFD_SelectionTool!O133),\"\",PFS_PFD_SelectionTool!O133)","v":""}]
[{"$f":"IF(ISBLANK(PFS_PFD_SelectionTool!C134),\"\",PFS_PFD_SelectionTool!C134)","v":84603690},{"$f":"IF(ISBLANK(PFS_PFD_SelectionTool!D134),\"\",PFS_PFD_SelectionTool!D134)","v":"PFD 778L-10/1T/N"},{"$f":"IF(ISBLANK(PFS_PFD_SelectionTool!E134&\"_\"&PFS_PFD_SelectionTool!F134&\"_\"&PFS_PFD_SelectionTool!G134&\"_\"&PFS_PFD_SelectionTool!H134&\"_\"&PFS_PFD_SelectionTool!I134&\"_\"&PFS_PFD_SelectionTool!J134),\"\",PFS_PFD_SelectionTool!E134&\"_\"&PFS_PFD_SelectionTool!F134&\"_\"&PFS_PFD_SelectionTool!G134&\"_\"&PFS_PFD_SelectionTool!H134&\"_\"&PFS_PFD_SelectionTool!I134&\"_\"&PFS_PFD_SelectionTool!J134)","v":"230_2_2_2_2_1"},{"$f":"IF(ISBLANK(PFS_PFD_SelectionTool!K134),\"\",PFS_PFD_SelectionTool!K134)","v":88650174},{"$f":"VLOOKUP(D118,Tabelle1!A:B,2,FALSE)","v":"PFU 760LTK1"},{"$f":"IF(ISBLANK(PFS_PFD_SelectionTool!N134),\"\",PFS_PFD_SelectionTool!N134)","v":""},{"$f":"IF(ISBLANK(PFS_PFD_SelectionTool!O134),\"\",PFS_PFD_SelectionTool!O134)","v":""}]
[{"$f":"IF(ISBLANK(PFS_PFD_SelectionTool!C135),\"\",PFS_PFD_SelectionTool!C135)","v":84603180},{"$f":"IF(ISBLANK(PFS_PFD_SelectionTool!D135),\"\",PFS_PFD_SelectionTool!D135)","v":"PFS 778L-5/1T/N"},{"$f":"IF(ISBLANK(PFS_PFD_SelectionTool!E135&\"_\"&PFS_PFD_SelectionTool!F135&\"_\"&PFS_PFD_SelectionTool!G135&\"_\"&PFS_PFD_SelectionTool!H135&\"_\"&PFS_PFD_SelectionTool!I135&\"_\"&PFS_PFD_SelectionTool!J135),\"\",PFS_PFD_SelectionTool!E135&\"_\"&PFS_PFD_SelectionTool!F135&\"_\"&PFS_PFD_SelectionTool!G135&\"_\"&PFS_PFD_SelectionTool!H135&\"_\"&PFS_PFD_SelectionTool!I135&\"_\"&PFS_PFD_SelectionTool!J135)","v":"230_1_1_1_2_10"},{"$f":"IF(ISBLANK(PFS_PFD_SelectionTool!K135),\"\",PFS_PFD_SelectionTool!K135)","v":88650873},{"$f":"VLOOKUP(D119,Tabelle1!A:B,2,FALSE)","v":"PFU 760LTK1"},{"$f":"IF(ISBLANK(PFS_PFD_SelectionTool!N135),\"\",PFS_PFD_SelectionTool!N135)","v":""},{"$f":"IF(ISBLANK(PFS_PFD_SelectionTool!O135),\"\",PFS_PFD_SelectionTool!O135)","v":""}]
[{"$f":"IF(ISBLANK(PFS_PFD_SelectionTool!C136),\"\",PFS_PFD_SelectionTool!C136)","v":84603180},{"$f":"IF(ISBLANK(PFS_PFD_SelectionTool!D136),\"\",PFS_PFD_SelectionTool!D136)","v":"PFS 778L-5/1T/N"},{"$f":"IF(ISBLANK(PFS_PFD_SelectionTool!E136&\"_\"&PFS_PFD_SelectionTool!F136&\"_\"&PFS_PFD_SelectionTool!G136&\"_\"&PFS_PFD_SelectionTool!H136&\"_\"&PFS_PFD_SelectionTool!I136&\"_\"&PFS_PFD_SelectionTool!J136),\"\",PFS_PFD_SelectionTool!E136&\"_\"&PFS_PFD_SelectionTool!F136&\"_\"&PFS_PFD_SelectionTool!G136&\"_\"&PFS_PFD_SelectionTool!H136&\"_\"&PFS_PFD_SelectionTool!I136&\"_\"&PFS_PFD_SelectionTool!J136)","v":"230_2_1_1_1_1"},{"$f":"IF(ISBLANK(PFS_PFD_SelectionTool!K136),\"\",PFS_PFD_SelectionTool!K136)","v":88650783},{"$f":"VLOOKUP(D120,Tabelle1!A:B,2,FALSE)","v":"PFU 760LTK1"},{"$f":"IF(ISBLANK(PFS_PFD_SelectionTool!N136),\"\",PFS_PFD_SelectionTool!N136)","v":""},{"$f":"IF(ISBLANK(PFS_PFD_SelectionTool!O136),\"\",PFS_PFD_SelectionTool!O136)","v":""}]
[{"$f":"IF(ISBLANK(PFS_PFD_SelectionTool!C137),\"\",PFS_PFD_SelectionTool!C137)","v":84603180},{"$f":"IF(ISBLANK(PFS_PFD_SelectionTool!D137),\"\",PFS_PFD_SelectionTool!D137)","v":"PFS 778L-5/1T/N"},{"$f":"IF(ISBLANK(PFS_PFD_SelectionTool!E137&\"_\"&PFS_PFD_SelectionTool!F137&\"_\"&PFS_PFD_SelectionTool!G137&\"_\"&PFS_PFD_SelectionTool!H137&\"_\"&PFS_PFD_SelectionTool!I137&\"_\"&PFS_PFD_SelectionTool!J137),\"\",PFS_PFD_SelectionTool!E137&\"_\"&PFS_PFD_SelectionTool!F137&\"_\"&PFS_PFD_SelectionTool!G137&\"_\"&PFS_PFD_SelectionTool!H137&\"_\"&PFS_PFD_SelectionTool!I137&\"_\"&PFS_PFD_SelectionTool!J137)","v":"230_1_1_1_2_8"},{"$f":"IF(ISBLANK(PFS_PFD_SelectionTool!K137),\"\",PFS_PFD_SelectionTool!K137)","v":88650968},{"$f":"VLOOKUP(D121,Tabelle1!A:B,2,FALSE)","v":"PFU 760LTK1"},{"$f":"IF(ISBLANK(PFS_PFD_SelectionTool!N137),\"\",PFS_PFD_SelectionTool!N137)","v":""},{"$f":"IF(ISBLANK(PFS_PFD_SelectionTool!O137),\"\",PFS_PFD_SelectionTool!O137)","v":""}]
[{"$f":"IF(ISBLANK(PFS_PFD_SelectionTool!C138),\"\",PFS_PFD_SelectionTool!C138)","v":84603170},{"$f":"IF(ISBLANK(PFS_PFD_SelectionTool!D138),\"\",PFS_PFD_SelectionTool!D138)","v":"PFS 778L-3/1T/N"},{"$f":"IF(ISBLANK(PFS_PFD_SelectionTool!E138&\"_\"&PFS_PFD_SelectionTool!F138&\"_\"&PFS_PFD_SelectionTool!G138&\"_\"&PFS_PFD_SelectionTool!H138&\"_\"&PFS_PFD_SelectionTool!I138&\"_\"&PFS_PFD_SelectionTool!J138),\"\",PFS_PFD_SelectionTool!E138&\"_\"&PFS_PFD_SelectionTool!F138&\"_\"&PFS_PFD_SelectionTool!G138&\"_\"&PFS_PFD_SelectionTool!H138&\"_\"&PFS_PFD_SelectionTool!I138&\"_\"&PFS_PFD_SelectionTool!J138)","v":"230_2_1_2_2_1"},{"$f":"IF(ISBLANK(PFS_PFD_SelectionTool!K138),\"\",PFS_PFD_SelectionTool!K138)","v":88650963},{"$f":"VLOOKUP(D122,Tabelle1!A:B,2,FALSE)","v":"PFU 760LTK1"},{"$f":"IF(ISBLANK(PFS_PFD_SelectionTool!N138),\"\",PFS_PFD_SelectionTool!N138)","v":""},{"$f":"IF(ISBLANK(PFS_PFD_SelectionTool!O138),\"\",PFS_PFD_SelectionTool!O138)","v":""}]
[{"$f":"IF(ISBLANK(PFS_PFD_SelectionTool!C139),\"\",PFS_PFD_SelectionTool!C139)","v":84603170},{"$f":"IF(ISBLANK(PFS_PFD_SelectionTool!D139),\"\",PFS_PFD_SelectionTool!D139)","v":"PFS 778L-3/1T/N"},{"$f":"IF(ISBLANK(PFS_PFD_SelectionTool!E139&\"_\"&PFS_PFD_SelectionTool!F139&\"_\"&PFS_PFD_SelectionTool!G139&\"_\"&PFS_PFD_SelectionTool!H139&\"_\"&PFS_PFD_SelectionTool!I139&\"_\"&PFS_PFD_SelectionTool!J139),\"\",PFS_PFD_SelectionTool!E139&\"_\"&PFS_PFD_SelectionTool!F139&\"_\"&PFS_PFD_SelectionTool!G139&\"_\"&PFS_PFD_SelectionTool!H139&\"_\"&PFS_PFD_SelectionTool!I139&\"_\"&PFS_PFD_SelectionTool!J139)","v":"230_1_2_1_1_2"},{"$f":"IF(ISBLANK(PFS_PFD_SelectionTool!K139),\"\",PFS_PFD_SelectionTool!K139)","v":88650969},{"$f":"VLOOKUP(D123,Tabelle1!A:B,2,FALSE)","v":"PFU 760LTK1"},{"$f":"IF(ISBLANK(PFS_PFD_SelectionTool!N139),\"\",PFS_PFD_SelectionTool!N139)","v":""},{"$f":"IF(ISBLANK(PFS_PFD_SelectionTool!O139),\"\",PFS_PFD_SelectionTool!O139)","v":""}]
[{"$f":"IF(ISBLANK(PFS_PFD_SelectionTool!C140),\"\",PFS_PFD_SelectionTool!C140)","v":84603170},{"$f":"IF(ISBLANK(PFS_PFD_SelectionTool!D140),\"\",PFS_PFD_SelectionTool!D140)","v":"PFS 778L-3/1T/N"},{"$f":"IF(ISBLANK(PFS_PFD_SelectionTool!E140&\"_\"&PFS_PFD_SelectionTool!F140&\"_\"&PFS_PFD_SelectionTool!G140&\"_\"&PFS_PFD_SelectionTool!H140&\"_\"&PFS_PFD_SelectionTool!I140&\"_\"&PFS_PFD_SelectionTool!J140),\"\",PFS_PFD_SelectionTool!E140&\"_\"&PFS_PFD_SelectionTool!F140&\"_\"&PFS_PFD_SelectionTool!G140&\"_\"&PFS_PFD_SelectionTool!H140&\"_\"&PFS_PFD_SelectionTool!I140&\"_\"&PFS_PFD_SelectionTool!J140)","v":"230_1_3_1_1_2"},{"$f":"IF(ISBLANK(PFS_PFD_SelectionTool!K140),\"\",PFS_PFD_SelectionTool!K140)","v":88650969},{"$f":"VLOOKUP(D124,Tabelle1!A:B,2,FALSE)","v":"PFU 760LTK1"},{"$f":"IF(ISBLANK(PFS_PFD_SelectionTool!N140),\"\",PFS_PFD_SelectionTool!N140)","v":""},{"$f":"IF(ISBLANK(PFS_PFD_SelectionTool!O140),\"\",PFS_PFD_SelectionTool!O140)","v":""}]
[{"$f":"IF(ISBLANK(PFS_PFD_SelectionTool!C141),\"\",PFS_PFD_SelectionTool!C141)","v":84603180},{"$f":"IF(ISBLANK(PFS_PFD_SelectionTool!D141),\"\",PFS_PFD_SelectionTool!D141)","v":"PFS 778L-5/1T/N"},{"$f":"IF(ISBLANK(PFS_PFD_SelectionTool!E141&\"_\"&PFS_PFD_SelectionTool!F141&\"_\"&PFS_PFD_SelectionTool!G141&\"_\"&PFS_PFD_SelectionTool!H141&\"_\"&PFS_PFD_SelectionTool!I141&\"_\"&PFS_PFD_SelectionTool!J141),\"\",PFS_PFD_SelectionTool!E141&\"_\"&PFS_PFD_SelectionTool!F141&\"_\"&PFS_PFD_SelectionTool!G141&\"_\"&PFS_PFD_SelectionTool!H141&\"_\"&PFS_PFD_SelectionTool!I141&\"_\"&PFS_PFD_SelectionTool!J141)","v":"230_1_1_1_1_2"},{"$f":"IF(ISBLANK(PFS_PFD_SelectionTool!K141),\"\",PFS_PFD_SelectionTool!K141)","v":88650722},{"$f":"VLOOKUP(D125,Tabelle1!A:B,2,FALSE)","v":"PFU 760LTK1"},{"$f":"IF(ISBLANK(PFS_PFD_SelectionTool!N141),\"\",PFS_PFD_SelectionTool!N141)","v":""},{"$f":"IF(ISBLANK(PFS_PFD_SelectionTool!O141),\"\",PFS_PFD_SelectionTool!O141)","v":""}]
[{"$f":"IF(ISBLANK(PFS_PFD_SelectionTool!C142),\"\",PFS_PFD_SelectionTool!C142)","v":84603170},{"$f":"IF(ISBLANK(PFS_PFD_SelectionTool!D142),\"\",PFS_PFD_SelectionTool!D142)","v":"PFS 778L-3/1T/N"},{"$f":"IF(ISBLANK(PFS_PFD_SelectionTool!E142&\"_\"&PFS_PFD_SelectionTool!F142&\"_\"&PFS_PFD_SelectionTool!G142&\"_\"&PFS_PFD_SelectionTool!H142&\"_\"&PFS_PFD_SelectionTool!I142&\"_\"&PFS_PFD_SelectionTool!J142),\"\",PFS_PFD_SelectionTool!E142&\"_\"&PFS_PFD_SelectionTool!F142&\"_\"&PFS_PFD_SelectionTool!G142&\"_\"&PFS_PFD_SelectionTool!H142&\"_\"&PFS_PFD_SelectionTool!I142&\"_\"&PFS_PFD_SelectionTool!J142)","v":"230_2_3_1_1_2"},{"$f":"IF(ISBLANK(PFS_PFD_SelectionTool!K142),\"\",PFS_PFD_SelectionTool!K142)","v":88650021},{"$f":"VLOOKUP(D126,Tabelle1!A:B,2,FALSE)","v":"PFU 760LTK1"},{"$f":"IF(ISBLANK(PFS_PFD_SelectionTool!N142),\"\",PFS_PFD_SelectionTool!N142)","v":""},{"$f":"IF(ISBLANK(PFS_PFD_SelectionTool!O142),\"\",PFS_PFD_SelectionTool!O142)","v":""}]
[{"$f":"IF(ISBLANK(PFS_PFD_SelectionTool!C143),\"\",PFS_PFD_SelectionTool!C143)","v":84603170},{"$f":"IF(ISBLANK(PFS_PFD_SelectionTool!D143),\"\",PFS_PFD_SelectionTool!D143)","v":"PFS 778L-3/1T/N"},{"$f":"IF(ISBLANK(PFS_PFD_SelectionTool!E143&\"_\"&PFS_PFD_SelectionTool!F143&\"_\"&PFS_PFD_SelectionTool!G143&\"_\"&PFS_PFD_SelectionTool!H143&\"_\"&PFS_PFD_SelectionTool!I143&\"_\"&PFS_PFD_SelectionTool!J143),\"\",PFS_PFD_SelectionTool!E143&\"_\"&PFS_PFD_SelectionTool!F143&\"_\"&PFS_PFD_SelectionTool!G143&\"_\"&PFS_PFD_SelectionTool!H143&\"_\"&PFS_PFD_SelectionTool!I143&\"_\"&PFS_PFD_SelectionTool!J143)","v":"230_2_3_1_2_9"},{"$f":"IF(ISBLANK(PFS_PFD_SelectionTool!K143),\"\",PFS_PFD_SelectionTool!K143)","v":88650924},{"$f":"VLOOKUP(D127,Tabelle1!A:B,2,FALSE)","v":"PFU 760LTK1"},{"$f":"IF(ISBLANK(PFS_PFD_SelectionTool!N143),\"\",PFS_PFD_SelectionTool!N143)","v":""},{"$f":"IF(ISBLANK(PFS_PFD_SelectionTool!O143),\"\",PFS_PFD_SelectionTool!O143)","v":""}]
[{"$f":"IF(ISBLANK(PFS_PFD_SelectionTool!C144),\"\",PFS_PFD_SelectionTool!C144)","v":84603150},{"$f":"IF(ISBLANK(PFS_PFD_SelectionTool!D144),\"\",PFS_PFD_SelectionTool!D144)","v":"PFS 778S-10/1T/N"},{"$f":"IF(ISBLANK(PFS_PFD_SelectionTool!E144&\"_\"&PFS_PFD_SelectionTool!F144&\"_\"&PFS_PFD_SelectionTool!G144&\"_\"&PFS_PFD_SelectionTool!H144&\"_\"&PFS_PFD_SelectionTool!I144&\"_\"&PFS_PFD_SelectionTool!J144),\"\",PFS_PFD_SelectionTool!E144&\"_\"&PFS_PFD_SelectionTool!F144&\"_\"&PFS_PFD_SelectionTool!G144&\"_\"&PFS_PFD_SelectionTool!H144&\"_\"&PFS_PFD_SelectionTool!I144&\"_\"&PFS_PFD_SelectionTool!J144)","v":"115_na_2_1_2_1"},{"$f":"IF(ISBLANK(PFS_PFD_SelectionTool!K144),\"\",PFS_PFD_SelectionTool!K144)","v":88650036},{"$f":"VLOOKUP(D128,Tabelle1!A:B,2,FALSE)","v":"PFU 760NK1"},{"$f":"IF(ISBLANK(PFS_PFD_SelectionTool!N144),\"\",PFS_PFD_SelectionTool!N144)","v":""},{"$f":"IF(ISBLANK(PFS_PFD_SelectionTool!O144),\"\",PFS_PFD_SelectionTool!O144)","v":""}]
[{"$f":"IF(ISBLANK(PFS_PFD_SelectionTool!C145),\"\",PFS_PFD_SelectionTool!C145)","v":84603180},{"$f":"IF(ISBLANK(PFS_PFD_SelectionTool!D145),\"\",PFS_PFD_SelectionTool!D145)","v":"PFS 778L-5/1T/N"},{"$f":"IF(ISBLANK(PFS_PFD_SelectionTool!E145&\"_\"&PFS_PFD_SelectionTool!F145&\"_\"&PFS_PFD_SelectionTool!G145&\"_\"&PFS_PFD_SelectionTool!H145&\"_\"&PFS_PFD_SelectionTool!I145&\"_\"&PFS_PFD_SelectionTool!J145),\"\",PFS_PFD_SelectionTool!E145&\"_\"&PFS_PFD_SelectionTool!F145&\"_\"&PFS_PFD_SelectionTool!G145&\"_\"&PFS_PFD_SelectionTool!H145&\"_\"&PFS_PFD_SelectionTool!I145&\"_\"&PFS_PFD_SelectionTool!J145)","v":"230_2_3_1_2_2"},{"$f":"IF(ISBLANK(PFS_PFD_SelectionTool!K145),\"\",PFS_PFD_SelectionTool!K145)","v":88650966},{"$f":"VLOOKUP(D129,Tabelle1!A:B,2,FALSE)","v":"PFU 760LTK1"},{"$f":"IF(ISBLANK(PFS_PFD_SelectionTool!N145),\"\",PFS_PFD_SelectionTool!N145)","v":""},{"$f":"IF(ISBLANK(PFS_PFD_SelectionTool!O145),\"\",PFS_PFD_SelectionTool!O145)","v":""}]
[{"$f":"IF(ISBLANK(PFS_PFD_SelectionTool!C146),\"\",PFS_PFD_SelectionTool!C146)","v":84603180},{"$f":"IF(ISBLANK(PFS_PFD_SelectionTool!D146),\"\",PFS_PFD_SelectionTool!D146)","v":"PFS 778L-5/1T/N"},{"$f":"IF(ISBLANK(PFS_PFD_SelectionTool!E146&\"_\"&PFS_PFD_SelectionTool!F146&\"_\"&PFS_PFD_SelectionTool!G146&\"_\"&PFS_PFD_SelectionTool!H146&\"_\"&PFS_PFD_SelectionTool!I146&\"_\"&PFS_PFD_SelectionTool!J146),\"\",PFS_PFD_SelectionTool!E146&\"_\"&PFS_PFD_SelectionTool!F146&\"_\"&PFS_PFD_SelectionTool!G146&\"_\"&PFS_PFD_SelectionTool!H146&\"_\"&PFS_PFD_SelectionTool!I146&\"_\"&PFS_PFD_SelectionTool!J146)","v":"230_2_3_1_2_1"},{"$f":"IF(ISBLANK(PFS_PFD_SelectionTool!K146),\"\",PFS_PFD_SelectionTool!K146)","v":88650015},{"$f":"VLOOKUP(D130,Tabelle1!A:B,2,FALSE)","v":"PFU 760LTK1"},{"$f":"IF(ISBLANK(PFS_PFD_SelectionTool!N146),\"\",PFS_PFD_SelectionTool!N146)","v":""},{"$f":"IF(ISBLANK(PFS_PFD_SelectionTool!O146),\"\",PFS_PFD_SelectionTool!O146)","v":""}]
[{"$f":"IF(ISBLANK(PFS_PFD_SelectionTool!C147),\"\",PFS_PFD_SelectionTool!C147)","v":84603280},{"$f":"IF(ISBLANK(PFS_PFD_SelectionTool!D147),\"\",PFS_PFD_SelectionTool!D147)","v":"PFS 778D-5/1T/N"},{"$f":"IF(ISBLANK(PFS_PFD_SelectionTool!E147&\"_\"&PFS_PFD_SelectionTool!F147&\"_\"&PFS_PFD_SelectionTool!G147&\"_\"&PFS_PFD_SelectionTool!H147&\"_\"&PFS_PFD_SelectionTool!I147&\"_\"&PFS_PFD_SelectionTool!J147),\"\",PFS_PFD_SelectionTool!E147&\"_\"&PFS_PFD_SelectionTool!F147&\"_\"&PFS_PFD_SelectionTool!G147&\"_\"&PFS_PFD_SelectionTool!H147&\"_\"&PFS_PFD_SelectionTool!I147&\"_\"&PFS_PFD_SelectionTool!J147)","v":"230_1_1_2_1_1"},{"$f":"IF(ISBLANK(PFS_PFD_SelectionTool!K147),\"\",PFS_PFD_SelectionTool!K147)","v":88650938},{"$f":"VLOOKUP(D131,Tabelle1!A:B,2,FALSE)","v":"PFU 760LTK1"},{"$f":"IF(ISBLANK(PFS_PFD_SelectionTool!N147),\"\",PFS_PFD_SelectionTool!N147)","v":""},{"$f":"IF(ISBLANK(PFS_PFD_SelectionTool!O147),\"\",PFS_PFD_SelectionTool!O147)","v":""}]
[{"$f":"IF(ISBLANK(PFS_PFD_SelectionTool!C148),\"\",PFS_PFD_SelectionTool!C148)","v":84603280},{"$f":"IF(ISBLANK(PFS_PFD_SelectionTool!D148),\"\",PFS_PFD_SelectionTool!D148)","v":"PFS 778D-5/1T/N"},{"$f":"IF(ISBLANK(PFS_PFD_SelectionTool!E148&\"_\"&PFS_PFD_SelectionTool!F148&\"_\"&PFS_PFD_SelectionTool!G148&\"_\"&PFS_PFD_SelectionTool!H148&\"_\"&PFS_PFD_SelectionTool!I148&\"_\"&PFS_PFD_SelectionTool!J148),\"\",PFS_PFD_SelectionTool!E148&\"_\"&PFS_PFD_SelectionTool!F148&\"_\"&PFS_PFD_SelectionTool!G148&\"_\"&PFS_PFD_SelectionTool!H148&\"_\"&PFS_PFD_SelectionTool!I148&\"_\"&PFS_PFD_SelectionTool!J148)","v":"230_1_2_2_2_1"},{"$f":"IF(ISBLANK(PFS_PFD_SelectionTool!K148),\"\",PFS_PFD_SelectionTool!K148)","v":88650939},{"$f":"VLOOKUP(D132,Tabelle1!A:B,2,FALSE)","v":"PFU 760LTK1"},{"$f":"IF(ISBLANK(PFS_PFD_SelectionTool!N148),\"\",PFS_PFD_SelectionTool!N148)","v":""},{"$f":"IF(ISBLANK(PFS_PFD_SelectionTool!O148),\"\",PFS_PFD_SelectionTool!O148)","v":""}]
[{"$f":"IF(ISBLANK(PFS_PFD_SelectionTool!C149),\"\",PFS_PFD_SelectionTool!C149)","v":84603280},{"$f":"IF(ISBLANK(PFS_PFD_SelectionTool!D149),\"\",PFS_PFD_SelectionTool!D149)","v":"PFS 778D-5/1T/N"},{"$f":"IF(ISBLANK(PFS_PFD_SelectionTool!E149&\"_\"&PFS_PFD_SelectionTool!F149&\"_\"&PFS_PFD_SelectionTool!G149&\"_\"&PFS_PFD_SelectionTool!H149&\"_\"&PFS_PFD_SelectionTool!I149&\"_\"&PFS_PFD_SelectionTool!J149),\"\",PFS_PFD_SelectionTool!E149&\"_\"&PFS_PFD_SelectionTool!F149&\"_\"&PFS_PFD_SelectionTool!G149&\"_\"&PFS_PFD_SelectionTool!H149&\"_\"&PFS_PFD_SelectionTool!I149&\"_\"&PFS_PFD_SelectionTool!J149)","v":"230_2_2_1_2_1"},{"$f":"IF(ISBLANK(PFS_PFD_SelectionTool!K149),\"\",PFS_PFD_SelectionTool!K149)","v":88650939},{"$f":"VLOOKUP(D133,Tabelle1!A:B,2,FALSE)","v":"PFU 760LTK1"},{"$f":"IF(ISBLANK(PFS_PFD_SelectionTool!N149),\"\",PFS_PFD_SelectionTool!N149)","v":""},{"$f":"IF(ISBLANK(PFS_PFD_SelectionTool!O149),\"\",PFS_PFD_SelectionTool!O149)","v":""}]
[{"$f":"IF(ISBLANK(PFS_PFD_SelectionTool!C150),\"\",PFS_PFD_SelectionTool!C150)","v":84603170},{"$f":"IF(ISBLANK(PFS_PFD_SelectionTool!D150),\"\",PFS_PFD_SelectionTool!D150)","v":"PFS 778L-3/1T/N"},{"$f":"IF(ISBLANK(PFS_PFD_SelectionTool!E150&\"_\"&PFS_PFD_SelectionTool!F150&\"_\"&PFS_PFD_SelectionTool!G150&\"_\"&PFS_PFD_SelectionTool!H150&\"_\"&PFS_PFD_SelectionTool!I150&\"_\"&PFS_PFD_SelectionTool!J150),\"\",PFS_PFD_SelectionTool!E150&\"_\"&PFS_PFD_SelectionTool!F150&\"_\"&PFS_PFD_SelectionTool!G150&\"_\"&PFS_PFD_SelectionTool!H150&\"_\"&PFS_PFD_SelectionTool!I150&\"_\"&PFS_PFD_SelectionTool!J150)","v":"230_2_2_1_2_4"},{"$f":"IF(ISBLANK(PFS_PFD_SelectionTool!K150),\"\",PFS_PFD_SelectionTool!K150)","v":88650972},{"$f":"VLOOKUP(D134,Tabelle1!A:B,2,FALSE)","v":"PFU 760LTK1"},{"$f":"IF(ISBLANK(PFS_PFD_SelectionTool!N150),\"\",PFS_PFD_SelectionTool!N150)","v":""},{"$f":"IF(ISBLANK(PFS_PFD_SelectionTool!O150),\"\",PFS_PFD_SelectionTool!O150)","v":""}]
[{"$f":"IF(ISBLANK(PFS_PFD_SelectionTool!C151),\"\",PFS_PFD_SelectionTool!C151)","v":84603190},{"$f":"IF(ISBLANK(PFS_PFD_SelectionTool!D151),\"\",PFS_PFD_SelectionTool!D151)","v":"PFS 778L-10/1T/N"},{"$f":"IF(ISBLANK(PFS_PFD_SelectionTool!E151&\"_\"&PFS_PFD_SelectionTool!F151&\"_\"&PFS_PFD_SelectionTool!G151&\"_\"&PFS_PFD_SelectionTool!H151&\"_\"&PFS_PFD_SelectionTool!I151&\"_\"&PFS_PFD_SelectionTool!J151),\"\",PFS_PFD_SelectionTool!E151&\"_\"&PFS_PFD_SelectionTool!F151&\"_\"&PFS_PFD_SelectionTool!G151&\"_\"&PFS_PFD_SelectionTool!H151&\"_\"&PFS_PFD_SelectionTool!I151&\"_\"&PFS_PFD_SelectionTool!J151)","v":"230_1_2_1_1_2"},{"$f":"IF(ISBLANK(PFS_PFD_SelectionTool!K151),\"\",PFS_PFD_SelectionTool!K151)","v":88650971},{"$f":"VLOOKUP(D135,Tabelle1!A:B,2,FALSE)","v":"PFU 760LTK1"},{"$f":"IF(ISBLANK(PFS_PFD_SelectionTool!N151),\"\",PFS_PFD_SelectionTool!N151)","v":""},{"$f":"IF(ISBLANK(PFS_PFD_SelectionTool!O151),\"\",PFS_PFD_SelectionTool!O151)","v":""}]
[{"$f":"IF(ISBLANK(PFS_PFD_SelectionTool!C152),\"\",PFS_PFD_SelectionTool!C152)","v":84603170},{"$f":"IF(ISBLANK(PFS_PFD_SelectionTool!D152),\"\",PFS_PFD_SelectionTool!D152)","v":"PFS 778L-3/1T/N"},{"$f":"IF(ISBLANK(PFS_PFD_SelectionTool!E152&\"_\"&PFS_PFD_SelectionTool!F152&\"_\"&PFS_PFD_SelectionTool!G152&\"_\"&PFS_PFD_SelectionTool!H152&\"_\"&PFS_PFD_SelectionTool!I152&\"_\"&PFS_PFD_SelectionTool!J152),\"\",PFS_PFD_SelectionTool!E152&\"_\"&PFS_PFD_SelectionTool!F152&\"_\"&PFS_PFD_SelectionTool!G152&\"_\"&PFS_PFD_SelectionTool!H152&\"_\"&PFS_PFD_SelectionTool!I152&\"_\"&PFS_PFD_SelectionTool!J152)","v":"230_2_2_1_2_3"},{"$f":"IF(ISBLANK(PFS_PFD_SelectionTool!K152),\"\",PFS_PFD_SelectionTool!K152)","v":88650970},{"$f":"VLOOKUP(D136,Tabelle1!A:B,2,FALSE)","v":"PFU 760LTK1"},{"$f":"IF(ISBLANK(PFS_PFD_SelectionTool!N152),\"\",PFS_PFD_SelectionTool!N152)","v":""},{"$f":"IF(ISBLANK(PFS_PFD_SelectionTool!O152),\"\",PFS_PFD_SelectionTool!O152)","v":""}]
[{"$f":"IF(ISBLANK(PFS_PFD_SelectionTool!C153),\"\",PFS_PFD_SelectionTool!C153)","v":84603140},{"$f":"IF(ISBLANK(PFS_PFD_SelectionTool!D153),\"\",PFS_PFD_SelectionTool!D153)","v":"PFS 778S-5/1T/N"},{"$f":"IF(ISBLANK(PFS_PFD_SelectionTool!E153&\"_\"&PFS_PFD_SelectionTool!F153&\"_\"&PFS_PFD_SelectionTool!G153&\"_\"&PFS_PFD_SelectionTool!H153&\"_\"&PFS_PFD_SelectionTool!I153&\"_\"&PFS_PFD_SelectionTool!J153),\"\",PFS_PFD_SelectionTool!E153&\"_\"&PFS_PFD_SelectionTool!F153&\"_\"&PFS_PFD_SelectionTool!G153&\"_\"&PFS_PFD_SelectionTool!H153&\"_\"&PFS_PFD_SelectionTool!I153&\"_\"&PFS_PFD_SelectionTool!J153)","v":"230_na_3_1_2_1"},{"$f":"IF(ISBLANK(PFS_PFD_SelectionTool!K153),\"\",PFS_PFD_SelectionTool!K153)","v":88650035},{"$f":"VLOOKUP(D137,Tabelle1!A:B,2,FALSE)","v":"PFU 760TK1"},{"$f":"IF(ISBLANK(PFS_PFD_SelectionTool!N153),\"\",PFS_PFD_SelectionTool!N153)","v":""},{"$f":"IF(ISBLANK(PFS_PFD_SelectionTool!O153),\"\",PFS_PFD_SelectionTool!O153)","v":""}]
[{"$f":"IF(ISBLANK(PFS_PFD_SelectionTool!C154),\"\",PFS_PFD_SelectionTool!C154)","v":84603280},{"$f":"IF(ISBLANK(PFS_PFD_SelectionTool!D154),\"\",PFS_PFD_SelectionTool!D154)","v":"PFS 778D-5/1T/N"},{"$f":"IF(ISBLANK(PFS_PFD_SelectionTool!E154&\"_\"&PFS_PFD_SelectionTool!F154&\"_\"&PFS_PFD_SelectionTool!G154&\"_\"&PFS_PFD_SelectionTool!H154&\"_\"&PFS_PFD_SelectionTool!I154&\"_\"&PFS_PFD_SelectionTool!J154),\"\",PFS_PFD_SelectionTool!E154&\"_\"&PFS_PFD_SelectionTool!F154&\"_\"&PFS_PFD_SelectionTool!G154&\"_\"&PFS_PFD_SelectionTool!H154&\"_\"&PFS_PFD_SelectionTool!I154&\"_\"&PFS_PFD_SelectionTool!J154)","v":"230_2_1_2_2_1"},{"$f":"IF(ISBLANK(PFS_PFD_SelectionTool!K154),\"\",PFS_PFD_SelectionTool!K154)","v":88650974},{"$f":"VLOOKUP(D138,Tabelle1!A:B,2,FALSE)","v":"PFU 760LTK1"},{"$f":"IF(ISBLANK(PFS_PFD_SelectionTool!N154),\"\",PFS_PFD_SelectionTool!N154)","v":""},{"$f":"IF(ISBLANK(PFS_PFD_SelectionTool!O154),\"\",PFS_PFD_SelectionTool!O154)","v":""}]
[{"$f":"IF(ISBLANK(PFS_PFD_SelectionTool!C155),\"\",PFS_PFD_SelectionTool!C155)","v":84603180},{"$f":"IF(ISBLANK(PFS_PFD_SelectionTool!D155),\"\",PFS_PFD_SelectionTool!D155)","v":"PFS 778L-5/1T/N"},{"$f":"IF(ISBLANK(PFS_PFD_SelectionTool!E155&\"_\"&PFS_PFD_SelectionTool!F155&\"_\"&PFS_PFD_SelectionTool!G155&\"_\"&PFS_PFD_SelectionTool!H155&\"_\"&PFS_PFD_SelectionTool!I155&\"_\"&PFS_PFD_SelectionTool!J155),\"\",PFS_PFD_SelectionTool!E155&\"_\"&PFS_PFD_SelectionTool!F155&\"_\"&PFS_PFD_SelectionTool!G155&\"_\"&PFS_PFD_SelectionTool!H155&\"_\"&PFS_PFD_SelectionTool!I155&\"_\"&PFS_PFD_SelectionTool!J155)","v":"230_1_2_1_2_3"},{"$f":"IF(ISBLANK(PFS_PFD_SelectionTool!K155),\"\",PFS_PFD_SelectionTool!K155)","v":88650376},{"$f":"VLOOKUP(D139,Tabelle1!A:B,2,FALSE)","v":"PFU 760LTK1"},{"$f":"IF(ISBLANK(PFS_PFD_SelectionTool!N155),\"\",PFS_PFD_SelectionTool!N155)","v":""},{"$f":"IF(ISBLANK(PFS_PFD_SelectionTool!O155),\"\",PFS_PFD_SelectionTool!O155)","v":""}]
[{"$f":"IF(ISBLANK(PFS_PFD_SelectionTool!C156),\"\",PFS_PFD_SelectionTool!C156)","v":84603180},{"$f":"IF(ISBLANK(PFS_PFD_SelectionTool!D156),\"\",PFS_PFD_SelectionTool!D156)","v":"PFS 778L-5/1T/N"},{"$f":"IF(ISBLANK(PFS_PFD_SelectionTool!E156&\"_\"&PFS_PFD_SelectionTool!F156&\"_\"&PFS_PFD_SelectionTool!G156&\"_\"&PFS_PFD_SelectionTool!H156&\"_\"&PFS_PFD_SelectionTool!I156&\"_\"&PFS_PFD_SelectionTool!J156),\"\",PFS_PFD_SelectionTool!E156&\"_\"&PFS_PFD_SelectionTool!F156&\"_\"&PFS_PFD_SelectionTool!G156&\"_\"&PFS_PFD_SelectionTool!H156&\"_\"&PFS_PFD_SelectionTool!I156&\"_\"&PFS_PFD_SelectionTool!J156)","v":"230_1_2_1_1_3"},{"$f":"IF(ISBLANK(PFS_PFD_SelectionTool!K156),\"\",PFS_PFD_SelectionTool!K156)","v":88650376},{"$f":"VLOOKUP(D140,Tabelle1!A:B,2,FALSE)","v":"PFU 760LTK1"},{"$f":"IF(ISBLANK(PFS_PFD_SelectionTool!N156),\"\",PFS_PFD_SelectionTool!N156)","v":""},{"$f":"IF(ISBLANK(PFS_PFD_SelectionTool!O156),\"\",PFS_PFD_SelectionTool!O156)","v":""}]
[{"$f":"IF(ISBLANK(PFS_PFD_SelectionTool!C157),\"\",PFS_PFD_SelectionTool!C157)","v":84603180},{"$f":"IF(ISBLANK(PFS_PFD_SelectionTool!D157),\"\",PFS_PFD_SelectionTool!D157)","v":"PFS 778L-5/1T/N"},{"$f":"IF(ISBLANK(PFS_PFD_SelectionTool!E157&\"_\"&PFS_PFD_SelectionTool!F157&\"_\"&PFS_PFD_SelectionTool!G157&\"_\"&PFS_PFD_SelectionTool!H157&\"_\"&PFS_PFD_SelectionTool!I157&\"_\"&PFS_PFD_SelectionTool!J157),\"\",PFS_PFD_SelectionTool!E157&\"_\"&PFS_PFD_SelectionTool!F157&\"_\"&PFS_PFD_SelectionTool!G157&\"_\"&PFS_PFD_SelectionTool!H157&\"_\"&PFS_PFD_SelectionTool!I157&\"_\"&PFS_PFD_SelectionTool!J157)","v":"230_1_1_1_1_10"},{"$f":"IF(ISBLANK(PFS_PFD_SelectionTool!K157),\"\",PFS_PFD_SelectionTool!K157)","v":88650873},{"$f":"VLOOKUP(D141,Tabelle1!A:B,2,FALSE)","v":"PFU 760LTK1"},{"$f":"IF(ISBLANK(PFS_PFD_SelectionTool!N157),\"\",PFS_PFD_SelectionTool!N157)","v":""},{"$f":"IF(ISBLANK(PFS_PFD_SelectionTool!O157),\"\",PFS_PFD_SelectionTool!O157)","v":""}]
[{"$f":"IF(ISBLANK(PFS_PFD_SelectionTool!C158),\"\",PFS_PFD_SelectionTool!C158)","v":84603690},{"$f":"IF(ISBLANK(PFS_PFD_SelectionTool!D158),\"\",PFS_PFD_SelectionTool!D158)","v":"PFD 778L-10/1T/N"},{"$f":"IF(ISBLANK(PFS_PFD_SelectionTool!E158&\"_\"&PFS_PFD_SelectionTool!F158&\"_\"&PFS_PFD_SelectionTool!G158&\"_\"&PFS_PFD_SelectionTool!H158&\"_\"&PFS_PFD_SelectionTool!I158&\"_\"&PFS_PFD_SelectionTool!J158),\"\",PFS_PFD_SelectionTool!E158&\"_\"&PFS_PFD_SelectionTool!F158&\"_\"&PFS_PFD_SelectionTool!G158&\"_\"&PFS_PFD_SelectionTool!H158&\"_\"&PFS_PFD_SelectionTool!I158&\"_\"&PFS_PFD_SelectionTool!J158)","v":"230_2_3_1_2_1"},{"$f":"IF(ISBLANK(PFS_PFD_SelectionTool!K158),\"\",PFS_PFD_SelectionTool!K158)","v":88650029},{"$f":"VLOOKUP(D142,Tabelle1!A:B,2,FALSE)","v":"PFU 760LTK1"},{"$f":"IF(ISBLANK(PFS_PFD_SelectionTool!N158),\"\",PFS_PFD_SelectionTool!N158)","v":""},{"$f":"IF(ISBLANK(PFS_PFD_SelectionTool!O158),\"\",PFS_PFD_SelectionTool!O158)","v":""}]
[{"$f":"IF(ISBLANK(PFS_PFD_SelectionTool!C159),\"\",PFS_PFD_SelectionTool!C159)","v":84603790},{"$f":"IF(ISBLANK(PFS_PFD_SelectionTool!D159),\"\",PFS_PFD_SelectionTool!D159)","v":"PFD 778D-10/1T/N"},{"$f":"IF(ISBLANK(PFS_PFD_SelectionTool!E159&\"_\"&PFS_PFD_SelectionTool!F159&\"_\"&PFS_PFD_SelectionTool!G159&\"_\"&PFS_PFD_SelectionTool!H159&\"_\"&PFS_PFD_SelectionTool!I159&\"_\"&PFS_PFD_SelectionTool!J159),\"\",PFS_PFD_SelectionTool!E159&\"_\"&PFS_PFD_SelectionTool!F159&\"_\"&PFS_PFD_SelectionTool!G159&\"_\"&PFS_PFD_SelectionTool!H159&\"_\"&PFS_PFD_SelectionTool!I159&\"_\"&PFS_PFD_SelectionTool!J159)","v":"230_2_2_1_1_1"},{"$f":"IF(ISBLANK(PFS_PFD_SelectionTool!K159),\"\",PFS_PFD_SelectionTool!K159)","v":88651054},{"$f":"VLOOKUP(D143,Tabelle1!A:B,2,FALSE)","v":"PFU 760LTK1"},{"$f":"IF(ISBLANK(PFS_PFD_SelectionTool!N159),\"\",PFS_PFD_SelectionTool!N159)","v":""},{"$f":"IF(ISBLANK(PFS_PFD_SelectionTool!O159),\"\",PFS_PFD_SelectionTool!O159)","v":""}]
[{"$f":"IF(ISBLANK(PFS_PFD_SelectionTool!C160),\"\",PFS_PFD_SelectionTool!C160)","v":84603680},{"$f":"IF(ISBLANK(PFS_PFD_SelectionTool!D160),\"\",PFS_PFD_SelectionTool!D160)","v":"PFD 778L-5/1T/N"},{"$f":"IF(ISBLANK(PFS_PFD_SelectionTool!E160&\"_\"&PFS_PFD_SelectionTool!F160&\"_\"&PFS_PFD_SelectionTool!G160&\"_\"&PFS_PFD_SelectionTool!H160&\"_\"&PFS_PFD_SelectionTool!I160&\"_\"&PFS_PFD_SelectionTool!J160),\"\",PFS_PFD_SelectionTool!E160&\"_\"&PFS_PFD_SelectionTool!F160&\"_\"&PFS_PFD_SelectionTool!G160&\"_\"&PFS_PFD_SelectionTool!H160&\"_\"&PFS_PFD_SelectionTool!I160&\"_\"&PFS_PFD_SelectionTool!J160)","v":"115_3_1_1_2_1"},{"$f":"IF(ISBLANK(PFS_PFD_SelectionTool!K160),\"\",PFS_PFD_SelectionTool!K160)","v":88651061},{"$f":"VLOOKUP(D144,Tabelle1!A:B,2,FALSE)","v":"PFU 760LNK1"},{"$f":"IF(ISBLANK(PFS_PFD_SelectionTool!N160),\"\",PFS_PFD_SelectionTool!N160)","v":""},{"$f":"IF(ISBLANK(PFS_PFD_SelectionTool!O160),\"\",PFS_PFD_SelectionTool!O160)","v":""}]
[{"$f":"IF(ISBLANK(PFS_PFD_SelectionTool!C161),\"\",PFS_PFD_SelectionTool!C161)","v":84603640},{"$f":"IF(ISBLANK(PFS_PFD_SelectionTool!D161),\"\",PFS_PFD_SelectionTool!D161)","v":"PFD 778S-5/1T/N"},{"$f":"IF(ISBLANK(PFS_PFD_SelectionTool!E161&\"_\"&PFS_PFD_SelectionTool!F161&\"_\"&PFS_PFD_SelectionTool!G161&\"_\"&PFS_PFD_SelectionTool!H161&\"_\"&PFS_PFD_SelectionTool!I161&\"_\"&PFS_PFD_SelectionTool!J161),\"\",PFS_PFD_SelectionTool!E161&\"_\"&PFS_PFD_SelectionTool!F161&\"_\"&PFS_PFD_SelectionTool!G161&\"_\"&PFS_PFD_SelectionTool!H161&\"_\"&PFS_PFD_SelectionTool!I161&\"_\"&PFS_PFD_SelectionTool!J161)","v":"230_na_3_1_2_1"},{"$f":"IF(ISBLANK(PFS_PFD_SelectionTool!K161),\"\",PFS_PFD_SelectionTool!K161)","v":88650035},{"$f":"VLOOKUP(D145,Tabelle1!A:B,2,FALSE)","v":"PFU 760TK1"},{"$f":"IF(ISBLANK(PFS_PFD_SelectionTool!N161),\"\",PFS_PFD_SelectionTool!N161)","v":""},{"$f":"IF(ISBLANK(PFS_PFD_SelectionTool!O161),\"\",PFS_PFD_SelectionTool!O161)","v":""}]
[{"$f":"IF(ISBLANK(PFS_PFD_SelectionTool!C162),\"\",PFS_PFD_SelectionTool!C162)","v":84603280},{"$f":"IF(ISBLANK(PFS_PFD_SelectionTool!D162),\"\",PFS_PFD_SelectionTool!D162)","v":"PFS 778D-5/1T/N"},{"$f":"IF(ISBLANK(PFS_PFD_SelectionTool!E162&\"_\"&PFS_PFD_SelectionTool!F162&\"_\"&PFS_PFD_SelectionTool!G162&\"_\"&PFS_PFD_SelectionTool!H162&\"_\"&PFS_PFD_SelectionTool!I162&\"_\"&PFS_PFD_SelectionTool!J162),\"\",PFS_PFD_SelectionTool!E162&\"_\"&PFS_PFD_SelectionTool!F162&\"_\"&PFS_PFD_SelectionTool!G162&\"_\"&PFS_PFD_SelectionTool!H162&\"_\"&PFS_PFD_SelectionTool!I162&\"_\"&PFS_PFD_SelectionTool!J162)","v":"115_2_2_1_2_1"},{"$f":"IF(ISBLANK(PFS_PFD_SelectionTool!K162),\"\",PFS_PFD_SelectionTool!K162)","v":88650042},{"$f":"VLOOKUP(D146,Tabelle1!A:B,2,FALSE)","v":"PFU 760LNK1"},{"$f":"IF(ISBLANK(PFS_PFD_SelectionTool!N162),\"\",PFS_PFD_SelectionTool!N162)","v":""},{"$f":"IF(ISBLANK(PFS_PFD_SelectionTool!O162),\"\",PFS_PFD_SelectionTool!O162)","v":""}]
[{"$f":"IF(ISBLANK(PFS_PFD_SelectionTool!C163),\"\",PFS_PFD_SelectionTool!C163)","v":84603790},{"$f":"IF(ISBLANK(PFS_PFD_SelectionTool!D163),\"\",PFS_PFD_SelectionTool!D163)","v":"PFD 778D-10/1T/N"},{"$f":"IF(ISBLANK(PFS_PFD_SelectionTool!E163&\"_\"&PFS_PFD_SelectionTool!F163&\"_\"&PFS_PFD_SelectionTool!G163&\"_\"&PFS_PFD_SelectionTool!H163&\"_\"&PFS_PFD_SelectionTool!I163&\"_\"&PFS_PFD_SelectionTool!J163),\"\",PFS_PFD_SelectionTool!E163&\"_\"&PFS_PFD_SelectionTool!F163&\"_\"&PFS_PFD_SelectionTool!G163&\"_\"&PFS_PFD_SelectionTool!H163&\"_\"&PFS_PFD_SelectionTool!I163&\"_\"&PFS_PFD_SelectionTool!J163)","v":"230_2_1_1_2_1"},{"$f":"IF(ISBLANK(PFS_PFD_SelectionTool!K163),\"\",PFS_PFD_SelectionTool!K163)","v":88650690},{"$f":"VLOOKUP(D147,Tabelle1!A:B,2,FALSE)","v":"PFU 760LTK1"},{"$f":"IF(ISBLANK(PFS_PFD_SelectionTool!N163),\"\",PFS_PFD_SelectionTool!N163)","v":""},{"$f":"IF(ISBLANK(PFS_PFD_SelectionTool!O163),\"\",PFS_PFD_SelectionTool!O163)","v":""}]
[{"$f":"IF(ISBLANK(PFS_PFD_SelectionTool!C164),\"\",PFS_PFD_SelectionTool!C164)","v":84603680},{"$f":"IF(ISBLANK(PFS_PFD_SelectionTool!D164),\"\",PFS_PFD_SelectionTool!D164)","v":"PFD 778L-5/1T/N"},{"$f":"IF(ISBLANK(PFS_PFD_SelectionTool!E164&\"_\"&PFS_PFD_SelectionTool!F164&\"_\"&PFS_PFD_SelectionTool!G164&\"_\"&PFS_PFD_SelectionTool!H164&\"_\"&PFS_PFD_SelectionTool!I164&\"_\"&PFS_PFD_SelectionTool!J164),\"\",PFS_PFD_SelectionTool!E164&\"_\"&PFS_PFD_SelectionTool!F164&\"_\"&PFS_PFD_SelectionTool!G164&\"_\"&PFS_PFD_SelectionTool!H164&\"_\"&PFS_PFD_SelectionTool!I164&\"_\"&PFS_PFD_SelectionTool!J164)","v":"230_1_1_2_2_1"},{"$f":"IF(ISBLANK(PFS_PFD_SelectionTool!K164),\"\",PFS_PFD_SelectionTool!K164)","v":88650547},{"$f":"VLOOKUP(D148,Tabelle1!A:B,2,FALSE)","v":"PFU 760LTK1"},{"$f":"IF(ISBLANK(PFS_PFD_SelectionTool!N164),\"\",PFS_PFD_SelectionTool!N164)","v":""},{"$f":"IF(ISBLANK(PFS_PFD_SelectionTool!O164),\"\",PFS_PFD_SelectionTool!O164)","v":""}]
[{"$f":"IF(ISBLANK(PFS_PFD_SelectionTool!C165),\"\",PFS_PFD_SelectionTool!C165)","v":84603670},{"$f":"IF(ISBLANK(PFS_PFD_SelectionTool!D165),\"\",PFS_PFD_SelectionTool!D165)","v":"PFD 778L-3/1T/N"},{"$f":"IF(ISBLANK(PFS_PFD_SelectionTool!E165&\"_\"&PFS_PFD_SelectionTool!F165&\"_\"&PFS_PFD_SelectionTool!G165&\"_\"&PFS_PFD_SelectionTool!H165&\"_\"&PFS_PFD_SelectionTool!I165&\"_\"&PFS_PFD_SelectionTool!J165),\"\",PFS_PFD_SelectionTool!E165&\"_\"&PFS_PFD_SelectionTool!F165&\"_\"&PFS_PFD_SelectionTool!G165&\"_\"&PFS_PFD_SelectionTool!H165&\"_\"&PFS_PFD_SelectionTool!I165&\"_\"&PFS_PFD_SelectionTool!J165)","v":"230_2_2_1_1_1"},{"$f":"IF(ISBLANK(PFS_PFD_SelectionTool!K165),\"\",PFS_PFD_SelectionTool!K165)","v":88650263},{"$f":"VLOOKUP(D149,Tabelle1!A:B,2,FALSE)","v":"PFU 760LTK1"},{"$f":"IF(ISBLANK(PFS_PFD_SelectionTool!N169),\"\",PFS_PFD_SelectionTool!N169)","v":""},{"$f":"IF(ISBLANK(PFS_PFD_SelectionTool!O169),\"\",PFS_PFD_SelectionTool!O169)","v":""}]
[{"$f":"IF(ISBLANK(PFS_PFD_SelectionTool!C166),\"\",PFS_PFD_SelectionTool!C166)","v":84603690},{"$f":"IF(ISBLANK(PFS_PFD_SelectionTool!D166),\"\",PFS_PFD_SelectionTool!D166)","v":"PFD 778L-10/1T/N"},{"$f":"IF(ISBLANK(PFS_PFD_SelectionTool!E166&\"_\"&PFS_PFD_SelectionTool!F166&\"_\"&PFS_PFD_SelectionTool!G166&\"_\"&PFS_PFD_SelectionTool!H166&\"_\"&PFS_PFD_SelectionTool!I166&\"_\"&PFS_PFD_SelectionTool!J166),\"\",PFS_PFD_SelectionTool!E166&\"_\"&PFS_PFD_SelectionTool!F166&\"_\"&PFS_PFD_SelectionTool!G166&\"_\"&PFS_PFD_SelectionTool!H166&\"_\"&PFS_PFD_SelectionTool!I166&\"_\"&PFS_PFD_SelectionTool!J166)","v":"230_1_3_2_2_1"},{"$f":"IF(ISBLANK(PFS_PFD_SelectionTool!K166),\"\",PFS_PFD_SelectionTool!K166)","v":88650980},{"$f":"VLOOKUP(D150,Tabelle1!A:B,2,FALSE)","v":"PFU 760LTK1"},{"$f":"IF(ISBLANK(PFS_PFD_SelectionTool!N185),\"\",PFS_PFD_SelectionTool!N185)","v":""},{"$f":"IF(ISBLANK(PFS_PFD_SelectionTool!O185),\"\",PFS_PFD_SelectionTool!O185)","v":""}]
[{"$f":"IF(ISBLANK(PFS_PFD_SelectionTool!C167),\"\",PFS_PFD_SelectionTool!C167)","v":84603170},{"$f":"IF(ISBLANK(PFS_PFD_SelectionTool!D167),\"\",PFS_PFD_SelectionTool!D167)","v":"PFS 778L-3/1T/N"},{"$f":"IF(ISBLANK(PFS_PFD_SelectionTool!E167&\"_\"&PFS_PFD_SelectionTool!F167&\"_\"&PFS_PFD_SelectionTool!G167&\"_\"&PFS_PFD_SelectionTool!H167&\"_\"&PFS_PFD_SelectionTool!I167&\"_\"&PFS_PFD_SelectionTool!J167),\"\",PFS_PFD_SelectionTool!E167&\"_\"&PFS_PFD_SelectionTool!F167&\"_\"&PFS_PFD_SelectionTool!G167&\"_\"&PFS_PFD_SelectionTool!H167&\"_\"&PFS_PFD_SelectionTool!I167&\"_\"&PFS_PFD_SelectionTool!J167)","v":"230_1_2_1_2_5"},{"$f":"IF(ISBLANK(PFS_PFD_SelectionTool!K167),\"\",PFS_PFD_SelectionTool!K167)","v":88650962},{"$f":"VLOOKUP(D151,Tabelle1!A:B,2,FALSE)","v":"PFU 760LTK1"},{"$f":"IF(ISBLANK(PFS_PFD_SelectionTool!N192),\"\",PFS_PFD_SelectionTool!N192)","v":""},{"$f":"IF(ISBLANK(PFS_PFD_SelectionTool!O192),\"\",PFS_PFD_SelectionTool!O192)","v":""}]
[{"$f":"IF(ISBLANK(PFS_PFD_SelectionTool!C168),\"\",PFS_PFD_SelectionTool!C168)","v":84603080},{"$f":"IF(ISBLANK(PFS_PFD_SelectionTool!D168),\"\",PFS_PFD_SelectionTool!D168)","v":"PFS 748L-5/1T/N"},{"$f":"IF(ISBLANK(PFS_PFD_SelectionTool!E168&\"_\"&PFS_PFD_SelectionTool!F168&\"_\"&PFS_PFD_SelectionTool!G168&\"_\"&PFS_PFD_SelectionTool!H168&\"_\"&PFS_PFD_SelectionTool!I168&\"_\"&PFS_PFD_SelectionTool!J168),\"\",PFS_PFD_SelectionTool!E168&\"_\"&PFS_PFD_SelectionTool!F168&\"_\"&PFS_PFD_SelectionTool!G168&\"_\"&PFS_PFD_SelectionTool!H168&\"_\"&PFS_PFD_SelectionTool!I168&\"_\"&PFS_PFD_SelectionTool!J168)","v":"230_1_1_2_1_1"},{"$f":"IF(ISBLANK(PFS_PFD_SelectionTool!K168),\"\",PFS_PFD_SelectionTool!K168)","v":88650547},{"$f":"VLOOKUP(D152,Tabelle1!A:B,2,FALSE)","v":"PFU 760LTK1"},{"$f":"IF(ISBLANK(PFS_PFD_SelectionTool!N193),\"\",PFS_PFD_SelectionTool!N193)","v":""},{"$f":"IF(ISBLANK(PFS_PFD_SelectionTool!O193),\"\",PFS_PFD_SelectionTool!O193)","v":""}]
[{"$f":"IF(ISBLANK(PFS_PFD_SelectionTool!C169),\"\",PFS_PFD_SelectionTool!C169)","v":84603670},{"$f":"IF(ISBLANK(PFS_PFD_SelectionTool!D169),\"\",PFS_PFD_SelectionTool!D169)","v":"PFD 778L-3/1T/N"},{"$f":"IF(ISBLANK(PFS_PFD_SelectionTool!E169&\"_\"&PFS_PFD_SelectionTool!F169&\"_\"&PFS_PFD_SelectionTool!G169&\"_\"&PFS_PFD_SelectionTool!H169&\"_\"&PFS_PFD_SelectionTool!I169&\"_\"&PFS_PFD_SelectionTool!J169),\"\",PFS_PFD_SelectionTool!E169&\"_\"&PFS_PFD_SelectionTool!F169&\"_\"&PFS_PFD_SelectionTool!G169&\"_\"&PFS_PFD_SelectionTool!H169&\"_\"&PFS_PFD_SelectionTool!I169&\"_\"&PFS_PFD_SelectionTool!J169)","v":"230_1_3_2_2_1"},{"$f":"IF(ISBLANK(PFS_PFD_SelectionTool!K169),\"\",PFS_PFD_SelectionTool!K169)","v":88650808},{"$f":"VLOOKUP(D153,Tabelle1!A:B,2,FALSE)","v":"PFU 760LTK1"},{"$f":"IF(ISBLANK(PFS_PFD_SelectionTool!N194),\"\",PFS_PFD_SelectionTool!N194)","v":""},{"$f":"IF(ISBLANK(PFS_PFD_SelectionTool!O194),\"\",PFS_PFD_SelectionTool!O194)","v":""}]
[{"$f":"IF(ISBLANK(PFS_PFD_SelectionTool!C170),\"\",PFS_PFD_SelectionTool!C170)","v":84603180},{"$f":"IF(ISBLANK(PFS_PFD_SelectionTool!D170),\"\",PFS_PFD_SelectionTool!D170)","v":"PFS 778L-5/1T/N"},{"$f":"IF(ISBLANK(PFS_PFD_SelectionTool!E170&\"_\"&PFS_PFD_SelectionTool!F170&\"_\"&PFS_PFD_SelectionTool!G170&\"_\"&PFS_PFD_SelectionTool!H170&\"_\"&PFS_PFD_SelectionTool!I170&\"_\"&PFS_PFD_SelectionTool!J170),\"\",PFS_PFD_SelectionTool!E170&\"_\"&PFS_PFD_SelectionTool!F170&\"_\"&PFS_PFD_SelectionTool!G170&\"_\"&PFS_PFD_SelectionTool!H170&\"_\"&PFS_PFD_SelectionTool!I170&\"_\"&PFS_PFD_SelectionTool!J170)","v":"230_2_3_1_1_2"},{"$f":"IF(ISBLANK(PFS_PFD_SelectionTool!K170),\"\",PFS_PFD_SelectionTool!K170)","v":88651208},{"$f":"VLOOKUP(D154,Tabelle1!A:B,2,FALSE)","v":{"$error":"#N/A"}},{"$f":"IF(ISBLANK(PFS_PFD_SelectionTool!N195),\"\",PFS_PFD_SelectionTool!N195)","v":""},{"$f":"IF(ISBLANK(PFS_PFD_SelectionTool!O195),\"\",PFS_PFD_SelectionTool!O195)","v":""}]
[{"$f":"IF(ISBLANK(PFS_PFD_SelectionTool!C171),\"\",PFS_PFD_SelectionTool!C171)","v":84603170},{"$f":"IF(ISBLANK(PFS_PFD_SelectionTool!D171),\"\",PFS_PFD_SelectionTool!D171)","v":"PFS 778L-3/1T/N"},{"$f":"IF(ISBLANK(PFS_PFD_SelectionTool!E171&\"_\"&PFS_PFD_SelectionTool!F171&\"_\"&PFS_PFD_SelectionTool!G171&\"_\"&PFS_PFD_SelectionTool!H171&\"_\"&PFS_PFD_SelectionTool!I171&\"_\"&PFS_PFD_SelectionTool!J171),\"\",PFS_PFD_SelectionTool!E171&\"_\"&PFS_PFD_SelectionTool!F171&\"_\"&PFS_PFD_SelectionTool!G171&\"_\"&PFS_PFD_SelectionTool!H171&\"_\"&PFS_PFD_SelectionTool!I171&\"_\"&PFS_PFD_SelectionTool!J171)","v":"230_1_3_1_2_4"},{"$f":"IF(ISBLANK(PFS_PFD_SelectionTool!K171),\"\",PFS_PFD_SelectionTool!K171)","v":88651210},{"$f":"VLOOKUP(D155,Tabelle1!A:B,2,FALSE)","v":{"$error":"#N/A"}},{"$f":"IF(ISBLANK(PFS_PFD_SelectionTool!N196),\"\",PFS_PFD_SelectionTool!N196)","v":""},{"$f":"IF(ISBLANK(PFS_PFD_SelectionTool!O196),\"\",PFS_PFD_SelectionTool!O196)","v":""}]
[{"$f":"IF(ISBLANK(PFS_PFD_SelectionTool!C172),\"\",PFS_PFD_SelectionTool!C172)","v":84603170},{"$f":"IF(ISBLANK(PFS_PFD_SelectionTool!D172),\"\",PFS_PFD_SelectionTool!D172)","v":"PFS 778L-3/1T/N"},{"$f":"IF(ISBLANK(PFS_PFD_SelectionTool!E172&\"_\"&PFS_PFD_SelectionTool!F172&\"_\"&PFS_PFD_SelectionTool!G172&\"_\"&PFS_PFD_SelectionTool!H172&\"_\"&PFS_PFD_SelectionTool!I172&\"_\"&PFS_PFD_SelectionTool!J172),\"\",PFS_PFD_SelectionTool!E172&\"_\"&PFS_PFD_SelectionTool!F172&\"_\"&PFS_PFD_SelectionTool!G172&\"_\"&PFS_PFD_SelectionTool!H172&\"_\"&PFS_PFD_SelectionTool!I172&\"_\"&PFS_PFD_SelectionTool!J172)","v":"230_1_3_1_2_3"},{"$f":"IF(ISBLANK(PFS_PFD_SelectionTool!K172),\"\",PFS_PFD_SelectionTool!K172)","v":88651211},{"$f":"VLOOKUP(D156,Tabelle1!A:B,2,FALSE)","v":{"$error":"#N/A"}},{"$f":"IF(ISBLANK(PFS_PFD_SelectionTool!N197),\"\",PFS_PFD_SelectionTool!N197)","v":""},{"$f":"IF(ISBLANK(PFS_PFD_SelectionTool!O197),\"\",PFS_PFD_SelectionTool!O197)","v":""}]
[{"$f":"IF(ISBLANK(PFS_PFD_SelectionTool!C173),\"\",PFS_PFD_SelectionTool!C173)","v":84603180},{"$f":"IF(ISBLANK(PFS_PFD_SelectionTool!D173),\"\",PFS_PFD_SelectionTool!D173)","v":"PFS 778L-5/1T/N"},{"$f":"IF(ISBLANK(PFS_PFD_SelectionTool!E173&\"_\"&PFS_PFD_SelectionTool!F173&\"_\"&PFS_PFD_SelectionTool!G173&\"_\"&PFS_PFD_SelectionTool!H173&\"_\"&PFS_PFD_SelectionTool!I173&\"_\"&PFS_PFD_SelectionTool!J173),\"\",PFS_PFD_SelectionTool!E173&\"_\"&PFS_PFD_SelectionTool!F173&\"_\"&PFS_PFD_SelectionTool!G173&\"_\"&PFS_PFD_SelectionTool!H173&\"_\"&PFS_PFD_SelectionTool!I173&\"_\"&PFS_PFD_SelectionTool!J173)","v":"230_2_1_2_2_1"},{"$f":"IF(ISBLANK(PFS_PFD_SelectionTool!K173),\"\",PFS_PFD_SelectionTool!K173)","v":88651266},{"$f":"VLOOKUP(D157,Tabelle1!A:B,2,FALSE)","v":{"$error":"#N/A"}},{"$f":"IF(ISBLANK(PFS_PFD_SelectionTool!N198),\"\",PFS_PFD_SelectionTool!N198)","v":""},{"$f":"IF(ISBLANK(PFS_PFD_SelectionTool!O198),\"\",PFS_PFD_SelectionTool!O198)","v":""}]
[{"$f":"IF(ISBLANK(PFS_PFD_SelectionTool!C174),\"\",PFS_PFD_SelectionTool!C174)","v":84603070},{"$f":"IF(ISBLANK(PFS_PFD_SelectionTool!D174),\"\",PFS_PFD_SelectionTool!D174)","v":"PFS 748L-3/1T/N"},{"$f":"IF(ISBLANK(PFS_PFD_SelectionTool!E174&\"_\"&PFS_PFD_SelectionTool!F174&\"_\"&PFS_PFD_SelectionTool!G174&\"_\"&PFS_PFD_SelectionTool!H174&\"_\"&PFS_PFD_SelectionTool!I174&\"_\"&PFS_PFD_SelectionTool!J174),\"\",PFS_PFD_SelectionTool!E174&\"_\"&PFS_PFD_SelectionTool!F174&\"_\"&PFS_PFD_SelectionTool!G174&\"_\"&PFS_PFD_SelectionTool!H174&\"_\"&PFS_PFD_SelectionTool!I174&\"_\"&PFS_PFD_SelectionTool!J174)","v":"230_2_2_1_2_1"},{"$f":"IF(ISBLANK(PFS_PFD_SelectionTool!K174),\"\",PFS_PFD_SelectionTool!K174)","v":88650014},{"$f":"VLOOKUP(D158,Tabelle1!A:B,2,FALSE)","v":"PFU 760LTK1"},{"$f":"IF(ISBLANK(PFS_PFD_SelectionTool!N199),\"\",PFS_PFD_SelectionTool!N199)","v":""},{"$f":"IF(ISBLANK(PFS_PFD_SelectionTool!O199),\"\",PFS_PFD_SelectionTool!O199)","v":""}]
[{"$f":"IF(ISBLANK(PFS_PFD_SelectionTool!C175),\"\",PFS_PFD_SelectionTool!C175)","v":84603180},{"$f":"IF(ISBLANK(PFS_PFD_SelectionTool!D175),\"\",PFS_PFD_SelectionTool!D175)","v":"PFS 778L-5/1"},{"$f":"IF(ISBLANK(PFS_PFD_SelectionTool!E175&\"_\"&PFS_PFD_SelectionTool!F175&\"_\"&PFS_PFD_SelectionTool!G175&\"_\"&PFS_PFD_SelectionTool!H175&\"_\"&PFS_PFD_SelectionTool!I175&\"_\"&PFS_PFD_SelectionTool!J175),\"\",PFS_PFD_SelectionTool!E175&\"_\"&PFS_PFD_SelectionTool!F175&\"_\"&PFS_PFD_SelectionTool!G175&\"_\"&PFS_PFD_SelectionTool!H175&\"_\"&PFS_PFD_SelectionTool!I175&\"_\"&PFS_PFD_SelectionTool!J175)","v":"230_2_2_1_2_1"},{"$f":"IF(ISBLANK(PFS_PFD_SelectionTool!K175),\"\",PFS_PFD_SelectionTool!K175)","v":88650015},{"$f":"VLOOKUP(D159,Tabelle1!A:B,2,FALSE)","v":"PFU 760LTK1"},{"$f":"IF(ISBLANK(PFS_PFD_SelectionTool!N200),\"\",PFS_PFD_SelectionTool!N200)","v":""},{"$f":"IF(ISBLANK(PFS_PFD_SelectionTool!O200),\"\",PFS_PFD_SelectionTool!O200)","v":""}]
[{"$f":"IF(ISBLANK(PFS_PFD_SelectionTool!C176),\"\",PFS_PFD_SelectionTool!C176)","v":84603690},{"$f":"IF(ISBLANK(PFS_PFD_SelectionTool!D176),\"\",PFS_PFD_SelectionTool!D176)","v":"PFD 778L-10/1T/N"},{"$f":"IF(ISBLANK(PFS_PFD_SelectionTool!E176&\"_\"&PFS_PFD_SelectionTool!F176&\"_\"&PFS_PFD_SelectionTool!G176&\"_\"&PFS_PFD_SelectionTool!H176&\"_\"&PFS_PFD_SelectionTool!I176&\"_\"&PFS_PFD_SelectionTool!J176),\"\",PFS_PFD_SelectionTool!E176&\"_\"&PFS_PFD_SelectionTool!F176&\"_\"&PFS_PFD_SelectionTool!G176&\"_\"&PFS_PFD_SelectionTool!H176&\"_\"&PFS_PFD_SelectionTool!I176&\"_\"&PFS_PFD_SelectionTool!J176)","v":"230_2_3_2_1_1"},{"$f":"IF(ISBLANK(PFS_PFD_SelectionTool!K176),\"\",PFS_PFD_SelectionTool!K176)","v":88651310},{"$f":"VLOOKUP(D160,Tabelle1!A:B,2,FALSE)","v":{"$error":"#N/A"}},{"$f":"IF(ISBLANK(PFS_PFD_SelectionTool!N201),\"\",PFS_PFD_SelectionTool!N201)","v":""},{"$f":"IF(ISBLANK(PFS_PFD_SelectionTool!O201),\"\",PFS_PFD_SelectionTool!O201)","v":""}]
[{"$f":"IF(ISBLANK(PFS_PFD_SelectionTool!C177),\"\",PFS_PFD_SelectionTool!C177)","v":84603170},{"$f":"IF(ISBLANK(PFS_PFD_SelectionTool!D177),\"\",PFS_PFD_SelectionTool!D177)","v":"PFS 778L-3/1T/N"},{"$f":"IF(ISBLANK(PFS_PFD_SelectionTool!E177&\"_\"&PFS_PFD_SelectionTool!F177&\"_\"&PFS_PFD_SelectionTool!G177&\"_\"&PFS_PFD_SelectionTool!H177&\"_\"&PFS_PFD_SelectionTool!I177&\"_\"&PFS_PFD_SelectionTool!J177),\"\",PFS_PFD_SelectionTool!E177&\"_\"&PFS_PFD_SelectionTool!F177&\"_\"&PFS_PFD_SelectionTool!G177&\"_\"&PFS_PFD_SelectionTool!H177&\"_\"&PFS_PFD_SelectionTool!I177&\"_\"&PFS_PFD_SelectionTool!J177)","v":"230_1_2_1_1_4"},{"$f":"IF(ISBLANK(PFS_PFD_SelectionTool!K177),\"\",PFS_PFD_SelectionTool!K177)","v":88651210},{"$f":"VLOOKUP(D161,Tabelle1!A:B,2,FALSE)","v":{"$error":"#N/A"}},{"$f":"IF(ISBLANK(PFS_PFD_SelectionTool!N202),\"\",PFS_PFD_SelectionTool!N202)","v":""},{"$f":"IF(ISBLANK(PFS_PFD_SelectionTool!O202),\"\",PFS_PFD_SelectionTool!O202)","v":""}]
[{"$f":"IF(ISBLANK(PFS_PFD_SelectionTool!C178),\"\",PFS_PFD_SelectionTool!C178)","v":84603140},{"$f":"IF(ISBLANK(PFS_PFD_SelectionTool!D178),\"\",PFS_PFD_SelectionTool!D178)","v":"PFS 778S-5/1T/N"},{"$f":"IF(ISBLANK(PFS_PFD_SelectionTool!E178&\"_\"&PFS_PFD_SelectionTool!F178&\"_\"&PFS_PFD_SelectionTool!G178&\"_\"&PFS_PFD_SelectionTool!H178&\"_\"&PFS_PFD_SelectionTool!I178&\"_\"&PFS_PFD_SelectionTool!J178),\"\",PFS_PFD_SelectionTool!E178&\"_\"&PFS_PFD_SelectionTool!F178&\"_\"&PFS_PFD_SelectionTool!G178&\"_\"&PFS_PFD_SelectionTool!H178&\"_\"&PFS_PFD_SelectionTool!I178&\"_\"&PFS_PFD_SelectionTool!J178)","v":"230_na_3_1_2_3"},{"$f":"IF(ISBLANK(PFS_PFD_SelectionTool!K178),\"\",PFS_PFD_SelectionTool!K178)","v":88650929},{"$f":"VLOOKUP(D162,Tabelle1!A:B,2,FALSE)","v":"PFU 760TK1"},{"$f":"IF(ISBLANK(PFS_PFD_SelectionTool!N203),\"\",PFS_PFD_SelectionTool!N203)","v":""},{"$f":"IF(ISBLANK(PFS_PFD_SelectionTool!O203),\"\",PFS_PFD_SelectionTool!O203)","v":""}]
[{"$f":"IF(ISBLANK(PFS_PFD_SelectionTool!C179),\"\",PFS_PFD_SelectionTool!C179)","v":84603140},{"$f":"IF(ISBLANK(PFS_PFD_SelectionTool!D179),\"\",PFS_PFD_SelectionTool!D179)","v":"PFS 778S-5/1T/N"},{"$f":"IF(ISBLANK(PFS_PFD_SelectionTool!E179&\"_\"&PFS_PFD_SelectionTool!F179&\"_\"&PFS_PFD_SelectionTool!G179&\"_\"&PFS_PFD_SelectionTool!H179&\"_\"&PFS_PFD_SelectionTool!I179&\"_\"&PFS_PFD_SelectionTool!J179),\"\",PFS_PFD_SelectionTool!E179&\"_\"&PFS_PFD_SelectionTool!F179&\"_\"&PFS_PFD_SelectionTool!G179&\"_\"&PFS_PFD_SelectionTool!H179&\"_\"&PFS_PFD_SelectionTool!I179&\"_\"&PFS_PFD_SelectionTool!J179)","v":"230_na_2_1_2_3"},{"$f":"IF(ISBLANK(PFS_PFD_SelectionTool!K179),\"\",PFS_PFD_SelectionTool!K179)","v":88650929},{"$f":"VLOOKUP(D163,Tabelle1!A:B,2,FALSE)","v":"PFU 760TK1"},{"$f":"IF(ISBLANK(PFS_PFD_SelectionTool!N204),\"\",PFS_PFD_SelectionTool!N204)","v":""},{"$f":"IF(ISBLANK(PFS_PFD_SelectionTool!O204),\"\",PFS_PFD_SelectionTool!O204)","v":""}]
[{"$f":"IF(ISBLANK(PFS_PFD_SelectionTool!C180),\"\",PFS_PFD_SelectionTool!C180)","v":84603690},{"$f":"IF(ISBLANK(PFS_PFD_SelectionTool!D180),\"\",PFS_PFD_SelectionTool!D180)","v":"PFD 778L-10/1T/N"},{"$f":"IF(ISBLANK(PFS_PFD_SelectionTool!E180&\"_\"&PFS_PFD_SelectionTool!F180&\"_\"&PFS_PFD_SelectionTool!G180&\"_\"&PFS_PFD_SelectionTool!H180&\"_\"&PFS_PFD_SelectionTool!I180&\"_\"&PFS_PFD_SelectionTool!J180),\"\",PFS_PFD_SelectionTool!E180&\"_\"&PFS_PFD_SelectionTool!F180&\"_\"&PFS_PFD_SelectionTool!G180&\"_\"&PFS_PFD_SelectionTool!H180&\"_\"&PFS_PFD_SelectionTool!I180&\"_\"&PFS_PFD_SelectionTool!J180)","v":"230_2_3_2_2_1"},{"$f":"IF(ISBLANK(PFS_PFD_SelectionTool!K180),\"\",PFS_PFD_SelectionTool!K180)","v":88650843},{"$f":"VLOOKUP(D164,Tabelle1!A:B,2,FALSE)","v":"PFU 760LTK1"},{"$f":"IF(ISBLANK(PFS_PFD_SelectionTool!N205),\"\",PFS_PFD_SelectionTool!N205)","v":""},{"$f":"IF(ISBLANK(PFS_PFD_SelectionTool!O205),\"\",PFS_PFD_SelectionTool!O205)","v":""}]
[{"$f":"IF(ISBLANK(PFS_PFD_SelectionTool!C181),\"\",PFS_PFD_SelectionTool!C181)","v":84603690},{"$f":"IF(ISBLANK(PFS_PFD_SelectionTool!D181),\"\",PFS_PFD_SelectionTool!D181)","v":"PFD 778L-10/1T/N"},{"$f":"IF(ISBLANK(PFS_PFD_SelectionTool!E181&\"_\"&PFS_PFD_SelectionTool!F181&\"_\"&PFS_PFD_SelectionTool!G181&\"_\"&PFS_PFD_SelectionTool!H181&\"_\"&PFS_PFD_SelectionTool!I181&\"_\"&PFS_PFD_SelectionTool!J181),\"\",PFS_PFD_SelectionTool!E181&\"_\"&PFS_PFD_SelectionTool!F181&\"_\"&PFS_PFD_SelectionTool!G181&\"_\"&PFS_PFD_SelectionTool!H181&\"_\"&PFS_PFD_SelectionTool!I181&\"_\"&PFS_PFD_SelectionTool!J181)","v":"230_2_1_2_2_1"},{"$f":"IF(ISBLANK(PFS_PFD_SelectionTool!K181),\"\",PFS_PFD_SelectionTool!K181)","v":88651342},{"$f":"VLOOKUP(D165,Tabelle1!A:B,2,FALSE)","v":{"$error":"#N/A"}},{"$f":"IF(ISBLANK(PFS_PFD_SelectionTool!N206),\"\",PFS_PFD_SelectionTool!N206)","v":""},{"$f":"IF(ISBLANK(PFS_PFD_SelectionTool!O206),\"\",PFS_PFD_SelectionTool!O206)","v":""}]
[{"$f":"IF(ISBLANK(PFS_PFD_SelectionTool!C182),\"\",PFS_PFD_SelectionTool!C182)","v":84603140},{"$f":"IF(ISBLANK(PFS_PFD_SelectionTool!D182),\"\",PFS_PFD_SelectionTool!D182)","v":"PFS 778S-5/1T/N"},{"$f":"IF(ISBLANK(PFS_PFD_SelectionTool!E182&\"_\"&PFS_PFD_SelectionTool!F182&\"_\"&PFS_PFD_SelectionTool!G182&\"_\"&PFS_PFD_SelectionTool!H182&\"_\"&PFS_PFD_SelectionTool!I182&\"_\"&PFS_PFD_SelectionTool!J182),\"\",PFS_PFD_SelectionTool!E182&\"_\"&PFS_PFD_SelectionTool!F182&\"_\"&PFS_PFD_SelectionTool!G182&\"_\"&PFS_PFD_SelectionTool!H182&\"_\"&PFS_PFD_SelectionTool!I182&\"_\"&PFS_PFD_SelectionTool!J182)","v":"230_na_2_1_2_6"},{"$f":"IF(ISBLANK(PFS_PFD_SelectionTool!K182),\"\",PFS_PFD_SelectionTool!K182)","v":88651346},{"$f":"VLOOKUP(D166,Tabelle1!A:B,2,FALSE)","v":{"$error":"#N/A"}},{"$f":"IF(ISBLANK(PFS_PFD_SelectionTool!N207),\"\",PFS_PFD_SelectionTool!N207)","v":""},{"$f":"IF(ISBLANK(PFS_PFD_SelectionTool!O207),\"\",PFS_PFD_SelectionTool!O207)","v":""}]
[{"$f":"IF(ISBLANK(PFS_PFD_SelectionTool!C183),\"\",PFS_PFD_SelectionTool!C183)","v":84603190},{"$f":"IF(ISBLANK(PFS_PFD_SelectionTool!D183),\"\",PFS_PFD_SelectionTool!D183)","v":"PFS 778L-10/1T/N"},{"$f":"IF(ISBLANK(PFS_PFD_SelectionTool!E183&\"_\"&PFS_PFD_SelectionTool!F183&\"_\"&PFS_PFD_SelectionTool!G183&\"_\"&PFS_PFD_SelectionTool!H183&\"_\"&PFS_PFD_SelectionTool!I183&\"_\"&PFS_PFD_SelectionTool!J183),\"\",PFS_PFD_SelectionTool!E183&\"_\"&PFS_PFD_SelectionTool!F183&\"_\"&PFS_PFD_SelectionTool!G183&\"_\"&PFS_PFD_SelectionTool!H183&\"_\"&PFS_PFD_SelectionTool!I183&\"_\"&PFS_PFD_SelectionTool!J183)","v":"230_2_2_2_2_1"},{"$f":"IF(ISBLANK(PFS_PFD_SelectionTool!K183),\"\",PFS_PFD_SelectionTool!K183)","v":88651382},{"$f":"VLOOKUP(D167,Tabelle1!A:B,2,FALSE)","v":{"$error":"#N/A"}},{"$f":"IF(ISBLANK(PFS_PFD_SelectionTool!N208),\"\",PFS_PFD_SelectionTool!N208)","v":""},{"$f":"IF(ISBLANK(PFS_PFD_SelectionTool!O208),\"\",PFS_PFD_SelectionTool!O208)","v":""}]
[{"$f":"IF(ISBLANK(PFS_PFD_SelectionTool!C184),\"\",PFS_PFD_SelectionTool!C184)","v":84603170},{"$f":"IF(ISBLANK(PFS_PFD_SelectionTool!D184),\"\",PFS_PFD_SelectionTool!D184)","v":"PFS 778L-3/1T/N"},{"$f":"IF(ISBLANK(PFS_PFD_SelectionTool!E184&\"_\"&PFS_PFD_SelectionTool!F184&\"_\"&PFS_PFD_SelectionTool!G184&\"_\"&PFS_PFD_SelectionTool!H184&\"_\"&PFS_PFD_SelectionTool!I184&\"_\"&PFS_PFD_SelectionTool!J184),\"\",PFS_PFD_SelectionTool!E184&\"_\"&PFS_PFD_SelectionTool!F184&\"_\"&PFS_PFD_SelectionTool!G184&\"_\"&PFS_PFD_SelectionTool!H184&\"_\"&PFS_PFD_SelectionTool!I184&\"_\"&PFS_PFD_SelectionTool!J184)","v":"230_1_2_2_2_2"},{"$f":"IF(ISBLANK(PFS_PFD_SelectionTool!K184),\"\",PFS_PFD_SelectionTool!K184)","v":88650804},{"$f":"VLOOKUP(D168,Tabelle1!A:B,2,FALSE)","v":"PFU 760LTK1"},{"$f":"IF(ISBLANK(PFS_PFD_SelectionTool!N209),\"\",PFS_PFD_SelectionTool!N209)","v":""},{"$f":"IF(ISBLANK(PFS_PFD_SelectionTool!O209),\"\",PFS_PFD_SelectionTool!O209)","v":""}]
[{"$f":"IF(ISBLANK(PFS_PFD_SelectionTool!C185),\"\",PFS_PFD_SelectionTool!C185)","v":84603170},{"$f":"IF(ISBLANK(PFS_PFD_SelectionTool!D185),\"\",PFS_PFD_SelectionTool!D185)","v":"PFS 778L-3/1T/N"},{"$f":"IF(ISBLANK(PFS_PFD_SelectionTool!E185&\"_\"&PFS_PFD_SelectionTool!F185&\"_\"&PFS_PFD_SelectionTool!G185&\"_\"&PFS_PFD_SelectionTool!H185&\"_\"&PFS_PFD_SelectionTool!I185&\"_\"&PFS_PFD_SelectionTool!J185),\"\",PFS_PFD_SelectionTool!E185&\"_\"&PFS_PFD_SelectionTool!F185&\"_\"&PFS_PFD_SelectionTool!G185&\"_\"&PFS_PFD_SelectionTool!H185&\"_\"&PFS_PFD_SelectionTool!I185&\"_\"&PFS_PFD_SelectionTool!J185)","v":"230_2_2_2_2_1"},{"$f":"IF(ISBLANK(PFS_PFD_SelectionTool!K185),\"\",PFS_PFD_SelectionTool!K185)","v":88651258},{"$f":"VLOOKUP(D169,Tabelle1!A:B,2,FALSE)","v":{"$error":"#N/A"}},{"$f":"IF(ISBLANK(PFS_PFD_SelectionTool!N210),\"\",PFS_PFD_SelectionTool!N210)","v":""},{"$f":"IF(ISBLANK(PFS_PFD_SelectionTool!O210),\"\",PFS_PFD_SelectionTool!O210)","v":""}]
[{"$f":"IF(ISBLANK(PFS_PFD_SelectionTool!C186),\"\",PFS_PFD_SelectionTool!C186)","v":84603130},{"$f":"IF(ISBLANK(PFS_PFD_SelectionTool!D186),\"\",PFS_PFD_SelectionTool!D186)","v":"PFS 778S-3/1T/N"},{"$f":"IF(ISBLANK(PFS_PFD_SelectionTool!E186&\"_\"&PFS_PFD_SelectionTool!F186&\"_\"&PFS_PFD_SelectionTool!G186&\"_\"&PFS_PFD_SelectionTool!H186&\"_\"&PFS_PFD_SelectionTool!I186&\"_\"&PFS_PFD_SelectionTool!J186),\"\",PFS_PFD_SelectionTool!E186&\"_\"&PFS_PFD_SelectionTool!F186&\"_\"&PFS_PFD_SelectionTool!G186&\"_\"&PFS_PFD_SelectionTool!H186&\"_\"&PFS_PFD_SelectionTool!I186&\"_\"&PFS_PFD_SelectionTool!J186)","v":"230_2_2_1_2_1"},{"$f":"IF(ISBLANK(PFS_PFD_SelectionTool!K186),\"\",PFS_PFD_SelectionTool!K186)","v":88650034},{"$f":"VLOOKUP(D170,Tabelle1!A:B,2,FALSE)","v":"PFU 760TK1"},{"$f":"IF(ISBLANK(PFS_PFD_SelectionTool!N211),\"\",PFS_PFD_SelectionTool!N211)","v":""},{"$f":"IF(ISBLANK(PFS_PFD_SelectionTool!O211),\"\",PFS_PFD_SelectionTool!O211)","v":""}]
[{"$f":"IF(ISBLANK(PFS_PFD_SelectionTool!C187),\"\",PFS_PFD_SelectionTool!C187)","v":84603280},{"$f":"IF(ISBLANK(PFS_PFD_SelectionTool!D187),\"\",PFS_PFD_SelectionTool!D187)","v":"PFS 778D-5/1T/N"},{"$f":"IF(ISBLANK(PFS_PFD_SelectionTool!E187&\"_\"&PFS_PFD_SelectionTool!F187&\"_\"&PFS_PFD_SelectionTool!G187&\"_\"&PFS_PFD_SelectionTool!H187&\"_\"&PFS_PFD_SelectionTool!I187&\"_\"&PFS_PFD_SelectionTool!J187),\"\",PFS_PFD_SelectionTool!E187&\"_\"&PFS_PFD_SelectionTool!F187&\"_\"&PFS_PFD_SelectionTool!G187&\"_\"&PFS_PFD_SelectionTool!H187&\"_\"&PFS_PFD_SelectionTool!I187&\"_\"&PFS_PFD_SelectionTool!J187)","v":"230_2_2_2_2_1"},{"$f":"IF(ISBLANK(PFS_PFD_SelectionTool!K187),\"\",PFS_PFD_SelectionTool!K187)","v":88650080},{"$f":"VLOOKUP(D171,Tabelle1!A:B,2,FALSE)","v":"PFU 760LTK1"},{"$f":"IF(ISBLANK(PFS_PFD_SelectionTool!N212),\"\",PFS_PFD_SelectionTool!N212)","v":""},{"$f":"IF(ISBLANK(PFS_PFD_SelectionTool!O212),\"\",PFS_PFD_SelectionTool!O212)","v":""}]
[{"$f":"IF(ISBLANK(PFS_PFD_SelectionTool!C188),\"\",PFS_PFD_SelectionTool!C188)","v":84603130},{"$f":"IF(ISBLANK(PFS_PFD_SelectionTool!D188),\"\",PFS_PFD_SelectionTool!D188)","v":"PFS 778S-3/1T/N"},{"$f":"IF(ISBLANK(PFS_PFD_SelectionTool!E188&\"_\"&PFS_PFD_SelectionTool!F188&\"_\"&PFS_PFD_SelectionTool!G188&\"_\"&PFS_PFD_SelectionTool!H188&\"_\"&PFS_PFD_SelectionTool!I188&\"_\"&PFS_PFD_SelectionTool!J188),\"\",PFS_PFD_SelectionTool!E188&\"_\"&PFS_PFD_SelectionTool!F188&\"_\"&PFS_PFD_SelectionTool!G188&\"_\"&PFS_PFD_SelectionTool!H188&\"_\"&PFS_PFD_SelectionTool!I188&\"_\"&PFS_PFD_SelectionTool!J188)","v":"230_na_3_1_2_1"},{"$f":"IF(ISBLANK(PFS_PFD_SelectionTool!K188),\"\",PFS_PFD_SelectionTool!K188)","v":88650034},{"$f":"VLOOKUP(D172,Tabelle1!A:B,2,FALSE)","v":"PFU 760TK1"},{"$f":"IF(ISBLANK(PFS_PFD_SelectionTool!N213),\"\",PFS_PFD_SelectionTool!N213)","v":""},{"$f":"IF(ISBLANK(PFS_PFD_SelectionTool!O213),\"\",PFS_PFD_SelectionTool!O213)","v":""}]
[{"$f":"IF(ISBLANK(PFS_PFD_SelectionTool!C189),\"\",PFS_PFD_SelectionTool!C189)","v":84603670},{"$f":"IF(ISBLANK(PFS_PFD_SelectionTool!D189),\"\",PFS_PFD_SelectionTool!D189)","v":"PFD 778L-3/1T/N"},{"$f":"IF(ISBLANK(PFS_PFD_SelectionTool!E189&\"_\"&PFS_PFD_SelectionTool!F189&\"_\"&PFS_PFD_SelectionTool!G189&\"_\"&PFS_PFD_SelectionTool!H189&\"_\"&PFS_PFD_SelectionTool!I189&\"_\"&PFS_PFD_SelectionTool!J189),\"\",PFS_PFD_SelectionTool!E189&\"_\"&PFS_PFD_SelectionTool!F189&\"_\"&PFS_PFD_SelectionTool!G189&\"_\"&PFS_PFD_SelectionTool!H189&\"_\"&PFS_PFD_SelectionTool!I189&\"_\"&PFS_PFD_SelectionTool!J189)","v":"230_1_2_1_2_1"},{"$f":"IF(ISBLANK(PFS_PFD_SelectionTool!K189),\"\",PFS_PFD_SelectionTool!K189)","v":88650159},{"$f":"VLOOKUP(D173,Tabelle1!A:B,2,FALSE)","v":"PFU 760LTK1"},{"$f":"IF(ISBLANK(PFS_PFD_SelectionTool!N214),\"\",PFS_PFD_SelectionTool!N214)","v":""},{"$f":"IF(ISBLANK(PFS_PFD_SelectionTool!O214),\"\",PFS_PFD_SelectionTool!O214)","v":""}]
[{"$f":"IF(ISBLANK(PFS_PFD_SelectionTool!C190),\"\",PFS_PFD_SelectionTool!C190)","v":""},{"$f":"IF(ISBLANK(PFS_PFD_SelectionTool!D190),\"\",PFS_PFD_SelectionTool!D190)","v":""},{"$f":"IF(ISBLANK(PFS_PFD_SelectionTool!E190&\"_\"&PFS_PFD_SelectionTool!F190&\"_\"&PFS_PFD_SelectionTool!G190&\"_\"&PFS_PFD_SelectionTool!H190&\"_\"&PFS_PFD_SelectionTool!I190&\"_\"&PFS_PFD_SelectionTool!J190),\"\",PFS_PFD_SelectionTool!E190&\"_\"&PFS_PFD_SelectionTool!F190&\"_\"&PFS_PFD_SelectionTool!G190&\"_\"&PFS_PFD_SelectionTool!H190&\"_\"&PFS_PFD_SelectionTool!I190&\"_\"&PFS_PFD_SelectionTool!J190)","v":"_____"},{"$f":"IF(ISBLANK(PFS_PFD_SelectionTool!K190),\"\",PFS_PFD_SelectionTool!K190)","v":""},{"$f":"VLOOKUP(D174,Tabelle1!A:B,2,FALSE)","v":{"$error":"#N/A"}},{"$f":"IF(ISBLANK(PFS_PFD_SelectionTool!N215),\"\",PFS_PFD_SelectionTool!N215)","v":""},{"$f":"IF(ISBLANK(PFS_PFD_SelectionTool!O215),\"\",PFS_PFD_SelectionTool!O215)","v":""}]
[{"$f":"IF(ISBLANK(PFS_PFD_SelectionTool!C191),\"\",PFS_PFD_SelectionTool!C191)","v":""},{"$f":"IF(ISBLANK(PFS_PFD_SelectionTool!D191),\"\",PFS_PFD_SelectionTool!D191)","v":""},{"$f":"IF(ISBLANK(PFS_PFD_SelectionTool!E191&\"_\"&PFS_PFD_SelectionTool!F191&\"_\"&PFS_PFD_SelectionTool!G191&\"_\"&PFS_PFD_SelectionTool!H191&\"_\"&PFS_PFD_SelectionTool!I191&\"_\"&PFS_PFD_SelectionTool!J191),\"\",PFS_PFD_SelectionTool!E191&\"_\"&PFS_PFD_SelectionTool!F191&\"_\"&PFS_PFD_SelectionTool!G191&\"_\"&PFS_PFD_SelectionTool!H191&\"_\"&PFS_PFD_SelectionTool!I191&\"_\"&PFS_PFD_SelectionTool!J191)","v":"_____"},{"$f":"IF(ISBLANK(PFS_PFD_SelectionTool!K191),\"\",PFS_PFD_SelectionTool!K191)","v":""},{"$f":"VLOOKUP(D175,Tabelle1!A:B,2,FALSE)","v":{"$error":"#N/A"}},{"$f":"IF(ISBLANK(PFS_PFD_SelectionTool!N216),\"\",PFS_PFD_SelectionTool!N216)","v":""},{"$f":"IF(ISBLANK(PFS_PFD_SelectionTool!O216),\"\",PFS_PFD_SelectionTool!O216)","v":""}]
[{"$f":"IF(ISBLANK(PFS_PFD_SelectionTool!C192),\"\",PFS_PFD_SelectionTool!C192)","v":""},{"$f":"IF(ISBLANK(PFS_PFD_SelectionTool!D192),\"\",PFS_PFD_SelectionTool!D192)","v":""},{"$f":"IF(ISBLANK(PFS_PFD_SelectionTool!E192&\"_\"&PFS_PFD_SelectionTool!F192&\"_\"&PFS_PFD_SelectionTool!G192&\"_\"&PFS_PFD_SelectionTool!H192&\"_\"&PFS_PFD_SelectionTool!I192&\"_\"&PFS_PFD_SelectionTool!J192),\"\",PFS_PFD_SelectionTool!E192&\"_\"&PFS_PFD_SelectionTool!F192&\"_\"&PFS_PFD_SelectionTool!G192&\"_\"&PFS_PFD_SelectionTool!H192&\"_\"&PFS_PFD_SelectionTool!I192&\"_\"&PFS_PFD_SelectionTool!J192)","v":"_____"},{"$f":"IF(ISBLANK(PFS_PFD_SelectionTool!K192),\"\",PFS_PFD_SelectionTool!K192)","v":""},{"$f":"VLOOKUP(D176,Tabelle1!A:B,2,FALSE)","v":{"$error":"#N/A"}},{"$f":"IF(ISBLANK(PFS_PFD_SelectionTool!N217),\"\",PFS_PFD_SelectionTool!N217)","v":""},{"$f":"IF(ISBLANK(PFS_PFD_SelectionTool!O217),\"\",PFS_PFD_SelectionTool!O217)","v":""}]
[{"$f":"IF(ISBLANK(PFS_PFD_SelectionTool!C193),\"\",PFS_PFD_SelectionTool!C193)","v":""},{"$f":"IF(ISBLANK(PFS_PFD_SelectionTool!D193),\"\",PFS_PFD_SelectionTool!D193)","v":""},{"$f":"IF(ISBLANK(PFS_PFD_SelectionTool!E193&\"_\"&PFS_PFD_SelectionTool!F193&\"_\"&PFS_PFD_SelectionTool!G193&\"_\"&PFS_PFD_SelectionTool!H193&\"_\"&PFS_PFD_SelectionTool!I193&\"_\"&PFS_PFD_SelectionTool!J193),\"\",PFS_PFD_SelectionTool!E193&\"_\"&PFS_PFD_SelectionTool!F193&\"_\"&PFS_PFD_SelectionTool!G193&\"_\"&PFS_PFD_SelectionTool!H193&\"_\"&PFS_PFD_SelectionTool!I193&\"_\"&PFS_PFD_SelectionTool!J193)","v":"_____"},{"$f":"IF(ISBLANK(PFS_PFD_SelectionTool!K193),\"\",PFS_PFD_SelectionTool!K193)","v":""},{"$f":"VLOOKUP(D177,Tabelle1!A:B,2,FALSE)","v":{"$error":"#N/A"}},{"$f":"IF(ISBLANK(PFS_PFD_SelectionTool!N218),\"\",PFS_PFD_SelectionTool!N218)","v":""},{"$f":"IF(ISBLANK(PFS_PFD_SelectionTool!O218),\"\",PFS_PFD_SelectionTool!O218)","v":""}]
[{"$f":"IF(ISBLANK(PFS_PFD_SelectionTool!C194),\"\",PFS_PFD_SelectionTool!C194)","v":""},{"$f":"IF(ISBLANK(PFS_PFD_SelectionTool!D194),\"\",PFS_PFD_SelectionTool!D194)","v":""},{"$f":"IF(ISBLANK(PFS_PFD_SelectionTool!E194&\"_\"&PFS_PFD_SelectionTool!F194&\"_\"&PFS_PFD_SelectionTool!G194&\"_\"&PFS_PFD_SelectionTool!H194&\"_\"&PFS_PFD_SelectionTool!I194&\"_\"&PFS_PFD_SelectionTool!J194),\"\",PFS_PFD_SelectionTool!E194&\"_\"&PFS_PFD_SelectionTool!F194&\"_\"&PFS_PFD_SelectionTool!G194&\"_\"&PFS_PFD_SelectionTool!H194&\"_\"&PFS_PFD_SelectionTool!I194&\"_\"&PFS_PFD_SelectionTool!J194)","v":"_____"},{"$f":"IF(ISBLANK(PFS_PFD_SelectionTool!K194),\"\",PFS_PFD_SelectionTool!K194)","v":""},{"$f":"VLOOKUP(D178,Tabelle1!A:B,2,FALSE)","v":{"$error":"#N/A"}},{"$f":"IF(ISBLANK(PFS_PFD_SelectionTool!N219),\"\",PFS_PFD_SelectionTool!N219)","v":""},{"$f":"IF(ISBLANK(PFS_PFD_SelectionTool!O219),\"\",PFS_PFD_SelectionTool!O219)","v":""}]
[{"$f":"IF(ISBLANK(PFS_PFD_SelectionTool!C195),\"\",PFS_PFD_SelectionTool!C195)","v":""},{"$f":"IF(ISBLANK(PFS_PFD_SelectionTool!D195),\"\",PFS_PFD_SelectionTool!D195)","v":""},{"$f":"IF(ISBLANK(PFS_PFD_SelectionTool!E195&\"_\"&PFS_PFD_SelectionTool!F195&\"_\"&PFS_PFD_SelectionTool!G195&\"_\"&PFS_PFD_SelectionTool!H195&\"_\"&PFS_PFD_SelectionTool!I195&\"_\"&PFS_PFD_SelectionTool!J195),\"\",PFS_PFD_SelectionTool!E195&\"_\"&PFS_PFD_SelectionTool!F195&\"_\"&PFS_PFD_SelectionTool!G195&\"_\"&PFS_PFD_SelectionTool!H195&\"_\"&PFS_PFD_SelectionTool!I195&\"_\"&PFS_PFD_SelectionTool!J195)","v":"_____"},{"$f":"IF(ISBLANK(PFS_PFD_SelectionTool!K195),\"\",PFS_PFD_SelectionTool!K195)","v":""},{"$f":"VLOOKUP(D179,Tabelle1!A:B,2,FALSE)","v":{"$error":"#N/A"}},{"$f":"IF(ISBLANK(PFS_PFD_SelectionTool!N220),\"\",PFS_PFD_SelectionTool!N220)","v":""},{"$f":"IF(ISBLANK(PFS_PFD_SelectionTool!O220),\"\",PFS_PFD_SelectionTool!O220)","v":""}]
[{"$f":"IF(ISBLANK(PFS_PFD_SelectionTool!C196),\"\",PFS_PFD_SelectionTool!C196)","v":""},{"$f":"IF(ISBLANK(PFS_PFD_SelectionTool!D196),\"\",PFS_PFD_SelectionTool!D196)","v":""},{"$f":"IF(ISBLANK(PFS_PFD_SelectionTool!E196&\"_\"&PFS_PFD_SelectionTool!F196&\"_\"&PFS_PFD_SelectionTool!G196&\"_\"&PFS_PFD_SelectionTool!H196&\"_\"&PFS_PFD_SelectionTool!I196&\"_\"&PFS_PFD_SelectionTool!J196),\"\",PFS_PFD_SelectionTool!E196&\"_\"&PFS_PFD_SelectionTool!F196&\"_\"&PFS_PFD_SelectionTool!G196&\"_\"&PFS_PFD_SelectionTool!H196&\"_\"&PFS_PFD_SelectionTool!I196&\"_\"&PFS_PFD_SelectionTool!J196)","v":"_____"},{"$f":"IF(ISBLANK(PFS_PFD_SelectionTool!K196),\"\",PFS_PFD_SelectionTool!K196)","v":""},{"$f":"VLOOKUP(D180,Tabelle1!A:B,2,FALSE)","v":{"$error":"#N/A"}},{"$f":"IF(ISBLANK(PFS_PFD_SelectionTool!N221),\"\",PFS_PFD_SelectionTool!N221)","v":""},{"$f":"IF(ISBLANK(PFS_PFD_SelectionTool!O221),\"\",PFS_PFD_SelectionTool!O221)","v":""}]
[{"$f":"IF(ISBLANK(PFS_PFD_SelectionTool!C197),\"\",PFS_PFD_SelectionTool!C197)","v":""},{"$f":"IF(ISBLANK(PFS_PFD_SelectionTool!D197),\"\",PFS_PFD_SelectionTool!D197)","v":""},{"$f":"IF(ISBLANK(PFS_PFD_SelectionTool!E197&\"_\"&PFS_PFD_SelectionTool!F197&\"_\"&PFS_PFD_SelectionTool!G197&\"_\"&PFS_PFD_SelectionTool!H197&\"_\"&PFS_PFD_SelectionTool!I197&\"_\"&PFS_PFD_SelectionTool!J197),\"\",PFS_PFD_SelectionTool!E197&\"_\"&PFS_PFD_SelectionTool!F197&\"_\"&PFS_PFD_SelectionTool!G197&\"_\"&PFS_PFD_SelectionTool!H197&\"_\"&PFS_PFD_SelectionTool!I197&\"_\"&PFS_PFD_SelectionTool!J197)","v":"_____"},{"$f":"IF(ISBLANK(PFS_PFD_SelectionTool!K197),\"\",PFS_PFD_SelectionTool!K197)","v":""},{"$f":"VLOOKUP(D181,Tabelle1!A:B,2,FALSE)","v":{"$error":"#N/A"}},{"$f":"IF(ISBLANK(PFS_PFD_SelectionTool!N222),\"\",PFS_PFD_SelectionTool!N222)","v":""},{"$f":"IF(ISBLANK(PFS_PFD_SelectionTool!O222),\"\",PFS_PFD_SelectionTool!O222)","v":""}]
[{"$f":"IF(ISBLANK(PFS_PFD_SelectionTool!C198),\"\",PFS_PFD_SelectionTool!C198)","v":""},{"$f":"IF(ISBLANK(PFS_PFD_SelectionTool!D198),\"\",PFS_PFD_SelectionTool!D198)","v":""},{"$f":"IF(ISBLANK(PFS_PFD_SelectionTool!E198&\"_\"&PFS_PFD_SelectionTool!F198&\"_\"&PFS_PFD_SelectionTool!G198&\"_\"&PFS_PFD_SelectionTool!H198&\"_\"&PFS_PFD_SelectionTool!I198&\"_\"&PFS_PFD_SelectionTool!J198),\"\",PFS_PFD_SelectionTool!E198&\"_\"&PFS_PFD_SelectionTool!F198&\"_\"&PFS_PFD_SelectionTool!G198&\"_\"&PFS_PFD_SelectionTool!H198&\"_\"&PFS_PFD_SelectionTool!I198&\"_\"&PFS_PFD_SelectionTool!J198)","v":"_____"},{"$f":"IF(ISBLANK(PFS_PFD_SelectionTool!K198),\"\",PFS_PFD_SelectionTool!K198)","v":""},{"$f":"VLOOKUP(D182,Tabelle1!A:B,2,FALSE)","v":{"$error":"#N/A"}},{"$f":"IF(ISBLANK(PFS_PFD_SelectionTool!N223),\"\",PFS_PFD_SelectionTool!N223)","v":""},{"$f":"IF(ISBLANK(PFS_PFD_SelectionTool!O223),\"\",PFS_PFD_SelectionTool!O223)","v":""}]
[{"$f":"IF(ISBLANK(PFS_PFD_SelectionTool!C199),\"\",PFS_PFD_SelectionTool!C199)","v":""},{"$f":"IF(ISBLANK(PFS_PFD_SelectionTool!D199),\"\",PFS_PFD_SelectionTool!D199)","v":""},{"$f":"IF(ISBLANK(PFS_PFD_SelectionTool!E199&\"_\"&PFS_PFD_SelectionTool!F199&\"_\"&PFS_PFD_SelectionTool!G199&\"_\"&PFS_PFD_SelectionTool!H199&\"_\"&PFS_PFD_SelectionTool!I199&\"_\"&PFS_PFD_SelectionTool!J199),\"\",PFS_PFD_SelectionTool!E199&\"_\"&PFS_PFD_SelectionTool!F199&\"_\"&PFS_PFD_SelectionTool!G199&\"_\"&PFS_PFD_SelectionTool!H199&\"_\"&PFS_PFD_SelectionTool!I199&\"_\"&PFS_PFD_SelectionTool!J199)","v":"_____"},{"$f":"IF(ISBLANK(PFS_PFD_SelectionTool!K199),\"\",PFS_PFD_SelectionTool!K199)","v":""},{"$f":"VLOOKUP(D183,Tabelle1!A:B,2,FALSE)","v":{"$error":"#N/A"}},{"$f":"IF(ISBLANK(PFS_PFD_SelectionTool!N224),\"\",PFS_PFD_SelectionTool!N224)","v":""},{"$f":"IF(ISBLANK(PFS_PFD_SelectionTool!O224),\"\",PFS_PFD_SelectionTool!O224)","v":""}]
[{"$f":"IF(ISBLANK(PFS_PFD_SelectionTool!C200),\"\",PFS_PFD_SelectionTool!C200)","v":""},{"$f":"IF(ISBLANK(PFS_PFD_SelectionTool!D200),\"\",PFS_PFD_SelectionTool!D200)","v":""},{"$f":"IF(ISBLANK(PFS_PFD_SelectionTool!E200&\"_\"&PFS_PFD_SelectionTool!F200&\"_\"&PFS_PFD_SelectionTool!G200&\"_\"&PFS_PFD_SelectionTool!H200&\"_\"&PFS_PFD_SelectionTool!I200&\"_\"&PFS_PFD_SelectionTool!J200),\"\",PFS_PFD_SelectionTool!E200&\"_\"&PFS_PFD_SelectionTool!F200&\"_\"&PFS_PFD_SelectionTool!G200&\"_\"&PFS_PFD_SelectionTool!H200&\"_\"&PFS_PFD_SelectionTool!I200&\"_\"&PFS_PFD_SelectionTool!J200)","v":"_____"},{"$f":"IF(ISBLANK(PFS_PFD_SelectionTool!K200),\"\",PFS_PFD_SelectionTool!K200)","v":""},{"$f":"VLOOKUP(D184,Tabelle1!A:B,2,FALSE)","v":{"$error":"#N/A"}},{"$f":"IF(ISBLANK(PFS_PFD_SelectionTool!N225),\"\",PFS_PFD_SelectionTool!N225)","v":""},{"$f":"IF(ISBLANK(PFS_PFD_SelectionTool!O225),\"\",PFS_PFD_SelectionTool!O225)","v":""}]
[{"$f":"IF(ISBLANK(PFS_PFD_SelectionTool!C201),\"\",PFS_PFD_SelectionTool!C201)","v":""},{"$f":"IF(ISBLANK(PFS_PFD_SelectionTool!D201),\"\",PFS_PFD_SelectionTool!D201)","v":""},{"$f":"IF(ISBLANK(PFS_PFD_SelectionTool!E201&\"_\"&PFS_PFD_SelectionTool!F201&\"_\"&PFS_PFD_SelectionTool!G201&\"_\"&PFS_PFD_SelectionTool!H201&\"_\"&PFS_PFD_SelectionTool!I201&\"_\"&PFS_PFD_SelectionTool!J201),\"\",PFS_PFD_SelectionTool!E201&\"_\"&PFS_PFD_SelectionTool!F201&\"_\"&PFS_PFD_SelectionTool!G201&\"_\"&PFS_PFD_SelectionTool!H201&\"_\"&PFS_PFD_SelectionTool!I201&\"_\"&PFS_PFD_SelectionTool!J201)","v":"_____"},{"$f":"IF(ISBLANK(PFS_PFD_SelectionTool!K201),\"\",PFS_PFD_SelectionTool!K201)","v":""},{"$f":"VLOOKUP(D185,Tabelle1!A:B,2,FALSE)","v":{"$error":"#N/A"}},{"$f":"IF(ISBLANK(PFS_PFD_SelectionTool!N226),\"\",PFS_PFD_SelectionTool!N226)","v":""},{"$f":"IF(ISBLANK(PFS_PFD_SelectionTool!O226),\"\",PFS_PFD_SelectionTool!O226)","v":""}]
[{"$f":"IF(ISBLANK(PFS_PFD_SelectionTool!C202),\"\",PFS_PFD_SelectionTool!C202)","v":""},{"$f":"IF(ISBLANK(PFS_PFD_SelectionTool!D202),\"\",PFS_PFD_SelectionTool!D202)","v":""},{"$f":"IF(ISBLANK(PFS_PFD_SelectionTool!E202&\"_\"&PFS_PFD_SelectionTool!F202&\"_\"&PFS_PFD_SelectionTool!G202&\"_\"&PFS_PFD_SelectionTool!H202&\"_\"&PFS_PFD_SelectionTool!I202&\"_\"&PFS_PFD_SelectionTool!J202),\"\",PFS_PFD_SelectionTool!E202&\"_\"&PFS_PFD_SelectionTool!F202&\"_\"&PFS_PFD_SelectionTool!G202&\"_\"&PFS_PFD_SelectionTool!H202&\"_\"&PFS_PFD_SelectionTool!I202&\"_\"&PFS_PFD_SelectionTool!J202)","v":"_____"},{"$f":"IF(ISBLANK(PFS_PFD_SelectionTool!K202),\"\",PFS_PFD_SelectionTool!K202)","v":""},{"$f":"VLOOKUP(D186,Tabelle1!A:B,2,FALSE)","v":{"$error":"#N/A"}},{"$f":"IF(ISBLANK(PFS_PFD_SelectionTool!N227),\"\",PFS_PFD_SelectionTool!N227)","v":""},{"$f":"IF(ISBLANK(PFS_PFD_SelectionTool!O227),\"\",PFS_PFD_SelectionTool!O227)","v":""}]
[{"$f":"IF(ISBLANK(PFS_PFD_SelectionTool!C203),\"\",PFS_PFD_SelectionTool!C203)","v":""},{"$f":"IF(ISBLANK(PFS_PFD_SelectionTool!D203),\"\",PFS_PFD_SelectionTool!D203)","v":""},{"$f":"IF(ISBLANK(PFS_PFD_SelectionTool!E203&\"_\"&PFS_PFD_SelectionTool!F203&\"_\"&PFS_PFD_SelectionTool!G203&\"_\"&PFS_PFD_SelectionTool!H203&\"_\"&PFS_PFD_SelectionTool!I203&\"_\"&PFS_PFD_SelectionTool!J203),\"\",PFS_PFD_SelectionTool!E203&\"_\"&PFS_PFD_SelectionTool!F203&\"_\"&PFS_PFD_SelectionTool!G203&\"_\"&PFS_PFD_SelectionTool!H203&\"_\"&PFS_PFD_SelectionTool!I203&\"_\"&PFS_PFD_SelectionTool!J203)","v":"_____"},{"$f":"IF(ISBLANK(PFS_PFD_SelectionTool!K203),\"\",PFS_PFD_SelectionTool!K203)","v":""},{"$f":"VLOOKUP(D187,Tabelle1!A:B,2,FALSE)","v":{"$error":"#N/A"}},{"$f":"IF(ISBLANK(PFS_PFD_SelectionTool!N228),\"\",PFS_PFD_SelectionTool!N228)","v":""},{"$f":"IF(ISBLANK(PFS_PFD_SelectionTool!O228),\"\",PFS_PFD_SelectionTool!O228)","v":""}]
[{"$f":"IF(ISBLANK(PFS_PFD_SelectionTool!C204),\"\",PFS_PFD_SelectionTool!C204)","v":""},{"$f":"IF(ISBLANK(PFS_PFD_SelectionTool!D204),\"\",PFS_PFD_SelectionTool!D204)","v":""},{"$f":"IF(ISBLANK(PFS_PFD_SelectionTool!E204&\"_\"&PFS_PFD_SelectionTool!F204&\"_\"&PFS_PFD_SelectionTool!G204&\"_\"&PFS_PFD_SelectionTool!H204&\"_\"&PFS_PFD_SelectionTool!I204&\"_\"&PFS_PFD_SelectionTool!J204),\"\",PFS_PFD_SelectionTool!E204&\"_\"&PFS_PFD_SelectionTool!F204&\"_\"&PFS_PFD_SelectionTool!G204&\"_\"&PFS_PFD_SelectionTool!H204&\"_\"&PFS_PFD_SelectionTool!I204&\"_\"&PFS_PFD_SelectionTool!J204)","v":"_____"},{"$f":"IF(ISBLANK(PFS_PFD_SelectionTool!K204),\"\",PFS_PFD_SelectionTool!K204)","v":""},{"$f":"VLOOKUP(D188,Tabelle1!A:B,2,FALSE)","v":{"$error":"#N/A"}},{"$f":"IF(ISBLANK(PFS_PFD_SelectionTool!N229),\"\",PFS_PFD_SelectionTool!N229)","v":""},{"$f":"IF(ISBLANK(PFS_PFD_SelectionTool!O229),\"\",PFS_PFD_SelectionTool!O229)","v":""}]
[{"$f":"IF(ISBLANK(PFS_PFD_SelectionTool!C205),\"\",PFS_PFD_SelectionTool!C205)","v":""},{"$f":"IF(ISBLANK(PFS_PFD_SelectionTool!D205),\"\",PFS_PFD_SelectionTool!D205)","v":""},{"$f":"IF(ISBLANK(PFS_PFD_SelectionTool!E205&\"_\"&PFS_PFD_SelectionTool!F205&\"_\"&PFS_PFD_SelectionTool!G205&\"_\"&PFS_PFD_SelectionTool!H205&\"_\"&PFS_PFD_SelectionTool!I205&\"_\"&PFS_PFD_SelectionTool!J205),\"\",PFS_PFD_SelectionTool!E205&\"_\"&PFS_PFD_SelectionTool!F205&\"_\"&PFS_PFD_SelectionTool!G205&\"_\"&PFS_PFD_SelectionTool!H205&\"_\"&PFS_PFD_SelectionTool!I205&\"_\"&PFS_PFD_SelectionTool!J205)","v":"_____"},{"$f":"IF(ISBLANK(PFS_PFD_SelectionTool!K205),\"\",PFS_PFD_SelectionTool!K205)","v":""},{"$f":"VLOOKUP(D189,Tabelle1!A:B,2,FALSE)","v":{"$error":"#N/A"}},{"$f":"IF(ISBLANK(PFS_PFD_SelectionTool!N230),\"\",PFS_PFD_SelectionTool!N230)","v":""},{"$f":"IF(ISBLANK(PFS_PFD_SelectionTool!O230),\"\",PFS_PFD_SelectionTool!O230)","v":""}]
[{"$f":"IF(ISBLANK(PFS_PFD_SelectionTool!C206),\"\",PFS_PFD_SelectionTool!C206)","v":""},{"$f":"IF(ISBLANK(PFS_PFD_SelectionTool!D206),\"\",PFS_PFD_SelectionTool!D206)","v":""},{"$f":"IF(ISBLANK(PFS_PFD_SelectionTool!E206&\"_\"&PFS_PFD_SelectionTool!F206&\"_\"&PFS_PFD_SelectionTool!G206&\"_\"&PFS_PFD_SelectionTool!H206&\"_\"&PFS_PFD_SelectionTool!I206&\"_\"&PFS_PFD_SelectionTool!J206),\"\",PFS_PFD_SelectionTool!E206&\"_\"&PFS_PFD_SelectionTool!F206&\"_\"&PFS_PFD_SelectionTool!G206&\"_\"&PFS_PFD_SelectionTool!H206&\"_\"&PFS_PFD_SelectionTool!I206&\"_\"&PFS_PFD_SelectionTool!J206)","v":"_____"},{"$f":"IF(ISBLANK(PFS_PFD_SelectionTool!K206),\"\",PFS_PFD_SelectionTool!K206)","v":""},{"$f":"VLOOKUP(D190,Tabelle1!A:B,2,FALSE)","v":{"$error":"#N/A"}},{"$f":"IF(ISBLANK(PFS_PFD_SelectionTool!N231),\"\",PFS_PFD_SelectionTool!N231)","v":""},{"$f":"IF(ISBLANK(PFS_PFD_SelectionTool!O231),\"\",PFS_PFD_SelectionTool!O231)","v":""}]
[{"$f":"IF(ISBLANK(PFS_PFD_SelectionTool!C207),\"\",PFS_PFD_SelectionTool!C207)","v":""},{"$f":"IF(ISBLANK(PFS_PFD_SelectionTool!D207),\"\",PFS_PFD_SelectionTool!D207)","v":""},{"$f":"IF(ISBLANK(PFS_PFD_SelectionTool!E207&\"_\"&PFS_PFD_SelectionTool!F207&\"_\"&PFS_PFD_SelectionTool!G207&\"_\"&PFS_PFD_SelectionTool!H207&\"_\"&PFS_PFD_SelectionTool!I207&\"_\"&PFS_PFD_SelectionTool!J207),\"\",PFS_PFD_SelectionTool!E207&\"_\"&PFS_PFD_SelectionTool!F207&\"_\"&PFS_PFD_SelectionTool!G207&\"_\"&PFS_PFD_SelectionTool!H207&\"_\"&PFS_PFD_SelectionTool!I207&\"_\"&PFS_PFD_SelectionTool!J207)","v":"_____"},{"$f":"IF(ISBLANK(PFS_PFD_SelectionTool!K207),\"\",PFS_PFD_SelectionTool!K207)","v":""},{"$f":"VLOOKUP(D191,Tabelle1!A:B,2,FALSE)","v":{"$error":"#N/A"}},{"$f":"IF(ISBLANK(PFS_PFD_SelectionTool!N232),\"\",PFS_PFD_SelectionTool!N232)","v":""},{"$f":"IF(ISBLANK(PFS_PFD_SelectionTool!O232),\"\",PFS_PFD_SelectionTool!O232)","v":""}]
[{"$f":"IF(ISBLANK(PFS_PFD_SelectionTool!C208),\"\",PFS_PFD_SelectionTool!C208)","v":""},{"$f":"IF(ISBLANK(PFS_PFD_SelectionTool!D208),\"\",PFS_PFD_SelectionTool!D208)","v":""},{"$f":"IF(ISBLANK(PFS_PFD_SelectionTool!E208&\"_\"&PFS_PFD_SelectionTool!F208&\"_\"&PFS_PFD_SelectionTool!G208&\"_\"&PFS_PFD_SelectionTool!H208&\"_\"&PFS_PFD_SelectionTool!I208&\"_\"&PFS_PFD_SelectionTool!J208),\"\",PFS_PFD_SelectionTool!E208&\"_\"&PFS_PFD_SelectionTool!F208&\"_\"&PFS_PFD_SelectionTool!G208&\"_\"&PFS_PFD_SelectionTool!H208&\"_\"&PFS_PFD_SelectionTool!I208&\"_\"&PFS_PFD_SelectionTool!J208)","v":"_____"},{"$f":"IF(ISBLANK(PFS_PFD_SelectionTool!K208),\"\",PFS_PFD_SelectionTool!K208)","v":""},{"$f":"VLOOKUP(D192,Tabelle1!A:B,2,FALSE)","v":{"$error":"#N/A"}},{"$f":"IF(ISBLANK(PFS_PFD_SelectionTool!N233),\"\",PFS_PFD_SelectionTool!N233)","v":""},{"$f":"IF(ISBLANK(PFS_PFD_SelectionTool!O233),\"\",PFS_PFD_SelectionTool!O233)","v":""}]
[{"$f":"IF(ISBLANK(PFS_PFD_SelectionTool!C209),\"\",PFS_PFD_SelectionTool!C209)","v":""},{"$f":"IF(ISBLANK(PFS_PFD_SelectionTool!D209),\"\",PFS_PFD_SelectionTool!D209)","v":""},{"$f":"IF(ISBLANK(PFS_PFD_SelectionTool!E209&\"_\"&PFS_PFD_SelectionTool!F209&\"_\"&PFS_PFD_SelectionTool!G209&\"_\"&PFS_PFD_SelectionTool!H209&\"_\"&PFS_PFD_SelectionTool!I209&\"_\"&PFS_PFD_SelectionTool!J209),\"\",PFS_PFD_SelectionTool!E209&\"_\"&PFS_PFD_SelectionTool!F209&\"_\"&PFS_PFD_SelectionTool!G209&\"_\"&PFS_PFD_SelectionTool!H209&\"_\"&PFS_PFD_SelectionTool!I209&\"_\"&PFS_PFD_SelectionTool!J209)","v":"_____"},{"$f":"IF(ISBLANK(PFS_PFD_SelectionTool!K209),\"\",PFS_PFD_SelectionTool!K209)","v":""},{"$f":"VLOOKUP(D193,Tabelle1!A:B,2,FALSE)","v":{"$error":"#N/A"}},{"$f":"IF(ISBLANK(PFS_PFD_SelectionTool!N234),\"\",PFS_PFD_SelectionTool!N234)","v":""},{"$f":"IF(ISBLANK(PFS_PFD_SelectionTool!O234),\"\",PFS_PFD_SelectionTool!O234)","v":""}]
[{"$f":"IF(ISBLANK(PFS_PFD_SelectionTool!C210),\"\",PFS_PFD_SelectionTool!C210)","v":""},{"$f":"IF(ISBLANK(PFS_PFD_SelectionTool!D210),\"\",PFS_PFD_SelectionTool!D210)","v":""},{"$f":"IF(ISBLANK(PFS_PFD_SelectionTool!E210&\"_\"&PFS_PFD_SelectionTool!F210&\"_\"&PFS_PFD_SelectionTool!G210&\"_\"&PFS_PFD_SelectionTool!H210&\"_\"&PFS_PFD_SelectionTool!I210&\"_\"&PFS_PFD_SelectionTool!J210),\"\",PFS_PFD_SelectionTool!E210&\"_\"&PFS_PFD_SelectionTool!F210&\"_\"&PFS_PFD_SelectionTool!G210&\"_\"&PFS_PFD_SelectionTool!H210&\"_\"&PFS_PFD_SelectionTool!I210&\"_\"&PFS_PFD_SelectionTool!J210)","v":"_____"},{"$f":"IF(ISBLANK(PFS_PFD_SelectionTool!K210),\"\",PFS_PFD_SelectionTool!K210)","v":""},{"$f":"VLOOKUP(D194,Tabelle1!A:B,2,FALSE)","v":{"$error":"#N/A"}},{"$f":"IF(ISBLANK(PFS_PFD_SelectionTool!N235),\"\",PFS_PFD_SelectionTool!N235)","v":""},{"$f":"IF(ISBLANK(PFS_PFD_SelectionTool!O235),\"\",PFS_PFD_SelectionTool!O235)","v":""}]
[{"$f":"IF(ISBLANK(PFS_PFD_SelectionTool!C211),\"\",PFS_PFD_SelectionTool!C211)","v":""},{"$f":"IF(ISBLANK(PFS_PFD_SelectionTool!D211),\"\",PFS_PFD_SelectionTool!D211)","v":""},{"$f":"IF(ISBLANK(PFS_PFD_SelectionTool!E211&\"_\"&PFS_PFD_SelectionTool!F211&\"_\"&PFS_PFD_SelectionTool!G211&\"_\"&PFS_PFD_SelectionTool!H211&\"_\"&PFS_PFD_SelectionTool!I211&\"_\"&PFS_PFD_SelectionTool!J211),\"\",PFS_PFD_SelectionTool!E211&\"_\"&PFS_PFD_SelectionTool!F211&\"_\"&PFS_PFD_SelectionTool!G211&\"_\"&PFS_PFD_SelectionTool!H211&\"_\"&PFS_PFD_SelectionTool!I211&\"_\"&PFS_PFD_SelectionTool!J211)","v":"_____"},{"$f":"IF(ISBLANK(PFS_PFD_SelectionTool!K211),\"\",PFS_PFD_SelectionTool!K211)","v":""},{"$f":"VLOOKUP(D195,Tabelle1!A:B,2,FALSE)","v":{"$error":"#N/A"}},{"$f":"IF(ISBLANK(PFS_PFD_SelectionTool!N236),\"\",PFS_PFD_SelectionTool!N236)","v":""},{"$f":"IF(ISBLANK(PFS_PFD_SelectionTool!O236),\"\",PFS_PFD_SelectionTool!O236)","v":""}]
[{"$f":"IF(ISBLANK(PFS_PFD_SelectionTool!C212),\"\",PFS_PFD_SelectionTool!C212)","v":""},{"$f":"IF(ISBLANK(PFS_PFD_SelectionTool!D212),\"\",PFS_PFD_SelectionTool!D212)","v":""},{"$f":"IF(ISBLANK(PFS_PFD_SelectionTool!E212&\"_\"&PFS_PFD_SelectionTool!F212&\"_\"&PFS_PFD_SelectionTool!G212&\"_\"&PFS_PFD_SelectionTool!H212&\"_\"&PFS_PFD_SelectionTool!I212&\"_\"&PFS_PFD_SelectionTool!J212),\"\",PFS_PFD_SelectionTool!E212&\"_\"&PFS_PFD_SelectionTool!F212&\"_\"&PFS_PFD_SelectionTool!G212&\"_\"&PFS_PFD_SelectionTool!H212&\"_\"&PFS_PFD_SelectionTool!I212&\"_\"&PFS_PFD_SelectionTool!J212)","v":"_____"},{"$f":"IF(ISBLANK(PFS_PFD_SelectionTool!K212),\"\",PFS_PFD_SelectionTool!K212)","v":""},{"$f":"VLOOKUP(D196,Tabelle1!A:B,2,FALSE)","v":{"$error":"#N/A"}},{"$f":"IF(ISBLANK(PFS_PFD_SelectionTool!N237),\"\",PFS_PFD_SelectionTool!N237)","v":""},{"$f":"IF(ISBLANK(PFS_PFD_SelectionTool!O237),\"\",PFS_PFD_SelectionTool!O237)","v":""}]
[{"$f":"IF(ISBLANK(PFS_PFD_SelectionTool!C213),\"\",PFS_PFD_SelectionTool!C213)","v":""},{"$f":"IF(ISBLANK(PFS_PFD_SelectionTool!D213),\"\",PFS_PFD_SelectionTool!D213)","v":""},{"$f":"IF(ISBLANK(PFS_PFD_SelectionTool!E213&\"_\"&PFS_PFD_SelectionTool!F213&\"_\"&PFS_PFD_SelectionTool!G213&\"_\"&PFS_PFD_SelectionTool!H213&\"_\"&PFS_PFD_SelectionTool!I213&\"_\"&PFS_PFD_SelectionTool!J213),\"\",PFS_PFD_SelectionTool!E213&\"_\"&PFS_PFD_SelectionTool!F213&\"_\"&PFS_PFD_SelectionTool!G213&\"_\"&PFS_PFD_SelectionTool!H213&\"_\"&PFS_PFD_SelectionTool!I213&\"_\"&PFS_PFD_SelectionTool!J213)","v":"_____"},{"$f":"IF(ISBLANK(PFS_PFD_SelectionTool!K213),\"\",PFS_PFD_SelectionTool!K213)","v":""},{"$f":"VLOOKUP(D197,Tabelle1!A:B,2,FALSE)","v":{"$error":"#N/A"}},{"$f":"IF(ISBLANK(PFS_PFD_SelectionTool!N238),\"\",PFS_PFD_SelectionTool!N238)","v":""},{"$f":"IF(ISBLANK(PFS_PFD_SelectionTool!O238),\"\",PFS_PFD_SelectionTool!O238)","v":""}]
[{"$f":"IF(ISBLANK(PFS_PFD_SelectionTool!C214),\"\",PFS_PFD_SelectionTool!C214)","v":""},{"$f":"IF(ISBLANK(PFS_PFD_SelectionTool!D214),\"\",PFS_PFD_SelectionTool!D214)","v":""},{"$f":"IF(ISBLANK(PFS_PFD_SelectionTool!E214&\"_\"&PFS_PFD_SelectionTool!F214&\"_\"&PFS_PFD_SelectionTool!G214&\"_\"&PFS_PFD_SelectionTool!H214&\"_\"&PFS_PFD_SelectionTool!I214&\"_\"&PFS_PFD_SelectionTool!J214),\"\",PFS_PFD_SelectionTool!E214&\"_\"&PFS_PFD_SelectionTool!F214&\"_\"&PFS_PFD_SelectionTool!G214&\"_\"&PFS_PFD_SelectionTool!H214&\"_\"&PFS_PFD_SelectionTool!I214&\"_\"&PFS_PFD_SelectionTool!J214)","v":"_____"},{"$f":"IF(ISBLANK(PFS_PFD_SelectionTool!K214),\"\",PFS_PFD_SelectionTool!K214)","v":""},{"$f":"VLOOKUP(D198,Tabelle1!A:B,2,FALSE)","v":{"$error":"#N/A"}},{"$f":"IF(ISBLANK(PFS_PFD_SelectionTool!N239),\"\",PFS_PFD_SelectionTool!N239)","v":""},{"$f":"IF(ISBLANK(PFS_PFD_SelectionTool!O239),\"\",PFS_PFD_SelectionTool!O239)","v":""}]
[{"$f":"IF(ISBLANK(PFS_PFD_SelectionTool!C215),\"\",PFS_PFD_SelectionTool!C215)","v":""},{"$f":"IF(ISBLANK(PFS_PFD_SelectionTool!D215),\"\",PFS_PFD_SelectionTool!D215)","v":""},{"$f":"IF(ISBLANK(PFS_PFD_SelectionTool!E215&\"_\"&PFS_PFD_SelectionTool!F215&\"_\"&PFS_PFD_SelectionTool!G215&\"_\"&PFS_PFD_SelectionTool!H215&\"_\"&PFS_PFD_SelectionTool!I215&\"_\"&PFS_PFD_SelectionTool!J215),\"\",PFS_PFD_SelectionTool!E215&\"_\"&PFS_PFD_SelectionTool!F215&\"_\"&PFS_PFD_SelectionTool!G215&\"_\"&PFS_PFD_SelectionTool!H215&\"_\"&PFS_PFD_SelectionTool!I215&\"_\"&PFS_PFD_SelectionTool!J215)","v":"_____"},{"$f":"IF(ISBLANK(PFS_PFD_SelectionTool!K215),\"\",PFS_PFD_SelectionTool!K215)","v":""},{"$f":"VLOOKUP(D199,Tabelle1!A:B,2,FALSE)","v":{"$error":"#N/A"}},{"$f":"IF(ISBLANK(PFS_PFD_SelectionTool!N240),\"\",PFS_PFD_SelectionTool!N240)","v":""},{"$f":"IF(ISBLANK(PFS_PFD_SelectionTool!O240),\"\",PFS_PFD_SelectionTool!O240)","v":""}]
[{"$f":"IF(ISBLANK(PFS_PFD_SelectionTool!C216),\"\",PFS_PFD_SelectionTool!C216)","v":""},{"$f":"IF(ISBLANK(PFS_PFD_SelectionTool!D216),\"\",PFS_PFD_SelectionTool!D216)","v":""},{"$f":"IF(ISBLANK(PFS_PFD_SelectionTool!E216&\"_\"&PFS_PFD_SelectionTool!F216&\"_\"&PFS_PFD_SelectionTool!G216&\"_\"&PFS_PFD_SelectionTool!H216&\"_\"&PFS_PFD_SelectionTool!I216&\"_\"&PFS_PFD_SelectionTool!J216),\"\",PFS_PFD_SelectionTool!E216&\"_\"&PFS_PFD_SelectionTool!F216&\"_\"&PFS_PFD_SelectionTool!G216&\"_\"&PFS_PFD_SelectionTool!H216&\"_\"&PFS_PFD_SelectionTool!I216&\"_\"&PFS_PFD_SelectionTool!J216)","v":"_____"},{"$f":"IF(ISBLANK(PFS_PFD_SelectionTool!K216),\"\",PFS_PFD_SelectionTool!K216)","v":""},{"$f":"VLOOKUP(D200,Tabelle1!A:B,2,FALSE)","v":{"$error":"#N/A"}},{"$f":"IF(ISBLANK(PFS_PFD_SelectionTool!N241),\"\",PFS_PFD_SelectionTool!N241)","v":""},{"$f":"IF(ISBLANK(PFS_PFD_SelectionTool!O241),\"\",PFS_PFD_SelectionTool!O241)","v":""}]
[{"$f":"IF(ISBLANK(PFS_PFD_SelectionTool!C217),\"\",PFS_PFD_SelectionTool!C217)","v":""},{"$f":"IF(ISBLANK(PFS_PFD_SelectionTool!D217),\"\",PFS_PFD_SelectionTool!D217)","v":""},{"$f":"IF(ISBLANK(PFS_PFD_SelectionTool!E217&\"_\"&PFS_PFD_SelectionTool!F217&\"_\"&PFS_PFD_SelectionTool!G217&\"_\"&PFS_PFD_SelectionTool!H217&\"_\"&PFS_PFD_SelectionTool!I217&\"_\"&PFS_PFD_SelectionTool!J217),\"\",PFS_PFD_SelectionTool!E217&\"_\"&PFS_PFD_SelectionTool!F217&\"_\"&PFS_PFD_SelectionTool!G217&\"_\"&PFS_PFD_SelectionTool!H217&\"_\"&PFS_PFD_SelectionTool!I217&\"_\"&PFS_PFD_SelectionTool!J217)","v":"_____"},{"$f":"IF(ISBLANK(PFS_PFD_SelectionTool!K217),\"\",PFS_PFD_SelectionTool!K217)","v":""},{"$f":"VLOOKUP(D201,Tabelle1!A:B,2,FALSE)","v":{"$error":"#N/A"}},{"$f":"IF(ISBLANK(PFS_PFD_SelectionTool!N242),\"\",PFS_PFD_SelectionTool!N242)","v":""},{"$f":"IF(ISBLANK(PFS_PFD_SelectionTool!O242),\"\",PFS_PFD_SelectionTool!O242)","v":""}]
[{"$f":"IF(ISBLANK(PFS_PFD_SelectionTool!C218),\"\",PFS_PFD_SelectionTool!C218)","v":""},{"$f":"IF(ISBLANK(PFS_PFD_SelectionTool!D218),\"\",PFS_PFD_SelectionTool!D218)","v":""},{"$f":"IF(ISBLANK(PFS_PFD_SelectionTool!E218&\"_\"&PFS_PFD_SelectionTool!F218&\"_\"&PFS_PFD_SelectionTool!G218&\"_\"&PFS_PFD_SelectionTool!H218&\"_\"&PFS_PFD_SelectionTool!I218&\"_\"&PFS_PFD_SelectionTool!J218),\"\",PFS_PFD_SelectionTool!E218&\"_\"&PFS_PFD_SelectionTool!F218&\"_\"&PFS_PFD_SelectionTool!G218&\"_\"&PFS_PFD_SelectionTool!H218&\"_\"&PFS_PFD_SelectionTool!I218&\"_\"&PFS_PFD_SelectionTool!J218)","v":"_____"},{"$f":"IF(ISBLANK(PFS_PFD_SelectionTool!K218),\"\",PFS_PFD_SelectionTool!K218)","v":""},{"$f":"VLOOKUP(D202,Tabelle1!A:B,2,FALSE)","v":{"$error":"#N/A"}},{"$f":"IF(ISBLANK(PFS_PFD_SelectionTool!N243),\"\",PFS_PFD_SelectionTool!N243)","v":""},{"$f":"IF(ISBLANK(PFS_PFD_SelectionTool!O243),\"\",PFS_PFD_SelectionTool!O243)","v":""}]
[{"$f":"IF(ISBLANK(PFS_PFD_SelectionTool!C219),\"\",PFS_PFD_SelectionTool!C219)","v":""},{"$f":"IF(ISBLANK(PFS_PFD_SelectionTool!D219),\"\",PFS_PFD_SelectionTool!D219)","v":""},{"$f":"IF(ISBLANK(PFS_PFD_SelectionTool!E219&\"_\"&PFS_PFD_SelectionTool!F219&\"_\"&PFS_PFD_SelectionTool!G219&\"_\"&PFS_PFD_SelectionTool!H219&\"_\"&PFS_PFD_SelectionTool!I219&\"_\"&PFS_PFD_SelectionTool!J219),\"\",PFS_PFD_SelectionTool!E219&\"_\"&PFS_PFD_SelectionTool!F219&\"_\"&PFS_PFD_SelectionTool!G219&\"_\"&PFS_PFD_SelectionTool!H219&\"_\"&PFS_PFD_SelectionTool!I219&\"_\"&PFS_PFD_SelectionTool!J219)","v":"_____"},{"$f":"IF(ISBLANK(PFS_PFD_SelectionTool!K219),\"\",PFS_PFD_SelectionTool!K219)","v":""},{"$f":"VLOOKUP(D203,Tabelle1!A:B,2,FALSE)","v":{"$error":"#N/A"}},{"$f":"IF(ISBLANK(PFS_PFD_SelectionTool!N244),\"\",PFS_PFD_SelectionTool!N244)","v":""},{"$f":"IF(ISBLANK(PFS_PFD_SelectionTool!O244),\"\",PFS_PFD_SelectionTool!O244)","v":""}]
[{"$f":"IF(ISBLANK(PFS_PFD_SelectionTool!C220),\"\",PFS_PFD_SelectionTool!C220)","v":""},{"$f":"IF(ISBLANK(PFS_PFD_SelectionTool!D220),\"\",PFS_PFD_SelectionTool!D220)","v":""},{"$f":"IF(ISBLANK(PFS_PFD_SelectionTool!E220&\"_\"&PFS_PFD_SelectionTool!F220&\"_\"&PFS_PFD_SelectionTool!G220&\"_\"&PFS_PFD_SelectionTool!H220&\"_\"&PFS_PFD_SelectionTool!I220&\"_\"&PFS_PFD_SelectionTool!J220),\"\",PFS_PFD_SelectionTool!E220&\"_\"&PFS_PFD_SelectionTool!F220&\"_\"&PFS_PFD_SelectionTool!G220&\"_\"&PFS_PFD_SelectionTool!H220&\"_\"&PFS_PFD_SelectionTool!I220&\"_\"&PFS_PFD_SelectionTool!J220)","v":"_____"},{"$f":"IF(ISBLANK(PFS_PFD_SelectionTool!K220),\"\",PFS_PFD_SelectionTool!K220)","v":""},{"$f":"VLOOKUP(D204,Tabelle1!A:B,2,FALSE)","v":{"$error":"#N/A"}},{"$f":"IF(ISBLANK(PFS_PFD_SelectionTool!N245),\"\",PFS_PFD_SelectionTool!N245)","v":""},{"$f":"IF(ISBLANK(PFS_PFD_SelectionTool!O245),\"\",PFS_PFD_SelectionTool!O245)","v":""}]
[{"$f":"IF(ISBLANK(PFS_PFD_SelectionTool!C221),\"\",PFS_PFD_SelectionTool!C221)","v":""},{"$f":"IF(ISBLANK(PFS_PFD_SelectionTool!D221),\"\",PFS_PFD_SelectionTool!D221)","v":""},{"$f":"IF(ISBLANK(PFS_PFD_SelectionTool!E221&\"_\"&PFS_PFD_SelectionTool!F221&\"_\"&PFS_PFD_SelectionTool!G221&\"_\"&PFS_PFD_SelectionTool!H221&\"_\"&PFS_PFD_SelectionTool!I221&\"_\"&PFS_PFD_SelectionTool!J221),\"\",PFS_PFD_SelectionTool!E221&\"_\"&PFS_PFD_SelectionTool!F221&\"_\"&PFS_PFD_SelectionTool!G221&\"_\"&PFS_PFD_SelectionTool!H221&\"_\"&PFS_PFD_SelectionTool!I221&\"_\"&PFS_PFD_SelectionTool!J221)","v":"_____"},{"$f":"IF(ISBLANK(PFS_PFD_SelectionTool!K221),\"\",PFS_PFD_SelectionTool!K221)","v":""},{"$f":"VLOOKUP(D205,Tabelle1!A:B,2,FALSE)","v":{"$error":"#N/A"}},{"$f":"IF(ISBLANK(PFS_PFD_SelectionTool!N246),\"\",PFS_PFD_SelectionTool!N246)","v":""},{"$f":"IF(ISBLANK(PFS_PFD_SelectionTool!O246),\"\",PFS_PFD_SelectionTool!O246)","v":""}]
[{"$f":"IF(ISBLANK(PFS_PFD_SelectionTool!C222),\"\",PFS_PFD_SelectionTool!C222)","v":""},{"$f":"IF(ISBLANK(PFS_PFD_SelectionTool!D222),\"\",PFS_PFD_SelectionTool!D222)","v":""},{"$f":"IF(ISBLANK(PFS_PFD_SelectionTool!E222&\"_\"&PFS_PFD_SelectionTool!F222&\"_\"&PFS_PFD_SelectionTool!G222&\"_\"&PFS_PFD_SelectionTool!H222&\"_\"&PFS_PFD_SelectionTool!I222&\"_\"&PFS_PFD_SelectionTool!J222),\"\",PFS_PFD_SelectionTool!E222&\"_\"&PFS_PFD_SelectionTool!F222&\"_\"&PFS_PFD_SelectionTool!G222&\"_\"&PFS_PFD_SelectionTool!H222&\"_\"&PFS_PFD_SelectionTool!I222&\"_\"&PFS_PFD_SelectionTool!J222)","v":"_____"},{"$f":"IF(ISBLANK(PFS_PFD_SelectionTool!K222),\"\",PFS_PFD_SelectionTool!K222)","v":""},{"$f":"VLOOKUP(D206,Tabelle1!A:B,2,FALSE)","v":{"$error":"#N/A"}},{"$f":"IF(ISBLANK(PFS_PFD_SelectionTool!N247),\"\",PFS_PFD_SelectionTool!N247)","v":""},{"$f":"IF(ISBLANK(PFS_PFD_SelectionTool!O247),\"\",PFS_PFD_SelectionTool!O247)","v":""}]
[{"$f":"IF(ISBLANK(PFS_PFD_SelectionTool!C223),\"\",PFS_PFD_SelectionTool!C223)","v":""},{"$f":"IF(ISBLANK(PFS_PFD_SelectionTool!D223),\"\",PFS_PFD_SelectionTool!D223)","v":""},{"$f":"IF(ISBLANK(PFS_PFD_SelectionTool!E223&\"_\"&PFS_PFD_SelectionTool!F223&\"_\"&PFS_PFD_SelectionTool!G223&\"_\"&PFS_PFD_SelectionTool!H223&\"_\"&PFS_PFD_SelectionTool!I223&\"_\"&PFS_PFD_SelectionTool!J223),\"\",PFS_PFD_SelectionTool!E223&\"_\"&PFS_PFD_SelectionTool!F223&\"_\"&PFS_PFD_SelectionTool!G223&\"_\"&PFS_PFD_SelectionTool!H223&\"_\"&PFS_PFD_SelectionTool!I223&\"_\"&PFS_PFD_SelectionTool!J223)","v":"_____"},{"$f":"IF(ISBLANK(PFS_PFD_SelectionTool!K223),\"\",PFS_PFD_SelectionTool!K223)","v":""},{"$f":"VLOOKUP(D207,Tabelle1!A:B,2,FALSE)","v":{"$error":"#N/A"}},{"$f":"IF(ISBLANK(PFS_PFD_SelectionTool!N248),\"\",PFS_PFD_SelectionTool!N248)","v":""},{"$f":"IF(ISBLANK(PFS_PFD_SelectionTool!O248),\"\",PFS_PFD_SelectionTool!O248)","v":""}]
[{"$f":"IF(ISBLANK(PFS_PFD_SelectionTool!C224),\"\",PFS_PFD_SelectionTool!C224)","v":""},{"$f":"IF(ISBLANK(PFS_PFD_SelectionTool!D224),\"\",PFS_PFD_SelectionTool!D224)","v":""},{"$f":"IF(ISBLANK(PFS_PFD_SelectionTool!E224&\"_\"&PFS_PFD_SelectionTool!F224&\"_\"&PFS_PFD_SelectionTool!G224&\"_\"&PFS_PFD_SelectionTool!H224&\"_\"&PFS_PFD_SelectionTool!I224&\"_\"&PFS_PFD_SelectionTool!J224),\"\",PFS_PFD_SelectionTool!E224&\"_\"&PFS_PFD_SelectionTool!F224&\"_\"&PFS_PFD_SelectionTool!G224&\"_\"&PFS_PFD_SelectionTool!H224&\"_\"&PFS_PFD_SelectionTool!I224&\"_\"&PFS_PFD_SelectionTool!J224)","v":"_____"},{"$f":"IF(ISBLANK(PFS_PFD_SelectionTool!K224),\"\",PFS_PFD_SelectionTool!K224)","v":""},{"$f":"VLOOKUP(D208,Tabelle1!A:B,2,FALSE)","v":{"$error":"#N/A"}},{"$f":"IF(ISBLANK(PFS_PFD_SelectionTool!N249),\"\",PFS_PFD_SelectionTool!N249)","v":""},{"$f":"IF(ISBLANK(PFS_PFD_SelectionTool!O249),\"\",PFS_PFD_SelectionTool!O249)","v":""}]
[{"$f":"IF(ISBLANK(PFS_PFD_SelectionTool!C225),\"\",PFS_PFD_SelectionTool!C225)","v":""},{"$f":"IF(ISBLANK(PFS_PFD_SelectionTool!D225),\"\",PFS_PFD_SelectionTool!D225)","v":""},{"$f":"IF(ISBLANK(PFS_PFD_SelectionTool!E225&\"_\"&PFS_PFD_SelectionTool!F225&\"_\"&PFS_PFD_SelectionTool!G225&\"_\"&PFS_PFD_SelectionTool!H225&\"_\"&PFS_PFD_SelectionTool!I225&\"_\"&PFS_PFD_SelectionTool!J225),\"\",PFS_PFD_SelectionTool!E225&\"_\"&PFS_PFD_SelectionTool!F225&\"_\"&PFS_PFD_SelectionTool!G225&\"_\"&PFS_PFD_SelectionTool!H225&\"_\"&PFS_PFD_SelectionTool!I225&\"_\"&PFS_PFD_SelectionTool!J225)","v":"_____"},{"$f":"IF(ISBLANK(PFS_PFD_SelectionTool!K225),\"\",PFS_PFD_SelectionTool!K225)","v":""},{"$f":"VLOOKUP(D209,Tabelle1!A:B,2,FALSE)","v":{"$error":"#N/A"}},{"$f":"IF(ISBLANK(PFS_PFD_SelectionTool!N250),\"\",PFS_PFD_SelectionTool!N250)","v":""},{"$f":"IF(ISBLANK(PFS_PFD_SelectionTool!O250),\"\",PFS_PFD_SelectionTool!O250)","v":""}]
[{"$f":"IF(ISBLANK(PFS_PFD_SelectionTool!C226),\"\",PFS_PFD_SelectionTool!C226)","v":""},{"$f":"IF(ISBLANK(PFS_PFD_SelectionTool!D226),\"\",PFS_PFD_SelectionTool!D226)","v":""},{"$f":"IF(ISBLANK(PFS_PFD_SelectionTool!E226&\"_\"&PFS_PFD_SelectionTool!F226&\"_\"&PFS_PFD_SelectionTool!G226&\"_\"&PFS_PFD_SelectionTool!H226&\"_\"&PFS_PFD_SelectionTool!I226&\"_\"&PFS_PFD_SelectionTool!J226),\"\",PFS_PFD_SelectionTool!E226&\"_\"&PFS_PFD_SelectionTool!F226&\"_\"&PFS_PFD_SelectionTool!G226&\"_\"&PFS_PFD_SelectionTool!H226&\"_\"&PFS_PFD_SelectionTool!I226&\"_\"&PFS_PFD_SelectionTool!J226)","v":"_____"},{"$f":"IF(ISBLANK(PFS_PFD_SelectionTool!K226),\"\",PFS_PFD_SelectionTool!K226)","v":""},{"$f":"VLOOKUP(D210,Tabelle1!A:B,2,FALSE)","v":{"$error":"#N/A"}},{"$f":"IF(ISBLANK(PFS_PFD_SelectionTool!N251),\"\",PFS_PFD_SelectionTool!N251)","v":""},{"$f":"IF(ISBLANK(PFS_PFD_SelectionTool!O251),\"\",PFS_PFD_SelectionTool!O251)","v":""}]
[{"$f":"IF(ISBLANK(PFS_PFD_SelectionTool!C227),\"\",PFS_PFD_SelectionTool!C227)","v":""},{"$f":"IF(ISBLANK(PFS_PFD_SelectionTool!D227),\"\",PFS_PFD_SelectionTool!D227)","v":""},{"$f":"IF(ISBLANK(PFS_PFD_SelectionTool!E227&\"_\"&PFS_PFD_SelectionTool!F227&\"_\"&PFS_PFD_SelectionTool!G227&\"_\"&PFS_PFD_SelectionTool!H227&\"_\"&PFS_PFD_SelectionTool!I227&\"_\"&PFS_PFD_SelectionTool!J227),\"\",PFS_PFD_SelectionTool!E227&\"_\"&PFS_PFD_SelectionTool!F227&\"_\"&PFS_PFD_SelectionTool!G227&\"_\"&PFS_PFD_SelectionTool!H227&\"_\"&PFS_PFD_SelectionTool!I227&\"_\"&PFS_PFD_SelectionTool!J227)","v":"_____"},{"$f":"IF(ISBLANK(PFS_PFD_SelectionTool!K227),\"\",PFS_PFD_SelectionTool!K227)","v":""},{"$f":"VLOOKUP(D211,Tabelle1!A:B,2,FALSE)","v":{"$error":"#N/A"}},{"$f":"IF(ISBLANK(PFS_PFD_SelectionTool!N252),\"\",PFS_PFD_SelectionTool!N252)","v":""},{"$f":"IF(ISBLANK(PFS_PFD_SelectionTool!O252),\"\",PFS_PFD_SelectionTool!O252)","v":""}]
[{"$f":"IF(ISBLANK(PFS_PFD_SelectionTool!C228),\"\",PFS_PFD_SelectionTool!C228)","v":""},{"$f":"IF(ISBLANK(PFS_PFD_SelectionTool!D228),\"\",PFS_PFD_SelectionTool!D228)","v":""},{"$f":"IF(ISBLANK(PFS_PFD_SelectionTool!E228&\"_\"&PFS_PFD_SelectionTool!F228&\"_\"&PFS_PFD_SelectionTool!G228&\"_\"&PFS_PFD_SelectionTool!H228&\"_\"&PFS_PFD_SelectionTool!I228&\"_\"&PFS_PFD_SelectionTool!J228),\"\",PFS_PFD_SelectionTool!E228&\"_\"&PFS_PFD_SelectionTool!F228&\"_\"&PFS_PFD_SelectionTool!G228&\"_\"&PFS_PFD_SelectionTool!H228&\"_\"&PFS_PFD_SelectionTool!I228&\"_\"&PFS_PFD_SelectionTool!J228)","v":"_____"},{"$f":"IF(ISBLANK(PFS_PFD_SelectionTool!K228),\"\",PFS_PFD_SelectionTool!K228)","v":""},{"$f":"VLOOKUP(D212,Tabelle1!A:B,2,FALSE)","v":{"$error":"#N/A"}},{"$f":"IF(ISBLANK(PFS_PFD_SelectionTool!N253),\"\",PFS_PFD_SelectionTool!N253)","v":""},{"$f":"IF(ISBLANK(PFS_PFD_SelectionTool!O253),\"\",PFS_PFD_SelectionTool!O253)","v":""}]
[{"$f":"IF(ISBLANK(PFS_PFD_SelectionTool!C229),\"\",PFS_PFD_SelectionTool!C229)","v":""},{"$f":"IF(ISBLANK(PFS_PFD_SelectionTool!D229),\"\",PFS_PFD_SelectionTool!D229)","v":""},{"$f":"IF(ISBLANK(PFS_PFD_SelectionTool!E229&\"_\"&PFS_PFD_SelectionTool!F229&\"_\"&PFS_PFD_SelectionTool!G229&\"_\"&PFS_PFD_SelectionTool!H229&\"_\"&PFS_PFD_SelectionTool!I229&\"_\"&PFS_PFD_SelectionTool!J229),\"\",PFS_PFD_SelectionTool!E229&\"_\"&PFS_PFD_SelectionTool!F229&\"_\"&PFS_PFD_SelectionTool!G229&\"_\"&PFS_PFD_SelectionTool!H229&\"_\"&PFS_PFD_SelectionTool!I229&\"_\"&PFS_PFD_SelectionTool!J229)","v":"_____"},{"$f":"IF(ISBLANK(PFS_PFD_SelectionTool!K229),\"\",PFS_PFD_SelectionTool!K229)","v":""},{"$f":"VLOOKUP(D213,Tabelle1!A:B,2,FALSE)","v":{"$error":"#N/A"}},{"$f":"IF(ISBLANK(PFS_PFD_SelectionTool!N254),\"\",PFS_PFD_SelectionTool!N254)","v":""},{"$f":"IF(ISBLANK(PFS_PFD_SelectionTool!O254),\"\",PFS_PFD_SelectionTool!O254)","v":""}]
[{"$f":"IF(ISBLANK(PFS_PFD_SelectionTool!C230),\"\",PFS_PFD_SelectionTool!C230)","v":""},{"$f":"IF(ISBLANK(PFS_PFD_SelectionTool!D230),\"\",PFS_PFD_SelectionTool!D230)","v":""},{"$f":"IF(ISBLANK(PFS_PFD_SelectionTool!E230&\"_\"&PFS_PFD_SelectionTool!F230&\"_\"&PFS_PFD_SelectionTool!G230&\"_\"&PFS_PFD_SelectionTool!H230&\"_\"&PFS_PFD_SelectionTool!I230&\"_\"&PFS_PFD_SelectionTool!J230),\"\",PFS_PFD_SelectionTool!E230&\"_\"&PFS_PFD_SelectionTool!F230&\"_\"&PFS_PFD_SelectionTool!G230&\"_\"&PFS_PFD_SelectionTool!H230&\"_\"&PFS_PFD_SelectionTool!I230&\"_\"&PFS_PFD_SelectionTool!J230)","v":"_____"},{"$f":"IF(ISBLANK(PFS_PFD_SelectionTool!K230),\"\",PFS_PFD_SelectionTool!K230)","v":""},{"$f":"VLOOKUP(D214,Tabelle1!A:B,2,FALSE)","v":{"$error":"#N/A"}},{"$f":"IF(ISBLANK(PFS_PFD_SelectionTool!N255),\"\",PFS_PFD_SelectionTool!N255)","v":""},{"$f":"IF(ISBLANK(PFS_PFD_SelectionTool!O255),\"\",PFS_PFD_SelectionTool!O255)","v":""}]
[{"$f":"IF(ISBLANK(PFS_PFD_SelectionTool!C231),\"\",PFS_PFD_SelectionTool!C231)","v":""},{"$f":"IF(ISBLANK(PFS_PFD_SelectionTool!D231),\"\",PFS_PFD_SelectionTool!D231)","v":""},{"$f":"IF(ISBLANK(PFS_PFD_SelectionTool!E231&\"_\"&PFS_PFD_SelectionTool!F231&\"_\"&PFS_PFD_SelectionTool!G231&\"_\"&PFS_PFD_SelectionTool!H231&\"_\"&PFS_PFD_SelectionTool!I231&\"_\"&PFS_PFD_SelectionTool!J231),\"\",PFS_PFD_SelectionTool!E231&\"_\"&PFS_PFD_SelectionTool!F231&\"_\"&PFS_PFD_SelectionTool!G231&\"_\"&PFS_PFD_SelectionTool!H231&\"_\"&PFS_PFD_SelectionTool!I231&\"_\"&PFS_PFD_SelectionTool!J231)","v":"_____"},{"$f":"IF(ISBLANK(PFS_PFD_SelectionTool!K231),\"\",PFS_PFD_SelectionTool!K231)","v":""},{"$f":"VLOOKUP(D215,Tabelle1!A:B,2,FALSE)","v":{"$error":"#N/A"}},{"$f":"IF(ISBLANK(PFS_PFD_SelectionTool!N256),\"\",PFS_PFD_SelectionTool!N256)","v":""},{"$f":"IF(ISBLANK(PFS_PFD_SelectionTool!O256),\"\",PFS_PFD_SelectionTool!O256)","v":""}]
[{"$f":"IF(ISBLANK(PFS_PFD_SelectionTool!C232),\"\",PFS_PFD_SelectionTool!C232)","v":""},{"$f":"IF(ISBLANK(PFS_PFD_SelectionTool!D232),\"\",PFS_PFD_SelectionTool!D232)","v":""},{"$f":"IF(ISBLANK(PFS_PFD_SelectionTool!E232&\"_\"&PFS_PFD_SelectionTool!F232&\"_\"&PFS_PFD_SelectionTool!G232&\"_\"&PFS_PFD_SelectionTool!H232&\"_\"&PFS_PFD_SelectionTool!I232&\"_\"&PFS_PFD_SelectionTool!J232),\"\",PFS_PFD_SelectionTool!E232&\"_\"&PFS_PFD_SelectionTool!F232&\"_\"&PFS_PFD_SelectionTool!G232&\"_\"&PFS_PFD_SelectionTool!H232&\"_\"&PFS_PFD_SelectionTool!I232&\"_\"&PFS_PFD_SelectionTool!J232)","v":"_____"},{"$f":"IF(ISBLANK(PFS_PFD_SelectionTool!K232),\"\",PFS_PFD_SelectionTool!K232)","v":""},{"$f":"VLOOKUP(D216,Tabelle1!A:B,2,FALSE)","v":{"$error":"#N/A"}},{"$f":"IF(ISBLANK(PFS_PFD_SelectionTool!N257),\"\",PFS_PFD_SelectionTool!N257)","v":""},{"$f":"IF(ISBLANK(PFS_PFD_SelectionTool!O257),\"\",PFS_PFD_SelectionTool!O257)","v":""}]
[{"$f":"IF(ISBLANK(PFS_PFD_SelectionTool!C233),\"\",PFS_PFD_SelectionTool!C233)","v":""},{"$f":"IF(ISBLANK(PFS_PFD_SelectionTool!D233),\"\",PFS_PFD_SelectionTool!D233)","v":""},{"$f":"IF(ISBLANK(PFS_PFD_SelectionTool!E233&\"_\"&PFS_PFD_SelectionTool!F233&\"_\"&PFS_PFD_SelectionTool!G233&\"_\"&PFS_PFD_SelectionTool!H233&\"_\"&PFS_PFD_SelectionTool!I233&\"_\"&PFS_PFD_SelectionTool!J233),\"\",PFS_PFD_SelectionTool!E233&\"_\"&PFS_PFD_SelectionTool!F233&\"_\"&PFS_PFD_SelectionTool!G233&\"_\"&PFS_PFD_SelectionTool!H233&\"_\"&PFS_PFD_SelectionTool!I233&\"_\"&PFS_PFD_SelectionTool!J233)","v":"_____"},{"$f":"IF(ISBLANK(PFS_PFD_SelectionTool!K233),\"\",PFS_PFD_SelectionTool!K233)","v":""},{"$f":"VLOOKUP(D217,Tabelle1!A:B,2,FALSE)","v":{"$error":"#N/A"}},{"$f":"IF(ISBLANK(PFS_PFD_SelectionTool!N258),\"\",PFS_PFD_SelectionTool!N258)","v":""},{"$f":"IF(ISBLANK(PFS_PFD_SelectionTool!O258),\"\",PFS_PFD_SelectionTool!O258)","v":""}]
[{"$f":"IF(ISBLANK(PFS_PFD_SelectionTool!C234),\"\",PFS_PFD_SelectionTool!C234)","v":""},{"$f":"IF(ISBLANK(PFS_PFD_SelectionTool!D234),\"\",PFS_PFD_SelectionTool!D234)","v":""},{"$f":"IF(ISBLANK(PFS_PFD_SelectionTool!E234&\"_\"&PFS_PFD_SelectionTool!F234&\"_\"&PFS_PFD_SelectionTool!G234&\"_\"&PFS_PFD_SelectionTool!H234&\"_\"&PFS_PFD_SelectionTool!I234&\"_\"&PFS_PFD_SelectionTool!J234),\"\",PFS_PFD_SelectionTool!E234&\"_\"&PFS_PFD_SelectionTool!F234&\"_\"&PFS_PFD_SelectionTool!G234&\"_\"&PFS_PFD_SelectionTool!H234&\"_\"&PFS_PFD_SelectionTool!I234&\"_\"&PFS_PFD_SelectionTool!J234)","v":"_____"},{"$f":"IF(ISBLANK(PFS_PFD_SelectionTool!K234),\"\",PFS_PFD_SelectionTool!K234)","v":""},{"$f":"VLOOKUP(D218,Tabelle1!A:B,2,FALSE)","v":{"$error":"#N/A"}},{"$f":"IF(ISBLANK(PFS_PFD_SelectionTool!N259),\"\",PFS_PFD_SelectionTool!N259)","v":""},{"$f":"IF(ISBLANK(PFS_PFD_SelectionTool!O259),\"\",PFS_PFD_SelectionTool!O259)","v":""}]
[{"$f":"IF(ISBLANK(PFS_PFD_SelectionTool!C235),\"\",PFS_PFD_SelectionTool!C235)","v":""},{"$f":"IF(ISBLANK(PFS_PFD_SelectionTool!D235),\"\",PFS_PFD_SelectionTool!D235)","v":""},{"$f":"IF(ISBLANK(PFS_PFD_SelectionTool!E235&\"_\"&PFS_PFD_SelectionTool!F235&\"_\"&PFS_PFD_SelectionTool!G235&\"_\"&PFS_PFD_SelectionTool!H235&\"_\"&PFS_PFD_SelectionTool!I235&\"_\"&PFS_PFD_SelectionTool!J235),\"\",PFS_PFD_SelectionTool!E235&\"_\"&PFS_PFD_SelectionTool!F235&\"_\"&PFS_PFD_SelectionTool!G235&\"_\"&PFS_PFD_SelectionTool!H235&\"_\"&PFS_PFD_SelectionTool!I235&\"_\"&PFS_PFD_SelectionTool!J235)","v":"_____"},{"$f":"IF(ISBLANK(PFS_PFD_SelectionTool!K235),\"\",PFS_PFD_SelectionTool!K235)","v":""},{"$f":"VLOOKUP(D219,Tabelle1!A:B,2,FALSE)","v":{"$error":"#N/A"}},{"$f":"IF(ISBLANK(PFS_PFD_SelectionTool!N260),\"\",PFS_PFD_SelectionTool!N260)","v":""},{"$f":"IF(ISBLANK(PFS_PFD_SelectionTool!O260),\"\",PFS_PFD_SelectionTool!O260)","v":""}]
[{"$f":"IF(ISBLANK(PFS_PFD_SelectionTool!C236),\"\",PFS_PFD_SelectionTool!C236)","v":""},{"$f":"IF(ISBLANK(PFS_PFD_SelectionTool!D236),\"\",PFS_PFD_SelectionTool!D236)","v":""},{"$f":"IF(ISBLANK(PFS_PFD_SelectionTool!E236&\"_\"&PFS_PFD_SelectionTool!F236&\"_\"&PFS_PFD_SelectionTool!G236&\"_\"&PFS_PFD_SelectionTool!H236&\"_\"&PFS_PFD_SelectionTool!I236&\"_\"&PFS_PFD_SelectionTool!J236),\"\",PFS_PFD_SelectionTool!E236&\"_\"&PFS_PFD_SelectionTool!F236&\"_\"&PFS_PFD_SelectionTool!G236&\"_\"&PFS_PFD_SelectionTool!H236&\"_\"&PFS_PFD_SelectionTool!I236&\"_\"&PFS_PFD_SelectionTool!J236)","v":"_____"},{"$f":"IF(ISBLANK(PFS_PFD_SelectionTool!K236),\"\",PFS_PFD_SelectionTool!K236)","v":""},{"$f":"VLOOKUP(D220,Tabelle1!A:B,2,FALSE)","v":{"$error":"#N/A"}},{"$f":"IF(ISBLANK(PFS_PFD_SelectionTool!N261),\"\",PFS_PFD_SelectionTool!N261)","v":""},{"$f":"IF(ISBLANK(PFS_PFD_SelectionTool!O261),\"\",PFS_PFD_SelectionTool!O261)","v":""}]
[{"$f":"IF(ISBLANK(PFS_PFD_SelectionTool!C237),\"\",PFS_PFD_SelectionTool!C237)","v":""},{"$f":"IF(ISBLANK(PFS_PFD_SelectionTool!D237),\"\",PFS_PFD_SelectionTool!D237)","v":""},{"$f":"IF(ISBLANK(PFS_PFD_SelectionTool!E237&\"_\"&PFS_PFD_SelectionTool!F237&\"_\"&PFS_PFD_SelectionTool!G237&\"_\"&PFS_PFD_SelectionTool!H237&\"_\"&PFS_PFD_SelectionTool!I237&\"_\"&PFS_PFD_SelectionTool!J237),\"\",PFS_PFD_SelectionTool!E237&\"_\"&PFS_PFD_SelectionTool!F237&\"_\"&PFS_PFD_SelectionTool!G237&\"_\"&PFS_PFD_SelectionTool!H237&\"_\"&PFS_PFD_SelectionTool!I237&\"_\"&PFS_PFD_SelectionTool!J237)","v":"_____"},{"$f":"IF(ISBLANK(PFS_PFD_SelectionTool!K237),\"\",PFS_PFD_SelectionTool!K237)","v":""},{"$f":"VLOOKUP(D221,Tabelle1!A:B,2,FALSE)","v":{"$error":"#N/A"}},{"$f":"IF(ISBLANK(PFS_PFD_SelectionTool!N262),\"\",PFS_PFD_SelectionTool!N262)","v":""},{"$f":"IF(ISBLANK(PFS_PFD_SelectionTool!O262),\"\",PFS_PFD_SelectionTool!O262)","v":""}]
[{"$f":"IF(ISBLANK(PFS_PFD_SelectionTool!C238),\"\",PFS_PFD_SelectionTool!C238)","v":""},{"$f":"IF(ISBLANK(PFS_PFD_SelectionTool!D238),\"\",PFS_PFD_SelectionTool!D238)","v":""},{"$f":"IF(ISBLANK(PFS_PFD_SelectionTool!E238&\"_\"&PFS_PFD_SelectionTool!F238&\"_\"&PFS_PFD_SelectionTool!G238&\"_\"&PFS_PFD_SelectionTool!H238&\"_\"&PFS_PFD_SelectionTool!I238&\"_\"&PFS_PFD_SelectionTool!J238),\"\",PFS_PFD_SelectionTool!E238&\"_\"&PFS_PFD_SelectionTool!F238&\"_\"&PFS_PFD_SelectionTool!G238&\"_\"&PFS_PFD_SelectionTool!H238&\"_\"&PFS_PFD_SelectionTool!I238&\"_\"&PFS_PFD_SelectionTool!J238)","v":"_____"},{"$f":"IF(ISBLANK(PFS_PFD_SelectionTool!K238),\"\",PFS_PFD_SelectionTool!K238)","v":""},{"$f":"VLOOKUP(D222,Tabelle1!A:B,2,FALSE)","v":{"$error":"#N/A"}},{"$f":"IF(ISBLANK(PFS_PFD_SelectionTool!N263),\"\",PFS_PFD_SelectionTool!N263)","v":""},{"$f":"IF(ISBLANK(PFS_PFD_SelectionTool!O263),\"\",PFS_PFD_SelectionTool!O263)","v":""}]
[{"$f":"IF(ISBLANK(PFS_PFD_SelectionTool!C239),\"\",PFS_PFD_SelectionTool!C239)","v":""},{"$f":"IF(ISBLANK(PFS_PFD_SelectionTool!D239),\"\",PFS_PFD_SelectionTool!D239)","v":""},{"$f":"IF(ISBLANK(PFS_PFD_SelectionTool!E239&\"_\"&PFS_PFD_SelectionTool!F239&\"_\"&PFS_PFD_SelectionTool!G239&\"_\"&PFS_PFD_SelectionTool!H239&\"_\"&PFS_PFD_SelectionTool!I239&\"_\"&PFS_PFD_SelectionTool!J239),\"\",PFS_PFD_SelectionTool!E239&\"_\"&PFS_PFD_SelectionTool!F239&\"_\"&PFS_PFD_SelectionTool!G239&\"_\"&PFS_PFD_SelectionTool!H239&\"_\"&PFS_PFD_SelectionTool!I239&\"_\"&PFS_PFD_SelectionTool!J239)","v":"_____"},{"$f":"IF(ISBLANK(PFS_PFD_SelectionTool!K239),\"\",PFS_PFD_SelectionTool!K239)","v":""},{"$f":"VLOOKUP(D223,Tabelle1!A:B,2,FALSE)","v":{"$error":"#N/A"}},{"$f":"IF(ISBLANK(PFS_PFD_SelectionTool!N264),\"\",PFS_PFD_SelectionTool!N264)","v":""},{"$f":"IF(ISBLANK(PFS_PFD_SelectionTool!O264),\"\",PFS_PFD_SelectionTool!O264)","v":""}]
[{"$f":"IF(ISBLANK(PFS_PFD_SelectionTool!C240),\"\",PFS_PFD_SelectionTool!C240)","v":""},{"$f":"IF(ISBLANK(PFS_PFD_SelectionTool!D240),\"\",PFS_PFD_SelectionTool!D240)","v":""},{"$f":"IF(ISBLANK(PFS_PFD_SelectionTool!E240&\"_\"&PFS_PFD_SelectionTool!F240&\"_\"&PFS_PFD_SelectionTool!G240&\"_\"&PFS_PFD_SelectionTool!H240&\"_\"&PFS_PFD_SelectionTool!I240&\"_\"&PFS_PFD_SelectionTool!J240),\"\",PFS_PFD_SelectionTool!E240&\"_\"&PFS_PFD_SelectionTool!F240&\"_\"&PFS_PFD_SelectionTool!G240&\"_\"&PFS_PFD_SelectionTool!H240&\"_\"&PFS_PFD_SelectionTool!I240&\"_\"&PFS_PFD_SelectionTool!J240)","v":"_____"},{"$f":"IF(ISBLANK(PFS_PFD_SelectionTool!K240),\"\",PFS_PFD_SelectionTool!K240)","v":""},{"$f":"VLOOKUP(D224,Tabelle1!A:B,2,FALSE)","v":{"$error":"#N/A"}},{"$f":"IF(ISBLANK(PFS_PFD_SelectionTool!N265),\"\",PFS_PFD_SelectionTool!N265)","v":""},{"$f":"IF(ISBLANK(PFS_PFD_SelectionTool!O265),\"\",PFS_PFD_SelectionTool!O265)","v":""}]
[{"$f":"IF(ISBLANK(PFS_PFD_SelectionTool!C241),\"\",PFS_PFD_SelectionTool!C241)","v":""},{"$f":"IF(ISBLANK(PFS_PFD_SelectionTool!D241),\"\",PFS_PFD_SelectionTool!D241)","v":""},{"$f":"IF(ISBLANK(PFS_PFD_SelectionTool!E241&\"_\"&PFS_PFD_SelectionTool!F241&\"_\"&PFS_PFD_SelectionTool!G241&\"_\"&PFS_PFD_SelectionTool!H241&\"_\"&PFS_PFD_SelectionTool!I241&\"_\"&PFS_PFD_SelectionTool!J241),\"\",PFS_PFD_SelectionTool!E241&\"_\"&PFS_PFD_SelectionTool!F241&\"_\"&PFS_PFD_SelectionTool!G241&\"_\"&PFS_PFD_SelectionTool!H241&\"_\"&PFS_PFD_SelectionTool!I241&\"_\"&PFS_PFD_SelectionTool!J241)","v":"_____"},{"$f":"IF(ISBLANK(PFS_PFD_SelectionTool!K241),\"\",PFS_PFD_SelectionTool!K241)","v":""},{"$f":"VLOOKUP(D225,Tabelle1!A:B,2,FALSE)","v":{"$error":"#N/A"}},{"$f":"IF(ISBLANK(PFS_PFD_SelectionTool!N266),\"\",PFS_PFD_SelectionTool!N266)","v":""},{"$f":"IF(ISBLANK(PFS_PFD_SelectionTool!O266),\"\",PFS_PFD_SelectionTool!O266)","v":""}]
[{"$f":"IF(ISBLANK(PFS_PFD_SelectionTool!C242),\"\",PFS_PFD_SelectionTool!C242)","v":""},{"$f":"IF(ISBLANK(PFS_PFD_SelectionTool!D242),\"\",PFS_PFD_SelectionTool!D242)","v":""},{"$f":"IF(ISBLANK(PFS_PFD_SelectionTool!E242&\"_\"&PFS_PFD_SelectionTool!F242&\"_\"&PFS_PFD_SelectionTool!G242&\"_\"&PFS_PFD_SelectionTool!H242&\"_\"&PFS_PFD_SelectionTool!I242&\"_\"&PFS_PFD_SelectionTool!J242),\"\",PFS_PFD_SelectionTool!E242&\"_\"&PFS_PFD_SelectionTool!F242&\"_\"&PFS_PFD_SelectionTool!G242&\"_\"&PFS_PFD_SelectionTool!H242&\"_\"&PFS_PFD_SelectionTool!I242&\"_\"&PFS_PFD_SelectionTool!J242)","v":"_____"},{"$f":"IF(ISBLANK(PFS_PFD_SelectionTool!K242),\"\",PFS_PFD_SelectionTool!K242)","v":""},{"$f":"VLOOKUP(D226,Tabelle1!A:B,2,FALSE)","v":{"$error":"#N/A"}},{"$f":"IF(ISBLANK(PFS_PFD_SelectionTool!N267),\"\",PFS_PFD_SelectionTool!N267)","v":""},{"$f":"IF(ISBLANK(PFS_PFD_SelectionTool!O267),\"\",PFS_PFD_SelectionTool!O267)","v":""}]
[{"$f":"IF(ISBLANK(PFS_PFD_SelectionTool!C243),\"\",PFS_PFD_SelectionTool!C243)","v":""},{"$f":"IF(ISBLANK(PFS_PFD_SelectionTool!D243),\"\",PFS_PFD_SelectionTool!D243)","v":""},{"$f":"IF(ISBLANK(PFS_PFD_SelectionTool!E243&\"_\"&PFS_PFD_SelectionTool!F243&\"_\"&PFS_PFD_SelectionTool!G243&\"_\"&PFS_PFD_SelectionTool!H243&\"_\"&PFS_PFD_SelectionTool!I243&\"_\"&PFS_PFD_SelectionTool!J243),\"\",PFS_PFD_SelectionTool!E243&\"_\"&PFS_PFD_SelectionTool!F243&\"_\"&PFS_PFD_SelectionTool!G243&\"_\"&PFS_PFD_SelectionTool!H243&\"_\"&PFS_PFD_SelectionTool!I243&\"_\"&PFS_PFD_SelectionTool!J243)","v":"_____"},{"$f":"IF(ISBLANK(PFS_PFD_SelectionTool!K243),\"\",PFS_PFD_SelectionTool!K243)","v":""},{"$f":"VLOOKUP(D227,Tabelle1!A:B,2,FALSE)","v":{"$error":"#N/A"}},{"$f":"IF(ISBLANK(PFS_PFD_SelectionTool!N268),\"\",PFS_PFD_SelectionTool!N268)","v":""},{"$f":"IF(ISBLANK(PFS_PFD_SelectionTool!O268),\"\",PFS_PFD_SelectionTool!O268)","v":""}]
[{"$f":"IF(ISBLANK(PFS_PFD_SelectionTool!C244),\"\",PFS_PFD_SelectionTool!C244)","v":""},{"$f":"IF(ISBLANK(PFS_PFD_SelectionTool!D244),\"\",PFS_PFD_SelectionTool!D244)","v":""},{"$f":"IF(ISBLANK(PFS_PFD_SelectionTool!E244&\"_\"&PFS_PFD_SelectionTool!F244&\"_\"&PFS_PFD_SelectionTool!G244&\"_\"&PFS_PFD_SelectionTool!H244&\"_\"&PFS_PFD_SelectionTool!I244&\"_\"&PFS_PFD_SelectionTool!J244),\"\",PFS_PFD_SelectionTool!E244&\"_\"&PFS_PFD_SelectionTool!F244&\"_\"&PFS_PFD_SelectionTool!G244&\"_\"&PFS_PFD_SelectionTool!H244&\"_\"&PFS_PFD_SelectionTool!I244&\"_\"&PFS_PFD_SelectionTool!J244)","v":"_____"},{"$f":"IF(ISBLANK(PFS_PFD_SelectionTool!K244),\"\",PFS_PFD_SelectionTool!K244)","v":""},{"$f":"VLOOKUP(D228,Tabelle1!A:B,2,FALSE)","v":{"$error":"#N/A"}},{"$f":"IF(ISBLANK(PFS_PFD_SelectionTool!N269),\"\",PFS_PFD_SelectionTool!N269)","v":""},{"$f":"IF(ISBLANK(PFS_PFD_SelectionTool!O269),\"\",PFS_PFD_SelectionTool!O269)","v":""}]
[{"$f":"IF(ISBLANK(PFS_PFD_SelectionTool!C245),\"\",PFS_PFD_SelectionTool!C245)","v":""},{"$f":"IF(ISBLANK(PFS_PFD_SelectionTool!D245),\"\",PFS_PFD_SelectionTool!D245)","v":""},{"$f":"IF(ISBLANK(PFS_PFD_SelectionTool!E245&\"_\"&PFS_PFD_SelectionTool!F245&\"_\"&PFS_PFD_SelectionTool!G245&\"_\"&PFS_PFD_SelectionTool!H245&\"_\"&PFS_PFD_SelectionTool!I245&\"_\"&PFS_PFD_SelectionTool!J245),\"\",PFS_PFD_SelectionTool!E245&\"_\"&PFS_PFD_SelectionTool!F245&\"_\"&PFS_PFD_SelectionTool!G245&\"_\"&PFS_PFD_SelectionTool!H245&\"_\"&PFS_PFD_SelectionTool!I245&\"_\"&PFS_PFD_SelectionTool!J245)","v":"_____"},{"$f":"IF(ISBLANK(PFS_PFD_SelectionTool!K245),\"\",PFS_PFD_SelectionTool!K245)","v":""},{"$f":"VLOOKUP(D229,Tabelle1!A:B,2,FALSE)","v":{"$error":"#N/A"}},{"$f":"IF(ISBLANK(PFS_PFD_SelectionTool!N270),\"\",PFS_PFD_SelectionTool!N270)","v":""},{"$f":"IF(ISBLANK(PFS_PFD_SelectionTool!O270),\"\",PFS_PFD_SelectionTool!O270)","v":""}]
[{"$f":"IF(ISBLANK(PFS_PFD_SelectionTool!C246),\"\",PFS_PFD_SelectionTool!C246)","v":""},{"$f":"IF(ISBLANK(PFS_PFD_SelectionTool!D246),\"\",PFS_PFD_SelectionTool!D246)","v":""},{"$f":"IF(ISBLANK(PFS_PFD_SelectionTool!E246&\"_\"&PFS_PFD_SelectionTool!F246&\"_\"&PFS_PFD_SelectionTool!G246&\"_\"&PFS_PFD_SelectionTool!H246&\"_\"&PFS_PFD_SelectionTool!I246&\"_\"&PFS_PFD_SelectionTool!J246),\"\",PFS_PFD_SelectionTool!E246&\"_\"&PFS_PFD_SelectionTool!F246&\"_\"&PFS_PFD_SelectionTool!G246&\"_\"&PFS_PFD_SelectionTool!H246&\"_\"&PFS_PFD_SelectionTool!I246&\"_\"&PFS_PFD_SelectionTool!J246)","v":"_____"},{"$f":"IF(ISBLANK(PFS_PFD_SelectionTool!K246),\"\",PFS_PFD_SelectionTool!K246)","v":""},{"$f":"VLOOKUP(D230,Tabelle1!A:B,2,FALSE)","v":{"$error":"#N/A"}},{"$f":"IF(ISBLANK(PFS_PFD_SelectionTool!N271),\"\",PFS_PFD_SelectionTool!N271)","v":""},{"$f":"IF(ISBLANK(PFS_PFD_SelectionTool!O271),\"\",PFS_PFD_SelectionTool!O271)","v":""}]
[{"$f":"IF(ISBLANK(PFS_PFD_SelectionTool!C247),\"\",PFS_PFD_SelectionTool!C247)","v":""},{"$f":"IF(ISBLANK(PFS_PFD_SelectionTool!D247),\"\",PFS_PFD_SelectionTool!D247)","v":""},{"$f":"IF(ISBLANK(PFS_PFD_SelectionTool!E247&\"_\"&PFS_PFD_SelectionTool!F247&\"_\"&PFS_PFD_SelectionTool!G247&\"_\"&PFS_PFD_SelectionTool!H247&\"_\"&PFS_PFD_SelectionTool!I247&\"_\"&PFS_PFD_SelectionTool!J247),\"\",PFS_PFD_SelectionTool!E247&\"_\"&PFS_PFD_SelectionTool!F247&\"_\"&PFS_PFD_SelectionTool!G247&\"_\"&PFS_PFD_SelectionTool!H247&\"_\"&PFS_PFD_SelectionTool!I247&\"_\"&PFS_PFD_SelectionTool!J247)","v":"_____"},{"$f":"IF(ISBLANK(PFS_PFD_SelectionTool!K247),\"\",PFS_PFD_SelectionTool!K247)","v":""},{"$f":"VLOOKUP(D231,Tabelle1!A:B,2,FALSE)","v":{"$error":"#N/A"}},{"$f":"IF(ISBLANK(PFS_PFD_SelectionTool!N272),\"\",PFS_PFD_SelectionTool!N272)","v":""},{"$f":"IF(ISBLANK(PFS_PFD_SelectionTool!O272),\"\",PFS_PFD_SelectionTool!O272)","v":""}]
[{"$f":"IF(ISBLANK(PFS_PFD_SelectionTool!C248),\"\",PFS_PFD_SelectionTool!C248)","v":""},{"$f":"IF(ISBLANK(PFS_PFD_SelectionTool!D248),\"\",PFS_PFD_SelectionTool!D248)","v":""},{"$f":"IF(ISBLANK(PFS_PFD_SelectionTool!E248&\"_\"&PFS_PFD_SelectionTool!F248&\"_\"&PFS_PFD_SelectionTool!G248&\"_\"&PFS_PFD_SelectionTool!H248&\"_\"&PFS_PFD_SelectionTool!I248&\"_\"&PFS_PFD_SelectionTool!J248),\"\",PFS_PFD_SelectionTool!E248&\"_\"&PFS_PFD_SelectionTool!F248&\"_\"&PFS_PFD_SelectionTool!G248&\"_\"&PFS_PFD_SelectionTool!H248&\"_\"&PFS_PFD_SelectionTool!I248&\"_\"&PFS_PFD_SelectionTool!J248)","v":"_____"},{"$f":"IF(ISBLANK(PFS_PFD_SelectionTool!K248),\"\",PFS_PFD_SelectionTool!K248)","v":""},{"$f":"VLOOKUP(D232,Tabelle1!A:B,2,FALSE)","v":{"$error":"#N/A"}},{"$f":"IF(ISBLANK(PFS_PFD_SelectionTool!N273),\"\",PFS_PFD_SelectionTool!N273)","v":""},{"$f":"IF(ISBLANK(PFS_PFD_SelectionTool!O273),\"\",PFS_PFD_SelectionTool!O273)","v":""}]
[{"$f":"IF(ISBLANK(PFS_PFD_SelectionTool!C249),\"\",PFS_PFD_SelectionTool!C249)","v":""},{"$f":"IF(ISBLANK(PFS_PFD_SelectionTool!D249),\"\",PFS_PFD_SelectionTool!D249)","v":""},{"$f":"IF(ISBLANK(PFS_PFD_SelectionTool!E249&\"_\"&PFS_PFD_SelectionTool!F249&\"_\"&PFS_PFD_SelectionTool!G249&\"_\"&PFS_PFD_SelectionTool!H249&\"_\"&PFS_PFD_SelectionTool!I249&\"_\"&PFS_PFD_SelectionTool!J249),\"\",PFS_PFD_SelectionTool!E249&\"_\"&PFS_PFD_SelectionTool!F249&\"_\"&PFS_PFD_SelectionTool!G249&\"_\"&PFS_PFD_SelectionTool!H249&\"_\"&PFS_PFD_SelectionTool!I249&\"_\"&PFS_PFD_SelectionTool!J249)","v":"_____"},{"$f":"IF(ISBLANK(PFS_PFD_SelectionTool!K249),\"\",PFS_PFD_SelectionTool!K249)","v":""},{"$f":"VLOOKUP(D233,Tabelle1!A:B,2,FALSE)","v":{"$error":"#N/A"}},{"$f":"IF(ISBLANK(PFS_PFD_SelectionTool!N274),\"\",PFS_PFD_SelectionTool!N274)","v":""},{"$f":"IF(ISBLANK(PFS_PFD_SelectionTool!O274),\"\",PFS_PFD_SelectionTool!O274)","v":""}]
[{"$f":"IF(ISBLANK(PFS_PFD_SelectionTool!C250),\"\",PFS_PFD_SelectionTool!C250)","v":""},{"$f":"IF(ISBLANK(PFS_PFD_SelectionTool!D250),\"\",PFS_PFD_SelectionTool!D250)","v":""},{"$f":"IF(ISBLANK(PFS_PFD_SelectionTool!E250&\"_\"&PFS_PFD_SelectionTool!F250&\"_\"&PFS_PFD_SelectionTool!G250&\"_\"&PFS_PFD_SelectionTool!H250&\"_\"&PFS_PFD_SelectionTool!I250&\"_\"&PFS_PFD_SelectionTool!J250),\"\",PFS_PFD_SelectionTool!E250&\"_\"&PFS_PFD_SelectionTool!F250&\"_\"&PFS_PFD_SelectionTool!G250&\"_\"&PFS_PFD_SelectionTool!H250&\"_\"&PFS_PFD_SelectionTool!I250&\"_\"&PFS_PFD_SelectionTool!J250)","v":"_____"},{"$f":"IF(ISBLANK(PFS_PFD_SelectionTool!K250),\"\",PFS_PFD_SelectionTool!K250)","v":""},{"$f":"VLOOKUP(D234,Tabelle1!A:B,2,FALSE)","v":{"$error":"#N/A"}},{"$f":"IF(ISBLANK(PFS_PFD_SelectionTool!N275),\"\",PFS_PFD_SelectionTool!N275)","v":""},{"$f":"IF(ISBLANK(PFS_PFD_SelectionTool!O275),\"\",PFS_PFD_SelectionTool!O275)","v":""}]
[{"$f":"IF(ISBLANK(PFS_PFD_SelectionTool!C251),\"\",PFS_PFD_SelectionTool!C251)","v":""},{"$f":"IF(ISBLANK(PFS_PFD_SelectionTool!D251),\"\",PFS_PFD_SelectionTool!D251)","v":""},{"$f":"IF(ISBLANK(PFS_PFD_SelectionTool!E251&\"_\"&PFS_PFD_SelectionTool!F251&\"_\"&PFS_PFD_SelectionTool!G251&\"_\"&PFS_PFD_SelectionTool!H251&\"_\"&PFS_PFD_SelectionTool!I251&\"_\"&PFS_PFD_SelectionTool!J251),\"\",PFS_PFD_SelectionTool!E251&\"_\"&PFS_PFD_SelectionTool!F251&\"_\"&PFS_PFD_SelectionTool!G251&\"_\"&PFS_PFD_SelectionTool!H251&\"_\"&PFS_PFD_SelectionTool!I251&\"_\"&PFS_PFD_SelectionTool!J251)","v":"_____"},{"$f":"IF(ISBLANK(PFS_PFD_SelectionTool!K251),\"\",PFS_PFD_SelectionTool!K251)","v":""},{"$f":"VLOOKUP(D235,Tabelle1!A:B,2,FALSE)","v":{"$error":"#N/A"}},{"$f":"IF(ISBLANK(PFS_PFD_SelectionTool!N276),\"\",PFS_PFD_SelectionTool!N276)","v":""},{"$f":"IF(ISBLANK(PFS_PFD_SelectionTool!O276),\"\",PFS_PFD_SelectionTool!O276)","v":""}]
[{"$f":"IF(ISBLANK(PFS_PFD_SelectionTool!C252),\"\",PFS_PFD_SelectionTool!C252)","v":""},{"$f":"IF(ISBLANK(PFS_PFD_SelectionTool!D252),\"\",PFS_PFD_SelectionTool!D252)","v":""},{"$f":"IF(ISBLANK(PFS_PFD_SelectionTool!E252&\"_\"&PFS_PFD_SelectionTool!F252&\"_\"&PFS_PFD_SelectionTool!G252&\"_\"&PFS_PFD_SelectionTool!H252&\"_\"&PFS_PFD_SelectionTool!I252&\"_\"&PFS_PFD_SelectionTool!J252),\"\",PFS_PFD_SelectionTool!E252&\"_\"&PFS_PFD_SelectionTool!F252&\"_\"&PFS_PFD_SelectionTool!G252&\"_\"&PFS_PFD_SelectionTool!H252&\"_\"&PFS_PFD_SelectionTool!I252&\"_\"&PFS_PFD_SelectionTool!J252)","v":"_____"},{"$f":"IF(ISBLANK(PFS_PFD_SelectionTool!K252),\"\",PFS_PFD_SelectionTool!K252)","v":""},{"$f":"VLOOKUP(D236,Tabelle1!A:B,2,FALSE)","v":{"$error":"#N/A"}},{"$f":"IF(ISBLANK(PFS_PFD_SelectionTool!N277),\"\",PFS_PFD_SelectionTool!N277)","v":""},{"$f":"IF(ISBLANK(PFS_PFD_SelectionTool!O277),\"\",PFS_PFD_SelectionTool!O277)","v":""}]
[{"$f":"IF(ISBLANK(PFS_PFD_SelectionTool!C253),\"\",PFS_PFD_SelectionTool!C253)","v":""},{"$f":"IF(ISBLANK(PFS_PFD_SelectionTool!D253),\"\",PFS_PFD_SelectionTool!D253)","v":""},{"$f":"IF(ISBLANK(PFS_PFD_SelectionTool!E253&\"_\"&PFS_PFD_SelectionTool!F253&\"_\"&PFS_PFD_SelectionTool!G253&\"_\"&PFS_PFD_SelectionTool!H253&\"_\"&PFS_PFD_SelectionTool!I253&\"_\"&PFS_PFD_SelectionTool!J253),\"\",PFS_PFD_SelectionTool!E253&\"_\"&PFS_PFD_SelectionTool!F253&\"_\"&PFS_PFD_SelectionTool!G253&\"_\"&PFS_PFD_SelectionTool!H253&\"_\"&PFS_PFD_SelectionTool!I253&\"_\"&PFS_PFD_SelectionTool!J253)","v":"_____"},{"$f":"IF(ISBLANK(PFS_PFD_SelectionTool!K253),\"\",PFS_PFD_SelectionTool!K253)","v":""},{"$f":"VLOOKUP(D237,Tabelle1!A:B,2,FALSE)","v":{"$error":"#N/A"}},{"$f":"IF(ISBLANK(PFS_PFD_SelectionTool!N278),\"\",PFS_PFD_SelectionTool!N278)","v":""},{"$f":"IF(ISBLANK(PFS_PFD_SelectionTool!O278),\"\",PFS_PFD_SelectionTool!O278)","v":""}]
[{"$f":"IF(ISBLANK(PFS_PFD_SelectionTool!C254),\"\",PFS_PFD_SelectionTool!C254)","v":""},{"$f":"IF(ISBLANK(PFS_PFD_SelectionTool!D254),\"\",PFS_PFD_SelectionTool!D254)","v":""},{"$f":"IF(ISBLANK(PFS_PFD_SelectionTool!E254&\"_\"&PFS_PFD_SelectionTool!F254&\"_\"&PFS_PFD_SelectionTool!G254&\"_\"&PFS_PFD_SelectionTool!H254&\"_\"&PFS_PFD_SelectionTool!I254&\"_\"&PFS_PFD_SelectionTool!J254),\"\",PFS_PFD_SelectionTool!E254&\"_\"&PFS_PFD_SelectionTool!F254&\"_\"&PFS_PFD_SelectionTool!G254&\"_\"&PFS_PFD_SelectionTool!H254&\"_\"&PFS_PFD_SelectionTool!I254&\"_\"&PFS_PFD_SelectionTool!J254)","v":"_____"},{"$f":"IF(ISBLANK(PFS_PFD_SelectionTool!K254),\"\",PFS_PFD_SelectionTool!K254)","v":""},{"$f":"VLOOKUP(D238,Tabelle1!A:B,2,FALSE)","v":{"$error":"#N/A"}},{"$f":"IF(ISBLANK(PFS_PFD_SelectionTool!N279),\"\",PFS_PFD_SelectionTool!N279)","v":""},{"$f":"IF(ISBLANK(PFS_PFD_SelectionTool!O279),\"\",PFS_PFD_SelectionTool!O279)","v":""}]
[{"$f":"IF(ISBLANK(PFS_PFD_SelectionTool!C255),\"\",PFS_PFD_SelectionTool!C255)","v":""},{"$f":"IF(ISBLANK(PFS_PFD_SelectionTool!D255),\"\",PFS_PFD_SelectionTool!D255)","v":""},{"$f":"IF(ISBLANK(PFS_PFD_SelectionTool!E255&\"_\"&PFS_PFD_SelectionTool!F255&\"_\"&PFS_PFD_SelectionTool!G255&\"_\"&PFS_PFD_SelectionTool!H255&\"_\"&PFS_PFD_SelectionTool!I255&\"_\"&PFS_PFD_SelectionTool!J255),\"\",PFS_PFD_SelectionTool!E255&\"_\"&PFS_PFD_SelectionTool!F255&\"_\"&PFS_PFD_SelectionTool!G255&\"_\"&PFS_PFD_SelectionTool!H255&\"_\"&PFS_PFD_SelectionTool!I255&\"_\"&PFS_PFD_SelectionTool!J255)","v":"_____"},{"$f":"IF(ISBLANK(PFS_PFD_SelectionTool!K255),\"\",PFS_PFD_SelectionTool!K255)","v":""},{"$f":"VLOOKUP(D239,Tabelle1!A:B,2,FALSE)","v":{"$error":"#N/A"}},{"$f":"IF(ISBLANK(PFS_PFD_SelectionTool!N280),\"\",PFS_PFD_SelectionTool!N280)","v":""},{"$f":"IF(ISBLANK(PFS_PFD_SelectionTool!O280),\"\",PFS_PFD_SelectionTool!O280)","v":""}]
[{"$f":"IF(ISBLANK(PFS_PFD_SelectionTool!C256),\"\",PFS_PFD_SelectionTool!C256)","v":""},{"$f":"IF(ISBLANK(PFS_PFD_SelectionTool!D256),\"\",PFS_PFD_SelectionTool!D256)","v":""},{"$f":"IF(ISBLANK(PFS_PFD_SelectionTool!E256&\"_\"&PFS_PFD_SelectionTool!F256&\"_\"&PFS_PFD_SelectionTool!G256&\"_\"&PFS_PFD_SelectionTool!H256&\"_\"&PFS_PFD_SelectionTool!I256&\"_\"&PFS_PFD_SelectionTool!J256),\"\",PFS_PFD_SelectionTool!E256&\"_\"&PFS_PFD_SelectionTool!F256&\"_\"&PFS_PFD_SelectionTool!G256&\"_\"&PFS_PFD_SelectionTool!H256&\"_\"&PFS_PFD_SelectionTool!I256&\"_\"&PFS_PFD_SelectionTool!J256)","v":"_____"},{"$f":"IF(ISBLANK(PFS_PFD_SelectionTool!K256),\"\",PFS_PFD_SelectionTool!K256)","v":""},{"$f":"VLOOKUP(D240,Tabelle1!A:B,2,FALSE)","v":{"$error":"#N/A"}},{"$f":"IF(ISBLANK(PFS_PFD_SelectionTool!N281),\"\",PFS_PFD_SelectionTool!N281)","v":""},{"$f":"IF(ISBLANK(PFS_PFD_SelectionTool!O281),\"\",PFS_PFD_SelectionTool!O281)","v":""}]
[{"$f":"IF(ISBLANK(PFS_PFD_SelectionTool!C257),\"\",PFS_PFD_SelectionTool!C257)","v":""},{"$f":"IF(ISBLANK(PFS_PFD_SelectionTool!D257),\"\",PFS_PFD_SelectionTool!D257)","v":""},{"$f":"IF(ISBLANK(PFS_PFD_SelectionTool!E257&\"_\"&PFS_PFD_SelectionTool!F257&\"_\"&PFS_PFD_SelectionTool!G257&\"_\"&PFS_PFD_SelectionTool!H257&\"_\"&PFS_PFD_SelectionTool!I257&\"_\"&PFS_PFD_SelectionTool!J257),\"\",PFS_PFD_SelectionTool!E257&\"_\"&PFS_PFD_SelectionTool!F257&\"_\"&PFS_PFD_SelectionTool!G257&\"_\"&PFS_PFD_SelectionTool!H257&\"_\"&PFS_PFD_SelectionTool!I257&\"_\"&PFS_PFD_SelectionTool!J257)","v":"_____"},{"$f":"IF(ISBLANK(PFS_PFD_SelectionTool!K257),\"\",PFS_PFD_SelectionTool!K257)","v":""},{"$f":"VLOOKUP(D241,Tabelle1!A:B,2,FALSE)","v":{"$error":"#N/A"}},{"$f":"IF(ISBLANK(PFS_PFD_SelectionTool!N282),\"\",PFS_PFD_SelectionTool!N282)","v":""},{"$f":"IF(ISBLANK(PFS_PFD_SelectionTool!O282),\"\",PFS_PFD_SelectionTool!O282)","v":""}]
[{"$f":"IF(ISBLANK(PFS_PFD_SelectionTool!C258),\"\",PFS_PFD_SelectionTool!C258)","v":""},{"$f":"IF(ISBLANK(PFS_PFD_SelectionTool!D258),\"\",PFS_PFD_SelectionTool!D258)","v":""},{"$f":"IF(ISBLANK(PFS_PFD_SelectionTool!E258&\"_\"&PFS_PFD_SelectionTool!F258&\"_\"&PFS_PFD_SelectionTool!G258&\"_\"&PFS_PFD_SelectionTool!H258&\"_\"&PFS_PFD_SelectionTool!I258&\"_\"&PFS_PFD_SelectionTool!J258),\"\",PFS_PFD_SelectionTool!E258&\"_\"&PFS_PFD_SelectionTool!F258&\"_\"&PFS_PFD_SelectionTool!G258&\"_\"&PFS_PFD_SelectionTool!H258&\"_\"&PFS_PFD_SelectionTool!I258&\"_\"&PFS_PFD_SelectionTool!J258)","v":"_____"},{"$f":"IF(ISBLANK(PFS_PFD_SelectionTool!K258),\"\",PFS_PFD_SelectionTool!K258)","v":""},{"$f":"VLOOKUP(D242,Tabelle1!A:B,2,FALSE)","v":{"$error":"#N/A"}},{"$f":"IF(ISBLANK(PFS_PFD_SelectionTool!N283),\"\",PFS_PFD_SelectionTool!N283)","v":""},{"$f":"IF(ISBLANK(PFS_PFD_SelectionTool!O283),\"\",PFS_PFD_SelectionTool!O283)","v":""}]
[{"$f":"IF(ISBLANK(PFS_PFD_SelectionTool!C259),\"\",PFS_PFD_SelectionTool!C259)","v":""},{"$f":"IF(ISBLANK(PFS_PFD_SelectionTool!D259),\"\",PFS_PFD_SelectionTool!D259)","v":""},{"$f":"IF(ISBLANK(PFS_PFD_SelectionTool!E259&\"_\"&PFS_PFD_SelectionTool!F259&\"_\"&PFS_PFD_SelectionTool!G259&\"_\"&PFS_PFD_SelectionTool!H259&\"_\"&PFS_PFD_SelectionTool!I259&\"_\"&PFS_PFD_SelectionTool!J259),\"\",PFS_PFD_SelectionTool!E259&\"_\"&PFS_PFD_SelectionTool!F259&\"_\"&PFS_PFD_SelectionTool!G259&\"_\"&PFS_PFD_SelectionTool!H259&\"_\"&PFS_PFD_SelectionTool!I259&\"_\"&PFS_PFD_SelectionTool!J259)","v":"_____"},{"$f":"IF(ISBLANK(PFS_PFD_SelectionTool!K259),\"\",PFS_PFD_SelectionTool!K259)","v":""},{"$f":"VLOOKUP(D243,Tabelle1!A:B,2,FALSE)","v":{"$error":"#N/A"}},{"$f":"IF(ISBLANK(PFS_PFD_SelectionTool!N284),\"\",PFS_PFD_SelectionTool!N284)","v":""},{"$f":"IF(ISBLANK(PFS_PFD_SelectionTool!O284),\"\",PFS_PFD_SelectionTool!O284)","v":""}]
[{"$f":"IF(ISBLANK(PFS_PFD_SelectionTool!C260),\"\",PFS_PFD_SelectionTool!C260)","v":""},{"$f":"IF(ISBLANK(PFS_PFD_SelectionTool!D260),\"\",PFS_PFD_SelectionTool!D260)","v":""},{"$f":"IF(ISBLANK(PFS_PFD_SelectionTool!E260&\"_\"&PFS_PFD_SelectionTool!F260&\"_\"&PFS_PFD_SelectionTool!G260&\"_\"&PFS_PFD_SelectionTool!H260&\"_\"&PFS_PFD_SelectionTool!I260&\"_\"&PFS_PFD_SelectionTool!J260),\"\",PFS_PFD_SelectionTool!E260&\"_\"&PFS_PFD_SelectionTool!F260&\"_\"&PFS_PFD_SelectionTool!G260&\"_\"&PFS_PFD_SelectionTool!H260&\"_\"&PFS_PFD_SelectionTool!I260&\"_\"&PFS_PFD_SelectionTool!J260)","v":"_____"},{"$f":"IF(ISBLANK(PFS_PFD_SelectionTool!K260),\"\",PFS_PFD_SelectionTool!K260)","v":""},{"$f":"VLOOKUP(D244,Tabelle1!A:B,2,FALSE)","v":{"$error":"#N/A"}},{"$f":"IF(ISBLANK(PFS_PFD_SelectionTool!N285),\"\",PFS_PFD_SelectionTool!N285)","v":""},{"$f":"IF(ISBLANK(PFS_PFD_SelectionTool!O285),\"\",PFS_PFD_SelectionTool!O285)","v":""}]
[{"$f":"IF(ISBLANK(PFS_PFD_SelectionTool!C261),\"\",PFS_PFD_SelectionTool!C261)","v":""},{"$f":"IF(ISBLANK(PFS_PFD_SelectionTool!D261),\"\",PFS_PFD_SelectionTool!D261)","v":""},{"$f":"IF(ISBLANK(PFS_PFD_SelectionTool!E261&\"_\"&PFS_PFD_SelectionTool!F261&\"_\"&PFS_PFD_SelectionTool!G261&\"_\"&PFS_PFD_SelectionTool!H261&\"_\"&PFS_PFD_SelectionTool!I261&\"_\"&PFS_PFD_SelectionTool!J261),\"\",PFS_PFD_SelectionTool!E261&\"_\"&PFS_PFD_SelectionTool!F261&\"_\"&PFS_PFD_SelectionTool!G261&\"_\"&PFS_PFD_SelectionTool!H261&\"_\"&PFS_PFD_SelectionTool!I261&\"_\"&PFS_PFD_SelectionTool!J261)","v":"_____"},{"$f":"IF(ISBLANK(PFS_PFD_SelectionTool!K261),\"\",PFS_PFD_SelectionTool!K261)","v":""},{"$f":"VLOOKUP(D245,Tabelle1!A:B,2,FALSE)","v":{"$error":"#N/A"}},{"$f":"IF(ISBLANK(PFS_PFD_SelectionTool!N286),\"\",PFS_PFD_SelectionTool!N286)","v":""},{"$f":"IF(ISBLANK(PFS_PFD_SelectionTool!O286),\"\",PFS_PFD_SelectionTool!O286)","v":""}]
[{"$f":"IF(ISBLANK(PFS_PFD_SelectionTool!C262),\"\",PFS_PFD_SelectionTool!C262)","v":""},{"$f":"IF(ISBLANK(PFS_PFD_SelectionTool!D262),\"\",PFS_PFD_SelectionTool!D262)","v":""},{"$f":"IF(ISBLANK(PFS_PFD_SelectionTool!E262&\"_\"&PFS_PFD_SelectionTool!F262&\"_\"&PFS_PFD_SelectionTool!G262&\"_\"&PFS_PFD_SelectionTool!H262&\"_\"&PFS_PFD_SelectionTool!I262&\"_\"&PFS_PFD_SelectionTool!J262),\"\",PFS_PFD_SelectionTool!E262&\"_\"&PFS_PFD_SelectionTool!F262&\"_\"&PFS_PFD_SelectionTool!G262&\"_\"&PFS_PFD_SelectionTool!H262&\"_\"&PFS_PFD_SelectionTool!I262&\"_\"&PFS_PFD_SelectionTool!J262)","v":"_____"},{"$f":"IF(ISBLANK(PFS_PFD_SelectionTool!K262),\"\",PFS_PFD_SelectionTool!K262)","v":""},{"$f":"VLOOKUP(D246,Tabelle1!A:B,2,FALSE)","v":{"$error":"#N/A"}},{"$f":"IF(ISBLANK(PFS_PFD_SelectionTool!N287),\"\",PFS_PFD_SelectionTool!N287)","v":""},{"$f":"IF(ISBLANK(PFS_PFD_SelectionTool!O287),\"\",PFS_PFD_SelectionTool!O287)","v":""}]
[{"$f":"IF(ISBLANK(PFS_PFD_SelectionTool!C263),\"\",PFS_PFD_SelectionTool!C263)","v":""},{"$f":"IF(ISBLANK(PFS_PFD_SelectionTool!D263),\"\",PFS_PFD_SelectionTool!D263)","v":""},{"$f":"IF(ISBLANK(PFS_PFD_SelectionTool!E263&\"_\"&PFS_PFD_SelectionTool!F263&\"_\"&PFS_PFD_SelectionTool!G263&\"_\"&PFS_PFD_SelectionTool!H263&\"_\"&PFS_PFD_SelectionTool!I263&\"_\"&PFS_PFD_SelectionTool!J263),\"\",PFS_PFD_SelectionTool!E263&\"_\"&PFS_PFD_SelectionTool!F263&\"_\"&PFS_PFD_SelectionTool!G263&\"_\"&PFS_PFD_SelectionTool!H263&\"_\"&PFS_PFD_SelectionTool!I263&\"_\"&PFS_PFD_SelectionTool!J263)","v":"_____"},{"$f":"IF(ISBLANK(PFS_PFD_SelectionTool!K263),\"\",PFS_PFD_SelectionTool!K263)","v":""},{"$f":"VLOOKUP(D247,Tabelle1!A:B,2,FALSE)","v":{"$error":"#N/A"}},{"$f":"IF(ISBLANK(PFS_PFD_SelectionTool!N288),\"\",PFS_PFD_SelectionTool!N288)","v":""},{"$f":"IF(ISBLANK(PFS_PFD_SelectionTool!O288),\"\",PFS_PFD_SelectionTool!O288)","v":""}]
[{"$f":"IF(ISBLANK(PFS_PFD_SelectionTool!C264),\"\",PFS_PFD_SelectionTool!C264)","v":""},{"$f":"IF(ISBLANK(PFS_PFD_SelectionTool!D264),\"\",PFS_PFD_SelectionTool!D264)","v":""},{"$f":"IF(ISBLANK(PFS_PFD_SelectionTool!E264&\"_\"&PFS_PFD_SelectionTool!F264&\"_\"&PFS_PFD_SelectionTool!G264&\"_\"&PFS_PFD_SelectionTool!H264&\"_\"&PFS_PFD_SelectionTool!I264&\"_\"&PFS_PFD_SelectionTool!J264),\"\",PFS_PFD_SelectionTool!E264&\"_\"&PFS_PFD_SelectionTool!F264&\"_\"&PFS_PFD_SelectionTool!G264&\"_\"&PFS_PFD_SelectionTool!H264&\"_\"&PFS_PFD_SelectionTool!I264&\"_\"&PFS_PFD_SelectionTool!J264)","v":"_____"},{"$f":"IF(ISBLANK(PFS_PFD_SelectionTool!K264),\"\",PFS_PFD_SelectionTool!K264)","v":""},{"$f":"VLOOKUP(D248,Tabelle1!A:B,2,FALSE)","v":{"$error":"#N/A"}},{"$f":"IF(ISBLANK(PFS_PFD_SelectionTool!N289),\"\",PFS_PFD_SelectionTool!N289)","v":""},{"$f":"IF(ISBLANK(PFS_PFD_SelectionTool!O289),\"\",PFS_PFD_SelectionTool!O289)","v":""}]
[{"$f":"IF(ISBLANK(PFS_PFD_SelectionTool!C265),\"\",PFS_PFD_SelectionTool!C265)","v":""},{"$f":"IF(ISBLANK(PFS_PFD_SelectionTool!D265),\"\",PFS_PFD_SelectionTool!D265)","v":""},{"$f":"IF(ISBLANK(PFS_PFD_SelectionTool!E265&\"_\"&PFS_PFD_SelectionTool!F265&\"_\"&PFS_PFD_SelectionTool!G265&\"_\"&PFS_PFD_SelectionTool!H265&\"_\"&PFS_PFD_SelectionTool!I265&\"_\"&PFS_PFD_SelectionTool!J265),\"\",PFS_PFD_SelectionTool!E265&\"_\"&PFS_PFD_SelectionTool!F265&\"_\"&PFS_PFD_SelectionTool!G265&\"_\"&PFS_PFD_SelectionTool!H265&\"_\"&PFS_PFD_SelectionTool!I265&\"_\"&PFS_PFD_SelectionTool!J265)","v":"_____"},{"$f":"IF(ISBLANK(PFS_PFD_SelectionTool!K265),\"\",PFS_PFD_SelectionTool!K265)","v":""},{"$f":"VLOOKUP(D249,Tabelle1!A:B,2,FALSE)","v":{"$error":"#N/A"}},{"$f":"IF(ISBLANK(PFS_PFD_SelectionTool!N290),\"\",PFS_PFD_SelectionTool!N290)","v":""},{"$f":"IF(ISBLANK(PFS_PFD_SelectionTool!O290),\"\",PFS_PFD_SelectionTool!O290)","v":""}]
[{"$f":"IF(ISBLANK(PFS_PFD_SelectionTool!C266),\"\",PFS_PFD_SelectionTool!C266)","v":""},{"$f":"IF(ISBLANK(PFS_PFD_SelectionTool!D266),\"\",PFS_PFD_SelectionTool!D266)","v":""},{"$f":"IF(ISBLANK(PFS_PFD_SelectionTool!E266&\"_\"&PFS_PFD_SelectionTool!F266&\"_\"&PFS_PFD_SelectionTool!G266&\"_\"&PFS_PFD_SelectionTool!H266&\"_\"&PFS_PFD_SelectionTool!I266&\"_\"&PFS_PFD_SelectionTool!J266),\"\",PFS_PFD_SelectionTool!E266&\"_\"&PFS_PFD_SelectionTool!F266&\"_\"&PFS_PFD_SelectionTool!G266&\"_\"&PFS_PFD_SelectionTool!H266&\"_\"&PFS_PFD_SelectionTool!I266&\"_\"&PFS_PFD_SelectionTool!J266)","v":"_____"},{"$f":"IF(ISBLANK(PFS_PFD_SelectionTool!K266),\"\",PFS_PFD_SelectionTool!K266)","v":""},{"$f":"VLOOKUP(D250,Tabelle1!A:B,2,FALSE)","v":{"$error":"#N/A"}},{"$f":"IF(ISBLANK(PFS_PFD_SelectionTool!N291),\"\",PFS_PFD_SelectionTool!N291)","v":""},{"$f":"IF(ISBLANK(PFS_PFD_SelectionTool!O291),\"\",PFS_PFD_SelectionTool!O291)","v":""}]
[{"$f":"IF(ISBLANK(PFS_PFD_SelectionTool!C267),\"\",PFS_PFD_SelectionTool!C267)","v":""},{"$f":"IF(ISBLANK(PFS_PFD_SelectionTool!D267),\"\",PFS_PFD_SelectionTool!D267)","v":""},{"$f":"IF(ISBLANK(PFS_PFD_SelectionTool!E267&\"_\"&PFS_PFD_SelectionTool!F267&\"_\"&PFS_PFD_SelectionTool!G267&\"_\"&PFS_PFD_SelectionTool!H267&\"_\"&PFS_PFD_SelectionTool!I267&\"_\"&PFS_PFD_SelectionTool!J267),\"\",PFS_PFD_SelectionTool!E267&\"_\"&PFS_PFD_SelectionTool!F267&\"_\"&PFS_PFD_SelectionTool!G267&\"_\"&PFS_PFD_SelectionTool!H267&\"_\"&PFS_PFD_SelectionTool!I267&\"_\"&PFS_PFD_SelectionTool!J267)","v":"_____"},{"$f":"IF(ISBLANK(PFS_PFD_SelectionTool!K267),\"\",PFS_PFD_SelectionTool!K267)","v":""},{"$f":"VLOOKUP(D251,Tabelle1!A:B,2,FALSE)","v":{"$error":"#N/A"}},{"$f":"IF(ISBLANK(PFS_PFD_SelectionTool!N292),\"\",PFS_PFD_SelectionTool!N292)","v":""},{"$f":"IF(ISBLANK(PFS_PFD_SelectionTool!O292),\"\",PFS_PFD_SelectionTool!O292)","v":""}]
[{"$f":"IF(ISBLANK(PFS_PFD_SelectionTool!C268),\"\",PFS_PFD_SelectionTool!C268)","v":""},{"$f":"IF(ISBLANK(PFS_PFD_SelectionTool!D268),\"\",PFS_PFD_SelectionTool!D268)","v":""},{"$f":"IF(ISBLANK(PFS_PFD_SelectionTool!E268&\"_\"&PFS_PFD_SelectionTool!F268&\"_\"&PFS_PFD_SelectionTool!G268&\"_\"&PFS_PFD_SelectionTool!H268&\"_\"&PFS_PFD_SelectionTool!I268&\"_\"&PFS_PFD_SelectionTool!J268),\"\",PFS_PFD_SelectionTool!E268&\"_\"&PFS_PFD_SelectionTool!F268&\"_\"&PFS_PFD_SelectionTool!G268&\"_\"&PFS_PFD_SelectionTool!H268&\"_\"&PFS_PFD_SelectionTool!I268&\"_\"&PFS_PFD_SelectionTool!J268)","v":"_____"},{"$f":"IF(ISBLANK(PFS_PFD_SelectionTool!K268),\"\",PFS_PFD_SelectionTool!K268)","v":""},{"$f":"VLOOKUP(D252,Tabelle1!A:B,2,FALSE)","v":{"$error":"#N/A"}},{"$f":"IF(ISBLANK(PFS_PFD_SelectionTool!N293),\"\",PFS_PFD_SelectionTool!N293)","v":""},{"$f":"IF(ISBLANK(PFS_PFD_SelectionTool!O293),\"\",PFS_PFD_SelectionTool!O293)","v":""}]
[{"$f":"IF(ISBLANK(PFS_PFD_SelectionTool!C269),\"\",PFS_PFD_SelectionTool!C269)","v":""},{"$f":"IF(ISBLANK(PFS_PFD_SelectionTool!D269),\"\",PFS_PFD_SelectionTool!D269)","v":""},{"$f":"IF(ISBLANK(PFS_PFD_SelectionTool!E269&\"_\"&PFS_PFD_SelectionTool!F269&\"_\"&PFS_PFD_SelectionTool!G269&\"_\"&PFS_PFD_SelectionTool!H269&\"_\"&PFS_PFD_SelectionTool!I269&\"_\"&PFS_PFD_SelectionTool!J269),\"\",PFS_PFD_SelectionTool!E269&\"_\"&PFS_PFD_SelectionTool!F269&\"_\"&PFS_PFD_SelectionTool!G269&\"_\"&PFS_PFD_SelectionTool!H269&\"_\"&PFS_PFD_SelectionTool!I269&\"_\"&PFS_PFD_SelectionTool!J269)","v":"_____"},{"$f":"IF(ISBLANK(PFS_PFD_SelectionTool!K269),\"\",PFS_PFD_SelectionTool!K269)","v":""},{"$f":"VLOOKUP(D253,Tabelle1!A:B,2,FALSE)","v":{"$error":"#N/A"}},{"$f":"IF(ISBLANK(PFS_PFD_SelectionTool!N294),\"\",PFS_PFD_SelectionTool!N294)","v":""},{"$f":"IF(ISBLANK(PFS_PFD_SelectionTool!O294),\"\",PFS_PFD_SelectionTool!O294)","v":""}]
[{"$f":"IF(ISBLANK(PFS_PFD_SelectionTool!C270),\"\",PFS_PFD_SelectionTool!C270)","v":""},{"$f":"IF(ISBLANK(PFS_PFD_SelectionTool!D270),\"\",PFS_PFD_SelectionTool!D270)","v":""},{"$f":"IF(ISBLANK(PFS_PFD_SelectionTool!E270&\"_\"&PFS_PFD_SelectionTool!F270&\"_\"&PFS_PFD_SelectionTool!G270&\"_\"&PFS_PFD_SelectionTool!H270&\"_\"&PFS_PFD_SelectionTool!I270&\"_\"&PFS_PFD_SelectionTool!J270),\"\",PFS_PFD_SelectionTool!E270&\"_\"&PFS_PFD_SelectionTool!F270&\"_\"&PFS_PFD_SelectionTool!G270&\"_\"&PFS_PFD_SelectionTool!H270&\"_\"&PFS_PFD_SelectionTool!I270&\"_\"&PFS_PFD_SelectionTool!J270)","v":"_____"},{"$f":"IF(ISBLANK(PFS_PFD_SelectionTool!K270),\"\",PFS_PFD_SelectionTool!K270)","v":""},{"$f":"VLOOKUP(D254,Tabelle1!A:B,2,FALSE)","v":{"$error":"#N/A"}},{"$f":"IF(ISBLANK(PFS_PFD_SelectionTool!N295),\"\",PFS_PFD_SelectionTool!N295)","v":""},{"$f":"IF(ISBLANK(PFS_PFD_SelectionTool!O295),\"\",PFS_PFD_SelectionTool!O295)","v":""}]
[{"$f":"IF(ISBLANK(PFS_PFD_SelectionTool!C271),\"\",PFS_PFD_SelectionTool!C271)","v":""},{"$f":"IF(ISBLANK(PFS_PFD_SelectionTool!D271),\"\",PFS_PFD_SelectionTool!D271)","v":""},{"$f":"IF(ISBLANK(PFS_PFD_SelectionTool!E271&\"_\"&PFS_PFD_SelectionTool!F271&\"_\"&PFS_PFD_SelectionTool!G271&\"_\"&PFS_PFD_SelectionTool!H271&\"_\"&PFS_PFD_SelectionTool!I271&\"_\"&PFS_PFD_SelectionTool!J271),\"\",PFS_PFD_SelectionTool!E271&\"_\"&PFS_PFD_SelectionTool!F271&\"_\"&PFS_PFD_SelectionTool!G271&\"_\"&PFS_PFD_SelectionTool!H271&\"_\"&PFS_PFD_SelectionTool!I271&\"_\"&PFS_PFD_SelectionTool!J271)","v":"_____"},{"$f":"IF(ISBLANK(PFS_PFD_SelectionTool!K271),\"\",PFS_PFD_SelectionTool!K271)","v":""},{"$f":"VLOOKUP(D255,Tabelle1!A:B,2,FALSE)","v":{"$error":"#N/A"}},{"$f":"IF(ISBLANK(PFS_PFD_SelectionTool!N296),\"\",PFS_PFD_SelectionTool!N296)","v":""},{"$f":"IF(ISBLANK(PFS_PFD_SelectionTool!O296),\"\",PFS_PFD_SelectionTool!O296)","v":""}]
[{"$f":"IF(ISBLANK(PFS_PFD_SelectionTool!C272),\"\",PFS_PFD_SelectionTool!C272)","v":""},{"$f":"IF(ISBLANK(PFS_PFD_SelectionTool!D272),\"\",PFS_PFD_SelectionTool!D272)","v":""},{"$f":"IF(ISBLANK(PFS_PFD_SelectionTool!E272&\"_\"&PFS_PFD_SelectionTool!F272&\"_\"&PFS_PFD_SelectionTool!G272&\"_\"&PFS_PFD_SelectionTool!H272&\"_\"&PFS_PFD_SelectionTool!I272&\"_\"&PFS_PFD_SelectionTool!J272),\"\",PFS_PFD_SelectionTool!E272&\"_\"&PFS_PFD_SelectionTool!F272&\"_\"&PFS_PFD_SelectionTool!G272&\"_\"&PFS_PFD_SelectionTool!H272&\"_\"&PFS_PFD_SelectionTool!I272&\"_\"&PFS_PFD_SelectionTool!J272)","v":"_____"},{"$f":"IF(ISBLANK(PFS_PFD_SelectionTool!K272),\"\",PFS_PFD_SelectionTool!K272)","v":""},{"$f":"VLOOKUP(D256,Tabelle1!A:B,2,FALSE)","v":{"$error":"#N/A"}},{"$f":"IF(ISBLANK(PFS_PFD_SelectionTool!N297),\"\",PFS_PFD_SelectionTool!N297)","v":""},{"$f":"IF(ISBLANK(PFS_PFD_SelectionTool!O297),\"\",PFS_PFD_SelectionTool!O297)","v":""}]
[{"$f":"IF(ISBLANK(PFS_PFD_SelectionTool!C273),\"\",PFS_PFD_SelectionTool!C273)","v":""},{"$f":"IF(ISBLANK(PFS_PFD_SelectionTool!D273),\"\",PFS_PFD_SelectionTool!D273)","v":""},{"$f":"IF(ISBLANK(PFS_PFD_SelectionTool!E273&\"_\"&PFS_PFD_SelectionTool!F273&\"_\"&PFS_PFD_SelectionTool!G273&\"_\"&PFS_PFD_SelectionTool!H273&\"_\"&PFS_PFD_SelectionTool!I273&\"_\"&PFS_PFD_SelectionTool!J273),\"\",PFS_PFD_SelectionTool!E273&\"_\"&PFS_PFD_SelectionTool!F273&\"_\"&PFS_PFD_SelectionTool!G273&\"_\"&PFS_PFD_SelectionTool!H273&\"_\"&PFS_PFD_SelectionTool!I273&\"_\"&PFS_PFD_SelectionTool!J273)","v":"_____"},{"$f":"IF(ISBLANK(PFS_PFD_SelectionTool!K273),\"\",PFS_PFD_SelectionTool!K273)","v":""},{"$f":"VLOOKUP(D257,Tabelle1!A:B,2,FALSE)","v":{"$error":"#N/A"}},{"$f":"IF(ISBLANK(PFS_PFD_SelectionTool!N298),\"\",PFS_PFD_SelectionTool!N298)","v":""},{"$f":"IF(ISBLANK(PFS_PFD_SelectionTool!O298),\"\",PFS_PFD_SelectionTool!O298)","v":""}]
[{"$f":"IF(ISBLANK(PFS_PFD_SelectionTool!C274),\"\",PFS_PFD_SelectionTool!C274)","v":""},{"$f":"IF(ISBLANK(PFS_PFD_SelectionTool!D274),\"\",PFS_PFD_SelectionTool!D274)","v":""},{"$f":"IF(ISBLANK(PFS_PFD_SelectionTool!E274&\"_\"&PFS_PFD_SelectionTool!F274&\"_\"&PFS_PFD_SelectionTool!G274&\"_\"&PFS_PFD_SelectionTool!H274&\"_\"&PFS_PFD_SelectionTool!I274&\"_\"&PFS_PFD_SelectionTool!J274),\"\",PFS_PFD_SelectionTool!E274&\"_\"&PFS_PFD_SelectionTool!F274&\"_\"&PFS_PFD_SelectionTool!G274&\"_\"&PFS_PFD_SelectionTool!H274&\"_\"&PFS_PFD_SelectionTool!I274&\"_\"&PFS_PFD_SelectionTool!J274)","v":"_____"},{"$f":"IF(ISBLANK(PFS_PFD_SelectionTool!K274),\"\",PFS_PFD_SelectionTool!K274)","v":""},{"$f":"VLOOKUP(D258,Tabelle1!A:B,2,FALSE)","v":{"$error":"#N/A"}},{"$f":"IF(ISBLANK(PFS_PFD_SelectionTool!N299),\"\",PFS_PFD_SelectionTool!N299)","v":""},{"$f":"IF(ISBLANK(PFS_PFD_SelectionTool!O299),\"\",PFS_PFD_SelectionTool!O299)","v":""}]
[{"$f":"IF(ISBLANK(PFS_PFD_SelectionTool!C275),\"\",PFS_PFD_SelectionTool!C275)","v":""},{"$f":"IF(ISBLANK(PFS_PFD_SelectionTool!D275),\"\",PFS_PFD_SelectionTool!D275)","v":""},{"$f":"IF(ISBLANK(PFS_PFD_SelectionTool!E275&\"_\"&PFS_PFD_SelectionTool!F275&\"_\"&PFS_PFD_SelectionTool!G275&\"_\"&PFS_PFD_SelectionTool!H275&\"_\"&PFS_PFD_SelectionTool!I275&\"_\"&PFS_PFD_SelectionTool!J275),\"\",PFS_PFD_SelectionTool!E275&\"_\"&PFS_PFD_SelectionTool!F275&\"_\"&PFS_PFD_SelectionTool!G275&\"_\"&PFS_PFD_SelectionTool!H275&\"_\"&PFS_PFD_SelectionTool!I275&\"_\"&PFS_PFD_SelectionTool!J275)","v":"_____"},{"$f":"IF(ISBLANK(PFS_PFD_SelectionTool!K275),\"\",PFS_PFD_SelectionTool!K275)","v":""},{"$f":"VLOOKUP(D259,Tabelle1!A:B,2,FALSE)","v":{"$error":"#N/A"}},{"$f":"IF(ISBLANK(PFS_PFD_SelectionTool!N300),\"\",PFS_PFD_SelectionTool!N300)","v":""},{"$f":"IF(ISBLANK(PFS_PFD_SelectionTool!O300),\"\",PFS_PFD_SelectionTool!O300)","v":""}]
[{"$f":"IF(ISBLANK(PFS_PFD_SelectionTool!C276),\"\",PFS_PFD_SelectionTool!C276)","v":""},{"$f":"IF(ISBLANK(PFS_PFD_SelectionTool!D276),\"\",PFS_PFD_SelectionTool!D276)","v":""},{"$f":"IF(ISBLANK(PFS_PFD_SelectionTool!E276&\"_\"&PFS_PFD_SelectionTool!F276&\"_\"&PFS_PFD_SelectionTool!G276&\"_\"&PFS_PFD_SelectionTool!H276&\"_\"&PFS_PFD_SelectionTool!I276&\"_\"&PFS_PFD_SelectionTool!J276),\"\",PFS_PFD_SelectionTool!E276&\"_\"&PFS_PFD_SelectionTool!F276&\"_\"&PFS_PFD_SelectionTool!G276&\"_\"&PFS_PFD_SelectionTool!H276&\"_\"&PFS_PFD_SelectionTool!I276&\"_\"&PFS_PFD_SelectionTool!J276)","v":"_____"},{"$f":"IF(ISBLANK(PFS_PFD_SelectionTool!K276),\"\",PFS_PFD_SelectionTool!K276)","v":""},{"$f":"VLOOKUP(D260,Tabelle1!A:B,2,FALSE)","v":{"$error":"#N/A"}},{"$f":"IF(ISBLANK(PFS_PFD_SelectionTool!N301),\"\",PFS_PFD_SelectionTool!N301)","v":""},{"$f":"IF(ISBLANK(PFS_PFD_SelectionTool!O301),\"\",PFS_PFD_SelectionTool!O301)","v":""}]
[{"$f":"IF(ISBLANK(PFS_PFD_SelectionTool!C277),\"\",PFS_PFD_SelectionTool!C277)","v":""},{"$f":"IF(ISBLANK(PFS_PFD_SelectionTool!D277),\"\",PFS_PFD_SelectionTool!D277)","v":""},{"$f":"IF(ISBLANK(PFS_PFD_SelectionTool!E277&\"_\"&PFS_PFD_SelectionTool!F277&\"_\"&PFS_PFD_SelectionTool!G277&\"_\"&PFS_PFD_SelectionTool!H277&\"_\"&PFS_PFD_SelectionTool!I277&\"_\"&PFS_PFD_SelectionTool!J277),\"\",PFS_PFD_SelectionTool!E277&\"_\"&PFS_PFD_SelectionTool!F277&\"_\"&PFS_PFD_SelectionTool!G277&\"_\"&PFS_PFD_SelectionTool!H277&\"_\"&PFS_PFD_SelectionTool!I277&\"_\"&PFS_PFD_SelectionTool!J277)","v":"_____"},{"$f":"IF(ISBLANK(PFS_PFD_SelectionTool!K277),\"\",PFS_PFD_SelectionTool!K277)","v":""},{"$f":"VLOOKUP(D261,Tabelle1!A:B,2,FALSE)","v":{"$error":"#N/A"}},{"$f":"IF(ISBLANK(PFS_PFD_SelectionTool!N302),\"\",PFS_PFD_SelectionTool!N302)","v":""},{"$f":"IF(ISBLANK(PFS_PFD_SelectionTool!O302),\"\",PFS_PFD_SelectionTool!O302)","v":""}]
[{"$f":"IF(ISBLANK(PFS_PFD_SelectionTool!C278),\"\",PFS_PFD_SelectionTool!C278)","v":""},{"$f":"IF(ISBLANK(PFS_PFD_SelectionTool!D278),\"\",PFS_PFD_SelectionTool!D278)","v":""},{"$f":"IF(ISBLANK(PFS_PFD_SelectionTool!E278&\"_\"&PFS_PFD_SelectionTool!F278&\"_\"&PFS_PFD_SelectionTool!G278&\"_\"&PFS_PFD_SelectionTool!H278&\"_\"&PFS_PFD_SelectionTool!I278&\"_\"&PFS_PFD_SelectionTool!J278),\"\",PFS_PFD_SelectionTool!E278&\"_\"&PFS_PFD_SelectionTool!F278&\"_\"&PFS_PFD_SelectionTool!G278&\"_\"&PFS_PFD_SelectionTool!H278&\"_\"&PFS_PFD_SelectionTool!I278&\"_\"&PFS_PFD_SelectionTool!J278)","v":"_____"},{"$f":"IF(ISBLANK(PFS_PFD_SelectionTool!K278),\"\",PFS_PFD_SelectionTool!K278)","v":""},{"$f":"VLOOKUP(D262,Tabelle1!A:B,2,FALSE)","v":{"$error":"#N/A"}},{"$f":"IF(ISBLANK(PFS_PFD_SelectionTool!N303),\"\",PFS_PFD_SelectionTool!N303)","v":""},{"$f":"IF(ISBLANK(PFS_PFD_SelectionTool!O303),\"\",PFS_PFD_SelectionTool!O303)","v":""}]
[{"$f":"IF(ISBLANK(PFS_PFD_SelectionTool!C279),\"\",PFS_PFD_SelectionTool!C279)","v":""},{"$f":"IF(ISBLANK(PFS_PFD_SelectionTool!D279),\"\",PFS_PFD_SelectionTool!D279)","v":""},{"$f":"IF(ISBLANK(PFS_PFD_SelectionTool!E279&\"_\"&PFS_PFD_SelectionTool!F279&\"_\"&PFS_PFD_SelectionTool!G279&\"_\"&PFS_PFD_SelectionTool!H279&\"_\"&PFS_PFD_SelectionTool!I279&\"_\"&PFS_PFD_SelectionTool!J279),\"\",PFS_PFD_SelectionTool!E279&\"_\"&PFS_PFD_SelectionTool!F279&\"_\"&PFS_PFD_SelectionTool!G279&\"_\"&PFS_PFD_SelectionTool!H279&\"_\"&PFS_PFD_SelectionTool!I279&\"_\"&PFS_PFD_SelectionTool!J279)","v":"_____"},{"$f":"IF(ISBLANK(PFS_PFD_SelectionTool!K279),\"\",PFS_PFD_SelectionTool!K279)","v":""},{"$f":"VLOOKUP(D263,Tabelle1!A:B,2,FALSE)","v":{"$error":"#N/A"}},{"$f":"IF(ISBLANK(PFS_PFD_SelectionTool!N304),\"\",PFS_PFD_SelectionTool!N304)","v":""},{"$f":"IF(ISBLANK(PFS_PFD_SelectionTool!O304),\"\",PFS_PFD_SelectionTool!O304)","v":""}]
[{"$f":"IF(ISBLANK(PFS_PFD_SelectionTool!C280),\"\",PFS_PFD_SelectionTool!C280)","v":""},{"$f":"IF(ISBLANK(PFS_PFD_SelectionTool!D280),\"\",PFS_PFD_SelectionTool!D280)","v":""},{"$f":"IF(ISBLANK(PFS_PFD_SelectionTool!E280&\"_\"&PFS_PFD_SelectionTool!F280&\"_\"&PFS_PFD_SelectionTool!G280&\"_\"&PFS_PFD_SelectionTool!H280&\"_\"&PFS_PFD_SelectionTool!I280&\"_\"&PFS_PFD_SelectionTool!J280),\"\",PFS_PFD_SelectionTool!E280&\"_\"&PFS_PFD_SelectionTool!F280&\"_\"&PFS_PFD_SelectionTool!G280&\"_\"&PFS_PFD_SelectionTool!H280&\"_\"&PFS_PFD_SelectionTool!I280&\"_\"&PFS_PFD_SelectionTool!J280)","v":"_____"},{"$f":"IF(ISBLANK(PFS_PFD_SelectionTool!K280),\"\",PFS_PFD_SelectionTool!K280)","v":""},{"$f":"VLOOKUP(D264,Tabelle1!A:B,2,FALSE)","v":{"$error":"#N/A"}},{"$f":"IF(ISBLANK(PFS_PFD_SelectionTool!N305),\"\",PFS_PFD_SelectionTool!N305)","v":""},{"$f":"IF(ISBLANK(PFS_PFD_SelectionTool!O305),\"\",PFS_PFD_SelectionTool!O305)","v":""}]
[{"$f":"IF(ISBLANK(PFS_PFD_SelectionTool!C281),\"\",PFS_PFD_SelectionTool!C281)","v":""},{"$f":"IF(ISBLANK(PFS_PFD_SelectionTool!D281),\"\",PFS_PFD_SelectionTool!D281)","v":""},{"$f":"IF(ISBLANK(PFS_PFD_SelectionTool!E281&\"_\"&PFS_PFD_SelectionTool!F281&\"_\"&PFS_PFD_SelectionTool!G281&\"_\"&PFS_PFD_SelectionTool!H281&\"_\"&PFS_PFD_SelectionTool!I281&\"_\"&PFS_PFD_SelectionTool!J281),\"\",PFS_PFD_SelectionTool!E281&\"_\"&PFS_PFD_SelectionTool!F281&\"_\"&PFS_PFD_SelectionTool!G281&\"_\"&PFS_PFD_SelectionTool!H281&\"_\"&PFS_PFD_SelectionTool!I281&\"_\"&PFS_PFD_SelectionTool!J281)","v":"_____"},{"$f":"IF(ISBLANK(PFS_PFD_SelectionTool!K281),\"\",PFS_PFD_SelectionTool!K281)","v":""},{"$f":"VLOOKUP(D265,Tabelle1!A:B,2,FALSE)","v":{"$error":"#N/A"}},{"$f":"IF(ISBLANK(PFS_PFD_SelectionTool!N306),\"\",PFS_PFD_SelectionTool!N306)","v":""},{"$f":"IF(ISBLANK(PFS_PFD_SelectionTool!O306),\"\",PFS_PFD_SelectionTool!O306)","v":""}]
[{"$f":"IF(ISBLANK(PFS_PFD_SelectionTool!C282),\"\",PFS_PFD_SelectionTool!C282)","v":""},{"$f":"IF(ISBLANK(PFS_PFD_SelectionTool!D282),\"\",PFS_PFD_SelectionTool!D282)","v":""},{"$f":"IF(ISBLANK(PFS_PFD_SelectionTool!E282&\"_\"&PFS_PFD_SelectionTool!F282&\"_\"&PFS_PFD_SelectionTool!G282&\"_\"&PFS_PFD_SelectionTool!H282&\"_\"&PFS_PFD_SelectionTool!I282&\"_\"&PFS_PFD_SelectionTool!J282),\"\",PFS_PFD_SelectionTool!E282&\"_\"&PFS_PFD_SelectionTool!F282&\"_\"&PFS_PFD_SelectionTool!G282&\"_\"&PFS_PFD_SelectionTool!H282&\"_\"&PFS_PFD_SelectionTool!I282&\"_\"&PFS_PFD_SelectionTool!J282)","v":"_____"},{"$f":"IF(ISBLANK(PFS_PFD_SelectionTool!K282),\"\",PFS_PFD_SelectionTool!K282)","v":""},{"$f":"VLOOKUP(D266,Tabelle1!A:B,2,FALSE)","v":{"$error":"#N/A"}},{"$f":"IF(ISBLANK(PFS_PFD_SelectionTool!N307),\"\",PFS_PFD_SelectionTool!N307)","v":""},{"$f":"IF(ISBLANK(PFS_PFD_SelectionTool!O307),\"\",PFS_PFD_SelectionTool!O307)","v":""}]
[{"$f":"IF(ISBLANK(PFS_PFD_SelectionTool!C283),\"\",PFS_PFD_SelectionTool!C283)","v":""},{"$f":"IF(ISBLANK(PFS_PFD_SelectionTool!D283),\"\",PFS_PFD_SelectionTool!D283)","v":""},{"$f":"IF(ISBLANK(PFS_PFD_SelectionTool!E283&\"_\"&PFS_PFD_SelectionTool!F283&\"_\"&PFS_PFD_SelectionTool!G283&\"_\"&PFS_PFD_SelectionTool!H283&\"_\"&PFS_PFD_SelectionTool!I283&\"_\"&PFS_PFD_SelectionTool!J283),\"\",PFS_PFD_SelectionTool!E283&\"_\"&PFS_PFD_SelectionTool!F283&\"_\"&PFS_PFD_SelectionTool!G283&\"_\"&PFS_PFD_SelectionTool!H283&\"_\"&PFS_PFD_SelectionTool!I283&\"_\"&PFS_PFD_SelectionTool!J283)","v":"_____"},{"$f":"IF(ISBLANK(PFS_PFD_SelectionTool!K283),\"\",PFS_PFD_SelectionTool!K283)","v":""},{"$f":"VLOOKUP(D267,Tabelle1!A:B,2,FALSE)","v":{"$error":"#N/A"}},{"$f":"IF(ISBLANK(PFS_PFD_SelectionTool!N308),\"\",PFS_PFD_SelectionTool!N308)","v":""},{"$f":"IF(ISBLANK(PFS_PFD_SelectionTool!O308),\"\",PFS_PFD_SelectionTool!O308)","v":""}]
[{"$f":"IF(ISBLANK(PFS_PFD_SelectionTool!C284),\"\",PFS_PFD_SelectionTool!C284)","v":""},{"$f":"IF(ISBLANK(PFS_PFD_SelectionTool!D284),\"\",PFS_PFD_SelectionTool!D284)","v":""},{"$f":"IF(ISBLANK(PFS_PFD_SelectionTool!E284&\"_\"&PFS_PFD_SelectionTool!F284&\"_\"&PFS_PFD_SelectionTool!G284&\"_\"&PFS_PFD_SelectionTool!H284&\"_\"&PFS_PFD_SelectionTool!I284&\"_\"&PFS_PFD_SelectionTool!J284),\"\",PFS_PFD_SelectionTool!E284&\"_\"&PFS_PFD_SelectionTool!F284&\"_\"&PFS_PFD_SelectionTool!G284&\"_\"&PFS_PFD_SelectionTool!H284&\"_\"&PFS_PFD_SelectionTool!I284&\"_\"&PFS_PFD_SelectionTool!J284)","v":"_____"},{"$f":"IF(ISBLANK(PFS_PFD_SelectionTool!K284),\"\",PFS_PFD_SelectionTool!K284)","v":""},{"$f":"VLOOKUP(D268,Tabelle1!A:B,2,FALSE)","v":{"$error":"#N/A"}},{"$f":"IF(ISBLANK(PFS_PFD_SelectionTool!N309),\"\",PFS_PFD_SelectionTool!N309)","v":""},{"$f":"IF(ISBLANK(PFS_PFD_SelectionTool!O309),\"\",PFS_PFD_SelectionTool!O309)","v":""}]
[{"$f":"IF(ISBLANK(PFS_PFD_SelectionTool!C285),\"\",PFS_PFD_SelectionTool!C285)","v":""},{"$f":"IF(ISBLANK(PFS_PFD_SelectionTool!D285),\"\",PFS_PFD_SelectionTool!D285)","v":""},{"$f":"IF(ISBLANK(PFS_PFD_SelectionTool!E285&\"_\"&PFS_PFD_SelectionTool!F285&\"_\"&PFS_PFD_SelectionTool!G285&\"_\"&PFS_PFD_SelectionTool!H285&\"_\"&PFS_PFD_SelectionTool!I285&\"_\"&PFS_PFD_SelectionTool!J285),\"\",PFS_PFD_SelectionTool!E285&\"_\"&PFS_PFD_SelectionTool!F285&\"_\"&PFS_PFD_SelectionTool!G285&\"_\"&PFS_PFD_SelectionTool!H285&\"_\"&PFS_PFD_SelectionTool!I285&\"_\"&PFS_PFD_SelectionTool!J285)","v":"_____"},{"$f":"IF(ISBLANK(PFS_PFD_SelectionTool!K285),\"\",PFS_PFD_SelectionTool!K285)","v":""},{"$f":"VLOOKUP(D269,Tabelle1!A:B,2,FALSE)","v":{"$error":"#N/A"}},{"$f":"IF(ISBLANK(PFS_PFD_SelectionTool!N310),\"\",PFS_PFD_SelectionTool!N310)","v":""},{"$f":"IF(ISBLANK(PFS_PFD_SelectionTool!O310),\"\",PFS_PFD_SelectionTool!O310)","v":""}]
[{"$f":"IF(ISBLANK(PFS_PFD_SelectionTool!C286),\"\",PFS_PFD_SelectionTool!C286)","v":""},{"$f":"IF(ISBLANK(PFS_PFD_SelectionTool!D286),\"\",PFS_PFD_SelectionTool!D286)","v":""},{"$f":"IF(ISBLANK(PFS_PFD_SelectionTool!E286&\"_\"&PFS_PFD_SelectionTool!F286&\"_\"&PFS_PFD_SelectionTool!G286&\"_\"&PFS_PFD_SelectionTool!H286&\"_\"&PFS_PFD_SelectionTool!I286&\"_\"&PFS_PFD_SelectionTool!J286),\"\",PFS_PFD_SelectionTool!E286&\"_\"&PFS_PFD_SelectionTool!F286&\"_\"&PFS_PFD_SelectionTool!G286&\"_\"&PFS_PFD_SelectionTool!H286&\"_\"&PFS_PFD_SelectionTool!I286&\"_\"&PFS_PFD_SelectionTool!J286)","v":"_____"},{"$f":"IF(ISBLANK(PFS_PFD_SelectionTool!K286),\"\",PFS_PFD_SelectionTool!K286)","v":""},{"$f":"VLOOKUP(D270,Tabelle1!A:B,2,FALSE)","v":{"$error":"#N/A"}},{"$f":"IF(ISBLANK(PFS_PFD_SelectionTool!N311),\"\",PFS_PFD_SelectionTool!N311)","v":""},{"$f":"IF(ISBLANK(PFS_PFD_SelectionTool!O311),\"\",PFS_PFD_SelectionTool!O311)","v":""}]
[{"$f":"IF(ISBLANK(PFS_PFD_SelectionTool!C287),\"\",PFS_PFD_SelectionTool!C287)","v":""},{"$f":"IF(ISBLANK(PFS_PFD_SelectionTool!D287),\"\",PFS_PFD_SelectionTool!D287)","v":""},{"$f":"IF(ISBLANK(PFS_PFD_SelectionTool!E287&\"_\"&PFS_PFD_SelectionTool!F287&\"_\"&PFS_PFD_SelectionTool!G287&\"_\"&PFS_PFD_SelectionTool!H287&\"_\"&PFS_PFD_SelectionTool!I287&\"_\"&PFS_PFD_SelectionTool!J287),\"\",PFS_PFD_SelectionTool!E287&\"_\"&PFS_PFD_SelectionTool!F287&\"_\"&PFS_PFD_SelectionTool!G287&\"_\"&PFS_PFD_SelectionTool!H287&\"_\"&PFS_PFD_SelectionTool!I287&\"_\"&PFS_PFD_SelectionTool!J287)","v":"_____"},{"$f":"IF(ISBLANK(PFS_PFD_SelectionTool!K287),\"\",PFS_PFD_SelectionTool!K287)","v":""},{"$f":"VLOOKUP(D271,Tabelle1!A:B,2,FALSE)","v":{"$error":"#N/A"}},{"$f":"IF(ISBLANK(PFS_PFD_SelectionTool!N312),\"\",PFS_PFD_SelectionTool!N312)","v":""},{"$f":"IF(ISBLANK(PFS_PFD_SelectionTool!O312),\"\",PFS_PFD_SelectionTool!O312)","v":""}]
[{"$f":"IF(ISBLANK(PFS_PFD_SelectionTool!C288),\"\",PFS_PFD_SelectionTool!C288)","v":""},{"$f":"IF(ISBLANK(PFS_PFD_SelectionTool!D288),\"\",PFS_PFD_SelectionTool!D288)","v":""},{"$f":"IF(ISBLANK(PFS_PFD_SelectionTool!E288&\"_\"&PFS_PFD_SelectionTool!F288&\"_\"&PFS_PFD_SelectionTool!G288&\"_\"&PFS_PFD_SelectionTool!H288&\"_\"&PFS_PFD_SelectionTool!I288&\"_\"&PFS_PFD_SelectionTool!J288),\"\",PFS_PFD_SelectionTool!E288&\"_\"&PFS_PFD_SelectionTool!F288&\"_\"&PFS_PFD_SelectionTool!G288&\"_\"&PFS_PFD_SelectionTool!H288&\"_\"&PFS_PFD_SelectionTool!I288&\"_\"&PFS_PFD_SelectionTool!J288)","v":"_____"},{"$f":"IF(ISBLANK(PFS_PFD_SelectionTool!K288),\"\",PFS_PFD_SelectionTool!K288)","v":""},{"$f":"VLOOKUP(D272,Tabelle1!A:B,2,FALSE)","v":{"$error":"#N/A"}},{"$f":"IF(ISBLANK(PFS_PFD_SelectionTool!N313),\"\",PFS_PFD_SelectionTool!N313)","v":""},{"$f":"IF(ISBLANK(PFS_PFD_SelectionTool!O313),\"\",PFS_PFD_SelectionTool!O313)","v":""}]
[{"$f":"IF(ISBLANK(PFS_PFD_SelectionTool!C289),\"\",PFS_PFD_SelectionTool!C289)","v":""},{"$f":"IF(ISBLANK(PFS_PFD_SelectionTool!D289),\"\",PFS_PFD_SelectionTool!D289)","v":""},{"$f":"IF(ISBLANK(PFS_PFD_SelectionTool!E289&\"_\"&PFS_PFD_SelectionTool!F289&\"_\"&PFS_PFD_SelectionTool!G289&\"_\"&PFS_PFD_SelectionTool!H289&\"_\"&PFS_PFD_SelectionTool!I289&\"_\"&PFS_PFD_SelectionTool!J289),\"\",PFS_PFD_SelectionTool!E289&\"_\"&PFS_PFD_SelectionTool!F289&\"_\"&PFS_PFD_SelectionTool!G289&\"_\"&PFS_PFD_SelectionTool!H289&\"_\"&PFS_PFD_SelectionTool!I289&\"_\"&PFS_PFD_SelectionTool!J289)","v":"_____"},{"$f":"IF(ISBLANK(PFS_PFD_SelectionTool!K289),\"\",PFS_PFD_SelectionTool!K289)","v":""},{"$f":"VLOOKUP(D273,Tabelle1!A:B,2,FALSE)","v":{"$error":"#N/A"}},{"$f":"IF(ISBLANK(PFS_PFD_SelectionTool!N314),\"\",PFS_PFD_SelectionTool!N314)","v":""},{"$f":"IF(ISBLANK(PFS_PFD_SelectionTool!O314),\"\",PFS_PFD_SelectionTool!O314)","v":""}]
[{"$f":"IF(ISBLANK(PFS_PFD_SelectionTool!C290),\"\",PFS_PFD_SelectionTool!C290)","v":""},{"$f":"IF(ISBLANK(PFS_PFD_SelectionTool!D290),\"\",PFS_PFD_SelectionTool!D290)","v":""},{"$f":"IF(ISBLANK(PFS_PFD_SelectionTool!E290&\"_\"&PFS_PFD_SelectionTool!F290&\"_\"&PFS_PFD_SelectionTool!G290&\"_\"&PFS_PFD_SelectionTool!H290&\"_\"&PFS_PFD_SelectionTool!I290&\"_\"&PFS_PFD_SelectionTool!J290),\"\",PFS_PFD_SelectionTool!E290&\"_\"&PFS_PFD_SelectionTool!F290&\"_\"&PFS_PFD_SelectionTool!G290&\"_\"&PFS_PFD_SelectionTool!H290&\"_\"&PFS_PFD_SelectionTool!I290&\"_\"&PFS_PFD_SelectionTool!J290)","v":"_____"},{"$f":"IF(ISBLANK(PFS_PFD_SelectionTool!K290),\"\",PFS_PFD_SelectionTool!K290)","v":""},{"$f":"VLOOKUP(D274,Tabelle1!A:B,2,FALSE)","v":{"$error":"#N/A"}},{"$f":"IF(ISBLANK(PFS_PFD_SelectionTool!N315),\"\",PFS_PFD_SelectionTool!N315)","v":""},{"$f":"IF(ISBLANK(PFS_PFD_SelectionTool!O315),\"\",PFS_PFD_SelectionTool!O315)","v":""}]
[{"$f":"IF(ISBLANK(PFS_PFD_SelectionTool!C291),\"\",PFS_PFD_SelectionTool!C291)","v":""},{"$f":"IF(ISBLANK(PFS_PFD_SelectionTool!D291),\"\",PFS_PFD_SelectionTool!D291)","v":""},{"$f":"IF(ISBLANK(PFS_PFD_SelectionTool!E291&\"_\"&PFS_PFD_SelectionTool!F291&\"_\"&PFS_PFD_SelectionTool!G291&\"_\"&PFS_PFD_SelectionTool!H291&\"_\"&PFS_PFD_SelectionTool!I291&\"_\"&PFS_PFD_SelectionTool!J291),\"\",PFS_PFD_SelectionTool!E291&\"_\"&PFS_PFD_SelectionTool!F291&\"_\"&PFS_PFD_SelectionTool!G291&\"_\"&PFS_PFD_SelectionTool!H291&\"_\"&PFS_PFD_SelectionTool!I291&\"_\"&PFS_PFD_SelectionTool!J291)","v":"_____"},{"$f":"IF(ISBLANK(PFS_PFD_SelectionTool!K291),\"\",PFS_PFD_SelectionTool!K291)","v":""},{"$f":"VLOOKUP(D275,Tabelle1!A:B,2,FALSE)","v":{"$error":"#N/A"}},{"$f":"IF(ISBLANK(PFS_PFD_SelectionTool!N316),\"\",PFS_PFD_SelectionTool!N316)","v":""},{"$f":"IF(ISBLANK(PFS_PFD_SelectionTool!O316),\"\",PFS_PFD_SelectionTool!O316)","v":""}]
[{"$f":"IF(ISBLANK(PFS_PFD_SelectionTool!C292),\"\",PFS_PFD_SelectionTool!C292)","v":""},{"$f":"IF(ISBLANK(PFS_PFD_SelectionTool!D292),\"\",PFS_PFD_SelectionTool!D292)","v":""},{"$f":"IF(ISBLANK(PFS_PFD_SelectionTool!E292&\"_\"&PFS_PFD_SelectionTool!F292&\"_\"&PFS_PFD_SelectionTool!G292&\"_\"&PFS_PFD_SelectionTool!H292&\"_\"&PFS_PFD_SelectionTool!I292&\"_\"&PFS_PFD_SelectionTool!J292),\"\",PFS_PFD_SelectionTool!E292&\"_\"&PFS_PFD_SelectionTool!F292&\"_\"&PFS_PFD_SelectionTool!G292&\"_\"&PFS_PFD_SelectionTool!H292&\"_\"&PFS_PFD_SelectionTool!I292&\"_\"&PFS_PFD_SelectionTool!J292)","v":"_____"},{"$f":"IF(ISBLANK(PFS_PFD_SelectionTool!K292),\"\",PFS_PFD_SelectionTool!K292)","v":""},{"$f":"VLOOKUP(D276,Tabelle1!A:B,2,FALSE)","v":{"$error":"#N/A"}},{"$f":"IF(ISBLANK(PFS_PFD_SelectionTool!N317),\"\",PFS_PFD_SelectionTool!N317)","v":""},{"$f":"IF(ISBLANK(PFS_PFD_SelectionTool!O317),\"\",PFS_PFD_SelectionTool!O317)","v":""}]
[{"$f":"IF(ISBLANK(PFS_PFD_SelectionTool!C293),\"\",PFS_PFD_SelectionTool!C293)","v":""},{"$f":"IF(ISBLANK(PFS_PFD_SelectionTool!D293),\"\",PFS_PFD_SelectionTool!D293)","v":""},{"$f":"IF(ISBLANK(PFS_PFD_SelectionTool!E293&\"_\"&PFS_PFD_SelectionTool!F293&\"_\"&PFS_PFD_SelectionTool!G293&\"_\"&PFS_PFD_SelectionTool!H293&\"_\"&PFS_PFD_SelectionTool!I293&\"_\"&PFS_PFD_SelectionTool!J293),\"\",PFS_PFD_SelectionTool!E293&\"_\"&PFS_PFD_SelectionTool!F293&\"_\"&PFS_PFD_SelectionTool!G293&\"_\"&PFS_PFD_SelectionTool!H293&\"_\"&PFS_PFD_SelectionTool!I293&\"_\"&PFS_PFD_SelectionTool!J293)","v":"_____"},{"$f":"IF(ISBLANK(PFS_PFD_SelectionTool!K293),\"\",PFS_PFD_SelectionTool!K293)","v":""},{"$f":"VLOOKUP(D277,Tabelle1!A:B,2,FALSE)","v":{"$error":"#N/A"}},{"$f":"IF(ISBLANK(PFS_PFD_SelectionTool!N318),\"\",PFS_PFD_SelectionTool!N318)","v":""},{"$f":"IF(ISBLANK(PFS_PFD_SelectionTool!O318),\"\",PFS_PFD_SelectionTool!O318)","v":""}]
[{"$f":"IF(ISBLANK(PFS_PFD_SelectionTool!C294),\"\",PFS_PFD_SelectionTool!C294)","v":""},{"$f":"IF(ISBLANK(PFS_PFD_SelectionTool!D294),\"\",PFS_PFD_SelectionTool!D294)","v":""},{"$f":"IF(ISBLANK(PFS_PFD_SelectionTool!E294&\"_\"&PFS_PFD_SelectionTool!F294&\"_\"&PFS_PFD_SelectionTool!G294&\"_\"&PFS_PFD_SelectionTool!H294&\"_\"&PFS_PFD_SelectionTool!I294&\"_\"&PFS_PFD_SelectionTool!J294),\"\",PFS_PFD_SelectionTool!E294&\"_\"&PFS_PFD_SelectionTool!F294&\"_\"&PFS_PFD_SelectionTool!G294&\"_\"&PFS_PFD_SelectionTool!H294&\"_\"&PFS_PFD_SelectionTool!I294&\"_\"&PFS_PFD_SelectionTool!J294)","v":"_____"},{"$f":"IF(ISBLANK(PFS_PFD_SelectionTool!K294),\"\",PFS_PFD_SelectionTool!K294)","v":""},{"$f":"VLOOKUP(D278,Tabelle1!A:B,2,FALSE)","v":{"$error":"#N/A"}},{"$f":"IF(ISBLANK(PFS_PFD_SelectionTool!N319),\"\",PFS_PFD_SelectionTool!N319)","v":""},{"$f":"IF(ISBLANK(PFS_PFD_SelectionTool!O319),\"\",PFS_PFD_SelectionTool!O319)","v":""}]
[{"$f":"IF(ISBLANK(PFS_PFD_SelectionTool!C295),\"\",PFS_PFD_SelectionTool!C295)","v":""},{"$f":"IF(ISBLANK(PFS_PFD_SelectionTool!D295),\"\",PFS_PFD_SelectionTool!D295)","v":""},{"$f":"IF(ISBLANK(PFS_PFD_SelectionTool!E295&\"_\"&PFS_PFD_SelectionTool!F295&\"_\"&PFS_PFD_SelectionTool!G295&\"_\"&PFS_PFD_SelectionTool!H295&\"_\"&PFS_PFD_SelectionTool!I295&\"_\"&PFS_PFD_SelectionTool!J295),\"\",PFS_PFD_SelectionTool!E295&\"_\"&PFS_PFD_SelectionTool!F295&\"_\"&PFS_PFD_SelectionTool!G295&\"_\"&PFS_PFD_SelectionTool!H295&\"_\"&PFS_PFD_SelectionTool!I295&\"_\"&PFS_PFD_SelectionTool!J295)","v":"_____"},{"$f":"IF(ISBLANK(PFS_PFD_SelectionTool!K295),\"\",PFS_PFD_SelectionTool!K295)","v":""},{"$f":"VLOOKUP(D279,Tabelle1!A:B,2,FALSE)","v":{"$error":"#N/A"}},{"$f":"IF(ISBLANK(PFS_PFD_SelectionTool!N320),\"\",PFS_PFD_SelectionTool!N320)","v":""},{"$f":"IF(ISBLANK(PFS_PFD_SelectionTool!O320),\"\",PFS_PFD_SelectionTool!O320)","v":""}]
[{"$f":"IF(ISBLANK(PFS_PFD_SelectionTool!C296),\"\",PFS_PFD_SelectionTool!C296)","v":""},{"$f":"IF(ISBLANK(PFS_PFD_SelectionTool!D296),\"\",PFS_PFD_SelectionTool!D296)","v":""},{"$f":"IF(ISBLANK(PFS_PFD_SelectionTool!E296&\"_\"&PFS_PFD_SelectionTool!F296&\"_\"&PFS_PFD_SelectionTool!G296&\"_\"&PFS_PFD_SelectionTool!H296&\"_\"&PFS_PFD_SelectionTool!I296&\"_\"&PFS_PFD_SelectionTool!J296),\"\",PFS_PFD_SelectionTool!E296&\"_\"&PFS_PFD_SelectionTool!F296&\"_\"&PFS_PFD_SelectionTool!G296&\"_\"&PFS_PFD_SelectionTool!H296&\"_\"&PFS_PFD_SelectionTool!I296&\"_\"&PFS_PFD_SelectionTool!J296)","v":"_____"},{"$f":"IF(ISBLANK(PFS_PFD_SelectionTool!K296),\"\",PFS_PFD_SelectionTool!K296)","v":""},{"$f":"VLOOKUP(D280,Tabelle1!A:B,2,FALSE)","v":{"$error":"#N/A"}},{"$f":"IF(ISBLANK(PFS_PFD_SelectionTool!N321),\"\",PFS_PFD_SelectionTool!N321)","v":""},{"$f":"IF(ISBLANK(PFS_PFD_SelectionTool!O321),\"\",PFS_PFD_SelectionTool!O321)","v":""}]
[{"$f":"IF(ISBLANK(PFS_PFD_SelectionTool!C297),\"\",PFS_PFD_SelectionTool!C297)","v":""},{"$f":"IF(ISBLANK(PFS_PFD_SelectionTool!D297),\"\",PFS_PFD_SelectionTool!D297)","v":""},{"$f":"IF(ISBLANK(PFS_PFD_SelectionTool!E297&\"_\"&PFS_PFD_SelectionTool!F297&\"_\"&PFS_PFD_SelectionTool!G297&\"_\"&PFS_PFD_SelectionTool!H297&\"_\"&PFS_PFD_SelectionTool!I297&\"_\"&PFS_PFD_SelectionTool!J297),\"\",PFS_PFD_SelectionTool!E297&\"_\"&PFS_PFD_SelectionTool!F297&\"_\"&PFS_PFD_SelectionTool!G297&\"_\"&PFS_PFD_SelectionTool!H297&\"_\"&PFS_PFD_SelectionTool!I297&\"_\"&PFS_PFD_SelectionTool!J297)","v":"_____"},{"$f":"IF(ISBLANK(PFS_PFD_SelectionTool!K297),\"\",PFS_PFD_SelectionTool!K297)","v":""},{"$f":"VLOOKUP(D281,Tabelle1!A:B,2,FALSE)","v":{"$error":"#N/A"}},{"$f":"IF(ISBLANK(PFS_PFD_SelectionTool!N322),\"\",PFS_PFD_SelectionTool!N322)","v":""},{"$f":"IF(ISBLANK(PFS_PFD_SelectionTool!O322),\"\",PFS_PFD_SelectionTool!O322)","v":""}]
[{"$f":"IF(ISBLANK(PFS_PFD_SelectionTool!C298),\"\",PFS_PFD_SelectionTool!C298)","v":""},{"$f":"IF(ISBLANK(PFS_PFD_SelectionTool!D298),\"\",PFS_PFD_SelectionTool!D298)","v":""},{"$f":"IF(ISBLANK(PFS_PFD_SelectionTool!E298&\"_\"&PFS_PFD_SelectionTool!F298&\"_\"&PFS_PFD_SelectionTool!G298&\"_\"&PFS_PFD_SelectionTool!H298&\"_\"&PFS_PFD_SelectionTool!I298&\"_\"&PFS_PFD_SelectionTool!J298),\"\",PFS_PFD_SelectionTool!E298&\"_\"&PFS_PFD_SelectionTool!F298&\"_\"&PFS_PFD_SelectionTool!G298&\"_\"&PFS_PFD_SelectionTool!H298&\"_\"&PFS_PFD_SelectionTool!I298&\"_\"&PFS_PFD_SelectionTool!J298)","v":"_____"},{"$f":"IF(ISBLANK(PFS_PFD_SelectionTool!K298),\"\",PFS_PFD_SelectionTool!K298)","v":""},{"$f":"VLOOKUP(D282,Tabelle1!A:B,2,FALSE)","v":{"$error":"#N/A"}},{"$f":"IF(ISBLANK(PFS_PFD_SelectionTool!N323),\"\",PFS_PFD_SelectionTool!N323)","v":""},{"$f":"IF(ISBLANK(PFS_PFD_SelectionTool!O323),\"\",PFS_PFD_SelectionTool!O323)","v":""}]
[{"$f":"IF(ISBLANK(PFS_PFD_SelectionTool!C299),\"\",PFS_PFD_SelectionTool!C299)","v":""},{"$f":"IF(ISBLANK(PFS_PFD_SelectionTool!D299),\"\",PFS_PFD_SelectionTool!D299)","v":""},{"$f":"IF(ISBLANK(PFS_PFD_SelectionTool!E299&\"_\"&PFS_PFD_SelectionTool!F299&\"_\"&PFS_PFD_SelectionTool!G299&\"_\"&PFS_PFD_SelectionTool!H299&\"_\"&PFS_PFD_SelectionTool!I299&\"_\"&PFS_PFD_SelectionTool!J299),\"\",PFS_PFD_SelectionTool!E299&\"_\"&PFS_PFD_SelectionTool!F299&\"_\"&PFS_PFD_SelectionTool!G299&\"_\"&PFS_PFD_SelectionTool!H299&\"_\"&PFS_PFD_SelectionTool!I299&\"_\"&PFS_PFD_SelectionTool!J299)","v":"_____"},{"$f":"IF(ISBLANK(PFS_PFD_SelectionTool!K299),\"\",PFS_PFD_SelectionTool!K299)","v":""},{"$f":"VLOOKUP(D283,Tabelle1!A:B,2,FALSE)","v":{"$error":"#N/A"}},{"$f":"IF(ISBLANK(PFS_PFD_SelectionTool!N324),\"\",PFS_PFD_SelectionTool!N324)","v":""},{"$f":"IF(ISBLANK(PFS_PFD_SelectionTool!O324),\"\",PFS_PFD_SelectionTool!O324)","v":""}]
[{"$f":"IF(ISBLANK(PFS_PFD_SelectionTool!C300),\"\",PFS_PFD_SelectionTool!C300)","v":""},{"$f":"IF(ISBLANK(PFS_PFD_SelectionTool!D300),\"\",PFS_PFD_SelectionTool!D300)","v":""},{"$f":"IF(ISBLANK(PFS_PFD_SelectionTool!E300&\"_\"&PFS_PFD_SelectionTool!F300&\"_\"&PFS_PFD_SelectionTool!G300&\"_\"&PFS_PFD_SelectionTool!H300&\"_\"&PFS_PFD_SelectionTool!I300&\"_\"&PFS_PFD_SelectionTool!J300),\"\",PFS_PFD_SelectionTool!E300&\"_\"&PFS_PFD_SelectionTool!F300&\"_\"&PFS_PFD_SelectionTool!G300&\"_\"&PFS_PFD_SelectionTool!H300&\"_\"&PFS_PFD_SelectionTool!I300&\"_\"&PFS_PFD_SelectionTool!J300)","v":"_____"},{"$f":"IF(ISBLANK(PFS_PFD_SelectionTool!K300),\"\",PFS_PFD_SelectionTool!K300)","v":""},{"$f":"VLOOKUP(D284,Tabelle1!A:B,2,FALSE)","v":{"$error":"#N/A"}},{"$f":"IF(ISBLANK(PFS_PFD_SelectionTool!N325),\"\",PFS_PFD_SelectionTool!N325)","v":""},{"$f":"IF(ISBLANK(PFS_PFD_SelectionTool!O325),\"\",PFS_PFD_SelectionTool!O325)","v":""}]
[{"$f":"IF(ISBLANK(PFS_PFD_SelectionTool!C301),\"\",PFS_PFD_SelectionTool!C301)","v":""},{"$f":"IF(ISBLANK(PFS_PFD_SelectionTool!D301),\"\",PFS_PFD_SelectionTool!D301)","v":""},{"$f":"IF(ISBLANK(PFS_PFD_SelectionTool!E301&\"_\"&PFS_PFD_SelectionTool!F301&\"_\"&PFS_PFD_SelectionTool!G301&\"_\"&PFS_PFD_SelectionTool!H301&\"_\"&PFS_PFD_SelectionTool!I301&\"_\"&PFS_PFD_SelectionTool!J301),\"\",PFS_PFD_SelectionTool!E301&\"_\"&PFS_PFD_SelectionTool!F301&\"_\"&PFS_PFD_SelectionTool!G301&\"_\"&PFS_PFD_SelectionTool!H301&\"_\"&PFS_PFD_SelectionTool!I301&\"_\"&PFS_PFD_SelectionTool!J301)","v":"_____"},{"$f":"IF(ISBLANK(PFS_PFD_SelectionTool!K301),\"\",PFS_PFD_SelectionTool!K301)","v":""},{"$f":"VLOOKUP(D285,Tabelle1!A:B,2,FALSE)","v":{"$error":"#N/A"}},{"$f":"IF(ISBLANK(PFS_PFD_SelectionTool!N326),\"\",PFS_PFD_SelectionTool!N326)","v":""},{"$f":"IF(ISBLANK(PFS_PFD_SelectionTool!O326),\"\",PFS_PFD_SelectionTool!O326)","v":""}]
[{"$f":"IF(ISBLANK(PFS_PFD_SelectionTool!C302),\"\",PFS_PFD_SelectionTool!C302)","v":""},{"$f":"IF(ISBLANK(PFS_PFD_SelectionTool!D302),\"\",PFS_PFD_SelectionTool!D302)","v":""},{"$f":"IF(ISBLANK(PFS_PFD_SelectionTool!E302&\"_\"&PFS_PFD_SelectionTool!F302&\"_\"&PFS_PFD_SelectionTool!G302&\"_\"&PFS_PFD_SelectionTool!H302&\"_\"&PFS_PFD_SelectionTool!I302&\"_\"&PFS_PFD_SelectionTool!J302),\"\",PFS_PFD_SelectionTool!E302&\"_\"&PFS_PFD_SelectionTool!F302&\"_\"&PFS_PFD_SelectionTool!G302&\"_\"&PFS_PFD_SelectionTool!H302&\"_\"&PFS_PFD_SelectionTool!I302&\"_\"&PFS_PFD_SelectionTool!J302)","v":"_____"},{"$f":"IF(ISBLANK(PFS_PFD_SelectionTool!K302),\"\",PFS_PFD_SelectionTool!K302)","v":""},{"$f":"VLOOKUP(D286,Tabelle1!A:B,2,FALSE)","v":{"$error":"#N/A"}},{"$f":"IF(ISBLANK(PFS_PFD_SelectionTool!N327),\"\",PFS_PFD_SelectionTool!N327)","v":""},{"$f":"IF(ISBLANK(PFS_PFD_SelectionTool!O327),\"\",PFS_PFD_SelectionTool!O327)","v":""}]
[{"$f":"IF(ISBLANK(PFS_PFD_SelectionTool!C303),\"\",PFS_PFD_SelectionTool!C303)","v":""},{"$f":"IF(ISBLANK(PFS_PFD_SelectionTool!D303),\"\",PFS_PFD_SelectionTool!D303)","v":""},{"$f":"IF(ISBLANK(PFS_PFD_SelectionTool!E303&\"_\"&PFS_PFD_SelectionTool!F303&\"_\"&PFS_PFD_SelectionTool!G303&\"_\"&PFS_PFD_SelectionTool!H303&\"_\"&PFS_PFD_SelectionTool!I303&\"_\"&PFS_PFD_SelectionTool!J303),\"\",PFS_PFD_SelectionTool!E303&\"_\"&PFS_PFD_SelectionTool!F303&\"_\"&PFS_PFD_SelectionTool!G303&\"_\"&PFS_PFD_SelectionTool!H303&\"_\"&PFS_PFD_SelectionTool!I303&\"_\"&PFS_PFD_SelectionTool!J303)","v":"_____"},{"$f":"IF(ISBLANK(PFS_PFD_SelectionTool!K303),\"\",PFS_PFD_SelectionTool!K303)","v":""},{"$f":"VLOOKUP(D287,Tabelle1!A:B,2,FALSE)","v":{"$error":"#N/A"}},{"$f":"IF(ISBLANK(PFS_PFD_SelectionTool!N328),\"\",PFS_PFD_SelectionTool!N328)","v":""},{"$f":"IF(ISBLANK(PFS_PFD_SelectionTool!O328),\"\",PFS_PFD_SelectionTool!O328)","v":""}]
[{"$f":"IF(ISBLANK(PFS_PFD_SelectionTool!C304),\"\",PFS_PFD_SelectionTool!C304)","v":""},{"$f":"IF(ISBLANK(PFS_PFD_SelectionTool!D304),\"\",PFS_PFD_SelectionTool!D304)","v":""},{"$f":"IF(ISBLANK(PFS_PFD_SelectionTool!E304&\"_\"&PFS_PFD_SelectionTool!F304&\"_\"&PFS_PFD_SelectionTool!G304&\"_\"&PFS_PFD_SelectionTool!H304&\"_\"&PFS_PFD_SelectionTool!I304&\"_\"&PFS_PFD_SelectionTool!J304),\"\",PFS_PFD_SelectionTool!E304&\"_\"&PFS_PFD_SelectionTool!F304&\"_\"&PFS_PFD_SelectionTool!G304&\"_\"&PFS_PFD_SelectionTool!H304&\"_\"&PFS_PFD_SelectionTool!I304&\"_\"&PFS_PFD_SelectionTool!J304)","v":"_____"},{"$f":"IF(ISBLANK(PFS_PFD_SelectionTool!K304),\"\",PFS_PFD_SelectionTool!K304)","v":""},{"$f":"VLOOKUP(D288,Tabelle1!A:B,2,FALSE)","v":{"$error":"#N/A"}},{"$f":"IF(ISBLANK(PFS_PFD_SelectionTool!N329),\"\",PFS_PFD_SelectionTool!N329)","v":""},{"$f":"IF(ISBLANK(PFS_PFD_SelectionTool!O329),\"\",PFS_PFD_SelectionTool!O329)","v":""}]
[{"$f":"IF(ISBLANK(PFS_PFD_SelectionTool!C305),\"\",PFS_PFD_SelectionTool!C305)","v":""},{"$f":"IF(ISBLANK(PFS_PFD_SelectionTool!D305),\"\",PFS_PFD_SelectionTool!D305)","v":""},{"$f":"IF(ISBLANK(PFS_PFD_SelectionTool!E305&\"_\"&PFS_PFD_SelectionTool!F305&\"_\"&PFS_PFD_SelectionTool!G305&\"_\"&PFS_PFD_SelectionTool!H305&\"_\"&PFS_PFD_SelectionTool!I305&\"_\"&PFS_PFD_SelectionTool!J305),\"\",PFS_PFD_SelectionTool!E305&\"_\"&PFS_PFD_SelectionTool!F305&\"_\"&PFS_PFD_SelectionTool!G305&\"_\"&PFS_PFD_SelectionTool!H305&\"_\"&PFS_PFD_SelectionTool!I305&\"_\"&PFS_PFD_SelectionTool!J305)","v":"_____"},{"$f":"IF(ISBLANK(PFS_PFD_SelectionTool!K305),\"\",PFS_PFD_SelectionTool!K305)","v":""},{"$f":"VLOOKUP(D289,Tabelle1!A:B,2,FALSE)","v":{"$error":"#N/A"}},{"$f":"IF(ISBLANK(PFS_PFD_SelectionTool!N330),\"\",PFS_PFD_SelectionTool!N330)","v":""},{"$f":"IF(ISBLANK(PFS_PFD_SelectionTool!O330),\"\",PFS_PFD_SelectionTool!O330)","v":""}]
[{"$f":"IF(ISBLANK(PFS_PFD_SelectionTool!C306),\"\",PFS_PFD_SelectionTool!C306)","v":""},{"$f":"IF(ISBLANK(PFS_PFD_SelectionTool!D306),\"\",PFS_PFD_SelectionTool!D306)","v":""},{"$f":"IF(ISBLANK(PFS_PFD_SelectionTool!E306&\"_\"&PFS_PFD_SelectionTool!F306&\"_\"&PFS_PFD_SelectionTool!G306&\"_\"&PFS_PFD_SelectionTool!H306&\"_\"&PFS_PFD_SelectionTool!I306&\"_\"&PFS_PFD_SelectionTool!J306),\"\",PFS_PFD_SelectionTool!E306&\"_\"&PFS_PFD_SelectionTool!F306&\"_\"&PFS_PFD_SelectionTool!G306&\"_\"&PFS_PFD_SelectionTool!H306&\"_\"&PFS_PFD_SelectionTool!I306&\"_\"&PFS_PFD_SelectionTool!J306)","v":"_____"},{"$f":"IF(ISBLANK(PFS_PFD_SelectionTool!K306),\"\",PFS_PFD_SelectionTool!K306)","v":""},{"$f":"VLOOKUP(D290,Tabelle1!A:B,2,FALSE)","v":{"$error":"#N/A"}},{"$f":"IF(ISBLANK(PFS_PFD_SelectionTool!N331),\"\",PFS_PFD_SelectionTool!N331)","v":""},{"$f":"IF(ISBLANK(PFS_PFD_SelectionTool!O331),\"\",PFS_PFD_SelectionTool!O331)","v":""}]
[{"$f":"IF(ISBLANK(PFS_PFD_SelectionTool!C307),\"\",PFS_PFD_SelectionTool!C307)","v":""},{"$f":"IF(ISBLANK(PFS_PFD_SelectionTool!D307),\"\",PFS_PFD_SelectionTool!D307)","v":""},{"$f":"IF(ISBLANK(PFS_PFD_SelectionTool!E307&\"_\"&PFS_PFD_SelectionTool!F307&\"_\"&PFS_PFD_SelectionTool!G307&\"_\"&PFS_PFD_SelectionTool!H307&\"_\"&PFS_PFD_SelectionTool!I307&\"_\"&PFS_PFD_SelectionTool!J307),\"\",PFS_PFD_SelectionTool!E307&\"_\"&PFS_PFD_SelectionTool!F307&\"_\"&PFS_PFD_SelectionTool!G307&\"_\"&PFS_PFD_SelectionTool!H307&\"_\"&PFS_PFD_SelectionTool!I307&\"_\"&PFS_PFD_SelectionTool!J307)","v":"_____"},{"$f":"IF(ISBLANK(PFS_PFD_SelectionTool!K307),\"\",PFS_PFD_SelectionTool!K307)","v":""},{"$f":"VLOOKUP(D291,Tabelle1!A:B,2,FALSE)","v":{"$error":"#N/A"}},{"$f":"IF(ISBLANK(PFS_PFD_SelectionTool!N332),\"\",PFS_PFD_SelectionTool!N332)","v":""},{"$f":"IF(ISBLANK(PFS_PFD_SelectionTool!O332),\"\",PFS_PFD_SelectionTool!O332)","v":""}]
[{"$f":"IF(ISBLANK(PFS_PFD_SelectionTool!C308),\"\",PFS_PFD_SelectionTool!C308)","v":""},{"$f":"IF(ISBLANK(PFS_PFD_SelectionTool!D308),\"\",PFS_PFD_SelectionTool!D308)","v":""},{"$f":"IF(ISBLANK(PFS_PFD_SelectionTool!E308&\"_\"&PFS_PFD_SelectionTool!F308&\"_\"&PFS_PFD_SelectionTool!G308&\"_\"&PFS_PFD_SelectionTool!H308&\"_\"&PFS_PFD_SelectionTool!I308&\"_\"&PFS_PFD_SelectionTool!J308),\"\",PFS_PFD_SelectionTool!E308&\"_\"&PFS_PFD_SelectionTool!F308&\"_\"&PFS_PFD_SelectionTool!G308&\"_\"&PFS_PFD_SelectionTool!H308&\"_\"&PFS_PFD_SelectionTool!I308&\"_\"&PFS_PFD_SelectionTool!J308)","v":"_____"},{"$f":"IF(ISBLANK(PFS_PFD_SelectionTool!K308),\"\",PFS_PFD_SelectionTool!K308)","v":""},{"$f":"VLOOKUP(D292,Tabelle1!A:B,2,FALSE)","v":{"$error":"#N/A"}},{"$f":"IF(ISBLANK(PFS_PFD_SelectionTool!N333),\"\",PFS_PFD_SelectionTool!N333)","v":""},{"$f":"IF(ISBLANK(PFS_PFD_SelectionTool!O333),\"\",PFS_PFD_SelectionTool!O333)","v":""}]
[{"$f":"IF(ISBLANK(PFS_PFD_SelectionTool!C309),\"\",PFS_PFD_SelectionTool!C309)","v":""},{"$f":"IF(ISBLANK(PFS_PFD_SelectionTool!D309),\"\",PFS_PFD_SelectionTool!D309)","v":""},{"$f":"IF(ISBLANK(PFS_PFD_SelectionTool!E309&\"_\"&PFS_PFD_SelectionTool!F309&\"_\"&PFS_PFD_SelectionTool!G309&\"_\"&PFS_PFD_SelectionTool!H309&\"_\"&PFS_PFD_SelectionTool!I309&\"_\"&PFS_PFD_SelectionTool!J309),\"\",PFS_PFD_SelectionTool!E309&\"_\"&PFS_PFD_SelectionTool!F309&\"_\"&PFS_PFD_SelectionTool!G309&\"_\"&PFS_PFD_SelectionTool!H309&\"_\"&PFS_PFD_SelectionTool!I309&\"_\"&PFS_PFD_SelectionTool!J309)","v":"_____"},{"$f":"IF(ISBLANK(PFS_PFD_SelectionTool!K309),\"\",PFS_PFD_SelectionTool!K309)","v":""},{"$f":"VLOOKUP(D293,Tabelle1!A:B,2,FALSE)","v":{"$error":"#N/A"}},{"$f":"IF(ISBLANK(PFS_PFD_SelectionTool!N334),\"\",PFS_PFD_SelectionTool!N334)","v":""},{"$f":"IF(ISBLANK(PFS_PFD_SelectionTool!O334),\"\",PFS_PFD_SelectionTool!O334)","v":""}]
[{"$f":"IF(ISBLANK(PFS_PFD_SelectionTool!C310),\"\",PFS_PFD_SelectionTool!C310)","v":""},{"$f":"IF(ISBLANK(PFS_PFD_SelectionTool!D310),\"\",PFS_PFD_SelectionTool!D310)","v":""},{"$f":"IF(ISBLANK(PFS_PFD_SelectionTool!E310&\"_\"&PFS_PFD_SelectionTool!F310&\"_\"&PFS_PFD_SelectionTool!G310&\"_\"&PFS_PFD_SelectionTool!H310&\"_\"&PFS_PFD_SelectionTool!I310&\"_\"&PFS_PFD_SelectionTool!J310),\"\",PFS_PFD_SelectionTool!E310&\"_\"&PFS_PFD_SelectionTool!F310&\"_\"&PFS_PFD_SelectionTool!G310&\"_\"&PFS_PFD_SelectionTool!H310&\"_\"&PFS_PFD_SelectionTool!I310&\"_\"&PFS_PFD_SelectionTool!J310)","v":"_____"},{"$f":"IF(ISBLANK(PFS_PFD_SelectionTool!K310),\"\",PFS_PFD_SelectionTool!K310)","v":""},{"$f":"VLOOKUP(D294,Tabelle1!A:B,2,FALSE)","v":{"$error":"#N/A"}},{"$f":"IF(ISBLANK(PFS_PFD_SelectionTool!N335),\"\",PFS_PFD_SelectionTool!N335)","v":""},{"$f":"IF(ISBLANK(PFS_PFD_SelectionTool!O335),\"\",PFS_PFD_SelectionTool!O335)","v":""}]
[{"$f":"IF(ISBLANK(PFS_PFD_SelectionTool!C311),\"\",PFS_PFD_SelectionTool!C311)","v":""},{"$f":"IF(ISBLANK(PFS_PFD_SelectionTool!D311),\"\",PFS_PFD_SelectionTool!D311)","v":""},{"$f":"IF(ISBLANK(PFS_PFD_SelectionTool!E311&\"_\"&PFS_PFD_SelectionTool!F311&\"_\"&PFS_PFD_SelectionTool!G311&\"_\"&PFS_PFD_SelectionTool!H311&\"_\"&PFS_PFD_SelectionTool!I311&\"_\"&PFS_PFD_SelectionTool!J311),\"\",PFS_PFD_SelectionTool!E311&\"_\"&PFS_PFD_SelectionTool!F311&\"_\"&PFS_PFD_SelectionTool!G311&\"_\"&PFS_PFD_SelectionTool!H311&\"_\"&PFS_PFD_SelectionTool!I311&\"_\"&PFS_PFD_SelectionTool!J311)","v":"_____"},{"$f":"IF(ISBLANK(PFS_PFD_SelectionTool!K311),\"\",PFS_PFD_SelectionTool!K311)","v":""},{"$f":"VLOOKUP(D295,Tabelle1!A:B,2,FALSE)","v":{"$error":"#N/A"}},{"$f":"IF(ISBLANK(PFS_PFD_SelectionTool!N336),\"\",PFS_PFD_SelectionTool!N336)","v":""},{"$f":"IF(ISBLANK(PFS_PFD_SelectionTool!O336),\"\",PFS_PFD_SelectionTool!O336)","v":""}]
[{"$f":"IF(ISBLANK(PFS_PFD_SelectionTool!C312),\"\",PFS_PFD_SelectionTool!C312)","v":""},{"$f":"IF(ISBLANK(PFS_PFD_SelectionTool!D312),\"\",PFS_PFD_SelectionTool!D312)","v":""},{"$f":"IF(ISBLANK(PFS_PFD_SelectionTool!E312&\"_\"&PFS_PFD_SelectionTool!F312&\"_\"&PFS_PFD_SelectionTool!G312&\"_\"&PFS_PFD_SelectionTool!H312&\"_\"&PFS_PFD_SelectionTool!I312&\"_\"&PFS_PFD_SelectionTool!J312),\"\",PFS_PFD_SelectionTool!E312&\"_\"&PFS_PFD_SelectionTool!F312&\"_\"&PFS_PFD_SelectionTool!G312&\"_\"&PFS_PFD_SelectionTool!H312&\"_\"&PFS_PFD_SelectionTool!I312&\"_\"&PFS_PFD_SelectionTool!J312)","v":"_____"},{"$f":"IF(ISBLANK(PFS_PFD_SelectionTool!K312),\"\",PFS_PFD_SelectionTool!K312)","v":""},{"$f":"VLOOKUP(D296,Tabelle1!A:B,2,FALSE)","v":{"$error":"#N/A"}},{"$f":"IF(ISBLANK(PFS_PFD_SelectionTool!N337),\"\",PFS_PFD_SelectionTool!N337)","v":""},{"$f":"IF(ISBLANK(PFS_PFD_SelectionTool!O337),\"\",PFS_PFD_SelectionTool!O337)","v":""}]
[{"$f":"IF(ISBLANK(PFS_PFD_SelectionTool!C313),\"\",PFS_PFD_SelectionTool!C313)","v":""},{"$f":"IF(ISBLANK(PFS_PFD_SelectionTool!D313),\"\",PFS_PFD_SelectionTool!D313)","v":""},{"$f":"IF(ISBLANK(PFS_PFD_SelectionTool!E313&\"_\"&PFS_PFD_SelectionTool!F313&\"_\"&PFS_PFD_SelectionTool!G313&\"_\"&PFS_PFD_SelectionTool!H313&\"_\"&PFS_PFD_SelectionTool!I313&\"_\"&PFS_PFD_SelectionTool!J313),\"\",PFS_PFD_SelectionTool!E313&\"_\"&PFS_PFD_SelectionTool!F313&\"_\"&PFS_PFD_SelectionTool!G313&\"_\"&PFS_PFD_SelectionTool!H313&\"_\"&PFS_PFD_SelectionTool!I313&\"_\"&PFS_PFD_SelectionTool!J313)","v":"_____"},{"$f":"IF(ISBLANK(PFS_PFD_SelectionTool!K313),\"\",PFS_PFD_SelectionTool!K313)","v":""},{"$f":"VLOOKUP(D297,Tabelle1!A:B,2,FALSE)","v":{"$error":"#N/A"}},{"$f":"IF(ISBLANK(PFS_PFD_SelectionTool!N338),\"\",PFS_PFD_SelectionTool!N338)","v":""},{"$f":"IF(ISBLANK(PFS_PFD_SelectionTool!O338),\"\",PFS_PFD_SelectionTool!O338)","v":""}]
[{"$f":"IF(ISBLANK(PFS_PFD_SelectionTool!C314),\"\",PFS_PFD_SelectionTool!C314)","v":""},{"$f":"IF(ISBLANK(PFS_PFD_SelectionTool!D314),\"\",PFS_PFD_SelectionTool!D314)","v":""},{"$f":"IF(ISBLANK(PFS_PFD_SelectionTool!E314&\"_\"&PFS_PFD_SelectionTool!F314&\"_\"&PFS_PFD_SelectionTool!G314&\"_\"&PFS_PFD_SelectionTool!H314&\"_\"&PFS_PFD_SelectionTool!I314&\"_\"&PFS_PFD_SelectionTool!J314),\"\",PFS_PFD_SelectionTool!E314&\"_\"&PFS_PFD_SelectionTool!F314&\"_\"&PFS_PFD_SelectionTool!G314&\"_\"&PFS_PFD_SelectionTool!H314&\"_\"&PFS_PFD_SelectionTool!I314&\"_\"&PFS_PFD_SelectionTool!J314)","v":"_____"},{"$f":"IF(ISBLANK(PFS_PFD_SelectionTool!K314),\"\",PFS_PFD_SelectionTool!K314)","v":""},{"$f":"VLOOKUP(D298,Tabelle1!A:B,2,FALSE)","v":{"$error":"#N/A"}},{"$f":"IF(ISBLANK(PFS_PFD_SelectionTool!N339),\"\",PFS_PFD_SelectionTool!N339)","v":""},{"$f":"IF(ISBLANK(PFS_PFD_SelectionTool!O339),\"\",PFS_PFD_SelectionTool!O339)","v":""}]
[{"$f":"IF(ISBLANK(PFS_PFD_SelectionTool!C315),\"\",PFS_PFD_SelectionTool!C315)","v":""},{"$f":"IF(ISBLANK(PFS_PFD_SelectionTool!D315),\"\",PFS_PFD_SelectionTool!D315)","v":""},{"$f":"IF(ISBLANK(PFS_PFD_SelectionTool!E315&\"_\"&PFS_PFD_SelectionTool!F315&\"_\"&PFS_PFD_SelectionTool!G315&\"_\"&PFS_PFD_SelectionTool!H315&\"_\"&PFS_PFD_SelectionTool!I315&\"_\"&PFS_PFD_SelectionTool!J315),\"\",PFS_PFD_SelectionTool!E315&\"_\"&PFS_PFD_SelectionTool!F315&\"_\"&PFS_PFD_SelectionTool!G315&\"_\"&PFS_PFD_SelectionTool!H315&\"_\"&PFS_PFD_SelectionTool!I315&\"_\"&PFS_PFD_SelectionTool!J315)","v":"_____"},{"$f":"IF(ISBLANK(PFS_PFD_SelectionTool!K315),\"\",PFS_PFD_SelectionTool!K315)","v":""},{"$f":"VLOOKUP(D299,Tabelle1!A:B,2,FALSE)","v":{"$error":"#N/A"}},{"$f":"IF(ISBLANK(PFS_PFD_SelectionTool!N340),\"\",PFS_PFD_SelectionTool!N340)","v":""},{"$f":"IF(ISBLANK(PFS_PFD_SelectionTool!O340),\"\",PFS_PFD_SelectionTool!O340)","v":""}]
[{"$f":"IF(ISBLANK(PFS_PFD_SelectionTool!C316),\"\",PFS_PFD_SelectionTool!C316)","v":""},{"$f":"IF(ISBLANK(PFS_PFD_SelectionTool!D316),\"\",PFS_PFD_SelectionTool!D316)","v":""},{"$f":"IF(ISBLANK(PFS_PFD_SelectionTool!E316&\"_\"&PFS_PFD_SelectionTool!F316&\"_\"&PFS_PFD_SelectionTool!G316&\"_\"&PFS_PFD_SelectionTool!H316&\"_\"&PFS_PFD_SelectionTool!I316&\"_\"&PFS_PFD_SelectionTool!J316),\"\",PFS_PFD_SelectionTool!E316&\"_\"&PFS_PFD_SelectionTool!F316&\"_\"&PFS_PFD_SelectionTool!G316&\"_\"&PFS_PFD_SelectionTool!H316&\"_\"&PFS_PFD_SelectionTool!I316&\"_\"&PFS_PFD_SelectionTool!J316)","v":"_____"},{"$f":"IF(ISBLANK(PFS_PFD_SelectionTool!K316),\"\",PFS_PFD_SelectionTool!K316)","v":""},{"$f":"VLOOKUP(D300,Tabelle1!A:B,2,FALSE)","v":{"$error":"#N/A"}},{"$f":"IF(ISBLANK(PFS_PFD_SelectionTool!N341),\"\",PFS_PFD_SelectionTool!N341)","v":""},{"$f":"IF(ISBLANK(PFS_PFD_SelectionTool!O341),\"\",PFS_PFD_SelectionTool!O341)","v":""}]
[{"$f":"IF(ISBLANK(PFS_PFD_SelectionTool!C317),\"\",PFS_PFD_SelectionTool!C317)","v":""},{"$f":"IF(ISBLANK(PFS_PFD_SelectionTool!D317),\"\",PFS_PFD_SelectionTool!D317)","v":""},{"$f":"IF(ISBLANK(PFS_PFD_SelectionTool!E317&\"_\"&PFS_PFD_SelectionTool!F317&\"_\"&PFS_PFD_SelectionTool!G317&\"_\"&PFS_PFD_SelectionTool!H317&\"_\"&PFS_PFD_SelectionTool!I317&\"_\"&PFS_PFD_SelectionTool!J317),\"\",PFS_PFD_SelectionTool!E317&\"_\"&PFS_PFD_SelectionTool!F317&\"_\"&PFS_PFD_SelectionTool!G317&\"_\"&PFS_PFD_SelectionTool!H317&\"_\"&PFS_PFD_SelectionTool!I317&\"_\"&PFS_PFD_SelectionTool!J317)","v":"_____"},{"$f":"IF(ISBLANK(PFS_PFD_SelectionTool!K317),\"\",PFS_PFD_SelectionTool!K317)","v":""},{"$f":"VLOOKUP(D301,Tabelle1!A:B,2,FALSE)","v":{"$error":"#N/A"}},{"$f":"IF(ISBLANK(PFS_PFD_SelectionTool!N342),\"\",PFS_PFD_SelectionTool!N342)","v":""},{"$f":"IF(ISBLANK(PFS_PFD_SelectionTool!O342),\"\",PFS_PFD_SelectionTool!O342)","v":""}]
[{"$f":"IF(ISBLANK(PFS_PFD_SelectionTool!C318),\"\",PFS_PFD_SelectionTool!C318)","v":""},{"$f":"IF(ISBLANK(PFS_PFD_SelectionTool!D318),\"\",PFS_PFD_SelectionTool!D318)","v":""},{"$f":"IF(ISBLANK(PFS_PFD_SelectionTool!E318&\"_\"&PFS_PFD_SelectionTool!F318&\"_\"&PFS_PFD_SelectionTool!G318&\"_\"&PFS_PFD_SelectionTool!H318&\"_\"&PFS_PFD_SelectionTool!I318&\"_\"&PFS_PFD_SelectionTool!J318),\"\",PFS_PFD_SelectionTool!E318&\"_\"&PFS_PFD_SelectionTool!F318&\"_\"&PFS_PFD_SelectionTool!G318&\"_\"&PFS_PFD_SelectionTool!H318&\"_\"&PFS_PFD_SelectionTool!I318&\"_\"&PFS_PFD_SelectionTool!J318)","v":"_____"},{"$f":"IF(ISBLANK(PFS_PFD_SelectionTool!K318),\"\",PFS_PFD_SelectionTool!K318)","v":""},{"$f":"VLOOKUP(D302,Tabelle1!A:B,2,FALSE)","v":{"$error":"#N/A"}},{"$f":"IF(ISBLANK(PFS_PFD_SelectionTool!N343),\"\",PFS_PFD_SelectionTool!N343)","v":""},{"$f":"IF(ISBLANK(PFS_PFD_SelectionTool!O343),\"\",PFS_PFD_SelectionTool!O343)","v":""}]
[{"$f":"IF(ISBLANK(PFS_PFD_SelectionTool!C319),\"\",PFS_PFD_SelectionTool!C319)","v":""},{"$f":"IF(ISBLANK(PFS_PFD_SelectionTool!D319),\"\",PFS_PFD_SelectionTool!D319)","v":""},{"$f":"IF(ISBLANK(PFS_PFD_SelectionTool!E319&\"_\"&PFS_PFD_SelectionTool!F319&\"_\"&PFS_PFD_SelectionTool!G319&\"_\"&PFS_PFD_SelectionTool!H319&\"_\"&PFS_PFD_SelectionTool!I319&\"_\"&PFS_PFD_SelectionTool!J319),\"\",PFS_PFD_SelectionTool!E319&\"_\"&PFS_PFD_SelectionTool!F319&\"_\"&PFS_PFD_SelectionTool!G319&\"_\"&PFS_PFD_SelectionTool!H319&\"_\"&PFS_PFD_SelectionTool!I319&\"_\"&PFS_PFD_SelectionTool!J319)","v":"_____"},{"$f":"IF(ISBLANK(PFS_PFD_SelectionTool!K319),\"\",PFS_PFD_SelectionTool!K319)","v":""},{"$f":"VLOOKUP(D303,Tabelle1!A:B,2,FALSE)","v":{"$error":"#N/A"}},{"$f":"IF(ISBLANK(PFS_PFD_SelectionTool!N344),\"\",PFS_PFD_SelectionTool!N344)","v":""},{"$f":"IF(ISBLANK(PFS_PFD_SelectionTool!O344),\"\",PFS_PFD_SelectionTool!O344)","v":""}]
[{"$f":"IF(ISBLANK(PFS_PFD_SelectionTool!C320),\"\",PFS_PFD_SelectionTool!C320)","v":""},{"$f":"IF(ISBLANK(PFS_PFD_SelectionTool!D320),\"\",PFS_PFD_SelectionTool!D320)","v":""},{"$f":"IF(ISBLANK(PFS_PFD_SelectionTool!E320&\"_\"&PFS_PFD_SelectionTool!F320&\"_\"&PFS_PFD_SelectionTool!G320&\"_\"&PFS_PFD_SelectionTool!H320&\"_\"&PFS_PFD_SelectionTool!I320&\"_\"&PFS_PFD_SelectionTool!J320),\"\",PFS_PFD_SelectionTool!E320&\"_\"&PFS_PFD_SelectionTool!F320&\"_\"&PFS_PFD_SelectionTool!G320&\"_\"&PFS_PFD_SelectionTool!H320&\"_\"&PFS_PFD_SelectionTool!I320&\"_\"&PFS_PFD_SelectionTool!J320)","v":"_____"},{"$f":"IF(ISBLANK(PFS_PFD_SelectionTool!K320),\"\",PFS_PFD_SelectionTool!K320)","v":""},{"$f":"VLOOKUP(D304,Tabelle1!A:B,2,FALSE)","v":{"$error":"#N/A"}},{"$f":"IF(ISBLANK(PFS_PFD_SelectionTool!N345),\"\",PFS_PFD_SelectionTool!N345)","v":""},{"$f":"IF(ISBLANK(PFS_PFD_SelectionTool!O345),\"\",PFS_PFD_SelectionTool!O345)","v":""}]
[{"$f":"IF(ISBLANK(PFS_PFD_SelectionTool!C321),\"\",PFS_PFD_SelectionTool!C321)","v":""},{"$f":"IF(ISBLANK(PFS_PFD_SelectionTool!D321),\"\",PFS_PFD_SelectionTool!D321)","v":""},{"$f":"IF(ISBLANK(PFS_PFD_SelectionTool!E321&\"_\"&PFS_PFD_SelectionTool!F321&\"_\"&PFS_PFD_SelectionTool!G321&\"_\"&PFS_PFD_SelectionTool!H321&\"_\"&PFS_PFD_SelectionTool!I321&\"_\"&PFS_PFD_SelectionTool!J321),\"\",PFS_PFD_SelectionTool!E321&\"_\"&PFS_PFD_SelectionTool!F321&\"_\"&PFS_PFD_SelectionTool!G321&\"_\"&PFS_PFD_SelectionTool!H321&\"_\"&PFS_PFD_SelectionTool!I321&\"_\"&PFS_PFD_SelectionTool!J321)","v":"_____"},{"$f":"IF(ISBLANK(PFS_PFD_SelectionTool!K321),\"\",PFS_PFD_SelectionTool!K321)","v":""},{"$f":"VLOOKUP(D305,Tabelle1!A:B,2,FALSE)","v":{"$error":"#N/A"}},{"$f":"IF(ISBLANK(PFS_PFD_SelectionTool!N346),\"\",PFS_PFD_SelectionTool!N346)","v":""},{"$f":"IF(ISBLANK(PFS_PFD_SelectionTool!O346),\"\",PFS_PFD_SelectionTool!O346)","v":""}]
[{"$f":"IF(ISBLANK(PFS_PFD_SelectionTool!C322),\"\",PFS_PFD_SelectionTool!C322)","v":""},{"$f":"IF(ISBLANK(PFS_PFD_SelectionTool!D322),\"\",PFS_PFD_SelectionTool!D322)","v":""},{"$f":"IF(ISBLANK(PFS_PFD_SelectionTool!E322&\"_\"&PFS_PFD_SelectionTool!F322&\"_\"&PFS_PFD_SelectionTool!G322&\"_\"&PFS_PFD_SelectionTool!H322&\"_\"&PFS_PFD_SelectionTool!I322&\"_\"&PFS_PFD_SelectionTool!J322),\"\",PFS_PFD_SelectionTool!E322&\"_\"&PFS_PFD_SelectionTool!F322&\"_\"&PFS_PFD_SelectionTool!G322&\"_\"&PFS_PFD_SelectionTool!H322&\"_\"&PFS_PFD_SelectionTool!I322&\"_\"&PFS_PFD_SelectionTool!J322)","v":"_____"},{"$f":"IF(ISBLANK(PFS_PFD_SelectionTool!K322),\"\",PFS_PFD_SelectionTool!K322)","v":""},{"$f":"VLOOKUP(D306,Tabelle1!A:B,2,FALSE)","v":{"$error":"#N/A"}},{"$f":"IF(ISBLANK(PFS_PFD_SelectionTool!N347),\"\",PFS_PFD_SelectionTool!N347)","v":""},{"$f":"IF(ISBLANK(PFS_PFD_SelectionTool!O347),\"\",PFS_PFD_SelectionTool!O347)","v":""}]
[{"$f":"IF(ISBLANK(PFS_PFD_SelectionTool!C323),\"\",PFS_PFD_SelectionTool!C323)","v":""},{"$f":"IF(ISBLANK(PFS_PFD_SelectionTool!D323),\"\",PFS_PFD_SelectionTool!D323)","v":""},{"$f":"IF(ISBLANK(PFS_PFD_SelectionTool!E323&\"_\"&PFS_PFD_SelectionTool!F323&\"_\"&PFS_PFD_SelectionTool!G323&\"_\"&PFS_PFD_SelectionTool!H323&\"_\"&PFS_PFD_SelectionTool!I323&\"_\"&PFS_PFD_SelectionTool!J323),\"\",PFS_PFD_SelectionTool!E323&\"_\"&PFS_PFD_SelectionTool!F323&\"_\"&PFS_PFD_SelectionTool!G323&\"_\"&PFS_PFD_SelectionTool!H323&\"_\"&PFS_PFD_SelectionTool!I323&\"_\"&PFS_PFD_SelectionTool!J323)","v":"_____"},{"$f":"IF(ISBLANK(PFS_PFD_SelectionTool!K323),\"\",PFS_PFD_SelectionTool!K323)","v":""},{"$f":"VLOOKUP(D307,Tabelle1!A:B,2,FALSE)","v":{"$error":"#N/A"}},{"$f":"IF(ISBLANK(PFS_PFD_SelectionTool!N348),\"\",PFS_PFD_SelectionTool!N348)","v":""},{"$f":"IF(ISBLANK(PFS_PFD_SelectionTool!O348),\"\",PFS_PFD_SelectionTool!O348)","v":""}]
[{"$f":"IF(ISBLANK(PFS_PFD_SelectionTool!C324),\"\",PFS_PFD_SelectionTool!C324)","v":""},{"$f":"IF(ISBLANK(PFS_PFD_SelectionTool!D324),\"\",PFS_PFD_SelectionTool!D324)","v":""},{"$f":"IF(ISBLANK(PFS_PFD_SelectionTool!E324&\"_\"&PFS_PFD_SelectionTool!F324&\"_\"&PFS_PFD_SelectionTool!G324&\"_\"&PFS_PFD_SelectionTool!H324&\"_\"&PFS_PFD_SelectionTool!I324&\"_\"&PFS_PFD_SelectionTool!J324),\"\",PFS_PFD_SelectionTool!E324&\"_\"&PFS_PFD_SelectionTool!F324&\"_\"&PFS_PFD_SelectionTool!G324&\"_\"&PFS_PFD_SelectionTool!H324&\"_\"&PFS_PFD_SelectionTool!I324&\"_\"&PFS_PFD_SelectionTool!J324)","v":"_____"},{"$f":"IF(ISBLANK(PFS_PFD_SelectionTool!K324),\"\",PFS_PFD_SelectionTool!K324)","v":""},{"$f":"VLOOKUP(D308,Tabelle1!A:B,2,FALSE)","v":{"$error":"#N/A"}},{"$f":"IF(ISBLANK(PFS_PFD_SelectionTool!N349),\"\",PFS_PFD_SelectionTool!N349)","v":""},{"$f":"IF(ISBLANK(PFS_PFD_SelectionTool!O349),\"\",PFS_PFD_SelectionTool!O349)","v":""}]
[{"$f":"IF(ISBLANK(PFS_PFD_SelectionTool!C325),\"\",PFS_PFD_SelectionTool!C325)","v":""},{"$f":"IF(ISBLANK(PFS_PFD_SelectionTool!D325),\"\",PFS_PFD_SelectionTool!D325)","v":""},{"$f":"IF(ISBLANK(PFS_PFD_SelectionTool!E325&\"_\"&PFS_PFD_SelectionTool!F325&\"_\"&PFS_PFD_SelectionTool!G325&\"_\"&PFS_PFD_SelectionTool!H325&\"_\"&PFS_PFD_SelectionTool!I325&\"_\"&PFS_PFD_SelectionTool!J325),\"\",PFS_PFD_SelectionTool!E325&\"_\"&PFS_PFD_SelectionTool!F325&\"_\"&PFS_PFD_SelectionTool!G325&\"_\"&PFS_PFD_SelectionTool!H325&\"_\"&PFS_PFD_SelectionTool!I325&\"_\"&PFS_PFD_SelectionTool!J325)","v":"_____"},{"$f":"IF(ISBLANK(PFS_PFD_SelectionTool!K325),\"\",PFS_PFD_SelectionTool!K325)","v":""},{"$f":"VLOOKUP(D309,Tabelle1!A:B,2,FALSE)","v":{"$error":"#N/A"}},{"$f":"IF(ISBLANK(PFS_PFD_SelectionTool!N350),\"\",PFS_PFD_SelectionTool!N350)","v":""},{"$f":"IF(ISBLANK(PFS_PFD_SelectionTool!O350),\"\",PFS_PFD_SelectionTool!O350)","v":""}]
[{"$f":"IF(ISBLANK(PFS_PFD_SelectionTool!C326),\"\",PFS_PFD_SelectionTool!C326)","v":""},{"$f":"IF(ISBLANK(PFS_PFD_SelectionTool!D326),\"\",PFS_PFD_SelectionTool!D326)","v":""},{"$f":"IF(ISBLANK(PFS_PFD_SelectionTool!E326&\"_\"&PFS_PFD_SelectionTool!F326&\"_\"&PFS_PFD_SelectionTool!G326&\"_\"&PFS_PFD_SelectionTool!H326&\"_\"&PFS_PFD_SelectionTool!I326&\"_\"&PFS_PFD_SelectionTool!J326),\"\",PFS_PFD_SelectionTool!E326&\"_\"&PFS_PFD_SelectionTool!F326&\"_\"&PFS_PFD_SelectionTool!G326&\"_\"&PFS_PFD_SelectionTool!H326&\"_\"&PFS_PFD_SelectionTool!I326&\"_\"&PFS_PFD_SelectionTool!J326)","v":"_____"},{"$f":"IF(ISBLANK(PFS_PFD_SelectionTool!K326),\"\",PFS_PFD_SelectionTool!K326)","v":""},{"$f":"VLOOKUP(D310,Tabelle1!A:B,2,FALSE)","v":{"$error":"#N/A"}},{"$f":"IF(ISBLANK(PFS_PFD_SelectionTool!N351),\"\",PFS_PFD_SelectionTool!N351)","v":""},{"$f":"IF(ISBLANK(PFS_PFD_SelectionTool!O351),\"\",PFS_PFD_SelectionTool!O351)","v":""}]
[{"$f":"IF(ISBLANK(PFS_PFD_SelectionTool!C327),\"\",PFS_PFD_SelectionTool!C327)","v":""},{"$f":"IF(ISBLANK(PFS_PFD_SelectionTool!D327),\"\",PFS_PFD_SelectionTool!D327)","v":""},{"$f":"IF(ISBLANK(PFS_PFD_SelectionTool!E327&\"_\"&PFS_PFD_SelectionTool!F327&\"_\"&PFS_PFD_SelectionTool!G327&\"_\"&PFS_PFD_SelectionTool!H327&\"_\"&PFS_PFD_SelectionTool!I327&\"_\"&PFS_PFD_SelectionTool!J327),\"\",PFS_PFD_SelectionTool!E327&\"_\"&PFS_PFD_SelectionTool!F327&\"_\"&PFS_PFD_SelectionTool!G327&\"_\"&PFS_PFD_SelectionTool!H327&\"_\"&PFS_PFD_SelectionTool!I327&\"_\"&PFS_PFD_SelectionTool!J327)","v":"_____"},{"$f":"IF(ISBLANK(PFS_PFD_SelectionTool!K327),\"\",PFS_PFD_SelectionTool!K327)","v":""},{"$f":"VLOOKUP(D311,Tabelle1!A:B,2,FALSE)","v":{"$error":"#N/A"}},{"$f":"IF(ISBLANK(PFS_PFD_SelectionTool!N352),\"\",PFS_PFD_SelectionTool!N352)","v":""},{"$f":"IF(ISBLANK(PFS_PFD_SelectionTool!O352),\"\",PFS_PFD_SelectionTool!O352)","v":""}]
[{"$f":"IF(ISBLANK(PFS_PFD_SelectionTool!C328),\"\",PFS_PFD_SelectionTool!C328)","v":""},{"$f":"IF(ISBLANK(PFS_PFD_SelectionTool!D328),\"\",PFS_PFD_SelectionTool!D328)","v":""},{"$f":"IF(ISBLANK(PFS_PFD_SelectionTool!E328&\"_\"&PFS_PFD_SelectionTool!F328&\"_\"&PFS_PFD_SelectionTool!G328&\"_\"&PFS_PFD_SelectionTool!H328&\"_\"&PFS_PFD_SelectionTool!I328&\"_\"&PFS_PFD_SelectionTool!J328),\"\",PFS_PFD_SelectionTool!E328&\"_\"&PFS_PFD_SelectionTool!F328&\"_\"&PFS_PFD_SelectionTool!G328&\"_\"&PFS_PFD_SelectionTool!H328&\"_\"&PFS_PFD_SelectionTool!I328&\"_\"&PFS_PFD_SelectionTool!J328)","v":"_____"},{"$f":"IF(ISBLANK(PFS_PFD_SelectionTool!K328),\"\",PFS_PFD_SelectionTool!K328)","v":""},{"$f":"VLOOKUP(D312,Tabelle1!A:B,2,FALSE)","v":{"$error":"#N/A"}},{"$f":"IF(ISBLANK(PFS_PFD_SelectionTool!N353),\"\",PFS_PFD_SelectionTool!N353)","v":""},{"$f":"IF(ISBLANK(PFS_PFD_SelectionTool!O353),\"\",PFS_PFD_SelectionTool!O353)","v":""}]
[{"$f":"IF(ISBLANK(PFS_PFD_SelectionTool!C329),\"\",PFS_PFD_SelectionTool!C329)","v":""},{"$f":"IF(ISBLANK(PFS_PFD_SelectionTool!D329),\"\",PFS_PFD_SelectionTool!D329)","v":""},{"$f":"IF(ISBLANK(PFS_PFD_SelectionTool!E329&\"_\"&PFS_PFD_SelectionTool!F329&\"_\"&PFS_PFD_SelectionTool!G329&\"_\"&PFS_PFD_SelectionTool!H329&\"_\"&PFS_PFD_SelectionTool!I329&\"_\"&PFS_PFD_SelectionTool!J329),\"\",PFS_PFD_SelectionTool!E329&\"_\"&PFS_PFD_SelectionTool!F329&\"_\"&PFS_PFD_SelectionTool!G329&\"_\"&PFS_PFD_SelectionTool!H329&\"_\"&PFS_PFD_SelectionTool!I329&\"_\"&PFS_PFD_SelectionTool!J329)","v":"_____"},{"$f":"IF(ISBLANK(PFS_PFD_SelectionTool!K329),\"\",PFS_PFD_SelectionTool!K329)","v":""},{"$f":"VLOOKUP(D313,Tabelle1!A:B,2,FALSE)","v":{"$error":"#N/A"}},{"$f":"IF(ISBLANK(PFS_PFD_SelectionTool!N354),\"\",PFS_PFD_SelectionTool!N354)","v":""},{"$f":"IF(ISBLANK(PFS_PFD_SelectionTool!O354),\"\",PFS_PFD_SelectionTool!O354)","v":""}]
[{"$f":"IF(ISBLANK(PFS_PFD_SelectionTool!C330),\"\",PFS_PFD_SelectionTool!C330)","v":""},{"$f":"IF(ISBLANK(PFS_PFD_SelectionTool!D330),\"\",PFS_PFD_SelectionTool!D330)","v":""},{"$f":"IF(ISBLANK(PFS_PFD_SelectionTool!E330&\"_\"&PFS_PFD_SelectionTool!F330&\"_\"&PFS_PFD_SelectionTool!G330&\"_\"&PFS_PFD_SelectionTool!H330&\"_\"&PFS_PFD_SelectionTool!I330&\"_\"&PFS_PFD_SelectionTool!J330),\"\",PFS_PFD_SelectionTool!E330&\"_\"&PFS_PFD_SelectionTool!F330&\"_\"&PFS_PFD_SelectionTool!G330&\"_\"&PFS_PFD_SelectionTool!H330&\"_\"&PFS_PFD_SelectionTool!I330&\"_\"&PFS_PFD_SelectionTool!J330)","v":"_____"},{"$f":"IF(ISBLANK(PFS_PFD_SelectionTool!K330),\"\",PFS_PFD_SelectionTool!K330)","v":""},{"$f":"VLOOKUP(D314,Tabelle1!A:B,2,FALSE)","v":{"$error":"#N/A"}},{"$f":"IF(ISBLANK(PFS_PFD_SelectionTool!N355),\"\",PFS_PFD_SelectionTool!N355)","v":""},{"$f":"IF(ISBLANK(PFS_PFD_SelectionTool!O355),\"\",PFS_PFD_SelectionTool!O355)","v":""}]
[{"$f":"IF(ISBLANK(PFS_PFD_SelectionTool!C331),\"\",PFS_PFD_SelectionTool!C331)","v":""},{"$f":"IF(ISBLANK(PFS_PFD_SelectionTool!D331),\"\",PFS_PFD_SelectionTool!D331)","v":""},{"$f":"IF(ISBLANK(PFS_PFD_SelectionTool!E331&\"_\"&PFS_PFD_SelectionTool!F331&\"_\"&PFS_PFD_SelectionTool!G331&\"_\"&PFS_PFD_SelectionTool!H331&\"_\"&PFS_PFD_SelectionTool!I331&\"_\"&PFS_PFD_SelectionTool!J331),\"\",PFS_PFD_SelectionTool!E331&\"_\"&PFS_PFD_SelectionTool!F331&\"_\"&PFS_PFD_SelectionTool!G331&\"_\"&PFS_PFD_SelectionTool!H331&\"_\"&PFS_PFD_SelectionTool!I331&\"_\"&PFS_PFD_SelectionTool!J331)","v":"_____"},{"$f":"IF(ISBLANK(PFS_PFD_SelectionTool!K331),\"\",PFS_PFD_SelectionTool!K331)","v":""},{"$f":"VLOOKUP(D315,Tabelle1!A:B,2,FALSE)","v":{"$error":"#N/A"}},{"$f":"IF(ISBLANK(PFS_PFD_SelectionTool!N356),\"\",PFS_PFD_SelectionTool!N356)","v":""},{"$f":"IF(ISBLANK(PFS_PFD_SelectionTool!O356),\"\",PFS_PFD_SelectionTool!O356)","v":""}]
[{"$f":"IF(ISBLANK(PFS_PFD_SelectionTool!C332),\"\",PFS_PFD_SelectionTool!C332)","v":""},{"$f":"IF(ISBLANK(PFS_PFD_SelectionTool!D332),\"\",PFS_PFD_SelectionTool!D332)","v":""},{"$f":"IF(ISBLANK(PFS_PFD_SelectionTool!E332&\"_\"&PFS_PFD_SelectionTool!F332&\"_\"&PFS_PFD_SelectionTool!G332&\"_\"&PFS_PFD_SelectionTool!H332&\"_\"&PFS_PFD_SelectionTool!I332&\"_\"&PFS_PFD_SelectionTool!J332),\"\",PFS_PFD_SelectionTool!E332&\"_\"&PFS_PFD_SelectionTool!F332&\"_\"&PFS_PFD_SelectionTool!G332&\"_\"&PFS_PFD_SelectionTool!H332&\"_\"&PFS_PFD_SelectionTool!I332&\"_\"&PFS_PFD_SelectionTool!J332)","v":"_____"},{"$f":"IF(ISBLANK(PFS_PFD_SelectionTool!K332),\"\",PFS_PFD_SelectionTool!K332)","v":""},{"$f":"VLOOKUP(D316,Tabelle1!A:B,2,FALSE)","v":{"$error":"#N/A"}},{"$f":"IF(ISBLANK(PFS_PFD_SelectionTool!N357),\"\",PFS_PFD_SelectionTool!N357)","v":""},{"$f":"IF(ISBLANK(PFS_PFD_SelectionTool!O357),\"\",PFS_PFD_SelectionTool!O357)","v":""}]
[{"$f":"IF(ISBLANK(PFS_PFD_SelectionTool!C333),\"\",PFS_PFD_SelectionTool!C333)","v":""},{"$f":"IF(ISBLANK(PFS_PFD_SelectionTool!D333),\"\",PFS_PFD_SelectionTool!D333)","v":""},{"$f":"IF(ISBLANK(PFS_PFD_SelectionTool!E333&\"_\"&PFS_PFD_SelectionTool!F333&\"_\"&PFS_PFD_SelectionTool!G333&\"_\"&PFS_PFD_SelectionTool!H333&\"_\"&PFS_PFD_SelectionTool!I333&\"_\"&PFS_PFD_SelectionTool!J333),\"\",PFS_PFD_SelectionTool!E333&\"_\"&PFS_PFD_SelectionTool!F333&\"_\"&PFS_PFD_SelectionTool!G333&\"_\"&PFS_PFD_SelectionTool!H333&\"_\"&PFS_PFD_SelectionTool!I333&\"_\"&PFS_PFD_SelectionTool!J333)","v":"_____"},{"$f":"IF(ISBLANK(PFS_PFD_SelectionTool!K333),\"\",PFS_PFD_SelectionTool!K333)","v":""},{"$f":"VLOOKUP(D317,Tabelle1!A:B,2,FALSE)","v":{"$error":"#N/A"}},{"$f":"IF(ISBLANK(PFS_PFD_SelectionTool!N358),\"\",PFS_PFD_SelectionTool!N358)","v":""},{"$f":"IF(ISBLANK(PFS_PFD_SelectionTool!O358),\"\",PFS_PFD_SelectionTool!O358)","v":""}]
[{"$f":"IF(ISBLANK(PFS_PFD_SelectionTool!C334),\"\",PFS_PFD_SelectionTool!C334)","v":""},{"$f":"IF(ISBLANK(PFS_PFD_SelectionTool!D334),\"\",PFS_PFD_SelectionTool!D334)","v":""},{"$f":"IF(ISBLANK(PFS_PFD_SelectionTool!E334&\"_\"&PFS_PFD_SelectionTool!F334&\"_\"&PFS_PFD_SelectionTool!G334&\"_\"&PFS_PFD_SelectionTool!H334&\"_\"&PFS_PFD_SelectionTool!I334&\"_\"&PFS_PFD_SelectionTool!J334),\"\",PFS_PFD_SelectionTool!E334&\"_\"&PFS_PFD_SelectionTool!F334&\"_\"&PFS_PFD_SelectionTool!G334&\"_\"&PFS_PFD_SelectionTool!H334&\"_\"&PFS_PFD_SelectionTool!I334&\"_\"&PFS_PFD_SelectionTool!J334)","v":"_____"},{"$f":"IF(ISBLANK(PFS_PFD_SelectionTool!K334),\"\",PFS_PFD_SelectionTool!K334)","v":""},{"$f":"VLOOKUP(D318,Tabelle1!A:B,2,FALSE)","v":{"$error":"#N/A"}},{"$f":"IF(ISBLANK(PFS_PFD_SelectionTool!N359),\"\",PFS_PFD_SelectionTool!N359)","v":""},{"$f":"IF(ISBLANK(PFS_PFD_SelectionTool!O359),\"\",PFS_PFD_SelectionTool!O359)","v":""}]
[{"$f":"IF(ISBLANK(PFS_PFD_SelectionTool!C335),\"\",PFS_PFD_SelectionTool!C335)","v":""},{"$f":"IF(ISBLANK(PFS_PFD_SelectionTool!D335),\"\",PFS_PFD_SelectionTool!D335)","v":""},{"$f":"IF(ISBLANK(PFS_PFD_SelectionTool!E335&\"_\"&PFS_PFD_SelectionTool!F335&\"_\"&PFS_PFD_SelectionTool!G335&\"_\"&PFS_PFD_SelectionTool!H335&\"_\"&PFS_PFD_SelectionTool!I335&\"_\"&PFS_PFD_SelectionTool!J335),\"\",PFS_PFD_SelectionTool!E335&\"_\"&PFS_PFD_SelectionTool!F335&\"_\"&PFS_PFD_SelectionTool!G335&\"_\"&PFS_PFD_SelectionTool!H335&\"_\"&PFS_PFD_SelectionTool!I335&\"_\"&PFS_PFD_SelectionTool!J335)","v":"_____"},{"$f":"IF(ISBLANK(PFS_PFD_SelectionTool!K335),\"\",PFS_PFD_SelectionTool!K335)","v":""},{"$f":"VLOOKUP(D319,Tabelle1!A:B,2,FALSE)","v":{"$error":"#N/A"}},{"$f":"IF(ISBLANK(PFS_PFD_SelectionTool!N360),\"\",PFS_PFD_SelectionTool!N360)","v":""},{"$f":"IF(ISBLANK(PFS_PFD_SelectionTool!O360),\"\",PFS_PFD_SelectionTool!O360)","v":""}]
[{"$f":"IF(ISBLANK(PFS_PFD_SelectionTool!C336),\"\",PFS_PFD_SelectionTool!C336)","v":""},{"$f":"IF(ISBLANK(PFS_PFD_SelectionTool!D336),\"\",PFS_PFD_SelectionTool!D336)","v":""},{"$f":"IF(ISBLANK(PFS_PFD_SelectionTool!E336&\"_\"&PFS_PFD_SelectionTool!F336&\"_\"&PFS_PFD_SelectionTool!G336&\"_\"&PFS_PFD_SelectionTool!H336&\"_\"&PFS_PFD_SelectionTool!I336&\"_\"&PFS_PFD_SelectionTool!J336),\"\",PFS_PFD_SelectionTool!E336&\"_\"&PFS_PFD_SelectionTool!F336&\"_\"&PFS_PFD_SelectionTool!G336&\"_\"&PFS_PFD_SelectionTool!H336&\"_\"&PFS_PFD_SelectionTool!I336&\"_\"&PFS_PFD_SelectionTool!J336)","v":"_____"},{"$f":"IF(ISBLANK(PFS_PFD_SelectionTool!K336),\"\",PFS_PFD_SelectionTool!K336)","v":""},{"$f":"VLOOKUP(D320,Tabelle1!A:B,2,FALSE)","v":{"$error":"#N/A"}},{"$f":"IF(ISBLANK(PFS_PFD_SelectionTool!N361),\"\",PFS_PFD_SelectionTool!N361)","v":""},{"$f":"IF(ISBLANK(PFS_PFD_SelectionTool!O361),\"\",PFS_PFD_SelectionTool!O361)","v":""}]
[{"$f":"IF(ISBLANK(PFS_PFD_SelectionTool!C337),\"\",PFS_PFD_SelectionTool!C337)","v":""},{"$f":"IF(ISBLANK(PFS_PFD_SelectionTool!D337),\"\",PFS_PFD_SelectionTool!D337)","v":""},{"$f":"IF(ISBLANK(PFS_PFD_SelectionTool!E337&\"_\"&PFS_PFD_SelectionTool!F337&\"_\"&PFS_PFD_SelectionTool!G337&\"_\"&PFS_PFD_SelectionTool!H337&\"_\"&PFS_PFD_SelectionTool!I337&\"_\"&PFS_PFD_SelectionTool!J337),\"\",PFS_PFD_SelectionTool!E337&\"_\"&PFS_PFD_SelectionTool!F337&\"_\"&PFS_PFD_SelectionTool!G337&\"_\"&PFS_PFD_SelectionTool!H337&\"_\"&PFS_PFD_SelectionTool!I337&\"_\"&PFS_PFD_SelectionTool!J337)","v":"_____"},{"$f":"IF(ISBLANK(PFS_PFD_SelectionTool!K337),\"\",PFS_PFD_SelectionTool!K337)","v":""},{"$f":"VLOOKUP(D321,Tabelle1!A:B,2,FALSE)","v":{"$error":"#N/A"}},{"$f":"IF(ISBLANK(PFS_PFD_SelectionTool!N362),\"\",PFS_PFD_SelectionTool!N362)","v":""},{"$f":"IF(ISBLANK(PFS_PFD_SelectionTool!O362),\"\",PFS_PFD_SelectionTool!O362)","v":""}]
[{"$f":"IF(ISBLANK(PFS_PFD_SelectionTool!C338),\"\",PFS_PFD_SelectionTool!C338)","v":""},{"$f":"IF(ISBLANK(PFS_PFD_SelectionTool!D338),\"\",PFS_PFD_SelectionTool!D338)","v":""},{"$f":"IF(ISBLANK(PFS_PFD_SelectionTool!E338&\"_\"&PFS_PFD_SelectionTool!F338&\"_\"&PFS_PFD_SelectionTool!G338&\"_\"&PFS_PFD_SelectionTool!H338&\"_\"&PFS_PFD_SelectionTool!I338&\"_\"&PFS_PFD_SelectionTool!J338),\"\",PFS_PFD_SelectionTool!E338&\"_\"&PFS_PFD_SelectionTool!F338&\"_\"&PFS_PFD_SelectionTool!G338&\"_\"&PFS_PFD_SelectionTool!H338&\"_\"&PFS_PFD_SelectionTool!I338&\"_\"&PFS_PFD_SelectionTool!J338)","v":"_____"},{"$f":"IF(ISBLANK(PFS_PFD_SelectionTool!K338),\"\",PFS_PFD_SelectionTool!K338)","v":""},{"$f":"VLOOKUP(D322,Tabelle1!A:B,2,FALSE)","v":{"$error":"#N/A"}},{"$f":"IF(ISBLANK(PFS_PFD_SelectionTool!N363),\"\",PFS_PFD_SelectionTool!N363)","v":""},{"$f":"IF(ISBLANK(PFS_PFD_SelectionTool!O363),\"\",PFS_PFD_SelectionTool!O363)","v":""}]
[{"$f":"IF(ISBLANK(PFS_PFD_SelectionTool!C339),\"\",PFS_PFD_SelectionTool!C339)","v":""},{"$f":"IF(ISBLANK(PFS_PFD_SelectionTool!D339),\"\",PFS_PFD_SelectionTool!D339)","v":""},{"$f":"IF(ISBLANK(PFS_PFD_SelectionTool!E339&\"_\"&PFS_PFD_SelectionTool!F339&\"_\"&PFS_PFD_SelectionTool!G339&\"_\"&PFS_PFD_SelectionTool!H339&\"_\"&PFS_PFD_SelectionTool!I339&\"_\"&PFS_PFD_SelectionTool!J339),\"\",PFS_PFD_SelectionTool!E339&\"_\"&PFS_PFD_SelectionTool!F339&\"_\"&PFS_PFD_SelectionTool!G339&\"_\"&PFS_PFD_SelectionTool!H339&\"_\"&PFS_PFD_SelectionTool!I339&\"_\"&PFS_PFD_SelectionTool!J339)","v":"_____"},{"$f":"IF(ISBLANK(PFS_PFD_SelectionTool!K339),\"\",PFS_PFD_SelectionTool!K339)","v":""},{"$f":"VLOOKUP(D323,Tabelle1!A:B,2,FALSE)","v":{"$error":"#N/A"}},{"$f":"IF(ISBLANK(PFS_PFD_SelectionTool!N364),\"\",PFS_PFD_SelectionTool!N364)","v":""},{"$f":"IF(ISBLANK(PFS_PFD_SelectionTool!O364),\"\",PFS_PFD_SelectionTool!O364)","v":""}]
[{"$f":"IF(ISBLANK(PFS_PFD_SelectionTool!C340),\"\",PFS_PFD_SelectionTool!C340)","v":""},{"$f":"IF(ISBLANK(PFS_PFD_SelectionTool!D340),\"\",PFS_PFD_SelectionTool!D340)","v":""},{"$f":"IF(ISBLANK(PFS_PFD_SelectionTool!E340&\"_\"&PFS_PFD_SelectionTool!F340&\"_\"&PFS_PFD_SelectionTool!G340&\"_\"&PFS_PFD_SelectionTool!H340&\"_\"&PFS_PFD_SelectionTool!I340&\"_\"&PFS_PFD_SelectionTool!J340),\"\",PFS_PFD_SelectionTool!E340&\"_\"&PFS_PFD_SelectionTool!F340&\"_\"&PFS_PFD_SelectionTool!G340&\"_\"&PFS_PFD_SelectionTool!H340&\"_\"&PFS_PFD_SelectionTool!I340&\"_\"&PFS_PFD_SelectionTool!J340)","v":"_____"},{"$f":"IF(ISBLANK(PFS_PFD_SelectionTool!K340),\"\",PFS_PFD_SelectionTool!K340)","v":""},{"$f":"VLOOKUP(D324,Tabelle1!A:B,2,FALSE)","v":{"$error":"#N/A"}},{"$f":"IF(ISBLANK(PFS_PFD_SelectionTool!N365),\"\",PFS_PFD_SelectionTool!N365)","v":""},{"$f":"IF(ISBLANK(PFS_PFD_SelectionTool!O365),\"\",PFS_PFD_SelectionTool!O365)","v":""}]
[{"$f":"IF(ISBLANK(PFS_PFD_SelectionTool!C341),\"\",PFS_PFD_SelectionTool!C341)","v":""},{"$f":"IF(ISBLANK(PFS_PFD_SelectionTool!D341),\"\",PFS_PFD_SelectionTool!D341)","v":""},{"$f":"IF(ISBLANK(PFS_PFD_SelectionTool!E341&\"_\"&PFS_PFD_SelectionTool!F341&\"_\"&PFS_PFD_SelectionTool!G341&\"_\"&PFS_PFD_SelectionTool!H341&\"_\"&PFS_PFD_SelectionTool!I341&\"_\"&PFS_PFD_SelectionTool!J341),\"\",PFS_PFD_SelectionTool!E341&\"_\"&PFS_PFD_SelectionTool!F341&\"_\"&PFS_PFD_SelectionTool!G341&\"_\"&PFS_PFD_SelectionTool!H341&\"_\"&PFS_PFD_SelectionTool!I341&\"_\"&PFS_PFD_SelectionTool!J341)","v":"_____"},{"$f":"IF(ISBLANK(PFS_PFD_SelectionTool!K341),\"\",PFS_PFD_SelectionTool!K341)","v":""},{"$f":"VLOOKUP(D325,Tabelle1!A:B,2,FALSE)","v":{"$error":"#N/A"}},{"$f":"IF(ISBLANK(PFS_PFD_SelectionTool!N366),\"\",PFS_PFD_SelectionTool!N366)","v":""},{"$f":"IF(ISBLANK(PFS_PFD_SelectionTool!O366),\"\",PFS_PFD_SelectionTool!O366)","v":""}]
[{"$f":"IF(ISBLANK(PFS_PFD_SelectionTool!C342),\"\",PFS_PFD_SelectionTool!C342)","v":""},{"$f":"IF(ISBLANK(PFS_PFD_SelectionTool!D342),\"\",PFS_PFD_SelectionTool!D342)","v":""},{"$f":"IF(ISBLANK(PFS_PFD_SelectionTool!E342&\"_\"&PFS_PFD_SelectionTool!F342&\"_\"&PFS_PFD_SelectionTool!G342&\"_\"&PFS_PFD_SelectionTool!H342&\"_\"&PFS_PFD_SelectionTool!I342&\"_\"&PFS_PFD_SelectionTool!J342),\"\",PFS_PFD_SelectionTool!E342&\"_\"&PFS_PFD_SelectionTool!F342&\"_\"&PFS_PFD_SelectionTool!G342&\"_\"&PFS_PFD_SelectionTool!H342&\"_\"&PFS_PFD_SelectionTool!I342&\"_\"&PFS_PFD_SelectionTool!J342)","v":"_____"},{"$f":"IF(ISBLANK(PFS_PFD_SelectionTool!K342),\"\",PFS_PFD_SelectionTool!K342)","v":""},{"$f":"VLOOKUP(D326,Tabelle1!A:B,2,FALSE)","v":{"$error":"#N/A"}},{"$f":"IF(ISBLANK(PFS_PFD_SelectionTool!N367),\"\",PFS_PFD_SelectionTool!N367)","v":""},{"$f":"IF(ISBLANK(PFS_PFD_SelectionTool!O367),\"\",PFS_PFD_SelectionTool!O367)","v":""}]
[{"$f":"IF(ISBLANK(PFS_PFD_SelectionTool!C343),\"\",PFS_PFD_SelectionTool!C343)","v":""},{"$f":"IF(ISBLANK(PFS_PFD_SelectionTool!D343),\"\",PFS_PFD_SelectionTool!D343)","v":""},{"$f":"IF(ISBLANK(PFS_PFD_SelectionTool!E343&\"_\"&PFS_PFD_SelectionTool!F343&\"_\"&PFS_PFD_SelectionTool!G343&\"_\"&PFS_PFD_SelectionTool!H343&\"_\"&PFS_PFD_SelectionTool!I343&\"_\"&PFS_PFD_SelectionTool!J343),\"\",PFS_PFD_SelectionTool!E343&\"_\"&PFS_PFD_SelectionTool!F343&\"_\"&PFS_PFD_SelectionTool!G343&\"_\"&PFS_PFD_SelectionTool!H343&\"_\"&PFS_PFD_SelectionTool!I343&\"_\"&PFS_PFD_SelectionTool!J343)","v":"_____"},{"$f":"IF(ISBLANK(PFS_PFD_SelectionTool!K343),\"\",PFS_PFD_SelectionTool!K343)","v":""},{"$f":"VLOOKUP(D327,Tabelle1!A:B,2,FALSE)","v":{"$error":"#N/A"}},{"$f":"IF(ISBLANK(PFS_PFD_SelectionTool!N368),\"\",PFS_PFD_SelectionTool!N368)","v":""},{"$f":"IF(ISBLANK(PFS_PFD_SelectionTool!O368),\"\",PFS_PFD_SelectionTool!O368)","v":""}]
[{"$f":"IF(ISBLANK(PFS_PFD_SelectionTool!C344),\"\",PFS_PFD_SelectionTool!C344)","v":""},{"$f":"IF(ISBLANK(PFS_PFD_SelectionTool!D344),\"\",PFS_PFD_SelectionTool!D344)","v":""},{"$f":"IF(ISBLANK(PFS_PFD_SelectionTool!E344&\"_\"&PFS_PFD_SelectionTool!F344&\"_\"&PFS_PFD_SelectionTool!G344&\"_\"&PFS_PFD_SelectionTool!H344&\"_\"&PFS_PFD_SelectionTool!I344&\"_\"&PFS_PFD_SelectionTool!J344),\"\",PFS_PFD_SelectionTool!E344&\"_\"&PFS_PFD_SelectionTool!F344&\"_\"&PFS_PFD_SelectionTool!G344&\"_\"&PFS_PFD_SelectionTool!H344&\"_\"&PFS_PFD_SelectionTool!I344&\"_\"&PFS_PFD_SelectionTool!J344)","v":"_____"},{"$f":"IF(ISBLANK(PFS_PFD_SelectionTool!K344),\"\",PFS_PFD_SelectionTool!K344)","v":""},{"$f":"VLOOKUP(D328,Tabelle1!A:B,2,FALSE)","v":{"$error":"#N/A"}},{"$f":"IF(ISBLANK(PFS_PFD_SelectionTool!N369),\"\",PFS_PFD_SelectionTool!N369)","v":""},{"$f":"IF(ISBLANK(PFS_PFD_SelectionTool!O369),\"\",PFS_PFD_SelectionTool!O369)","v":""}]
[{"$f":"IF(ISBLANK(PFS_PFD_SelectionTool!C345),\"\",PFS_PFD_SelectionTool!C345)","v":""},{"$f":"IF(ISBLANK(PFS_PFD_SelectionTool!D345),\"\",PFS_PFD_SelectionTool!D345)","v":""},{"$f":"IF(ISBLANK(PFS_PFD_SelectionTool!E345&\"_\"&PFS_PFD_SelectionTool!F345&\"_\"&PFS_PFD_SelectionTool!G345&\"_\"&PFS_PFD_SelectionTool!H345&\"_\"&PFS_PFD_SelectionTool!I345&\"_\"&PFS_PFD_SelectionTool!J345),\"\",PFS_PFD_SelectionTool!E345&\"_\"&PFS_PFD_SelectionTool!F345&\"_\"&PFS_PFD_SelectionTool!G345&\"_\"&PFS_PFD_SelectionTool!H345&\"_\"&PFS_PFD_SelectionTool!I345&\"_\"&PFS_PFD_SelectionTool!J345)","v":"_____"},{"$f":"IF(ISBLANK(PFS_PFD_SelectionTool!K345),\"\",PFS_PFD_SelectionTool!K345)","v":""},{"$f":"VLOOKUP(D329,Tabelle1!A:B,2,FALSE)","v":{"$error":"#N/A"}},{"$f":"IF(ISBLANK(PFS_PFD_SelectionTool!N370),\"\",PFS_PFD_SelectionTool!N370)","v":""},{"$f":"IF(ISBLANK(PFS_PFD_SelectionTool!O370),\"\",PFS_PFD_SelectionTool!O370)","v":""}]
[{"$f":"IF(ISBLANK(PFS_PFD_SelectionTool!C346),\"\",PFS_PFD_SelectionTool!C346)","v":""},{"$f":"IF(ISBLANK(PFS_PFD_SelectionTool!D346),\"\",PFS_PFD_SelectionTool!D346)","v":""},{"$f":"IF(ISBLANK(PFS_PFD_SelectionTool!E346&\"_\"&PFS_PFD_SelectionTool!F346&\"_\"&PFS_PFD_SelectionTool!G346&\"_\"&PFS_PFD_SelectionTool!H346&\"_\"&PFS_PFD_SelectionTool!I346&\"_\"&PFS_PFD_SelectionTool!J346),\"\",PFS_PFD_SelectionTool!E346&\"_\"&PFS_PFD_SelectionTool!F346&\"_\"&PFS_PFD_SelectionTool!G346&\"_\"&PFS_PFD_SelectionTool!H346&\"_\"&PFS_PFD_SelectionTool!I346&\"_\"&PFS_PFD_SelectionTool!J346)","v":"_____"},{"$f":"IF(ISBLANK(PFS_PFD_SelectionTool!K346),\"\",PFS_PFD_SelectionTool!K346)","v":""},{"$f":"VLOOKUP(D330,Tabelle1!A:B,2,FALSE)","v":{"$error":"#N/A"}},{"$f":"IF(ISBLANK(PFS_PFD_SelectionTool!N371),\"\",PFS_PFD_SelectionTool!N371)","v":""},{"$f":"IF(ISBLANK(PFS_PFD_SelectionTool!O371),\"\",PFS_PFD_SelectionTool!O371)","v":""}]
[{"$f":"IF(ISBLANK(PFS_PFD_SelectionTool!C347),\"\",PFS_PFD_SelectionTool!C347)","v":""},{"$f":"IF(ISBLANK(PFS_PFD_SelectionTool!D347),\"\",PFS_PFD_SelectionTool!D347)","v":""},{"$f":"IF(ISBLANK(PFS_PFD_SelectionTool!E347&\"_\"&PFS_PFD_SelectionTool!F347&\"_\"&PFS_PFD_SelectionTool!G347&\"_\"&PFS_PFD_SelectionTool!H347&\"_\"&PFS_PFD_SelectionTool!I347&\"_\"&PFS_PFD_SelectionTool!J347),\"\",PFS_PFD_SelectionTool!E347&\"_\"&PFS_PFD_SelectionTool!F347&\"_\"&PFS_PFD_SelectionTool!G347&\"_\"&PFS_PFD_SelectionTool!H347&\"_\"&PFS_PFD_SelectionTool!I347&\"_\"&PFS_PFD_SelectionTool!J347)","v":"_____"},{"$f":"IF(ISBLANK(PFS_PFD_SelectionTool!K347),\"\",PFS_PFD_SelectionTool!K347)","v":""},{"$f":"VLOOKUP(D331,Tabelle1!A:B,2,FALSE)","v":{"$error":"#N/A"}},{"$f":"IF(ISBLANK(PFS_PFD_SelectionTool!N372),\"\",PFS_PFD_SelectionTool!N372)","v":""},{"$f":"IF(ISBLANK(PFS_PFD_SelectionTool!O372),\"\",PFS_PFD_SelectionTool!O372)","v":""}]
[{"$f":"IF(ISBLANK(PFS_PFD_SelectionTool!C348),\"\",PFS_PFD_SelectionTool!C348)","v":""},{"$f":"IF(ISBLANK(PFS_PFD_SelectionTool!D348),\"\",PFS_PFD_SelectionTool!D348)","v":""},{"$f":"IF(ISBLANK(PFS_PFD_SelectionTool!E348&\"_\"&PFS_PFD_SelectionTool!F348&\"_\"&PFS_PFD_SelectionTool!G348&\"_\"&PFS_PFD_SelectionTool!H348&\"_\"&PFS_PFD_SelectionTool!I348&\"_\"&PFS_PFD_SelectionTool!J348),\"\",PFS_PFD_SelectionTool!E348&\"_\"&PFS_PFD_SelectionTool!F348&\"_\"&PFS_PFD_SelectionTool!G348&\"_\"&PFS_PFD_SelectionTool!H348&\"_\"&PFS_PFD_SelectionTool!I348&\"_\"&PFS_PFD_SelectionTool!J348)","v":"_____"},{"$f":"IF(ISBLANK(PFS_PFD_SelectionTool!K348),\"\",PFS_PFD_SelectionTool!K348)","v":""},{"$f":"VLOOKUP(D332,Tabelle1!A:B,2,FALSE)","v":{"$error":"#N/A"}},{"$f":"IF(ISBLANK(PFS_PFD_SelectionTool!N373),\"\",PFS_PFD_SelectionTool!N373)","v":""},{"$f":"IF(ISBLANK(PFS_PFD_SelectionTool!O373),\"\",PFS_PFD_SelectionTool!O373)","v":""}]
[{"$f":"IF(ISBLANK(PFS_PFD_SelectionTool!C349),\"\",PFS_PFD_SelectionTool!C349)","v":""},{"$f":"IF(ISBLANK(PFS_PFD_SelectionTool!D349),\"\",PFS_PFD_SelectionTool!D349)","v":""},{"$f":"IF(ISBLANK(PFS_PFD_SelectionTool!E349&\"_\"&PFS_PFD_SelectionTool!F349&\"_\"&PFS_PFD_SelectionTool!G349&\"_\"&PFS_PFD_SelectionTool!H349&\"_\"&PFS_PFD_SelectionTool!I349&\"_\"&PFS_PFD_SelectionTool!J349),\"\",PFS_PFD_SelectionTool!E349&\"_\"&PFS_PFD_SelectionTool!F349&\"_\"&PFS_PFD_SelectionTool!G349&\"_\"&PFS_PFD_SelectionTool!H349&\"_\"&PFS_PFD_SelectionTool!I349&\"_\"&PFS_PFD_SelectionTool!J349)","v":"_____"},{"$f":"IF(ISBLANK(PFS_PFD_SelectionTool!K349),\"\",PFS_PFD_SelectionTool!K349)","v":""},{"$f":"VLOOKUP(D333,Tabelle1!A:B,2,FALSE)","v":{"$error":"#N/A"}},{"$f":"IF(ISBLANK(PFS_PFD_SelectionTool!N374),\"\",PFS_PFD_SelectionTool!N374)","v":""},{"$f":"IF(ISBLANK(PFS_PFD_SelectionTool!O374),\"\",PFS_PFD_SelectionTool!O374)","v":""}]
[{"$f":"IF(ISBLANK(PFS_PFD_SelectionTool!C350),\"\",PFS_PFD_SelectionTool!C350)","v":""},{"$f":"IF(ISBLANK(PFS_PFD_SelectionTool!D350),\"\",PFS_PFD_SelectionTool!D350)","v":""},{"$f":"IF(ISBLANK(PFS_PFD_SelectionTool!E350&\"_\"&PFS_PFD_SelectionTool!F350&\"_\"&PFS_PFD_SelectionTool!G350&\"_\"&PFS_PFD_SelectionTool!H350&\"_\"&PFS_PFD_SelectionTool!I350&\"_\"&PFS_PFD_SelectionTool!J350),\"\",PFS_PFD_SelectionTool!E350&\"_\"&PFS_PFD_SelectionTool!F350&\"_\"&PFS_PFD_SelectionTool!G350&\"_\"&PFS_PFD_SelectionTool!H350&\"_\"&PFS_PFD_SelectionTool!I350&\"_\"&PFS_PFD_SelectionTool!J350)","v":"_____"},{"$f":"IF(ISBLANK(PFS_PFD_SelectionTool!K350),\"\",PFS_PFD_SelectionTool!K350)","v":""},{"$f":"VLOOKUP(D334,Tabelle1!A:B,2,FALSE)","v":{"$error":"#N/A"}},{"$f":"IF(ISBLANK(PFS_PFD_SelectionTool!N375),\"\",PFS_PFD_SelectionTool!N375)","v":""},{"$f":"IF(ISBLANK(PFS_PFD_SelectionTool!O375),\"\",PFS_PFD_SelectionTool!O375)","v":""}]
[{"$f":"IF(ISBLANK(PFS_PFD_SelectionTool!C351),\"\",PFS_PFD_SelectionTool!C351)","v":""},{"$f":"IF(ISBLANK(PFS_PFD_SelectionTool!D351),\"\",PFS_PFD_SelectionTool!D351)","v":""},{"$f":"IF(ISBLANK(PFS_PFD_SelectionTool!E351&\"_\"&PFS_PFD_SelectionTool!F351&\"_\"&PFS_PFD_SelectionTool!G351&\"_\"&PFS_PFD_SelectionTool!H351&\"_\"&PFS_PFD_SelectionTool!I351&\"_\"&PFS_PFD_SelectionTool!J351),\"\",PFS_PFD_SelectionTool!E351&\"_\"&PFS_PFD_SelectionTool!F351&\"_\"&PFS_PFD_SelectionTool!G351&\"_\"&PFS_PFD_SelectionTool!H351&\"_\"&PFS_PFD_SelectionTool!I351&\"_\"&PFS_PFD_SelectionTool!J351)","v":"_____"},{"$f":"IF(ISBLANK(PFS_PFD_SelectionTool!K351),\"\",PFS_PFD_SelectionTool!K351)","v":""},{"$f":"VLOOKUP(D335,Tabelle1!A:B,2,FALSE)","v":{"$error":"#N/A"}},{"$f":"IF(ISBLANK(PFS_PFD_SelectionTool!N376),\"\",PFS_PFD_SelectionTool!N376)","v":""},{"$f":"IF(ISBLANK(PFS_PFD_SelectionTool!O376),\"\",PFS_PFD_SelectionTool!O376)","v":""}]
[{"$f":"IF(ISBLANK(PFS_PFD_SelectionTool!C352),\"\",PFS_PFD_SelectionTool!C352)","v":""},{"$f":"IF(ISBLANK(PFS_PFD_SelectionTool!D352),\"\",PFS_PFD_SelectionTool!D352)","v":""},{"$f":"IF(ISBLANK(PFS_PFD_SelectionTool!E352&\"_\"&PFS_PFD_SelectionTool!F352&\"_\"&PFS_PFD_SelectionTool!G352&\"_\"&PFS_PFD_SelectionTool!H352&\"_\"&PFS_PFD_SelectionTool!I352&\"_\"&PFS_PFD_SelectionTool!J352),\"\",PFS_PFD_SelectionTool!E352&\"_\"&PFS_PFD_SelectionTool!F352&\"_\"&PFS_PFD_SelectionTool!G352&\"_\"&PFS_PFD_SelectionTool!H352&\"_\"&PFS_PFD_SelectionTool!I352&\"_\"&PFS_PFD_SelectionTool!J352)","v":"_____"},{"$f":"IF(ISBLANK(PFS_PFD_SelectionTool!K352),\"\",PFS_PFD_SelectionTool!K352)","v":""},{"$f":"VLOOKUP(D336,Tabelle1!A:B,2,FALSE)","v":{"$error":"#N/A"}},{"$f":"IF(ISBLANK(PFS_PFD_SelectionTool!N377),\"\",PFS_PFD_SelectionTool!N377)","v":""},{"$f":"IF(ISBLANK(PFS_PFD_SelectionTool!O377),\"\",PFS_PFD_SelectionTool!O377)","v":""}]
[{"$f":"IF(ISBLANK(PFS_PFD_SelectionTool!C353),\"\",PFS_PFD_SelectionTool!C353)","v":""},{"$f":"IF(ISBLANK(PFS_PFD_SelectionTool!D353),\"\",PFS_PFD_SelectionTool!D353)","v":""},{"$f":"IF(ISBLANK(PFS_PFD_SelectionTool!E353&\"_\"&PFS_PFD_SelectionTool!F353&\"_\"&PFS_PFD_SelectionTool!G353&\"_\"&PFS_PFD_SelectionTool!H353&\"_\"&PFS_PFD_SelectionTool!I353&\"_\"&PFS_PFD_SelectionTool!J353),\"\",PFS_PFD_SelectionTool!E353&\"_\"&PFS_PFD_SelectionTool!F353&\"_\"&PFS_PFD_SelectionTool!G353&\"_\"&PFS_PFD_SelectionTool!H353&\"_\"&PFS_PFD_SelectionTool!I353&\"_\"&PFS_PFD_SelectionTool!J353)","v":"_____"},{"$f":"IF(ISBLANK(PFS_PFD_SelectionTool!K353),\"\",PFS_PFD_SelectionTool!K353)","v":""},{"$f":"VLOOKUP(D337,Tabelle1!A:B,2,FALSE)","v":{"$error":"#N/A"}},{"$f":"IF(ISBLANK(PFS_PFD_SelectionTool!N378),\"\",PFS_PFD_SelectionTool!N378)","v":""},{"$f":"IF(ISBLANK(PFS_PFD_SelectionTool!O378),\"\",PFS_PFD_SelectionTool!O378)","v":""}]
[{"$f":"IF(ISBLANK(PFS_PFD_SelectionTool!C354),\"\",PFS_PFD_SelectionTool!C354)","v":""},{"$f":"IF(ISBLANK(PFS_PFD_SelectionTool!D354),\"\",PFS_PFD_SelectionTool!D354)","v":""},{"$f":"IF(ISBLANK(PFS_PFD_SelectionTool!E354&\"_\"&PFS_PFD_SelectionTool!F354&\"_\"&PFS_PFD_SelectionTool!G354&\"_\"&PFS_PFD_SelectionTool!H354&\"_\"&PFS_PFD_SelectionTool!I354&\"_\"&PFS_PFD_SelectionTool!J354),\"\",PFS_PFD_SelectionTool!E354&\"_\"&PFS_PFD_SelectionTool!F354&\"_\"&PFS_PFD_SelectionTool!G354&\"_\"&PFS_PFD_SelectionTool!H354&\"_\"&PFS_PFD_SelectionTool!I354&\"_\"&PFS_PFD_SelectionTool!J354)","v":"_____"},{"$f":"IF(ISBLANK(PFS_PFD_SelectionTool!K354),\"\",PFS_PFD_SelectionTool!K354)","v":""},{"$f":"VLOOKUP(D338,Tabelle1!A:B,2,FALSE)","v":{"$error":"#N/A"}},{"$f":"IF(ISBLANK(PFS_PFD_SelectionTool!N379),\"\",PFS_PFD_SelectionTool!N379)","v":""},{"$f":"IF(ISBLANK(PFS_PFD_SelectionTool!O379),\"\",PFS_PFD_SelectionTool!O379)","v":""}]
[{"$f":"IF(ISBLANK(PFS_PFD_SelectionTool!C355),\"\",PFS_PFD_SelectionTool!C355)","v":""},{"$f":"IF(ISBLANK(PFS_PFD_SelectionTool!D355),\"\",PFS_PFD_SelectionTool!D355)","v":""},{"$f":"IF(ISBLANK(PFS_PFD_SelectionTool!E355&\"_\"&PFS_PFD_SelectionTool!F355&\"_\"&PFS_PFD_SelectionTool!G355&\"_\"&PFS_PFD_SelectionTool!H355&\"_\"&PFS_PFD_SelectionTool!I355&\"_\"&PFS_PFD_SelectionTool!J355),\"\",PFS_PFD_SelectionTool!E355&\"_\"&PFS_PFD_SelectionTool!F355&\"_\"&PFS_PFD_SelectionTool!G355&\"_\"&PFS_PFD_SelectionTool!H355&\"_\"&PFS_PFD_SelectionTool!I355&\"_\"&PFS_PFD_SelectionTool!J355)","v":"_____"},{"$f":"IF(ISBLANK(PFS_PFD_SelectionTool!K355),\"\",PFS_PFD_SelectionTool!K355)","v":""},{"$f":"VLOOKUP(D339,Tabelle1!A:B,2,FALSE)","v":{"$error":"#N/A"}},{"$f":"IF(ISBLANK(PFS_PFD_SelectionTool!N380),\"\",PFS_PFD_SelectionTool!N380)","v":""},{"$f":"IF(ISBLANK(PFS_PFD_SelectionTool!O380),\"\",PFS_PFD_SelectionTool!O380)","v":""}]
[{"$f":"IF(ISBLANK(PFS_PFD_SelectionTool!C356),\"\",PFS_PFD_SelectionTool!C356)","v":""},{"$f":"IF(ISBLANK(PFS_PFD_SelectionTool!D356),\"\",PFS_PFD_SelectionTool!D356)","v":""},{"$f":"IF(ISBLANK(PFS_PFD_SelectionTool!E356&\"_\"&PFS_PFD_SelectionTool!F356&\"_\"&PFS_PFD_SelectionTool!G356&\"_\"&PFS_PFD_SelectionTool!H356&\"_\"&PFS_PFD_SelectionTool!I356&\"_\"&PFS_PFD_SelectionTool!J356),\"\",PFS_PFD_SelectionTool!E356&\"_\"&PFS_PFD_SelectionTool!F356&\"_\"&PFS_PFD_SelectionTool!G356&\"_\"&PFS_PFD_SelectionTool!H356&\"_\"&PFS_PFD_SelectionTool!I356&\"_\"&PFS_PFD_SelectionTool!J356)","v":"_____"},{"$f":"IF(ISBLANK(PFS_PFD_SelectionTool!K356),\"\",PFS_PFD_SelectionTool!K356)","v":""},{"$f":"VLOOKUP(D340,Tabelle1!A:B,2,FALSE)","v":{"$error":"#N/A"}},{"$f":"IF(ISBLANK(PFS_PFD_SelectionTool!N381),\"\",PFS_PFD_SelectionTool!N381)","v":""},{"$f":"IF(ISBLANK(PFS_PFD_SelectionTool!O381),\"\",PFS_PFD_SelectionTool!O381)","v":""}]
[{"$f":"IF(ISBLANK(PFS_PFD_SelectionTool!C357),\"\",PFS_PFD_SelectionTool!C357)","v":""},{"$f":"IF(ISBLANK(PFS_PFD_SelectionTool!D357),\"\",PFS_PFD_SelectionTool!D357)","v":""},{"$f":"IF(ISBLANK(PFS_PFD_SelectionTool!E357&\"_\"&PFS_PFD_SelectionTool!F357&\"_\"&PFS_PFD_SelectionTool!G357&\"_\"&PFS_PFD_SelectionTool!H357&\"_\"&PFS_PFD_SelectionTool!I357&\"_\"&PFS_PFD_SelectionTool!J357),\"\",PFS_PFD_SelectionTool!E357&\"_\"&PFS_PFD_SelectionTool!F357&\"_\"&PFS_PFD_SelectionTool!G357&\"_\"&PFS_PFD_SelectionTool!H357&\"_\"&PFS_PFD_SelectionTool!I357&\"_\"&PFS_PFD_SelectionTool!J357)","v":"_____"},{"$f":"IF(ISBLANK(PFS_PFD_SelectionTool!K357),\"\",PFS_PFD_SelectionTool!K357)","v":""},{"$f":"VLOOKUP(D341,Tabelle1!A:B,2,FALSE)","v":{"$error":"#N/A"}},{"$f":"IF(ISBLANK(PFS_PFD_SelectionTool!N382),\"\",PFS_PFD_SelectionTool!N382)","v":""},{"$f":"IF(ISBLANK(PFS_PFD_SelectionTool!O382),\"\",PFS_PFD_SelectionTool!O382)","v":""}]
[{"$f":"IF(ISBLANK(PFS_PFD_SelectionTool!C358),\"\",PFS_PFD_SelectionTool!C358)","v":""},{"$f":"IF(ISBLANK(PFS_PFD_SelectionTool!D358),\"\",PFS_PFD_SelectionTool!D358)","v":""},{"$f":"IF(ISBLANK(PFS_PFD_SelectionTool!E358&\"_\"&PFS_PFD_SelectionTool!F358&\"_\"&PFS_PFD_SelectionTool!G358&\"_\"&PFS_PFD_SelectionTool!H358&\"_\"&PFS_PFD_SelectionTool!I358&\"_\"&PFS_PFD_SelectionTool!J358),\"\",PFS_PFD_SelectionTool!E358&\"_\"&PFS_PFD_SelectionTool!F358&\"_\"&PFS_PFD_SelectionTool!G358&\"_\"&PFS_PFD_SelectionTool!H358&\"_\"&PFS_PFD_SelectionTool!I358&\"_\"&PFS_PFD_SelectionTool!J358)","v":"_____"},{"$f":"IF(ISBLANK(PFS_PFD_SelectionTool!K358),\"\",PFS_PFD_SelectionTool!K358)","v":""},{"$f":"VLOOKUP(D342,Tabelle1!A:B,2,FALSE)","v":{"$error":"#N/A"}},{"$f":"IF(ISBLANK(PFS_PFD_SelectionTool!N383),\"\",PFS_PFD_SelectionTool!N383)","v":""},{"$f":"IF(ISBLANK(PFS_PFD_SelectionTool!O383),\"\",PFS_PFD_SelectionTool!O383)","v":""}]
[{"$f":"IF(ISBLANK(PFS_PFD_SelectionTool!C359),\"\",PFS_PFD_SelectionTool!C359)","v":""},{"$f":"IF(ISBLANK(PFS_PFD_SelectionTool!D359),\"\",PFS_PFD_SelectionTool!D359)","v":""},{"$f":"IF(ISBLANK(PFS_PFD_SelectionTool!E359&\"_\"&PFS_PFD_SelectionTool!F359&\"_\"&PFS_PFD_SelectionTool!G359&\"_\"&PFS_PFD_SelectionTool!H359&\"_\"&PFS_PFD_SelectionTool!I359&\"_\"&PFS_PFD_SelectionTool!J359),\"\",PFS_PFD_SelectionTool!E359&\"_\"&PFS_PFD_SelectionTool!F359&\"_\"&PFS_PFD_SelectionTool!G359&\"_\"&PFS_PFD_SelectionTool!H359&\"_\"&PFS_PFD_SelectionTool!I359&\"_\"&PFS_PFD_SelectionTool!J359)","v":"_____"},{"$f":"IF(ISBLANK(PFS_PFD_SelectionTool!K359),\"\",PFS_PFD_SelectionTool!K359)","v":""},{"$f":"VLOOKUP(D343,Tabelle1!A:B,2,FALSE)","v":{"$error":"#N/A"}},{"$f":"IF(ISBLANK(PFS_PFD_SelectionTool!N384),\"\",PFS_PFD_SelectionTool!N384)","v":""},{"$f":"IF(ISBLANK(PFS_PFD_SelectionTool!O384),\"\",PFS_PFD_SelectionTool!O384)","v":""}]
[{"$f":"IF(ISBLANK(PFS_PFD_SelectionTool!C360),\"\",PFS_PFD_SelectionTool!C360)","v":""},{"$f":"IF(ISBLANK(PFS_PFD_SelectionTool!D360),\"\",PFS_PFD_SelectionTool!D360)","v":""},{"$f":"IF(ISBLANK(PFS_PFD_SelectionTool!E360&\"_\"&PFS_PFD_SelectionTool!F360&\"_\"&PFS_PFD_SelectionTool!G360&\"_\"&PFS_PFD_SelectionTool!H360&\"_\"&PFS_PFD_SelectionTool!I360&\"_\"&PFS_PFD_SelectionTool!J360),\"\",PFS_PFD_SelectionTool!E360&\"_\"&PFS_PFD_SelectionTool!F360&\"_\"&PFS_PFD_SelectionTool!G360&\"_\"&PFS_PFD_SelectionTool!H360&\"_\"&PFS_PFD_SelectionTool!I360&\"_\"&PFS_PFD_SelectionTool!J360)","v":"_____"},{"$f":"IF(ISBLANK(PFS_PFD_SelectionTool!K360),\"\",PFS_PFD_SelectionTool!K360)","v":""},{"$f":"VLOOKUP(D344,Tabelle1!A:B,2,FALSE)","v":{"$error":"#N/A"}},{"$f":"IF(ISBLANK(PFS_PFD_SelectionTool!N385),\"\",PFS_PFD_SelectionTool!N385)","v":""},{"$f":"IF(ISBLANK(PFS_PFD_SelectionTool!O385),\"\",PFS_PFD_SelectionTool!O385)","v":""}]
[{"$f":"IF(ISBLANK(PFS_PFD_SelectionTool!C361),\"\",PFS_PFD_SelectionTool!C361)","v":""},{"$f":"IF(ISBLANK(PFS_PFD_SelectionTool!D361),\"\",PFS_PFD_SelectionTool!D361)","v":""},{"$f":"IF(ISBLANK(PFS_PFD_SelectionTool!E361&\"_\"&PFS_PFD_SelectionTool!F361&\"_\"&PFS_PFD_SelectionTool!G361&\"_\"&PFS_PFD_SelectionTool!H361&\"_\"&PFS_PFD_SelectionTool!I361&\"_\"&PFS_PFD_SelectionTool!J361),\"\",PFS_PFD_SelectionTool!E361&\"_\"&PFS_PFD_SelectionTool!F361&\"_\"&PFS_PFD_SelectionTool!G361&\"_\"&PFS_PFD_SelectionTool!H361&\"_\"&PFS_PFD_SelectionTool!I361&\"_\"&PFS_PFD_SelectionTool!J361)","v":"_____"},{"$f":"IF(ISBLANK(PFS_PFD_SelectionTool!K361),\"\",PFS_PFD_SelectionTool!K361)","v":""},{"$f":"VLOOKUP(D345,Tabelle1!A:B,2,FALSE)","v":{"$error":"#N/A"}},{"$f":"IF(ISBLANK(PFS_PFD_SelectionTool!N386),\"\",PFS_PFD_SelectionTool!N386)","v":""},{"$f":"IF(ISBLANK(PFS_PFD_SelectionTool!O386),\"\",PFS_PFD_SelectionTool!O386)","v":""}]
[{"$f":"IF(ISBLANK(PFS_PFD_SelectionTool!C362),\"\",PFS_PFD_SelectionTool!C362)","v":""},{"$f":"IF(ISBLANK(PFS_PFD_SelectionTool!D362),\"\",PFS_PFD_SelectionTool!D362)","v":""},{"$f":"IF(ISBLANK(PFS_PFD_SelectionTool!E362&\"_\"&PFS_PFD_SelectionTool!F362&\"_\"&PFS_PFD_SelectionTool!G362&\"_\"&PFS_PFD_SelectionTool!H362&\"_\"&PFS_PFD_SelectionTool!I362&\"_\"&PFS_PFD_SelectionTool!J362),\"\",PFS_PFD_SelectionTool!E362&\"_\"&PFS_PFD_SelectionTool!F362&\"_\"&PFS_PFD_SelectionTool!G362&\"_\"&PFS_PFD_SelectionTool!H362&\"_\"&PFS_PFD_SelectionTool!I362&\"_\"&PFS_PFD_SelectionTool!J362)","v":"_____"},{"$f":"IF(ISBLANK(PFS_PFD_SelectionTool!K362),\"\",PFS_PFD_SelectionTool!K362)","v":""},{"$f":"VLOOKUP(D346,Tabelle1!A:B,2,FALSE)","v":{"$error":"#N/A"}},{"$f":"IF(ISBLANK(PFS_PFD_SelectionTool!N387),\"\",PFS_PFD_SelectionTool!N387)","v":""},{"$f":"IF(ISBLANK(PFS_PFD_SelectionTool!O387),\"\",PFS_PFD_SelectionTool!O387)","v":""}]
[{"$f":"IF(ISBLANK(PFS_PFD_SelectionTool!C363),\"\",PFS_PFD_SelectionTool!C363)","v":""},{"$f":"IF(ISBLANK(PFS_PFD_SelectionTool!D363),\"\",PFS_PFD_SelectionTool!D363)","v":""},{"$f":"IF(ISBLANK(PFS_PFD_SelectionTool!E363&\"_\"&PFS_PFD_SelectionTool!F363&\"_\"&PFS_PFD_SelectionTool!G363&\"_\"&PFS_PFD_SelectionTool!H363&\"_\"&PFS_PFD_SelectionTool!I363&\"_\"&PFS_PFD_SelectionTool!J363),\"\",PFS_PFD_SelectionTool!E363&\"_\"&PFS_PFD_SelectionTool!F363&\"_\"&PFS_PFD_SelectionTool!G363&\"_\"&PFS_PFD_SelectionTool!H363&\"_\"&PFS_PFD_SelectionTool!I363&\"_\"&PFS_PFD_SelectionTool!J363)","v":"_____"},{"$f":"IF(ISBLANK(PFS_PFD_SelectionTool!K363),\"\",PFS_PFD_SelectionTool!K363)","v":""},{"$f":"VLOOKUP(D347,Tabelle1!A:B,2,FALSE)","v":{"$error":"#N/A"}},{"$f":"IF(ISBLANK(PFS_PFD_SelectionTool!N388),\"\",PFS_PFD_SelectionTool!N388)","v":""},{"$f":"IF(ISBLANK(PFS_PFD_SelectionTool!O388),\"\",PFS_PFD_SelectionTool!O388)","v":""}]
[{"$f":"IF(ISBLANK(PFS_PFD_SelectionTool!C364),\"\",PFS_PFD_SelectionTool!C364)","v":""},{"$f":"IF(ISBLANK(PFS_PFD_SelectionTool!D364),\"\",PFS_PFD_SelectionTool!D364)","v":""},{"$f":"IF(ISBLANK(PFS_PFD_SelectionTool!E364&\"_\"&PFS_PFD_SelectionTool!F364&\"_\"&PFS_PFD_SelectionTool!G364&\"_\"&PFS_PFD_SelectionTool!H364&\"_\"&PFS_PFD_SelectionTool!I364&\"_\"&PFS_PFD_SelectionTool!J364),\"\",PFS_PFD_SelectionTool!E364&\"_\"&PFS_PFD_SelectionTool!F364&\"_\"&PFS_PFD_SelectionTool!G364&\"_\"&PFS_PFD_SelectionTool!H364&\"_\"&PFS_PFD_SelectionTool!I364&\"_\"&PFS_PFD_SelectionTool!J364)","v":"_____"},{"$f":"IF(ISBLANK(PFS_PFD_SelectionTool!K364),\"\",PFS_PFD_SelectionTool!K364)","v":""},{"$f":"VLOOKUP(D348,Tabelle1!A:B,2,FALSE)","v":{"$error":"#N/A"}},{"$f":"IF(ISBLANK(PFS_PFD_SelectionTool!N389),\"\",PFS_PFD_SelectionTool!N389)","v":""},{"$f":"IF(ISBLANK(PFS_PFD_SelectionTool!O389),\"\",PFS_PFD_SelectionTool!O389)","v":""}]
[{"$f":"IF(ISBLANK(PFS_PFD_SelectionTool!C365),\"\",PFS_PFD_SelectionTool!C365)","v":""},{"$f":"IF(ISBLANK(PFS_PFD_SelectionTool!D365),\"\",PFS_PFD_SelectionTool!D365)","v":""},{"$f":"IF(ISBLANK(PFS_PFD_SelectionTool!E365&\"_\"&PFS_PFD_SelectionTool!F365&\"_\"&PFS_PFD_SelectionTool!G365&\"_\"&PFS_PFD_SelectionTool!H365&\"_\"&PFS_PFD_SelectionTool!I365&\"_\"&PFS_PFD_SelectionTool!J365),\"\",PFS_PFD_SelectionTool!E365&\"_\"&PFS_PFD_SelectionTool!F365&\"_\"&PFS_PFD_SelectionTool!G365&\"_\"&PFS_PFD_SelectionTool!H365&\"_\"&PFS_PFD_SelectionTool!I365&\"_\"&PFS_PFD_SelectionTool!J365)","v":"_____"},{"$f":"IF(ISBLANK(PFS_PFD_SelectionTool!K365),\"\",PFS_PFD_SelectionTool!K365)","v":""},{"$f":"VLOOKUP(D349,Tabelle1!A:B,2,FALSE)","v":{"$error":"#N/A"}},{"$f":"IF(ISBLANK(PFS_PFD_SelectionTool!N390),\"\",PFS_PFD_SelectionTool!N390)","v":""},{"$f":"IF(ISBLANK(PFS_PFD_SelectionTool!O390),\"\",PFS_PFD_SelectionTool!O390)","v":""}]
[{"$f":"IF(ISBLANK(PFS_PFD_SelectionTool!C366),\"\",PFS_PFD_SelectionTool!C366)","v":""},{"$f":"IF(ISBLANK(PFS_PFD_SelectionTool!D366),\"\",PFS_PFD_SelectionTool!D366)","v":""},{"$f":"IF(ISBLANK(PFS_PFD_SelectionTool!E366&\"_\"&PFS_PFD_SelectionTool!F366&\"_\"&PFS_PFD_SelectionTool!G366&\"_\"&PFS_PFD_SelectionTool!H366&\"_\"&PFS_PFD_SelectionTool!I366&\"_\"&PFS_PFD_SelectionTool!J366),\"\",PFS_PFD_SelectionTool!E366&\"_\"&PFS_PFD_SelectionTool!F366&\"_\"&PFS_PFD_SelectionTool!G366&\"_\"&PFS_PFD_SelectionTool!H366&\"_\"&PFS_PFD_SelectionTool!I366&\"_\"&PFS_PFD_SelectionTool!J366)","v":"_____"},{"$f":"IF(ISBLANK(PFS_PFD_SelectionTool!K366),\"\",PFS_PFD_SelectionTool!K366)","v":""},{"$f":"VLOOKUP(D350,Tabelle1!A:B,2,FALSE)","v":{"$error":"#N/A"}},{"$f":"IF(ISBLANK(PFS_PFD_SelectionTool!N391),\"\",PFS_PFD_SelectionTool!N391)","v":""},{"$f":"IF(ISBLANK(PFS_PFD_SelectionTool!O391),\"\",PFS_PFD_SelectionTool!O391)","v":""}]
[{"$f":"IF(ISBLANK(PFS_PFD_SelectionTool!C367),\"\",PFS_PFD_SelectionTool!C367)","v":""},{"$f":"IF(ISBLANK(PFS_PFD_SelectionTool!D367),\"\",PFS_PFD_SelectionTool!D367)","v":""},{"$f":"IF(ISBLANK(PFS_PFD_SelectionTool!E367&\"_\"&PFS_PFD_SelectionTool!F367&\"_\"&PFS_PFD_SelectionTool!G367&\"_\"&PFS_PFD_SelectionTool!H367&\"_\"&PFS_PFD_SelectionTool!I367&\"_\"&PFS_PFD_SelectionTool!J367),\"\",PFS_PFD_SelectionTool!E367&\"_\"&PFS_PFD_SelectionTool!F367&\"_\"&PFS_PFD_SelectionTool!G367&\"_\"&PFS_PFD_SelectionTool!H367&\"_\"&PFS_PFD_SelectionTool!I367&\"_\"&PFS_PFD_SelectionTool!J367)","v":"_____"},{"$f":"IF(ISBLANK(PFS_PFD_SelectionTool!K367),\"\",PFS_PFD_SelectionTool!K367)","v":""},{"$f":"VLOOKUP(D351,Tabelle1!A:B,2,FALSE)","v":{"$error":"#N/A"}},{"$f":"IF(ISBLANK(PFS_PFD_SelectionTool!N392),\"\",PFS_PFD_SelectionTool!N392)","v":""},{"$f":"IF(ISBLANK(PFS_PFD_SelectionTool!O392),\"\",PFS_PFD_SelectionTool!O392)","v":""}]
[{"$f":"IF(ISBLANK(PFS_PFD_SelectionTool!C368),\"\",PFS_PFD_SelectionTool!C368)","v":""},{"$f":"IF(ISBLANK(PFS_PFD_SelectionTool!D368),\"\",PFS_PFD_SelectionTool!D368)","v":""},{"$f":"IF(ISBLANK(PFS_PFD_SelectionTool!E368&\"_\"&PFS_PFD_SelectionTool!F368&\"_\"&PFS_PFD_SelectionTool!G368&\"_\"&PFS_PFD_SelectionTool!H368&\"_\"&PFS_PFD_SelectionTool!I368&\"_\"&PFS_PFD_SelectionTool!J368),\"\",PFS_PFD_SelectionTool!E368&\"_\"&PFS_PFD_SelectionTool!F368&\"_\"&PFS_PFD_SelectionTool!G368&\"_\"&PFS_PFD_SelectionTool!H368&\"_\"&PFS_PFD_SelectionTool!I368&\"_\"&PFS_PFD_SelectionTool!J368)","v":"_____"},{"$f":"IF(ISBLANK(PFS_PFD_SelectionTool!K368),\"\",PFS_PFD_SelectionTool!K368)","v":""},{"$f":"VLOOKUP(D352,Tabelle1!A:B,2,FALSE)","v":{"$error":"#N/A"}},{"$f":"IF(ISBLANK(PFS_PFD_SelectionTool!N393),\"\",PFS_PFD_SelectionTool!N393)","v":""},{"$f":"IF(ISBLANK(PFS_PFD_SelectionTool!O393),\"\",PFS_PFD_SelectionTool!O393)","v":""}]
[{"$f":"IF(ISBLANK(PFS_PFD_SelectionTool!C369),\"\",PFS_PFD_SelectionTool!C369)","v":""},{"$f":"IF(ISBLANK(PFS_PFD_SelectionTool!D369),\"\",PFS_PFD_SelectionTool!D369)","v":""},{"$f":"IF(ISBLANK(PFS_PFD_SelectionTool!E369&\"_\"&PFS_PFD_SelectionTool!F369&\"_\"&PFS_PFD_SelectionTool!G369&\"_\"&PFS_PFD_SelectionTool!H369&\"_\"&PFS_PFD_SelectionTool!I369&\"_\"&PFS_PFD_SelectionTool!J369),\"\",PFS_PFD_SelectionTool!E369&\"_\"&PFS_PFD_SelectionTool!F369&\"_\"&PFS_PFD_SelectionTool!G369&\"_\"&PFS_PFD_SelectionTool!H369&\"_\"&PFS_PFD_SelectionTool!I369&\"_\"&PFS_PFD_SelectionTool!J369)","v":"_____"},{"$f":"IF(ISBLANK(PFS_PFD_SelectionTool!K369),\"\",PFS_PFD_SelectionTool!K369)","v":""},{"$f":"VLOOKUP(D353,Tabelle1!A:B,2,FALSE)","v":{"$error":"#N/A"}},{"$f":"IF(ISBLANK(PFS_PFD_SelectionTool!N394),\"\",PFS_PFD_SelectionTool!N394)","v":""},{"$f":"IF(ISBLANK(PFS_PFD_SelectionTool!O394),\"\",PFS_PFD_SelectionTool!O394)","v":""}]
[{"$f":"IF(ISBLANK(PFS_PFD_SelectionTool!C370),\"\",PFS_PFD_SelectionTool!C370)","v":""},{"$f":"IF(ISBLANK(PFS_PFD_SelectionTool!D370),\"\",PFS_PFD_SelectionTool!D370)","v":""},{"$f":"IF(ISBLANK(PFS_PFD_SelectionTool!E370&\"_\"&PFS_PFD_SelectionTool!F370&\"_\"&PFS_PFD_SelectionTool!G370&\"_\"&PFS_PFD_SelectionTool!H370&\"_\"&PFS_PFD_SelectionTool!I370&\"_\"&PFS_PFD_SelectionTool!J370),\"\",PFS_PFD_SelectionTool!E370&\"_\"&PFS_PFD_SelectionTool!F370&\"_\"&PFS_PFD_SelectionTool!G370&\"_\"&PFS_PFD_SelectionTool!H370&\"_\"&PFS_PFD_SelectionTool!I370&\"_\"&PFS_PFD_SelectionTool!J370)","v":"_____"},{"$f":"IF(ISBLANK(PFS_PFD_SelectionTool!K370),\"\",PFS_PFD_SelectionTool!K370)","v":""},{"$f":"VLOOKUP(D354,Tabelle1!A:B,2,FALSE)","v":{"$error":"#N/A"}},{"$f":"IF(ISBLANK(PFS_PFD_SelectionTool!N395),\"\",PFS_PFD_SelectionTool!N395)","v":""},{"$f":"IF(ISBLANK(PFS_PFD_SelectionTool!O395),\"\",PFS_PFD_SelectionTool!O395)","v":""}]
[{"$f":"IF(ISBLANK(PFS_PFD_SelectionTool!C371),\"\",PFS_PFD_SelectionTool!C371)","v":""},{"$f":"IF(ISBLANK(PFS_PFD_SelectionTool!D371),\"\",PFS_PFD_SelectionTool!D371)","v":""},{"$f":"IF(ISBLANK(PFS_PFD_SelectionTool!E371&\"_\"&PFS_PFD_SelectionTool!F371&\"_\"&PFS_PFD_SelectionTool!G371&\"_\"&PFS_PFD_SelectionTool!H371&\"_\"&PFS_PFD_SelectionTool!I371&\"_\"&PFS_PFD_SelectionTool!J371),\"\",PFS_PFD_SelectionTool!E371&\"_\"&PFS_PFD_SelectionTool!F371&\"_\"&PFS_PFD_SelectionTool!G371&\"_\"&PFS_PFD_SelectionTool!H371&\"_\"&PFS_PFD_SelectionTool!I371&\"_\"&PFS_PFD_SelectionTool!J371)","v":"_____"},{"$f":"IF(ISBLANK(PFS_PFD_SelectionTool!K371),\"\",PFS_PFD_SelectionTool!K371)","v":""},{"$f":"VLOOKUP(D355,Tabelle1!A:B,2,FALSE)","v":{"$error":"#N/A"}},{"$f":"IF(ISBLANK(PFS_PFD_SelectionTool!N396),\"\",PFS_PFD_SelectionTool!N396)","v":""},{"$f":"IF(ISBLANK(PFS_PFD_SelectionTool!O396),\"\",PFS_PFD_SelectionTool!O396)","v":""}]
[{"$f":"IF(ISBLANK(PFS_PFD_SelectionTool!C372),\"\",PFS_PFD_SelectionTool!C372)","v":""},{"$f":"IF(ISBLANK(PFS_PFD_SelectionTool!D372),\"\",PFS_PFD_SelectionTool!D372)","v":""},{"$f":"IF(ISBLANK(PFS_PFD_SelectionTool!E372&\"_\"&PFS_PFD_SelectionTool!F372&\"_\"&PFS_PFD_SelectionTool!G372&\"_\"&PFS_PFD_SelectionTool!H372&\"_\"&PFS_PFD_SelectionTool!I372&\"_\"&PFS_PFD_SelectionTool!J372),\"\",PFS_PFD_SelectionTool!E372&\"_\"&PFS_PFD_SelectionTool!F372&\"_\"&PFS_PFD_SelectionTool!G372&\"_\"&PFS_PFD_SelectionTool!H372&\"_\"&PFS_PFD_SelectionTool!I372&\"_\"&PFS_PFD_SelectionTool!J372)","v":"_____"},{"$f":"IF(ISBLANK(PFS_PFD_SelectionTool!K372),\"\",PFS_PFD_SelectionTool!K372)","v":""},{"$f":"VLOOKUP(D356,Tabelle1!A:B,2,FALSE)","v":{"$error":"#N/A"}},{"$f":"IF(ISBLANK(PFS_PFD_SelectionTool!N397),\"\",PFS_PFD_SelectionTool!N397)","v":""},{"$f":"IF(ISBLANK(PFS_PFD_SelectionTool!O397),\"\",PFS_PFD_SelectionTool!O397)","v":""}]
[{"$f":"IF(ISBLANK(PFS_PFD_SelectionTool!C373),\"\",PFS_PFD_SelectionTool!C373)","v":""},{"$f":"IF(ISBLANK(PFS_PFD_SelectionTool!D373),\"\",PFS_PFD_SelectionTool!D373)","v":""},{"$f":"IF(ISBLANK(PFS_PFD_SelectionTool!E373&\"_\"&PFS_PFD_SelectionTool!F373&\"_\"&PFS_PFD_SelectionTool!G373&\"_\"&PFS_PFD_SelectionTool!H373&\"_\"&PFS_PFD_SelectionTool!I373&\"_\"&PFS_PFD_SelectionTool!J373),\"\",PFS_PFD_SelectionTool!E373&\"_\"&PFS_PFD_SelectionTool!F373&\"_\"&PFS_PFD_SelectionTool!G373&\"_\"&PFS_PFD_SelectionTool!H373&\"_\"&PFS_PFD_SelectionTool!I373&\"_\"&PFS_PFD_SelectionTool!J373)","v":"_____"},{"$f":"IF(ISBLANK(PFS_PFD_SelectionTool!K373),\"\",PFS_PFD_SelectionTool!K373)","v":""},{"$f":"VLOOKUP(D357,Tabelle1!A:B,2,FALSE)","v":{"$error":"#N/A"}},{"$f":"IF(ISBLANK(PFS_PFD_SelectionTool!N398),\"\",PFS_PFD_SelectionTool!N398)","v":""},{"$f":"IF(ISBLANK(PFS_PFD_SelectionTool!O398),\"\",PFS_PFD_SelectionTool!O398)","v":""}]
[{"$f":"IF(ISBLANK(PFS_PFD_SelectionTool!C374),\"\",PFS_PFD_SelectionTool!C374)","v":""},{"$f":"IF(ISBLANK(PFS_PFD_SelectionTool!D374),\"\",PFS_PFD_SelectionTool!D374)","v":""},{"$f":"IF(ISBLANK(PFS_PFD_SelectionTool!E374&\"_\"&PFS_PFD_SelectionTool!F374&\"_\"&PFS_PFD_SelectionTool!G374&\"_\"&PFS_PFD_SelectionTool!H374&\"_\"&PFS_PFD_SelectionTool!I374&\"_\"&PFS_PFD_SelectionTool!J374),\"\",PFS_PFD_SelectionTool!E374&\"_\"&PFS_PFD_SelectionTool!F374&\"_\"&PFS_PFD_SelectionTool!G374&\"_\"&PFS_PFD_SelectionTool!H374&\"_\"&PFS_PFD_SelectionTool!I374&\"_\"&PFS_PFD_SelectionTool!J374)","v":"_____"},{"$f":"IF(ISBLANK(PFS_PFD_SelectionTool!K374),\"\",PFS_PFD_SelectionTool!K374)","v":""},{"$f":"VLOOKUP(D358,Tabelle1!A:B,2,FALSE)","v":{"$error":"#N/A"}},{"$f":"IF(ISBLANK(PFS_PFD_SelectionTool!N399),\"\",PFS_PFD_SelectionTool!N399)","v":""},{"$f":"IF(ISBLANK(PFS_PFD_SelectionTool!O399),\"\",PFS_PFD_SelectionTool!O399)","v":""}]
[{"$f":"IF(ISBLANK(PFS_PFD_SelectionTool!C375),\"\",PFS_PFD_SelectionTool!C375)","v":""},{"$f":"IF(ISBLANK(PFS_PFD_SelectionTool!D375),\"\",PFS_PFD_SelectionTool!D375)","v":""},{"$f":"IF(ISBLANK(PFS_PFD_SelectionTool!E375&\"_\"&PFS_PFD_SelectionTool!F375&\"_\"&PFS_PFD_SelectionTool!G375&\"_\"&PFS_PFD_SelectionTool!H375&\"_\"&PFS_PFD_SelectionTool!I375&\"_\"&PFS_PFD_SelectionTool!J375),\"\",PFS_PFD_SelectionTool!E375&\"_\"&PFS_PFD_SelectionTool!F375&\"_\"&PFS_PFD_SelectionTool!G375&\"_\"&PFS_PFD_SelectionTool!H375&\"_\"&PFS_PFD_SelectionTool!I375&\"_\"&PFS_PFD_SelectionTool!J375)","v":"_____"},{"$f":"IF(ISBLANK(PFS_PFD_SelectionTool!K375),\"\",PFS_PFD_SelectionTool!K375)","v":""},{"$f":"VLOOKUP(D359,Tabelle1!A:B,2,FALSE)","v":{"$error":"#N/A"}},{"$f":"IF(ISBLANK(PFS_PFD_SelectionTool!N400),\"\",PFS_PFD_SelectionTool!N400)","v":""},{"$f":"IF(ISBLANK(PFS_PFD_SelectionTool!O400),\"\",PFS_PFD_SelectionTool!O400)","v":""}]
[{"$f":"IF(ISBLANK(PFS_PFD_SelectionTool!C376),\"\",PFS_PFD_SelectionTool!C376)","v":""},{"$f":"IF(ISBLANK(PFS_PFD_SelectionTool!D376),\"\",PFS_PFD_SelectionTool!D376)","v":""},{"$f":"IF(ISBLANK(PFS_PFD_SelectionTool!E376&\"_\"&PFS_PFD_SelectionTool!F376&\"_\"&PFS_PFD_SelectionTool!G376&\"_\"&PFS_PFD_SelectionTool!H376&\"_\"&PFS_PFD_SelectionTool!I376&\"_\"&PFS_PFD_SelectionTool!J376),\"\",PFS_PFD_SelectionTool!E376&\"_\"&PFS_PFD_SelectionTool!F376&\"_\"&PFS_PFD_SelectionTool!G376&\"_\"&PFS_PFD_SelectionTool!H376&\"_\"&PFS_PFD_SelectionTool!I376&\"_\"&PFS_PFD_SelectionTool!J376)","v":"_____"},{"$f":"IF(ISBLANK(PFS_PFD_SelectionTool!K376),\"\",PFS_PFD_SelectionTool!K376)","v":""},{"$f":"VLOOKUP(D360,Tabelle1!A:B,2,FALSE)","v":{"$error":"#N/A"}},{"$f":"IF(ISBLANK(PFS_PFD_SelectionTool!N401),\"\",PFS_PFD_SelectionTool!N401)","v":""},{"$f":"IF(ISBLANK(PFS_PFD_SelectionTool!O401),\"\",PFS_PFD_SelectionTool!O401)","v":""}]
[{"$f":"IF(ISBLANK(PFS_PFD_SelectionTool!C377),\"\",PFS_PFD_SelectionTool!C377)","v":""},{"$f":"IF(ISBLANK(PFS_PFD_SelectionTool!D377),\"\",PFS_PFD_SelectionTool!D377)","v":""},{"$f":"IF(ISBLANK(PFS_PFD_SelectionTool!E377&\"_\"&PFS_PFD_SelectionTool!F377&\"_\"&PFS_PFD_SelectionTool!G377&\"_\"&PFS_PFD_SelectionTool!H377&\"_\"&PFS_PFD_SelectionTool!I377&\"_\"&PFS_PFD_SelectionTool!J377),\"\",PFS_PFD_SelectionTool!E377&\"_\"&PFS_PFD_SelectionTool!F377&\"_\"&PFS_PFD_SelectionTool!G377&\"_\"&PFS_PFD_SelectionTool!H377&\"_\"&PFS_PFD_SelectionTool!I377&\"_\"&PFS_PFD_SelectionTool!J377)","v":"_____"},{"$f":"IF(ISBLANK(PFS_PFD_SelectionTool!K377),\"\",PFS_PFD_SelectionTool!K377)","v":""},{"$f":"VLOOKUP(D361,Tabelle1!A:B,2,FALSE)","v":{"$error":"#N/A"}},{"$f":"IF(ISBLANK(PFS_PFD_SelectionTool!N402),\"\",PFS_PFD_SelectionTool!N402)","v":""},{"$f":"IF(ISBLANK(PFS_PFD_SelectionTool!O402),\"\",PFS_PFD_SelectionTool!O402)","v":""}]
[{"$f":"IF(ISBLANK(PFS_PFD_SelectionTool!C378),\"\",PFS_PFD_SelectionTool!C378)","v":""},{"$f":"IF(ISBLANK(PFS_PFD_SelectionTool!D378),\"\",PFS_PFD_SelectionTool!D378)","v":""},{"$f":"IF(ISBLANK(PFS_PFD_SelectionTool!E378&\"_\"&PFS_PFD_SelectionTool!F378&\"_\"&PFS_PFD_SelectionTool!G378&\"_\"&PFS_PFD_SelectionTool!H378&\"_\"&PFS_PFD_SelectionTool!I378&\"_\"&PFS_PFD_SelectionTool!J378),\"\",PFS_PFD_SelectionTool!E378&\"_\"&PFS_PFD_SelectionTool!F378&\"_\"&PFS_PFD_SelectionTool!G378&\"_\"&PFS_PFD_SelectionTool!H378&\"_\"&PFS_PFD_SelectionTool!I378&\"_\"&PFS_PFD_SelectionTool!J378)","v":"_____"},{"$f":"IF(ISBLANK(PFS_PFD_SelectionTool!K378),\"\",PFS_PFD_SelectionTool!K378)","v":""},{"$f":"VLOOKUP(D362,Tabelle1!A:B,2,FALSE)","v":{"$error":"#N/A"}},{"$f":"IF(ISBLANK(PFS_PFD_SelectionTool!N403),\"\",PFS_PFD_SelectionTool!N403)","v":""},{"$f":"IF(ISBLANK(PFS_PFD_SelectionTool!O403),\"\",PFS_PFD_SelectionTool!O403)","v":""}]
[{"$f":"IF(ISBLANK(PFS_PFD_SelectionTool!C379),\"\",PFS_PFD_SelectionTool!C379)","v":""},{"$f":"IF(ISBLANK(PFS_PFD_SelectionTool!D379),\"\",PFS_PFD_SelectionTool!D379)","v":""},{"$f":"IF(ISBLANK(PFS_PFD_SelectionTool!E379&\"_\"&PFS_PFD_SelectionTool!F379&\"_\"&PFS_PFD_SelectionTool!G379&\"_\"&PFS_PFD_SelectionTool!H379&\"_\"&PFS_PFD_SelectionTool!I379&\"_\"&PFS_PFD_SelectionTool!J379),\"\",PFS_PFD_SelectionTool!E379&\"_\"&PFS_PFD_SelectionTool!F379&\"_\"&PFS_PFD_SelectionTool!G379&\"_\"&PFS_PFD_SelectionTool!H379&\"_\"&PFS_PFD_SelectionTool!I379&\"_\"&PFS_PFD_SelectionTool!J379)","v":"_____"},{"$f":"IF(ISBLANK(PFS_PFD_SelectionTool!K379),\"\",PFS_PFD_SelectionTool!K379)","v":""},{"$f":"VLOOKUP(D363,Tabelle1!A:B,2,FALSE)","v":{"$error":"#N/A"}},{"$f":"IF(ISBLANK(PFS_PFD_SelectionTool!N404),\"\",PFS_PFD_SelectionTool!N404)","v":""},{"$f":"IF(ISBLANK(PFS_PFD_SelectionTool!O404),\"\",PFS_PFD_SelectionTool!O404)","v":""}]
[{"$f":"IF(ISBLANK(PFS_PFD_SelectionTool!C380),\"\",PFS_PFD_SelectionTool!C380)","v":""},{"$f":"IF(ISBLANK(PFS_PFD_SelectionTool!D380),\"\",PFS_PFD_SelectionTool!D380)","v":""},{"$f":"IF(ISBLANK(PFS_PFD_SelectionTool!E380&\"_\"&PFS_PFD_SelectionTool!F380&\"_\"&PFS_PFD_SelectionTool!G380&\"_\"&PFS_PFD_SelectionTool!H380&\"_\"&PFS_PFD_SelectionTool!I380&\"_\"&PFS_PFD_SelectionTool!J380),\"\",PFS_PFD_SelectionTool!E380&\"_\"&PFS_PFD_SelectionTool!F380&\"_\"&PFS_PFD_SelectionTool!G380&\"_\"&PFS_PFD_SelectionTool!H380&\"_\"&PFS_PFD_SelectionTool!I380&\"_\"&PFS_PFD_SelectionTool!J380)","v":"_____"},{"$f":"IF(ISBLANK(PFS_PFD_SelectionTool!K380),\"\",PFS_PFD_SelectionTool!K380)","v":""},{"$f":"VLOOKUP(D364,Tabelle1!A:B,2,FALSE)","v":{"$error":"#N/A"}},{"$f":"IF(ISBLANK(PFS_PFD_SelectionTool!N405),\"\",PFS_PFD_SelectionTool!N405)","v":""},{"$f":"IF(ISBLANK(PFS_PFD_SelectionTool!O405),\"\",PFS_PFD_SelectionTool!O405)","v":""}]
[{"$f":"IF(ISBLANK(PFS_PFD_SelectionTool!C381),\"\",PFS_PFD_SelectionTool!C381)","v":""},{"$f":"IF(ISBLANK(PFS_PFD_SelectionTool!D381),\"\",PFS_PFD_SelectionTool!D381)","v":""},{"$f":"IF(ISBLANK(PFS_PFD_SelectionTool!E381&\"_\"&PFS_PFD_SelectionTool!F381&\"_\"&PFS_PFD_SelectionTool!G381&\"_\"&PFS_PFD_SelectionTool!H381&\"_\"&PFS_PFD_SelectionTool!I381&\"_\"&PFS_PFD_SelectionTool!J381),\"\",PFS_PFD_SelectionTool!E381&\"_\"&PFS_PFD_SelectionTool!F381&\"_\"&PFS_PFD_SelectionTool!G381&\"_\"&PFS_PFD_SelectionTool!H381&\"_\"&PFS_PFD_SelectionTool!I381&\"_\"&PFS_PFD_SelectionTool!J381)","v":"_____"},{"$f":"IF(ISBLANK(PFS_PFD_SelectionTool!K381),\"\",PFS_PFD_SelectionTool!K381)","v":""},{"$f":"VLOOKUP(D365,Tabelle1!A:B,2,FALSE)","v":{"$error":"#N/A"}},{"$f":"IF(ISBLANK(PFS_PFD_SelectionTool!N406),\"\",PFS_PFD_SelectionTool!N406)","v":""},{"$f":"IF(ISBLANK(PFS_PFD_SelectionTool!O406),\"\",PFS_PFD_SelectionTool!O406)","v":""}]
[{"$f":"IF(ISBLANK(PFS_PFD_SelectionTool!C382),\"\",PFS_PFD_SelectionTool!C382)","v":""},{"$f":"IF(ISBLANK(PFS_PFD_SelectionTool!D382),\"\",PFS_PFD_SelectionTool!D382)","v":""},{"$f":"IF(ISBLANK(PFS_PFD_SelectionTool!E382&\"_\"&PFS_PFD_SelectionTool!F382&\"_\"&PFS_PFD_SelectionTool!G382&\"_\"&PFS_PFD_SelectionTool!H382&\"_\"&PFS_PFD_SelectionTool!I382&\"_\"&PFS_PFD_SelectionTool!J382),\"\",PFS_PFD_SelectionTool!E382&\"_\"&PFS_PFD_SelectionTool!F382&\"_\"&PFS_PFD_SelectionTool!G382&\"_\"&PFS_PFD_SelectionTool!H382&\"_\"&PFS_PFD_SelectionTool!I382&\"_\"&PFS_PFD_SelectionTool!J382)","v":"_____"},{"$f":"IF(ISBLANK(PFS_PFD_SelectionTool!K382),\"\",PFS_PFD_SelectionTool!K382)","v":""},{"$f":"VLOOKUP(D366,Tabelle1!A:B,2,FALSE)","v":{"$error":"#N/A"}},{"$f":"IF(ISBLANK(PFS_PFD_SelectionTool!N407),\"\",PFS_PFD_SelectionTool!N407)","v":""},{"$f":"IF(ISBLANK(PFS_PFD_SelectionTool!O407),\"\",PFS_PFD_SelectionTool!O407)","v":""}]
[{"$f":"IF(ISBLANK(PFS_PFD_SelectionTool!C383),\"\",PFS_PFD_SelectionTool!C383)","v":""},{"$f":"IF(ISBLANK(PFS_PFD_SelectionTool!D383),\"\",PFS_PFD_SelectionTool!D383)","v":""},{"$f":"IF(ISBLANK(PFS_PFD_SelectionTool!E383&\"_\"&PFS_PFD_SelectionTool!F383&\"_\"&PFS_PFD_SelectionTool!G383&\"_\"&PFS_PFD_SelectionTool!H383&\"_\"&PFS_PFD_SelectionTool!I383&\"_\"&PFS_PFD_SelectionTool!J383),\"\",PFS_PFD_SelectionTool!E383&\"_\"&PFS_PFD_SelectionTool!F383&\"_\"&PFS_PFD_SelectionTool!G383&\"_\"&PFS_PFD_SelectionTool!H383&\"_\"&PFS_PFD_SelectionTool!I383&\"_\"&PFS_PFD_SelectionTool!J383)","v":"_____"},{"$f":"IF(ISBLANK(PFS_PFD_SelectionTool!K383),\"\",PFS_PFD_SelectionTool!K383)","v":""},{"$f":"VLOOKUP(D367,Tabelle1!A:B,2,FALSE)","v":{"$error":"#N/A"}},{"$f":"IF(ISBLANK(PFS_PFD_SelectionTool!N408),\"\",PFS_PFD_SelectionTool!N408)","v":""},{"$f":"IF(ISBLANK(PFS_PFD_SelectionTool!O408),\"\",PFS_PFD_SelectionTool!O408)","v":""}]
[{"$f":"IF(ISBLANK(PFS_PFD_SelectionTool!C384),\"\",PFS_PFD_SelectionTool!C384)","v":""},{"$f":"IF(ISBLANK(PFS_PFD_SelectionTool!D384),\"\",PFS_PFD_SelectionTool!D384)","v":""},{"$f":"IF(ISBLANK(PFS_PFD_SelectionTool!E384&\"_\"&PFS_PFD_SelectionTool!F384&\"_\"&PFS_PFD_SelectionTool!G384&\"_\"&PFS_PFD_SelectionTool!H384&\"_\"&PFS_PFD_SelectionTool!I384&\"_\"&PFS_PFD_SelectionTool!J384),\"\",PFS_PFD_SelectionTool!E384&\"_\"&PFS_PFD_SelectionTool!F384&\"_\"&PFS_PFD_SelectionTool!G384&\"_\"&PFS_PFD_SelectionTool!H384&\"_\"&PFS_PFD_SelectionTool!I384&\"_\"&PFS_PFD_SelectionTool!J384)","v":"_____"},{"$f":"IF(ISBLANK(PFS_PFD_SelectionTool!K384),\"\",PFS_PFD_SelectionTool!K384)","v":""},{"$f":"VLOOKUP(D368,Tabelle1!A:B,2,FALSE)","v":{"$error":"#N/A"}},{"$f":"IF(ISBLANK(PFS_PFD_SelectionTool!N409),\"\",PFS_PFD_SelectionTool!N409)","v":""},{"$f":"IF(ISBLANK(PFS_PFD_SelectionTool!O409),\"\",PFS_PFD_SelectionTool!O409)","v":""}]
[{"$f":"IF(ISBLANK(PFS_PFD_SelectionTool!C385),\"\",PFS_PFD_SelectionTool!C385)","v":""},{"$f":"IF(ISBLANK(PFS_PFD_SelectionTool!D385),\"\",PFS_PFD_SelectionTool!D385)","v":""},{"$f":"IF(ISBLANK(PFS_PFD_SelectionTool!E385&\"_\"&PFS_PFD_SelectionTool!F385&\"_\"&PFS_PFD_SelectionTool!G385&\"_\"&PFS_PFD_SelectionTool!H385&\"_\"&PFS_PFD_SelectionTool!I385&\"_\"&PFS_PFD_SelectionTool!J385),\"\",PFS_PFD_SelectionTool!E385&\"_\"&PFS_PFD_SelectionTool!F385&\"_\"&PFS_PFD_SelectionTool!G385&\"_\"&PFS_PFD_SelectionTool!H385&\"_\"&PFS_PFD_SelectionTool!I385&\"_\"&PFS_PFD_SelectionTool!J385)","v":"_____"},{"$f":"IF(ISBLANK(PFS_PFD_SelectionTool!K385),\"\",PFS_PFD_SelectionTool!K385)","v":""},{"$f":"VLOOKUP(D369,Tabelle1!A:B,2,FALSE)","v":{"$error":"#N/A"}},{"$f":"IF(ISBLANK(PFS_PFD_SelectionTool!N410),\"\",PFS_PFD_SelectionTool!N410)","v":""},{"$f":"IF(ISBLANK(PFS_PFD_SelectionTool!O410),\"\",PFS_PFD_SelectionTool!O410)","v":""}]
[{"$f":"IF(ISBLANK(PFS_PFD_SelectionTool!C386),\"\",PFS_PFD_SelectionTool!C386)","v":""},{"$f":"IF(ISBLANK(PFS_PFD_SelectionTool!D386),\"\",PFS_PFD_SelectionTool!D386)","v":""},{"$f":"IF(ISBLANK(PFS_PFD_SelectionTool!E386&\"_\"&PFS_PFD_SelectionTool!F386&\"_\"&PFS_PFD_SelectionTool!G386&\"_\"&PFS_PFD_SelectionTool!H386&\"_\"&PFS_PFD_SelectionTool!I386&\"_\"&PFS_PFD_SelectionTool!J386),\"\",PFS_PFD_SelectionTool!E386&\"_\"&PFS_PFD_SelectionTool!F386&\"_\"&PFS_PFD_SelectionTool!G386&\"_\"&PFS_PFD_SelectionTool!H386&\"_\"&PFS_PFD_SelectionTool!I386&\"_\"&PFS_PFD_SelectionTool!J386)","v":"_____"},{"$f":"IF(ISBLANK(PFS_PFD_SelectionTool!K386),\"\",PFS_PFD_SelectionTool!K386)","v":""},{"$f":"VLOOKUP(D370,Tabelle1!A:B,2,FALSE)","v":{"$error":"#N/A"}},{"$f":"IF(ISBLANK(PFS_PFD_SelectionTool!N411),\"\",PFS_PFD_SelectionTool!N411)","v":""},{"$f":"IF(ISBLANK(PFS_PFD_SelectionTool!O411),\"\",PFS_PFD_SelectionTool!O411)","v":""}]
[{"$f":"IF(ISBLANK(PFS_PFD_SelectionTool!C387),\"\",PFS_PFD_SelectionTool!C387)","v":""},{"$f":"IF(ISBLANK(PFS_PFD_SelectionTool!D387),\"\",PFS_PFD_SelectionTool!D387)","v":""},{"$f":"IF(ISBLANK(PFS_PFD_SelectionTool!E387&\"_\"&PFS_PFD_SelectionTool!F387&\"_\"&PFS_PFD_SelectionTool!G387&\"_\"&PFS_PFD_SelectionTool!H387&\"_\"&PFS_PFD_SelectionTool!I387&\"_\"&PFS_PFD_SelectionTool!J387),\"\",PFS_PFD_SelectionTool!E387&\"_\"&PFS_PFD_SelectionTool!F387&\"_\"&PFS_PFD_SelectionTool!G387&\"_\"&PFS_PFD_SelectionTool!H387&\"_\"&PFS_PFD_SelectionTool!I387&\"_\"&PFS_PFD_SelectionTool!J387)","v":"_____"},{"$f":"IF(ISBLANK(PFS_PFD_SelectionTool!K387),\"\",PFS_PFD_SelectionTool!K387)","v":""},{"$f":"VLOOKUP(D371,Tabelle1!A:B,2,FALSE)","v":{"$error":"#N/A"}},{"$f":"IF(ISBLANK(PFS_PFD_SelectionTool!N412),\"\",PFS_PFD_SelectionTool!N412)","v":""},{"$f":"IF(ISBLANK(PFS_PFD_SelectionTool!O412),\"\",PFS_PFD_SelectionTool!O412)","v":""}]
[{"$f":"IF(ISBLANK(PFS_PFD_SelectionTool!C388),\"\",PFS_PFD_SelectionTool!C388)","v":""},{"$f":"IF(ISBLANK(PFS_PFD_SelectionTool!D388),\"\",PFS_PFD_SelectionTool!D388)","v":""},{"$f":"IF(ISBLANK(PFS_PFD_SelectionTool!E388&\"_\"&PFS_PFD_SelectionTool!F388&\"_\"&PFS_PFD_SelectionTool!G388&\"_\"&PFS_PFD_SelectionTool!H388&\"_\"&PFS_PFD_SelectionTool!I388&\"_\"&PFS_PFD_SelectionTool!J388),\"\",PFS_PFD_SelectionTool!E388&\"_\"&PFS_PFD_SelectionTool!F388&\"_\"&PFS_PFD_SelectionTool!G388&\"_\"&PFS_PFD_SelectionTool!H388&\"_\"&PFS_PFD_SelectionTool!I388&\"_\"&PFS_PFD_SelectionTool!J388)","v":"_____"},{"$f":"IF(ISBLANK(PFS_PFD_SelectionTool!K388),\"\",PFS_PFD_SelectionTool!K388)","v":""},{"$f":"VLOOKUP(D372,Tabelle1!A:B,2,FALSE)","v":{"$error":"#N/A"}},{"$f":"IF(ISBLANK(PFS_PFD_SelectionTool!N413),\"\",PFS_PFD_SelectionTool!N413)","v":""},{"$f":"IF(ISBLANK(PFS_PFD_SelectionTool!O413),\"\",PFS_PFD_SelectionTool!O413)","v":""}]
[{"$f":"IF(ISBLANK(PFS_PFD_SelectionTool!C389),\"\",PFS_PFD_SelectionTool!C389)","v":""},{"$f":"IF(ISBLANK(PFS_PFD_SelectionTool!D389),\"\",PFS_PFD_SelectionTool!D389)","v":""},{"$f":"IF(ISBLANK(PFS_PFD_SelectionTool!E389&\"_\"&PFS_PFD_SelectionTool!F389&\"_\"&PFS_PFD_SelectionTool!G389&\"_\"&PFS_PFD_SelectionTool!H389&\"_\"&PFS_PFD_SelectionTool!I389&\"_\"&PFS_PFD_SelectionTool!J389),\"\",PFS_PFD_SelectionTool!E389&\"_\"&PFS_PFD_SelectionTool!F389&\"_\"&PFS_PFD_SelectionTool!G389&\"_\"&PFS_PFD_SelectionTool!H389&\"_\"&PFS_PFD_SelectionTool!I389&\"_\"&PFS_PFD_SelectionTool!J389)","v":"_____"},{"$f":"IF(ISBLANK(PFS_PFD_SelectionTool!K389),\"\",PFS_PFD_SelectionTool!K389)","v":""},{"$f":"VLOOKUP(D373,Tabelle1!A:B,2,FALSE)","v":{"$error":"#N/A"}},{"$f":"IF(ISBLANK(PFS_PFD_SelectionTool!N414),\"\",PFS_PFD_SelectionTool!N414)","v":""},{"$f":"IF(ISBLANK(PFS_PFD_SelectionTool!O414),\"\",PFS_PFD_SelectionTool!O414)","v":""}]
[{"$f":"IF(ISBLANK(PFS_PFD_SelectionTool!C390),\"\",PFS_PFD_SelectionTool!C390)","v":""},{"$f":"IF(ISBLANK(PFS_PFD_SelectionTool!D390),\"\",PFS_PFD_SelectionTool!D390)","v":""},{"$f":"IF(ISBLANK(PFS_PFD_SelectionTool!E390&\"_\"&PFS_PFD_SelectionTool!F390&\"_\"&PFS_PFD_SelectionTool!G390&\"_\"&PFS_PFD_SelectionTool!H390&\"_\"&PFS_PFD_SelectionTool!I390&\"_\"&PFS_PFD_SelectionTool!J390),\"\",PFS_PFD_SelectionTool!E390&\"_\"&PFS_PFD_SelectionTool!F390&\"_\"&PFS_PFD_SelectionTool!G390&\"_\"&PFS_PFD_SelectionTool!H390&\"_\"&PFS_PFD_SelectionTool!I390&\"_\"&PFS_PFD_SelectionTool!J390)","v":"_____"},{"$f":"IF(ISBLANK(PFS_PFD_SelectionTool!K390),\"\",PFS_PFD_SelectionTool!K390)","v":""},{"$f":"VLOOKUP(D374,Tabelle1!A:B,2,FALSE)","v":{"$error":"#N/A"}},{"$f":"IF(ISBLANK(PFS_PFD_SelectionTool!N415),\"\",PFS_PFD_SelectionTool!N415)","v":""},{"$f":"IF(ISBLANK(PFS_PFD_SelectionTool!O415),\"\",PFS_PFD_SelectionTool!O415)","v":""}]
[{"$f":"IF(ISBLANK(PFS_PFD_SelectionTool!C391),\"\",PFS_PFD_SelectionTool!C391)","v":""},{"$f":"IF(ISBLANK(PFS_PFD_SelectionTool!D391),\"\",PFS_PFD_SelectionTool!D391)","v":""},{"$f":"IF(ISBLANK(PFS_PFD_SelectionTool!E391&\"_\"&PFS_PFD_SelectionTool!F391&\"_\"&PFS_PFD_SelectionTool!G391&\"_\"&PFS_PFD_SelectionTool!H391&\"_\"&PFS_PFD_SelectionTool!I391&\"_\"&PFS_PFD_SelectionTool!J391),\"\",PFS_PFD_SelectionTool!E391&\"_\"&PFS_PFD_SelectionTool!F391&\"_\"&PFS_PFD_SelectionTool!G391&\"_\"&PFS_PFD_SelectionTool!H391&\"_\"&PFS_PFD_SelectionTool!I391&\"_\"&PFS_PFD_SelectionTool!J391)","v":"_____"},{"$f":"IF(ISBLANK(PFS_PFD_SelectionTool!K391),\"\",PFS_PFD_SelectionTool!K391)","v":""},{"$f":"VLOOKUP(D375,Tabelle1!A:B,2,FALSE)","v":{"$error":"#N/A"}},{"$f":"IF(ISBLANK(PFS_PFD_SelectionTool!N416),\"\",PFS_PFD_SelectionTool!N416)","v":""},{"$f":"IF(ISBLANK(PFS_PFD_SelectionTool!O416),\"\",PFS_PFD_SelectionTool!O416)","v":""}]
[{"$f":"IF(ISBLANK(PFS_PFD_SelectionTool!C392),\"\",PFS_PFD_SelectionTool!C392)","v":""},{"$f":"IF(ISBLANK(PFS_PFD_SelectionTool!D392),\"\",PFS_PFD_SelectionTool!D392)","v":""},{"$f":"IF(ISBLANK(PFS_PFD_SelectionTool!E392&\"_\"&PFS_PFD_SelectionTool!F392&\"_\"&PFS_PFD_SelectionTool!G392&\"_\"&PFS_PFD_SelectionTool!H392&\"_\"&PFS_PFD_SelectionTool!I392&\"_\"&PFS_PFD_SelectionTool!J392),\"\",PFS_PFD_SelectionTool!E392&\"_\"&PFS_PFD_SelectionTool!F392&\"_\"&PFS_PFD_SelectionTool!G392&\"_\"&PFS_PFD_SelectionTool!H392&\"_\"&PFS_PFD_SelectionTool!I392&\"_\"&PFS_PFD_SelectionTool!J392)","v":"_____"},{"$f":"IF(ISBLANK(PFS_PFD_SelectionTool!K392),\"\",PFS_PFD_SelectionTool!K392)","v":""},{"$f":"VLOOKUP(D376,Tabelle1!A:B,2,FALSE)","v":{"$error":"#N/A"}},{"$f":"IF(ISBLANK(PFS_PFD_SelectionTool!N417),\"\",PFS_PFD_SelectionTool!N417)","v":""},{"$f":"IF(ISBLANK(PFS_PFD_SelectionTool!O417),\"\",PFS_PFD_SelectionTool!O417)","v":""}]
[{"$f":"IF(ISBLANK(PFS_PFD_SelectionTool!C393),\"\",PFS_PFD_SelectionTool!C393)","v":""},{"$f":"IF(ISBLANK(PFS_PFD_SelectionTool!D393),\"\",PFS_PFD_SelectionTool!D393)","v":""},{"$f":"IF(ISBLANK(PFS_PFD_SelectionTool!E393&\"_\"&PFS_PFD_SelectionTool!F393&\"_\"&PFS_PFD_SelectionTool!G393&\"_\"&PFS_PFD_SelectionTool!H393&\"_\"&PFS_PFD_SelectionTool!I393&\"_\"&PFS_PFD_SelectionTool!J393),\"\",PFS_PFD_SelectionTool!E393&\"_\"&PFS_PFD_SelectionTool!F393&\"_\"&PFS_PFD_SelectionTool!G393&\"_\"&PFS_PFD_SelectionTool!H393&\"_\"&PFS_PFD_SelectionTool!I393&\"_\"&PFS_PFD_SelectionTool!J393)","v":"_____"},{"$f":"IF(ISBLANK(PFS_PFD_SelectionTool!K393),\"\",PFS_PFD_SelectionTool!K393)","v":""},{"$f":"VLOOKUP(D377,Tabelle1!A:B,2,FALSE)","v":{"$error":"#N/A"}},{"$f":"IF(ISBLANK(PFS_PFD_SelectionTool!N418),\"\",PFS_PFD_SelectionTool!N418)","v":""},{"$f":"IF(ISBLANK(PFS_PFD_SelectionTool!O418),\"\",PFS_PFD_SelectionTool!O418)","v":""}]
[{"$f":"IF(ISBLANK(PFS_PFD_SelectionTool!C394),\"\",PFS_PFD_SelectionTool!C394)","v":""},{"$f":"IF(ISBLANK(PFS_PFD_SelectionTool!D394),\"\",PFS_PFD_SelectionTool!D394)","v":""},{"$f":"IF(ISBLANK(PFS_PFD_SelectionTool!E394&\"_\"&PFS_PFD_SelectionTool!F394&\"_\"&PFS_PFD_SelectionTool!G394&\"_\"&PFS_PFD_SelectionTool!H394&\"_\"&PFS_PFD_SelectionTool!I394&\"_\"&PFS_PFD_SelectionTool!J394),\"\",PFS_PFD_SelectionTool!E394&\"_\"&PFS_PFD_SelectionTool!F394&\"_\"&PFS_PFD_SelectionTool!G394&\"_\"&PFS_PFD_SelectionTool!H394&\"_\"&PFS_PFD_SelectionTool!I394&\"_\"&PFS_PFD_SelectionTool!J394)","v":"_____"},{"$f":"IF(ISBLANK(PFS_PFD_SelectionTool!K394),\"\",PFS_PFD_SelectionTool!K394)","v":""},{"$f":"VLOOKUP(D378,Tabelle1!A:B,2,FALSE)","v":{"$error":"#N/A"}},{"$f":"IF(ISBLANK(PFS_PFD_SelectionTool!N419),\"\",PFS_PFD_SelectionTool!N419)","v":""},{"$f":"IF(ISBLANK(PFS_PFD_SelectionTool!O419),\"\",PFS_PFD_SelectionTool!O419)","v":""}]
[{"$f":"IF(ISBLANK(PFS_PFD_SelectionTool!C395),\"\",PFS_PFD_SelectionTool!C395)","v":""},{"$f":"IF(ISBLANK(PFS_PFD_SelectionTool!D395),\"\",PFS_PFD_SelectionTool!D395)","v":""},{"$f":"IF(ISBLANK(PFS_PFD_SelectionTool!E395&\"_\"&PFS_PFD_SelectionTool!F395&\"_\"&PFS_PFD_SelectionTool!G395&\"_\"&PFS_PFD_SelectionTool!H395&\"_\"&PFS_PFD_SelectionTool!I395&\"_\"&PFS_PFD_SelectionTool!J395),\"\",PFS_PFD_SelectionTool!E395&\"_\"&PFS_PFD_SelectionTool!F395&\"_\"&PFS_PFD_SelectionTool!G395&\"_\"&PFS_PFD_SelectionTool!H395&\"_\"&PFS_PFD_SelectionTool!I395&\"_\"&PFS_PFD_SelectionTool!J395)","v":"_____"},{"$f":"IF(ISBLANK(PFS_PFD_SelectionTool!K395),\"\",PFS_PFD_SelectionTool!K395)","v":""},{"$f":"VLOOKUP(D379,Tabelle1!A:B,2,FALSE)","v":{"$error":"#N/A"}},{"$f":"IF(ISBLANK(PFS_PFD_SelectionTool!N420),\"\",PFS_PFD_SelectionTool!N420)","v":""},{"$f":"IF(ISBLANK(PFS_PFD_SelectionTool!O420),\"\",PFS_PFD_SelectionTool!O420)","v":""}]
[{"$f":"IF(ISBLANK(PFS_PFD_SelectionTool!C396),\"\",PFS_PFD_SelectionTool!C396)","v":""},{"$f":"IF(ISBLANK(PFS_PFD_SelectionTool!D396),\"\",PFS_PFD_SelectionTool!D396)","v":""},{"$f":"IF(ISBLANK(PFS_PFD_SelectionTool!E396&\"_\"&PFS_PFD_SelectionTool!F396&\"_\"&PFS_PFD_SelectionTool!G396&\"_\"&PFS_PFD_SelectionTool!H396&\"_\"&PFS_PFD_SelectionTool!I396&\"_\"&PFS_PFD_SelectionTool!J396),\"\",PFS_PFD_SelectionTool!E396&\"_\"&PFS_PFD_SelectionTool!F396&\"_\"&PFS_PFD_SelectionTool!G396&\"_\"&PFS_PFD_SelectionTool!H396&\"_\"&PFS_PFD_SelectionTool!I396&\"_\"&PFS_PFD_SelectionTool!J396)","v":"_____"},{"$f":"IF(ISBLANK(PFS_PFD_SelectionTool!K396),\"\",PFS_PFD_SelectionTool!K396)","v":""},{"$f":"VLOOKUP(D380,Tabelle1!A:B,2,FALSE)","v":{"$error":"#N/A"}},{"$f":"IF(ISBLANK(PFS_PFD_SelectionTool!N421),\"\",PFS_PFD_SelectionTool!N421)","v":""},{"$f":"IF(ISBLANK(PFS_PFD_SelectionTool!O421),\"\",PFS_PFD_SelectionTool!O421)","v":""}]
[{"$f":"IF(ISBLANK(PFS_PFD_SelectionTool!C397),\"\",PFS_PFD_SelectionTool!C397)","v":""},{"$f":"IF(ISBLANK(PFS_PFD_SelectionTool!D397),\"\",PFS_PFD_SelectionTool!D397)","v":""},{"$f":"IF(ISBLANK(PFS_PFD_SelectionTool!E397&\"_\"&PFS_PFD_SelectionTool!F397&\"_\"&PFS_PFD_SelectionTool!G397&\"_\"&PFS_PFD_SelectionTool!H397&\"_\"&PFS_PFD_SelectionTool!I397&\"_\"&PFS_PFD_SelectionTool!J397),\"\",PFS_PFD_SelectionTool!E397&\"_\"&PFS_PFD_SelectionTool!F397&\"_\"&PFS_PFD_SelectionTool!G397&\"_\"&PFS_PFD_SelectionTool!H397&\"_\"&PFS_PFD_SelectionTool!I397&\"_\"&PFS_PFD_SelectionTool!J397)","v":"_____"},{"$f":"IF(ISBLANK(PFS_PFD_SelectionTool!K397),\"\",PFS_PFD_SelectionTool!K397)","v":""},{"$f":"VLOOKUP(D381,Tabelle1!A:B,2,FALSE)","v":{"$error":"#N/A"}},{"$f":"IF(ISBLANK(PFS_PFD_SelectionTool!N422),\"\",PFS_PFD_SelectionTool!N422)","v":""},{"$f":"IF(ISBLANK(PFS_PFD_SelectionTool!O422),\"\",PFS_PFD_SelectionTool!O422)","v":""}]
[{"$f":"IF(ISBLANK(PFS_PFD_SelectionTool!C398),\"\",PFS_PFD_SelectionTool!C398)","v":""},{"$f":"IF(ISBLANK(PFS_PFD_SelectionTool!D398),\"\",PFS_PFD_SelectionTool!D398)","v":""},{"$f":"IF(ISBLANK(PFS_PFD_SelectionTool!E398&\"_\"&PFS_PFD_SelectionTool!F398&\"_\"&PFS_PFD_SelectionTool!G398&\"_\"&PFS_PFD_SelectionTool!H398&\"_\"&PFS_PFD_SelectionTool!I398&\"_\"&PFS_PFD_SelectionTool!J398),\"\",PFS_PFD_SelectionTool!E398&\"_\"&PFS_PFD_SelectionTool!F398&\"_\"&PFS_PFD_SelectionTool!G398&\"_\"&PFS_PFD_SelectionTool!H398&\"_\"&PFS_PFD_SelectionTool!I398&\"_\"&PFS_PFD_SelectionTool!J398)","v":"_____"},{"$f":"IF(ISBLANK(PFS_PFD_SelectionTool!K398),\"\",PFS_PFD_SelectionTool!K398)","v":""},{"$f":"VLOOKUP(D382,Tabelle1!A:B,2,FALSE)","v":{"$error":"#N/A"}},{"$f":"IF(ISBLANK(PFS_PFD_SelectionTool!N423),\"\",PFS_PFD_SelectionTool!N423)","v":""},{"$f":"IF(ISBLANK(PFS_PFD_SelectionTool!O423),\"\",PFS_PFD_SelectionTool!O423)","v":""}]
[{"$f":"IF(ISBLANK(PFS_PFD_SelectionTool!C399),\"\",PFS_PFD_SelectionTool!C399)","v":""},{"$f":"IF(ISBLANK(PFS_PFD_SelectionTool!D399),\"\",PFS_PFD_SelectionTool!D399)","v":""},{"$f":"IF(ISBLANK(PFS_PFD_SelectionTool!E399&\"_\"&PFS_PFD_SelectionTool!F399&\"_\"&PFS_PFD_SelectionTool!G399&\"_\"&PFS_PFD_SelectionTool!H399&\"_\"&PFS_PFD_SelectionTool!I399&\"_\"&PFS_PFD_SelectionTool!J399),\"\",PFS_PFD_SelectionTool!E399&\"_\"&PFS_PFD_SelectionTool!F399&\"_\"&PFS_PFD_SelectionTool!G399&\"_\"&PFS_PFD_SelectionTool!H399&\"_\"&PFS_PFD_SelectionTool!I399&\"_\"&PFS_PFD_SelectionTool!J399)","v":"_____"},{"$f":"IF(ISBLANK(PFS_PFD_SelectionTool!K399),\"\",PFS_PFD_SelectionTool!K399)","v":""},{"$f":"VLOOKUP(D383,Tabelle1!A:B,2,FALSE)","v":{"$error":"#N/A"}},{"$f":"IF(ISBLANK(PFS_PFD_SelectionTool!N424),\"\",PFS_PFD_SelectionTool!N424)","v":""},{"$f":"IF(ISBLANK(PFS_PFD_SelectionTool!O424),\"\",PFS_PFD_SelectionTool!O424)","v":""}]
[{"$f":"IF(ISBLANK(PFS_PFD_SelectionTool!C400),\"\",PFS_PFD_SelectionTool!C400)","v":""},{"$f":"IF(ISBLANK(PFS_PFD_SelectionTool!D400),\"\",PFS_PFD_SelectionTool!D400)","v":""},{"$f":"IF(ISBLANK(PFS_PFD_SelectionTool!E400&\"_\"&PFS_PFD_SelectionTool!F400&\"_\"&PFS_PFD_SelectionTool!G400&\"_\"&PFS_PFD_SelectionTool!H400&\"_\"&PFS_PFD_SelectionTool!I400&\"_\"&PFS_PFD_SelectionTool!J400),\"\",PFS_PFD_SelectionTool!E400&\"_\"&PFS_PFD_SelectionTool!F400&\"_\"&PFS_PFD_SelectionTool!G400&\"_\"&PFS_PFD_SelectionTool!H400&\"_\"&PFS_PFD_SelectionTool!I400&\"_\"&PFS_PFD_SelectionTool!J400)","v":"_____"},{"$f":"IF(ISBLANK(PFS_PFD_SelectionTool!K400),\"\",PFS_PFD_SelectionTool!K400)","v":""},{"$f":"VLOOKUP(D384,Tabelle1!A:B,2,FALSE)","v":{"$error":"#N/A"}},{"$f":"IF(ISBLANK(PFS_PFD_SelectionTool!N425),\"\",PFS_PFD_SelectionTool!N425)","v":""},{"$f":"IF(ISBLANK(PFS_PFD_SelectionTool!O425),\"\",PFS_PFD_SelectionTool!O425)","v":""}]
[{"$f":"IF(ISBLANK(PFS_PFD_SelectionTool!C401),\"\",PFS_PFD_SelectionTool!C401)","v":""},{"$f":"IF(ISBLANK(PFS_PFD_SelectionTool!D401),\"\",PFS_PFD_SelectionTool!D401)","v":""},{"$f":"IF(ISBLANK(PFS_PFD_SelectionTool!E401&\"_\"&PFS_PFD_SelectionTool!F401&\"_\"&PFS_PFD_SelectionTool!G401&\"_\"&PFS_PFD_SelectionTool!H401&\"_\"&PFS_PFD_SelectionTool!I401&\"_\"&PFS_PFD_SelectionTool!J401),\"\",PFS_PFD_SelectionTool!E401&\"_\"&PFS_PFD_SelectionTool!F401&\"_\"&PFS_PFD_SelectionTool!G401&\"_\"&PFS_PFD_SelectionTool!H401&\"_\"&PFS_PFD_SelectionTool!I401&\"_\"&PFS_PFD_SelectionTool!J401)","v":"_____"},{"$f":"IF(ISBLANK(PFS_PFD_SelectionTool!K401),\"\",PFS_PFD_SelectionTool!K401)","v":""},{"$f":"VLOOKUP(D385,Tabelle1!A:B,2,FALSE)","v":{"$error":"#N/A"}},{"$f":"IF(ISBLANK(PFS_PFD_SelectionTool!N426),\"\",PFS_PFD_SelectionTool!N426)","v":""},{"$f":"IF(ISBLANK(PFS_PFD_SelectionTool!O426),\"\",PFS_PFD_SelectionTool!O426)","v":""}]
[{"$f":"IF(ISBLANK(PFS_PFD_SelectionTool!C402),\"\",PFS_PFD_SelectionTool!C402)","v":""},{"$f":"IF(ISBLANK(PFS_PFD_SelectionTool!D402),\"\",PFS_PFD_SelectionTool!D402)","v":""},{"$f":"IF(ISBLANK(PFS_PFD_SelectionTool!E402&\"_\"&PFS_PFD_SelectionTool!F402&\"_\"&PFS_PFD_SelectionTool!G402&\"_\"&PFS_PFD_SelectionTool!H402&\"_\"&PFS_PFD_SelectionTool!I402&\"_\"&PFS_PFD_SelectionTool!J402),\"\",PFS_PFD_SelectionTool!E402&\"_\"&PFS_PFD_SelectionTool!F402&\"_\"&PFS_PFD_SelectionTool!G402&\"_\"&PFS_PFD_SelectionTool!H402&\"_\"&PFS_PFD_SelectionTool!I402&\"_\"&PFS_PFD_SelectionTool!J402)","v":"_____"},{"$f":"IF(ISBLANK(PFS_PFD_SelectionTool!K402),\"\",PFS_PFD_SelectionTool!K402)","v":""},{"$f":"VLOOKUP(D386,Tabelle1!A:B,2,FALSE)","v":{"$error":"#N/A"}},{"$f":"IF(ISBLANK(PFS_PFD_SelectionTool!N427),\"\",PFS_PFD_SelectionTool!N427)","v":""},{"$f":"IF(ISBLANK(PFS_PFD_SelectionTool!O427),\"\",PFS_PFD_SelectionTool!O427)","v":""}]
[{"$f":"IF(ISBLANK(PFS_PFD_SelectionTool!C403),\"\",PFS_PFD_SelectionTool!C403)","v":""},{"$f":"IF(ISBLANK(PFS_PFD_SelectionTool!D403),\"\",PFS_PFD_SelectionTool!D403)","v":""},{"$f":"IF(ISBLANK(PFS_PFD_SelectionTool!E403&\"_\"&PFS_PFD_SelectionTool!F403&\"_\"&PFS_PFD_SelectionTool!G403&\"_\"&PFS_PFD_SelectionTool!H403&\"_\"&PFS_PFD_SelectionTool!I403&\"_\"&PFS_PFD_SelectionTool!J403),\"\",PFS_PFD_SelectionTool!E403&\"_\"&PFS_PFD_SelectionTool!F403&\"_\"&PFS_PFD_SelectionTool!G403&\"_\"&PFS_PFD_SelectionTool!H403&\"_\"&PFS_PFD_SelectionTool!I403&\"_\"&PFS_PFD_SelectionTool!J403)","v":"_____"},{"$f":"IF(ISBLANK(PFS_PFD_SelectionTool!K403),\"\",PFS_PFD_SelectionTool!K403)","v":""},{"$f":"VLOOKUP(D387,Tabelle1!A:B,2,FALSE)","v":{"$error":"#N/A"}},{"$f":"IF(ISBLANK(PFS_PFD_SelectionTool!N428),\"\",PFS_PFD_SelectionTool!N428)","v":""},{"$f":"IF(ISBLANK(PFS_PFD_SelectionTool!O428),\"\",PFS_PFD_SelectionTool!O428)","v":""}]
[{"$f":"IF(ISBLANK(PFS_PFD_SelectionTool!C404),\"\",PFS_PFD_SelectionTool!C404)","v":""},{"$f":"IF(ISBLANK(PFS_PFD_SelectionTool!D404),\"\",PFS_PFD_SelectionTool!D404)","v":""},{"$f":"IF(ISBLANK(PFS_PFD_SelectionTool!E404&\"_\"&PFS_PFD_SelectionTool!F404&\"_\"&PFS_PFD_SelectionTool!G404&\"_\"&PFS_PFD_SelectionTool!H404&\"_\"&PFS_PFD_SelectionTool!I404&\"_\"&PFS_PFD_SelectionTool!J404),\"\",PFS_PFD_SelectionTool!E404&\"_\"&PFS_PFD_SelectionTool!F404&\"_\"&PFS_PFD_SelectionTool!G404&\"_\"&PFS_PFD_SelectionTool!H404&\"_\"&PFS_PFD_SelectionTool!I404&\"_\"&PFS_PFD_SelectionTool!J404)","v":"_____"},{"$f":"IF(ISBLANK(PFS_PFD_SelectionTool!K404),\"\",PFS_PFD_SelectionTool!K404)","v":""},{"$f":"VLOOKUP(D388,Tabelle1!A:B,2,FALSE)","v":{"$error":"#N/A"}},{"$f":"IF(ISBLANK(PFS_PFD_SelectionTool!N429),\"\",PFS_PFD_SelectionTool!N429)","v":""},{"$f":"IF(ISBLANK(PFS_PFD_SelectionTool!O429),\"\",PFS_PFD_SelectionTool!O429)","v":""}]
[{"$f":"IF(ISBLANK(PFS_PFD_SelectionTool!C405),\"\",PFS_PFD_SelectionTool!C405)","v":""},{"$f":"IF(ISBLANK(PFS_PFD_SelectionTool!D405),\"\",PFS_PFD_SelectionTool!D405)","v":""},{"$f":"IF(ISBLANK(PFS_PFD_SelectionTool!E405&\"_\"&PFS_PFD_SelectionTool!F405&\"_\"&PFS_PFD_SelectionTool!G405&\"_\"&PFS_PFD_SelectionTool!H405&\"_\"&PFS_PFD_SelectionTool!I405&\"_\"&PFS_PFD_SelectionTool!J405),\"\",PFS_PFD_SelectionTool!E405&\"_\"&PFS_PFD_SelectionTool!F405&\"_\"&PFS_PFD_SelectionTool!G405&\"_\"&PFS_PFD_SelectionTool!H405&\"_\"&PFS_PFD_SelectionTool!I405&\"_\"&PFS_PFD_SelectionTool!J405)","v":"_____"},{"$f":"IF(ISBLANK(PFS_PFD_SelectionTool!K405),\"\",PFS_PFD_SelectionTool!K405)","v":""},{"$f":"VLOOKUP(D389,Tabelle1!A:B,2,FALSE)","v":{"$error":"#N/A"}},{"$f":"IF(ISBLANK(PFS_PFD_SelectionTool!N430),\"\",PFS_PFD_SelectionTool!N430)","v":""},{"$f":"IF(ISBLANK(PFS_PFD_SelectionTool!O430),\"\",PFS_PFD_SelectionTool!O430)","v":""}]
[{"$f":"IF(ISBLANK(PFS_PFD_SelectionTool!C406),\"\",PFS_PFD_SelectionTool!C406)","v":""},{"$f":"IF(ISBLANK(PFS_PFD_SelectionTool!D406),\"\",PFS_PFD_SelectionTool!D406)","v":""},{"$f":"IF(ISBLANK(PFS_PFD_SelectionTool!E406&\"_\"&PFS_PFD_SelectionTool!F406&\"_\"&PFS_PFD_SelectionTool!G406&\"_\"&PFS_PFD_SelectionTool!H406&\"_\"&PFS_PFD_SelectionTool!I406&\"_\"&PFS_PFD_SelectionTool!J406),\"\",PFS_PFD_SelectionTool!E406&\"_\"&PFS_PFD_SelectionTool!F406&\"_\"&PFS_PFD_SelectionTool!G406&\"_\"&PFS_PFD_SelectionTool!H406&\"_\"&PFS_PFD_SelectionTool!I406&\"_\"&PFS_PFD_SelectionTool!J406)","v":"_____"},{"$f":"IF(ISBLANK(PFS_PFD_SelectionTool!K406),\"\",PFS_PFD_SelectionTool!K406)","v":""},{"$f":"VLOOKUP(D390,Tabelle1!A:B,2,FALSE)","v":{"$error":"#N/A"}},{"$f":"IF(ISBLANK(PFS_PFD_SelectionTool!N431),\"\",PFS_PFD_SelectionTool!N431)","v":""},{"$f":"IF(ISBLANK(PFS_PFD_SelectionTool!O431),\"\",PFS_PFD_SelectionTool!O431)","v":""}]
[{"$f":"IF(ISBLANK(PFS_PFD_SelectionTool!C407),\"\",PFS_PFD_SelectionTool!C407)","v":""},{"$f":"IF(ISBLANK(PFS_PFD_SelectionTool!D407),\"\",PFS_PFD_SelectionTool!D407)","v":""},{"$f":"IF(ISBLANK(PFS_PFD_SelectionTool!E407&\"_\"&PFS_PFD_SelectionTool!F407&\"_\"&PFS_PFD_SelectionTool!G407&\"_\"&PFS_PFD_SelectionTool!H407&\"_\"&PFS_PFD_SelectionTool!I407&\"_\"&PFS_PFD_SelectionTool!J407),\"\",PFS_PFD_SelectionTool!E407&\"_\"&PFS_PFD_SelectionTool!F407&\"_\"&PFS_PFD_SelectionTool!G407&\"_\"&PFS_PFD_SelectionTool!H407&\"_\"&PFS_PFD_SelectionTool!I407&\"_\"&PFS_PFD_SelectionTool!J407)","v":"_____"},{"$f":"IF(ISBLANK(PFS_PFD_SelectionTool!K407),\"\",PFS_PFD_SelectionTool!K407)","v":""},{"$f":"VLOOKUP(D391,Tabelle1!A:B,2,FALSE)","v":{"$error":"#N/A"}},{"$f":"IF(ISBLANK(PFS_PFD_SelectionTool!N432),\"\",PFS_PFD_SelectionTool!N432)","v":""},{"$f":"IF(ISBLANK(PFS_PFD_SelectionTool!O432),\"\",PFS_PFD_SelectionTool!O432)","v":""}]
[{"$f":"IF(ISBLANK(PFS_PFD_SelectionTool!C408),\"\",PFS_PFD_SelectionTool!C408)","v":""},{"$f":"IF(ISBLANK(PFS_PFD_SelectionTool!D408),\"\",PFS_PFD_SelectionTool!D408)","v":""},{"$f":"IF(ISBLANK(PFS_PFD_SelectionTool!E408&\"_\"&PFS_PFD_SelectionTool!F408&\"_\"&PFS_PFD_SelectionTool!G408&\"_\"&PFS_PFD_SelectionTool!H408&\"_\"&PFS_PFD_SelectionTool!I408&\"_\"&PFS_PFD_SelectionTool!J408),\"\",PFS_PFD_SelectionTool!E408&\"_\"&PFS_PFD_SelectionTool!F408&\"_\"&PFS_PFD_SelectionTool!G408&\"_\"&PFS_PFD_SelectionTool!H408&\"_\"&PFS_PFD_SelectionTool!I408&\"_\"&PFS_PFD_SelectionTool!J408)","v":"_____"},{"$f":"IF(ISBLANK(PFS_PFD_SelectionTool!K408),\"\",PFS_PFD_SelectionTool!K408)","v":""},{"$f":"VLOOKUP(D392,Tabelle1!A:B,2,FALSE)","v":{"$error":"#N/A"}},{"$f":"IF(ISBLANK(PFS_PFD_SelectionTool!N433),\"\",PFS_PFD_SelectionTool!N433)","v":""},{"$f":"IF(ISBLANK(PFS_PFD_SelectionTool!O433),\"\",PFS_PFD_SelectionTool!O433)","v":""}]
[{"$f":"IF(ISBLANK(PFS_PFD_SelectionTool!C409),\"\",PFS_PFD_SelectionTool!C409)","v":""},{"$f":"IF(ISBLANK(PFS_PFD_SelectionTool!D409),\"\",PFS_PFD_SelectionTool!D409)","v":""},{"$f":"IF(ISBLANK(PFS_PFD_SelectionTool!E409&\"_\"&PFS_PFD_SelectionTool!F409&\"_\"&PFS_PFD_SelectionTool!G409&\"_\"&PFS_PFD_SelectionTool!H409&\"_\"&PFS_PFD_SelectionTool!I409&\"_\"&PFS_PFD_SelectionTool!J409),\"\",PFS_PFD_SelectionTool!E409&\"_\"&PFS_PFD_SelectionTool!F409&\"_\"&PFS_PFD_SelectionTool!G409&\"_\"&PFS_PFD_SelectionTool!H409&\"_\"&PFS_PFD_SelectionTool!I409&\"_\"&PFS_PFD_SelectionTool!J409)","v":"_____"},{"$f":"IF(ISBLANK(PFS_PFD_SelectionTool!K409),\"\",PFS_PFD_SelectionTool!K409)","v":""},{"$f":"VLOOKUP(D393,Tabelle1!A:B,2,FALSE)","v":{"$error":"#N/A"}},{"$f":"IF(ISBLANK(PFS_PFD_SelectionTool!N434),\"\",PFS_PFD_SelectionTool!N434)","v":""},{"$f":"IF(ISBLANK(PFS_PFD_SelectionTool!O434),\"\",PFS_PFD_SelectionTool!O434)","v":""}]
[{"$f":"IF(ISBLANK(PFS_PFD_SelectionTool!C410),\"\",PFS_PFD_SelectionTool!C410)","v":""},{"$f":"IF(ISBLANK(PFS_PFD_SelectionTool!D410),\"\",PFS_PFD_SelectionTool!D410)","v":""},{"$f":"IF(ISBLANK(PFS_PFD_SelectionTool!E410&\"_\"&PFS_PFD_SelectionTool!F410&\"_\"&PFS_PFD_SelectionTool!G410&\"_\"&PFS_PFD_SelectionTool!H410&\"_\"&PFS_PFD_SelectionTool!I410&\"_\"&PFS_PFD_SelectionTool!J410),\"\",PFS_PFD_SelectionTool!E410&\"_\"&PFS_PFD_SelectionTool!F410&\"_\"&PFS_PFD_SelectionTool!G410&\"_\"&PFS_PFD_SelectionTool!H410&\"_\"&PFS_PFD_SelectionTool!I410&\"_\"&PFS_PFD_SelectionTool!J410)","v":"_____"},{"$f":"IF(ISBLANK(PFS_PFD_SelectionTool!K410),\"\",PFS_PFD_SelectionTool!K410)","v":""},{"$f":"VLOOKUP(D394,Tabelle1!A:B,2,FALSE)","v":{"$error":"#N/A"}},{"$f":"IF(ISBLANK(PFS_PFD_SelectionTool!N435),\"\",PFS_PFD_SelectionTool!N435)","v":""},{"$f":"IF(ISBLANK(PFS_PFD_SelectionTool!O435),\"\",PFS_PFD_SelectionTool!O435)","v":""}]
[{"$f":"IF(ISBLANK(PFS_PFD_SelectionTool!C411),\"\",PFS_PFD_SelectionTool!C411)","v":""},{"$f":"IF(ISBLANK(PFS_PFD_SelectionTool!D411),\"\",PFS_PFD_SelectionTool!D411)","v":""},{"$f":"IF(ISBLANK(PFS_PFD_SelectionTool!E411&\"_\"&PFS_PFD_SelectionTool!F411&\"_\"&PFS_PFD_SelectionTool!G411&\"_\"&PFS_PFD_SelectionTool!H411&\"_\"&PFS_PFD_SelectionTool!I411&\"_\"&PFS_PFD_SelectionTool!J411),\"\",PFS_PFD_SelectionTool!E411&\"_\"&PFS_PFD_SelectionTool!F411&\"_\"&PFS_PFD_SelectionTool!G411&\"_\"&PFS_PFD_SelectionTool!H411&\"_\"&PFS_PFD_SelectionTool!I411&\"_\"&PFS_PFD_SelectionTool!J411)","v":"_____"},{"$f":"IF(ISBLANK(PFS_PFD_SelectionTool!K411),\"\",PFS_PFD_SelectionTool!K411)","v":""},{"$f":"VLOOKUP(D395,Tabelle1!A:B,2,FALSE)","v":{"$error":"#N/A"}},{"$f":"IF(ISBLANK(PFS_PFD_SelectionTool!N436),\"\",PFS_PFD_SelectionTool!N436)","v":""},{"$f":"IF(ISBLANK(PFS_PFD_SelectionTool!O436),\"\",PFS_PFD_SelectionTool!O436)","v":""}]
[{"$f":"IF(ISBLANK(PFS_PFD_SelectionTool!C412),\"\",PFS_PFD_SelectionTool!C412)","v":""},{"$f":"IF(ISBLANK(PFS_PFD_SelectionTool!D412),\"\",PFS_PFD_SelectionTool!D412)","v":""},{"$f":"IF(ISBLANK(PFS_PFD_SelectionTool!E412&\"_\"&PFS_PFD_SelectionTool!F412&\"_\"&PFS_PFD_SelectionTool!G412&\"_\"&PFS_PFD_SelectionTool!H412&\"_\"&PFS_PFD_SelectionTool!I412&\"_\"&PFS_PFD_SelectionTool!J412),\"\",PFS_PFD_SelectionTool!E412&\"_\"&PFS_PFD_SelectionTool!F412&\"_\"&PFS_PFD_SelectionTool!G412&\"_\"&PFS_PFD_SelectionTool!H412&\"_\"&PFS_PFD_SelectionTool!I412&\"_\"&PFS_PFD_SelectionTool!J412)","v":"_____"},{"$f":"IF(ISBLANK(PFS_PFD_SelectionTool!K412),\"\",PFS_PFD_SelectionTool!K412)","v":""},{"$f":"VLOOKUP(D396,Tabelle1!A:B,2,FALSE)","v":{"$error":"#N/A"}},{"$f":"IF(ISBLANK(PFS_PFD_SelectionTool!N437),\"\",PFS_PFD_SelectionTool!N437)","v":""},{"$f":"IF(ISBLANK(PFS_PFD_SelectionTool!O437),\"\",PFS_PFD_SelectionTool!O437)","v":""}]
[{"$f":"IF(ISBLANK(PFS_PFD_SelectionTool!C413),\"\",PFS_PFD_SelectionTool!C413)","v":""},{"$f":"IF(ISBLANK(PFS_PFD_SelectionTool!D413),\"\",PFS_PFD_SelectionTool!D413)","v":""},{"$f":"IF(ISBLANK(PFS_PFD_SelectionTool!E413&\"_\"&PFS_PFD_SelectionTool!F413&\"_\"&PFS_PFD_SelectionTool!G413&\"_\"&PFS_PFD_SelectionTool!H413&\"_\"&PFS_PFD_SelectionTool!I413&\"_\"&PFS_PFD_SelectionTool!J413),\"\",PFS_PFD_SelectionTool!E413&\"_\"&PFS_PFD_SelectionTool!F413&\"_\"&PFS_PFD_SelectionTool!G413&\"_\"&PFS_PFD_SelectionTool!H413&\"_\"&PFS_PFD_SelectionTool!I413&\"_\"&PFS_PFD_SelectionTool!J413)","v":"_____"},{"$f":"IF(ISBLANK(PFS_PFD_SelectionTool!K413),\"\",PFS_PFD_SelectionTool!K413)","v":""},{"$f":"VLOOKUP(D397,Tabelle1!A:B,2,FALSE)","v":{"$error":"#N/A"}},{"$f":"IF(ISBLANK(PFS_PFD_SelectionTool!N438),\"\",PFS_PFD_SelectionTool!N438)","v":""},{"$f":"IF(ISBLANK(PFS_PFD_SelectionTool!O438),\"\",PFS_PFD_SelectionTool!O438)","v":""}]
[{"$f":"IF(ISBLANK(PFS_PFD_SelectionTool!C414),\"\",PFS_PFD_SelectionTool!C414)","v":""},{"$f":"IF(ISBLANK(PFS_PFD_SelectionTool!D414),\"\",PFS_PFD_SelectionTool!D414)","v":""},{"$f":"IF(ISBLANK(PFS_PFD_SelectionTool!E414&\"_\"&PFS_PFD_SelectionTool!F414&\"_\"&PFS_PFD_SelectionTool!G414&\"_\"&PFS_PFD_SelectionTool!H414&\"_\"&PFS_PFD_SelectionTool!I414&\"_\"&PFS_PFD_SelectionTool!J414),\"\",PFS_PFD_SelectionTool!E414&\"_\"&PFS_PFD_SelectionTool!F414&\"_\"&PFS_PFD_SelectionTool!G414&\"_\"&PFS_PFD_SelectionTool!H414&\"_\"&PFS_PFD_SelectionTool!I414&\"_\"&PFS_PFD_SelectionTool!J414)","v":"_____"},{"$f":"IF(ISBLANK(PFS_PFD_SelectionTool!K414),\"\",PFS_PFD_SelectionTool!K414)","v":""},{"$f":"VLOOKUP(D398,Tabelle1!A:B,2,FALSE)","v":{"$error":"#N/A"}},{"$f":"IF(ISBLANK(PFS_PFD_SelectionTool!N439),\"\",PFS_PFD_SelectionTool!N439)","v":""},{"$f":"IF(ISBLANK(PFS_PFD_SelectionTool!O439),\"\",PFS_PFD_SelectionTool!O439)","v":""}]
[{"$f":"IF(ISBLANK(PFS_PFD_SelectionTool!C415),\"\",PFS_PFD_SelectionTool!C415)","v":""},{"$f":"IF(ISBLANK(PFS_PFD_SelectionTool!D415),\"\",PFS_PFD_SelectionTool!D415)","v":""},{"$f":"IF(ISBLANK(PFS_PFD_SelectionTool!E415&\"_\"&PFS_PFD_SelectionTool!F415&\"_\"&PFS_PFD_SelectionTool!G415&\"_\"&PFS_PFD_SelectionTool!H415&\"_\"&PFS_PFD_SelectionTool!I415&\"_\"&PFS_PFD_SelectionTool!J415),\"\",PFS_PFD_SelectionTool!E415&\"_\"&PFS_PFD_SelectionTool!F415&\"_\"&PFS_PFD_SelectionTool!G415&\"_\"&PFS_PFD_SelectionTool!H415&\"_\"&PFS_PFD_SelectionTool!I415&\"_\"&PFS_PFD_SelectionTool!J415)","v":"_____"},{"$f":"IF(ISBLANK(PFS_PFD_SelectionTool!K415),\"\",PFS_PFD_SelectionTool!K415)","v":""},{"$f":"VLOOKUP(D399,Tabelle1!A:B,2,FALSE)","v":{"$error":"#N/A"}},{"$f":"IF(ISBLANK(PFS_PFD_SelectionTool!N440),\"\",PFS_PFD_SelectionTool!N440)","v":""},{"$f":"IF(ISBLANK(PFS_PFD_SelectionTool!O440),\"\",PFS_PFD_SelectionTool!O440)","v":""}]
[{"$f":"IF(ISBLANK(PFS_PFD_SelectionTool!C416),\"\",PFS_PFD_SelectionTool!C416)","v":""},{"$f":"IF(ISBLANK(PFS_PFD_SelectionTool!D416),\"\",PFS_PFD_SelectionTool!D416)","v":""},{"$f":"IF(ISBLANK(PFS_PFD_SelectionTool!E416&\"_\"&PFS_PFD_SelectionTool!F416&\"_\"&PFS_PFD_SelectionTool!G416&\"_\"&PFS_PFD_SelectionTool!H416&\"_\"&PFS_PFD_SelectionTool!I416&\"_\"&PFS_PFD_SelectionTool!J416),\"\",PFS_PFD_SelectionTool!E416&\"_\"&PFS_PFD_SelectionTool!F416&\"_\"&PFS_PFD_SelectionTool!G416&\"_\"&PFS_PFD_SelectionTool!H416&\"_\"&PFS_PFD_SelectionTool!I416&\"_\"&PFS_PFD_SelectionTool!J416)","v":"_____"},{"$f":"IF(ISBLANK(PFS_PFD_SelectionTool!K416),\"\",PFS_PFD_SelectionTool!K416)","v":""},{"$f":"VLOOKUP(D400,Tabelle1!A:B,2,FALSE)","v":{"$error":"#N/A"}},{"$f":"IF(ISBLANK(PFS_PFD_SelectionTool!N441),\"\",PFS_PFD_SelectionTool!N441)","v":""},{"$f":"IF(ISBLANK(PFS_PFD_SelectionTool!O441),\"\",PFS_PFD_SelectionTool!O441)","v":""}]
[{"$f":"IF(ISBLANK(PFS_PFD_SelectionTool!C417),\"\",PFS_PFD_SelectionTool!C417)","v":""},{"$f":"IF(ISBLANK(PFS_PFD_SelectionTool!D417),\"\",PFS_PFD_SelectionTool!D417)","v":""},{"$f":"IF(ISBLANK(PFS_PFD_SelectionTool!E417&\"_\"&PFS_PFD_SelectionTool!F417&\"_\"&PFS_PFD_SelectionTool!G417&\"_\"&PFS_PFD_SelectionTool!H417&\"_\"&PFS_PFD_SelectionTool!I417&\"_\"&PFS_PFD_SelectionTool!J417),\"\",PFS_PFD_SelectionTool!E417&\"_\"&PFS_PFD_SelectionTool!F417&\"_\"&PFS_PFD_SelectionTool!G417&\"_\"&PFS_PFD_SelectionTool!H417&\"_\"&PFS_PFD_SelectionTool!I417&\"_\"&PFS_PFD_SelectionTool!J417)","v":"_____"},{"$f":"IF(ISBLANK(PFS_PFD_SelectionTool!K417),\"\",PFS_PFD_SelectionTool!K417)","v":""},{"$f":"VLOOKUP(D401,Tabelle1!A:B,2,FALSE)","v":{"$error":"#N/A"}},{"$f":"IF(ISBLANK(PFS_PFD_SelectionTool!N442),\"\",PFS_PFD_SelectionTool!N442)","v":""},{"$f":"IF(ISBLANK(PFS_PFD_SelectionTool!O442),\"\",PFS_PFD_SelectionTool!O442)","v":""}]
[{"$f":"IF(ISBLANK(PFS_PFD_SelectionTool!C418),\"\",PFS_PFD_SelectionTool!C418)","v":""},{"$f":"IF(ISBLANK(PFS_PFD_SelectionTool!D418),\"\",PFS_PFD_SelectionTool!D418)","v":""},{"$f":"IF(ISBLANK(PFS_PFD_SelectionTool!E418&\"_\"&PFS_PFD_SelectionTool!F418&\"_\"&PFS_PFD_SelectionTool!G418&\"_\"&PFS_PFD_SelectionTool!H418&\"_\"&PFS_PFD_SelectionTool!I418&\"_\"&PFS_PFD_SelectionTool!J418),\"\",PFS_PFD_SelectionTool!E418&\"_\"&PFS_PFD_SelectionTool!F418&\"_\"&PFS_PFD_SelectionTool!G418&\"_\"&PFS_PFD_SelectionTool!H418&\"_\"&PFS_PFD_SelectionTool!I418&\"_\"&PFS_PFD_SelectionTool!J418)","v":"_____"},{"$f":"IF(ISBLANK(PFS_PFD_SelectionTool!K418),\"\",PFS_PFD_SelectionTool!K418)","v":""},{"$f":"VLOOKUP(D402,Tabelle1!A:B,2,FALSE)","v":{"$error":"#N/A"}},{"$f":"IF(ISBLANK(PFS_PFD_SelectionTool!N443),\"\",PFS_PFD_SelectionTool!N443)","v":""},{"$f":"IF(ISBLANK(PFS_PFD_SelectionTool!O443),\"\",PFS_PFD_SelectionTool!O443)","v":""}]
[{"$f":"IF(ISBLANK(PFS_PFD_SelectionTool!C419),\"\",PFS_PFD_SelectionTool!C419)","v":""},{"$f":"IF(ISBLANK(PFS_PFD_SelectionTool!D419),\"\",PFS_PFD_SelectionTool!D419)","v":""},{"$f":"IF(ISBLANK(PFS_PFD_SelectionTool!E419&\"_\"&PFS_PFD_SelectionTool!F419&\"_\"&PFS_PFD_SelectionTool!G419&\"_\"&PFS_PFD_SelectionTool!H419&\"_\"&PFS_PFD_SelectionTool!I419&\"_\"&PFS_PFD_SelectionTool!J419),\"\",PFS_PFD_SelectionTool!E419&\"_\"&PFS_PFD_SelectionTool!F419&\"_\"&PFS_PFD_SelectionTool!G419&\"_\"&PFS_PFD_SelectionTool!H419&\"_\"&PFS_PFD_SelectionTool!I419&\"_\"&PFS_PFD_SelectionTool!J419)","v":"_____"},{"$f":"IF(ISBLANK(PFS_PFD_SelectionTool!K419),\"\",PFS_PFD_SelectionTool!K419)","v":""},{"$f":"VLOOKUP(D403,Tabelle1!A:B,2,FALSE)","v":{"$error":"#N/A"}},{"$f":"IF(ISBLANK(PFS_PFD_SelectionTool!N444),\"\",PFS_PFD_SelectionTool!N444)","v":""},{"$f":"IF(ISBLANK(PFS_PFD_SelectionTool!O444),\"\",PFS_PFD_SelectionTool!O444)","v":""}]
[{"$f":"IF(ISBLANK(PFS_PFD_SelectionTool!C420),\"\",PFS_PFD_SelectionTool!C420)","v":""},{"$f":"IF(ISBLANK(PFS_PFD_SelectionTool!D420),\"\",PFS_PFD_SelectionTool!D420)","v":""},{"$f":"IF(ISBLANK(PFS_PFD_SelectionTool!E420&\"_\"&PFS_PFD_SelectionTool!F420&\"_\"&PFS_PFD_SelectionTool!G420&\"_\"&PFS_PFD_SelectionTool!H420&\"_\"&PFS_PFD_SelectionTool!I420&\"_\"&PFS_PFD_SelectionTool!J420),\"\",PFS_PFD_SelectionTool!E420&\"_\"&PFS_PFD_SelectionTool!F420&\"_\"&PFS_PFD_SelectionTool!G420&\"_\"&PFS_PFD_SelectionTool!H420&\"_\"&PFS_PFD_SelectionTool!I420&\"_\"&PFS_PFD_SelectionTool!J420)","v":"_____"},{"$f":"IF(ISBLANK(PFS_PFD_SelectionTool!K420),\"\",PFS_PFD_SelectionTool!K420)","v":""},{"$f":"VLOOKUP(D404,Tabelle1!A:B,2,FALSE)","v":{"$error":"#N/A"}},{"$f":"IF(ISBLANK(PFS_PFD_SelectionTool!N445),\"\",PFS_PFD_SelectionTool!N445)","v":""},{"$f":"IF(ISBLANK(PFS_PFD_SelectionTool!O445),\"\",PFS_PFD_SelectionTool!O445)","v":""}]
[{"$f":"IF(ISBLANK(PFS_PFD_SelectionTool!C421),\"\",PFS_PFD_SelectionTool!C421)","v":""},{"$f":"IF(ISBLANK(PFS_PFD_SelectionTool!D421),\"\",PFS_PFD_SelectionTool!D421)","v":""},{"$f":"IF(ISBLANK(PFS_PFD_SelectionTool!E421&\"_\"&PFS_PFD_SelectionTool!F421&\"_\"&PFS_PFD_SelectionTool!G421&\"_\"&PFS_PFD_SelectionTool!H421&\"_\"&PFS_PFD_SelectionTool!I421&\"_\"&PFS_PFD_SelectionTool!J421),\"\",PFS_PFD_SelectionTool!E421&\"_\"&PFS_PFD_SelectionTool!F421&\"_\"&PFS_PFD_SelectionTool!G421&\"_\"&PFS_PFD_SelectionTool!H421&\"_\"&PFS_PFD_SelectionTool!I421&\"_\"&PFS_PFD_SelectionTool!J421)","v":"_____"},{"$f":"IF(ISBLANK(PFS_PFD_SelectionTool!K421),\"\",PFS_PFD_SelectionTool!K421)","v":""},{"$f":"VLOOKUP(D405,Tabelle1!A:B,2,FALSE)","v":{"$error":"#N/A"}},{"$f":"IF(ISBLANK(PFS_PFD_SelectionTool!N446),\"\",PFS_PFD_SelectionTool!N446)","v":""},{"$f":"IF(ISBLANK(PFS_PFD_SelectionTool!O446),\"\",PFS_PFD_SelectionTool!O446)","v":""}]
[{"$f":"IF(ISBLANK(PFS_PFD_SelectionTool!C422),\"\",PFS_PFD_SelectionTool!C422)","v":""},{"$f":"IF(ISBLANK(PFS_PFD_SelectionTool!D422),\"\",PFS_PFD_SelectionTool!D422)","v":""},{"$f":"IF(ISBLANK(PFS_PFD_SelectionTool!E422&\"_\"&PFS_PFD_SelectionTool!F422&\"_\"&PFS_PFD_SelectionTool!G422&\"_\"&PFS_PFD_SelectionTool!H422&\"_\"&PFS_PFD_SelectionTool!I422&\"_\"&PFS_PFD_SelectionTool!J422),\"\",PFS_PFD_SelectionTool!E422&\"_\"&PFS_PFD_SelectionTool!F422&\"_\"&PFS_PFD_SelectionTool!G422&\"_\"&PFS_PFD_SelectionTool!H422&\"_\"&PFS_PFD_SelectionTool!I422&\"_\"&PFS_PFD_SelectionTool!J422)","v":"_____"},{"$f":"IF(ISBLANK(PFS_PFD_SelectionTool!K422),\"\",PFS_PFD_SelectionTool!K422)","v":""},{"$f":"VLOOKUP(D406,Tabelle1!A:B,2,FALSE)","v":{"$error":"#N/A"}},{"$f":"IF(ISBLANK(PFS_PFD_SelectionTool!N447),\"\",PFS_PFD_SelectionTool!N447)","v":""},{"$f":"IF(ISBLANK(PFS_PFD_SelectionTool!O447),\"\",PFS_PFD_SelectionTool!O447)","v":""}]
[{"$f":"IF(ISBLANK(PFS_PFD_SelectionTool!C423),\"\",PFS_PFD_SelectionTool!C423)","v":""},{"$f":"IF(ISBLANK(PFS_PFD_SelectionTool!D423),\"\",PFS_PFD_SelectionTool!D423)","v":""},{"$f":"IF(ISBLANK(PFS_PFD_SelectionTool!E423&\"_\"&PFS_PFD_SelectionTool!F423&\"_\"&PFS_PFD_SelectionTool!G423&\"_\"&PFS_PFD_SelectionTool!H423&\"_\"&PFS_PFD_SelectionTool!I423&\"_\"&PFS_PFD_SelectionTool!J423),\"\",PFS_PFD_SelectionTool!E423&\"_\"&PFS_PFD_SelectionTool!F423&\"_\"&PFS_PFD_SelectionTool!G423&\"_\"&PFS_PFD_SelectionTool!H423&\"_\"&PFS_PFD_SelectionTool!I423&\"_\"&PFS_PFD_SelectionTool!J423)","v":"_____"},{"$f":"IF(ISBLANK(PFS_PFD_SelectionTool!K423),\"\",PFS_PFD_SelectionTool!K423)","v":""},{"$f":"VLOOKUP(D407,Tabelle1!A:B,2,FALSE)","v":{"$error":"#N/A"}},{"$f":"IF(ISBLANK(PFS_PFD_SelectionTool!N448),\"\",PFS_PFD_SelectionTool!N448)","v":""},{"$f":"IF(ISBLANK(PFS_PFD_SelectionTool!O448),\"\",PFS_PFD_SelectionTool!O448)","v":""}]
[{"$f":"IF(ISBLANK(PFS_PFD_SelectionTool!C424),\"\",PFS_PFD_SelectionTool!C424)","v":""},{"$f":"IF(ISBLANK(PFS_PFD_SelectionTool!D424),\"\",PFS_PFD_SelectionTool!D424)","v":""},{"$f":"IF(ISBLANK(PFS_PFD_SelectionTool!E424&\"_\"&PFS_PFD_SelectionTool!F424&\"_\"&PFS_PFD_SelectionTool!G424&\"_\"&PFS_PFD_SelectionTool!H424&\"_\"&PFS_PFD_SelectionTool!I424&\"_\"&PFS_PFD_SelectionTool!J424),\"\",PFS_PFD_SelectionTool!E424&\"_\"&PFS_PFD_SelectionTool!F424&\"_\"&PFS_PFD_SelectionTool!G424&\"_\"&PFS_PFD_SelectionTool!H424&\"_\"&PFS_PFD_SelectionTool!I424&\"_\"&PFS_PFD_SelectionTool!J424)","v":"_____"},{"$f":"IF(ISBLANK(PFS_PFD_SelectionTool!K424),\"\",PFS_PFD_SelectionTool!K424)","v":""},{"$f":"VLOOKUP(D408,Tabelle1!A:B,2,FALSE)","v":{"$error":"#N/A"}},{"$f":"IF(ISBLANK(PFS_PFD_SelectionTool!N449),\"\",PFS_PFD_SelectionTool!N449)","v":""},{"$f":"IF(ISBLANK(PFS_PFD_SelectionTool!O449),\"\",PFS_PFD_SelectionTool!O449)","v":""}]
[{"$f":"IF(ISBLANK(PFS_PFD_SelectionTool!C425),\"\",PFS_PFD_SelectionTool!C425)","v":""},{"$f":"IF(ISBLANK(PFS_PFD_SelectionTool!D425),\"\",PFS_PFD_SelectionTool!D425)","v":""},{"$f":"IF(ISBLANK(PFS_PFD_SelectionTool!E425&\"_\"&PFS_PFD_SelectionTool!F425&\"_\"&PFS_PFD_SelectionTool!G425&\"_\"&PFS_PFD_SelectionTool!H425&\"_\"&PFS_PFD_SelectionTool!I425&\"_\"&PFS_PFD_SelectionTool!J425),\"\",PFS_PFD_SelectionTool!E425&\"_\"&PFS_PFD_SelectionTool!F425&\"_\"&PFS_PFD_SelectionTool!G425&\"_\"&PFS_PFD_SelectionTool!H425&\"_\"&PFS_PFD_SelectionTool!I425&\"_\"&PFS_PFD_SelectionTool!J425)","v":"_____"},{"$f":"IF(ISBLANK(PFS_PFD_SelectionTool!K425),\"\",PFS_PFD_SelectionTool!K425)","v":""},{"$f":"VLOOKUP(D409,Tabelle1!A:B,2,FALSE)","v":{"$error":"#N/A"}},{"$f":"IF(ISBLANK(PFS_PFD_SelectionTool!N450),\"\",PFS_PFD_SelectionTool!N450)","v":""},{"$f":"IF(ISBLANK(PFS_PFD_SelectionTool!O450),\"\",PFS_PFD_SelectionTool!O450)","v":""}]
[{"$f":"IF(ISBLANK(PFS_PFD_SelectionTool!C426),\"\",PFS_PFD_SelectionTool!C426)","v":""},{"$f":"IF(ISBLANK(PFS_PFD_SelectionTool!D426),\"\",PFS_PFD_SelectionTool!D426)","v":""},{"$f":"IF(ISBLANK(PFS_PFD_SelectionTool!E426&\"_\"&PFS_PFD_SelectionTool!F426&\"_\"&PFS_PFD_SelectionTool!G426&\"_\"&PFS_PFD_SelectionTool!H426&\"_\"&PFS_PFD_SelectionTool!I426&\"_\"&PFS_PFD_SelectionTool!J426),\"\",PFS_PFD_SelectionTool!E426&\"_\"&PFS_PFD_SelectionTool!F426&\"_\"&PFS_PFD_SelectionTool!G426&\"_\"&PFS_PFD_SelectionTool!H426&\"_\"&PFS_PFD_SelectionTool!I426&\"_\"&PFS_PFD_SelectionTool!J426)","v":"_____"},{"$f":"IF(ISBLANK(PFS_PFD_SelectionTool!K426),\"\",PFS_PFD_SelectionTool!K426)","v":""},{"$f":"VLOOKUP(D410,Tabelle1!A:B,2,FALSE)","v":{"$error":"#N/A"}},{"$f":"IF(ISBLANK(PFS_PFD_SelectionTool!N451),\"\",PFS_PFD_SelectionTool!N451)","v":""},{"$f":"IF(ISBLANK(PFS_PFD_SelectionTool!O451),\"\",PFS_PFD_SelectionTool!O451)","v":""}]
[{"$f":"IF(ISBLANK(PFS_PFD_SelectionTool!C427),\"\",PFS_PFD_SelectionTool!C427)","v":""},{"$f":"IF(ISBLANK(PFS_PFD_SelectionTool!D427),\"\",PFS_PFD_SelectionTool!D427)","v":""},{"$f":"IF(ISBLANK(PFS_PFD_SelectionTool!E427&\"_\"&PFS_PFD_SelectionTool!F427&\"_\"&PFS_PFD_SelectionTool!G427&\"_\"&PFS_PFD_SelectionTool!H427&\"_\"&PFS_PFD_SelectionTool!I427&\"_\"&PFS_PFD_SelectionTool!J427),\"\",PFS_PFD_SelectionTool!E427&\"_\"&PFS_PFD_SelectionTool!F427&\"_\"&PFS_PFD_SelectionTool!G427&\"_\"&PFS_PFD_SelectionTool!H427&\"_\"&PFS_PFD_SelectionTool!I427&\"_\"&PFS_PFD_SelectionTool!J427)","v":"_____"},{"$f":"IF(ISBLANK(PFS_PFD_SelectionTool!K427),\"\",PFS_PFD_SelectionTool!K427)","v":""},{"$f":"VLOOKUP(D411,Tabelle1!A:B,2,FALSE)","v":{"$error":"#N/A"}},{"$f":"IF(ISBLANK(PFS_PFD_SelectionTool!N452),\"\",PFS_PFD_SelectionTool!N452)","v":""},{"$f":"IF(ISBLANK(PFS_PFD_SelectionTool!O452),\"\",PFS_PFD_SelectionTool!O452)","v":""}]
[{"$f":"IF(ISBLANK(PFS_PFD_SelectionTool!C428),\"\",PFS_PFD_SelectionTool!C428)","v":""},{"$f":"IF(ISBLANK(PFS_PFD_SelectionTool!D428),\"\",PFS_PFD_SelectionTool!D428)","v":""},{"$f":"IF(ISBLANK(PFS_PFD_SelectionTool!E428&\"_\"&PFS_PFD_SelectionTool!F428&\"_\"&PFS_PFD_SelectionTool!G428&\"_\"&PFS_PFD_SelectionTool!H428&\"_\"&PFS_PFD_SelectionTool!I428&\"_\"&PFS_PFD_SelectionTool!J428),\"\",PFS_PFD_SelectionTool!E428&\"_\"&PFS_PFD_SelectionTool!F428&\"_\"&PFS_PFD_SelectionTool!G428&\"_\"&PFS_PFD_SelectionTool!H428&\"_\"&PFS_PFD_SelectionTool!I428&\"_\"&PFS_PFD_SelectionTool!J428)","v":"_____"},{"$f":"IF(ISBLANK(PFS_PFD_SelectionTool!K428),\"\",PFS_PFD_SelectionTool!K428)","v":""},{"$f":"VLOOKUP(D412,Tabelle1!A:B,2,FALSE)","v":{"$error":"#N/A"}},{"$f":"IF(ISBLANK(PFS_PFD_SelectionTool!N453),\"\",PFS_PFD_SelectionTool!N453)","v":""},{"$f":"IF(ISBLANK(PFS_PFD_SelectionTool!O453),\"\",PFS_PFD_SelectionTool!O453)","v":""}]
[{"$f":"IF(ISBLANK(PFS_PFD_SelectionTool!C429),\"\",PFS_PFD_SelectionTool!C429)","v":""},{"$f":"IF(ISBLANK(PFS_PFD_SelectionTool!D429),\"\",PFS_PFD_SelectionTool!D429)","v":""},{"$f":"IF(ISBLANK(PFS_PFD_SelectionTool!E429&\"_\"&PFS_PFD_SelectionTool!F429&\"_\"&PFS_PFD_SelectionTool!G429&\"_\"&PFS_PFD_SelectionTool!H429&\"_\"&PFS_PFD_SelectionTool!I429&\"_\"&PFS_PFD_SelectionTool!J429),\"\",PFS_PFD_SelectionTool!E429&\"_\"&PFS_PFD_SelectionTool!F429&\"_\"&PFS_PFD_SelectionTool!G429&\"_\"&PFS_PFD_SelectionTool!H429&\"_\"&PFS_PFD_SelectionTool!I429&\"_\"&PFS_PFD_SelectionTool!J429)","v":"_____"},{"$f":"IF(ISBLANK(PFS_PFD_SelectionTool!K429),\"\",PFS_PFD_SelectionTool!K429)","v":""},{"$f":"VLOOKUP(D413,Tabelle1!A:B,2,FALSE)","v":{"$error":"#N/A"}},{"$f":"IF(ISBLANK(PFS_PFD_SelectionTool!N454),\"\",PFS_PFD_SelectionTool!N454)","v":""},{"$f":"IF(ISBLANK(PFS_PFD_SelectionTool!O454),\"\",PFS_PFD_SelectionTool!O454)","v":""}]
[{"$f":"IF(ISBLANK(PFS_PFD_SelectionTool!C430),\"\",PFS_PFD_SelectionTool!C430)","v":""},{"$f":"IF(ISBLANK(PFS_PFD_SelectionTool!D430),\"\",PFS_PFD_SelectionTool!D430)","v":""},{"$f":"IF(ISBLANK(PFS_PFD_SelectionTool!E430&\"_\"&PFS_PFD_SelectionTool!F430&\"_\"&PFS_PFD_SelectionTool!G430&\"_\"&PFS_PFD_SelectionTool!H430&\"_\"&PFS_PFD_SelectionTool!I430&\"_\"&PFS_PFD_SelectionTool!J430),\"\",PFS_PFD_SelectionTool!E430&\"_\"&PFS_PFD_SelectionTool!F430&\"_\"&PFS_PFD_SelectionTool!G430&\"_\"&PFS_PFD_SelectionTool!H430&\"_\"&PFS_PFD_SelectionTool!I430&\"_\"&PFS_PFD_SelectionTool!J430)","v":"_____"},{"$f":"IF(ISBLANK(PFS_PFD_SelectionTool!K430),\"\",PFS_PFD_SelectionTool!K430)","v":""},{"$f":"VLOOKUP(D414,Tabelle1!A:B,2,FALSE)","v":{"$error":"#N/A"}},{"$f":"IF(ISBLANK(PFS_PFD_SelectionTool!N455),\"\",PFS_PFD_SelectionTool!N455)","v":""},{"$f":"IF(ISBLANK(PFS_PFD_SelectionTool!O455),\"\",PFS_PFD_SelectionTool!O455)","v":""}]
[{"$f":"IF(ISBLANK(PFS_PFD_SelectionTool!C431),\"\",PFS_PFD_SelectionTool!C431)","v":""},{"$f":"IF(ISBLANK(PFS_PFD_SelectionTool!D431),\"\",PFS_PFD_SelectionTool!D431)","v":""},{"$f":"IF(ISBLANK(PFS_PFD_SelectionTool!E431&\"_\"&PFS_PFD_SelectionTool!F431&\"_\"&PFS_PFD_SelectionTool!G431&\"_\"&PFS_PFD_SelectionTool!H431&\"_\"&PFS_PFD_SelectionTool!I431&\"_\"&PFS_PFD_SelectionTool!J431),\"\",PFS_PFD_SelectionTool!E431&\"_\"&PFS_PFD_SelectionTool!F431&\"_\"&PFS_PFD_SelectionTool!G431&\"_\"&PFS_PFD_SelectionTool!H431&\"_\"&PFS_PFD_SelectionTool!I431&\"_\"&PFS_PFD_SelectionTool!J431)","v":"_____"},{"$f":"IF(ISBLANK(PFS_PFD_SelectionTool!K431),\"\",PFS_PFD_SelectionTool!K431)","v":""},{"$f":"VLOOKUP(D415,Tabelle1!A:B,2,FALSE)","v":{"$error":"#N/A"}},{"$f":"IF(ISBLANK(PFS_PFD_SelectionTool!N456),\"\",PFS_PFD_SelectionTool!N456)","v":""},{"$f":"IF(ISBLANK(PFS_PFD_SelectionTool!O456),\"\",PFS_PFD_SelectionTool!O456)","v":""}]
[{"$f":"IF(ISBLANK(PFS_PFD_SelectionTool!C432),\"\",PFS_PFD_SelectionTool!C432)","v":""},{"$f":"IF(ISBLANK(PFS_PFD_SelectionTool!D432),\"\",PFS_PFD_SelectionTool!D432)","v":""},{"$f":"IF(ISBLANK(PFS_PFD_SelectionTool!E432&\"_\"&PFS_PFD_SelectionTool!F432&\"_\"&PFS_PFD_SelectionTool!G432&\"_\"&PFS_PFD_SelectionTool!H432&\"_\"&PFS_PFD_SelectionTool!I432&\"_\"&PFS_PFD_SelectionTool!J432),\"\",PFS_PFD_SelectionTool!E432&\"_\"&PFS_PFD_SelectionTool!F432&\"_\"&PFS_PFD_SelectionTool!G432&\"_\"&PFS_PFD_SelectionTool!H432&\"_\"&PFS_PFD_SelectionTool!I432&\"_\"&PFS_PFD_SelectionTool!J432)","v":"_____"},{"$f":"IF(ISBLANK(PFS_PFD_SelectionTool!K432),\"\",PFS_PFD_SelectionTool!K432)","v":""},{"$f":"VLOOKUP(D416,Tabelle1!A:B,2,FALSE)","v":{"$error":"#N/A"}},{"$f":"IF(ISBLANK(PFS_PFD_SelectionTool!N457),\"\",PFS_PFD_SelectionTool!N457)","v":""},{"$f":"IF(ISBLANK(PFS_PFD_SelectionTool!O457),\"\",PFS_PFD_SelectionTool!O457)","v":""}]
[{"$f":"IF(ISBLANK(PFS_PFD_SelectionTool!C433),\"\",PFS_PFD_SelectionTool!C433)","v":""},{"$f":"IF(ISBLANK(PFS_PFD_SelectionTool!D433),\"\",PFS_PFD_SelectionTool!D433)","v":""},{"$f":"IF(ISBLANK(PFS_PFD_SelectionTool!E433&\"_\"&PFS_PFD_SelectionTool!F433&\"_\"&PFS_PFD_SelectionTool!G433&\"_\"&PFS_PFD_SelectionTool!H433&\"_\"&PFS_PFD_SelectionTool!I433&\"_\"&PFS_PFD_SelectionTool!J433),\"\",PFS_PFD_SelectionTool!E433&\"_\"&PFS_PFD_SelectionTool!F433&\"_\"&PFS_PFD_SelectionTool!G433&\"_\"&PFS_PFD_SelectionTool!H433&\"_\"&PFS_PFD_SelectionTool!I433&\"_\"&PFS_PFD_SelectionTool!J433)","v":"_____"},{"$f":"IF(ISBLANK(PFS_PFD_SelectionTool!K433),\"\",PFS_PFD_SelectionTool!K433)","v":""},{"$f":"VLOOKUP(D417,Tabelle1!A:B,2,FALSE)","v":{"$error":"#N/A"}},{"$f":"IF(ISBLANK(PFS_PFD_SelectionTool!N458),\"\",PFS_PFD_SelectionTool!N458)","v":""},{"$f":"IF(ISBLANK(PFS_PFD_SelectionTool!O458),\"\",PFS_PFD_SelectionTool!O458)","v":""}]
[{"$f":"IF(ISBLANK(PFS_PFD_SelectionTool!C434),\"\",PFS_PFD_SelectionTool!C434)","v":""},{"$f":"IF(ISBLANK(PFS_PFD_SelectionTool!D434),\"\",PFS_PFD_SelectionTool!D434)","v":""},{"$f":"IF(ISBLANK(PFS_PFD_SelectionTool!E434&\"_\"&PFS_PFD_SelectionTool!F434&\"_\"&PFS_PFD_SelectionTool!G434&\"_\"&PFS_PFD_SelectionTool!H434&\"_\"&PFS_PFD_SelectionTool!I434&\"_\"&PFS_PFD_SelectionTool!J434),\"\",PFS_PFD_SelectionTool!E434&\"_\"&PFS_PFD_SelectionTool!F434&\"_\"&PFS_PFD_SelectionTool!G434&\"_\"&PFS_PFD_SelectionTool!H434&\"_\"&PFS_PFD_SelectionTool!I434&\"_\"&PFS_PFD_SelectionTool!J434)","v":"_____"},{"$f":"IF(ISBLANK(PFS_PFD_SelectionTool!K434),\"\",PFS_PFD_SelectionTool!K434)","v":""},{"$f":"VLOOKUP(D418,Tabelle1!A:B,2,FALSE)","v":{"$error":"#N/A"}},{"$f":"IF(ISBLANK(PFS_PFD_SelectionTool!N459),\"\",PFS_PFD_SelectionTool!N459)","v":""},{"$f":"IF(ISBLANK(PFS_PFD_SelectionTool!O459),\"\",PFS_PFD_SelectionTool!O459)","v":""}]
[{"$f":"IF(ISBLANK(PFS_PFD_SelectionTool!C435),\"\",PFS_PFD_SelectionTool!C435)","v":""},{"$f":"IF(ISBLANK(PFS_PFD_SelectionTool!D435),\"\",PFS_PFD_SelectionTool!D435)","v":""},{"$f":"IF(ISBLANK(PFS_PFD_SelectionTool!E435&\"_\"&PFS_PFD_SelectionTool!F435&\"_\"&PFS_PFD_SelectionTool!G435&\"_\"&PFS_PFD_SelectionTool!H435&\"_\"&PFS_PFD_SelectionTool!I435&\"_\"&PFS_PFD_SelectionTool!J435),\"\",PFS_PFD_SelectionTool!E435&\"_\"&PFS_PFD_SelectionTool!F435&\"_\"&PFS_PFD_SelectionTool!G435&\"_\"&PFS_PFD_SelectionTool!H435&\"_\"&PFS_PFD_SelectionTool!I435&\"_\"&PFS_PFD_SelectionTool!J435)","v":"_____"},{"$f":"IF(ISBLANK(PFS_PFD_SelectionTool!K435),\"\",PFS_PFD_SelectionTool!K435)","v":""},{"$f":"VLOOKUP(D419,Tabelle1!A:B,2,FALSE)","v":{"$error":"#N/A"}},{"$f":"IF(ISBLANK(PFS_PFD_SelectionTool!N460),\"\",PFS_PFD_SelectionTool!N460)","v":""},{"$f":"IF(ISBLANK(PFS_PFD_SelectionTool!O460),\"\",PFS_PFD_SelectionTool!O460)","v":""}]
[{"$f":"IF(ISBLANK(PFS_PFD_SelectionTool!C436),\"\",PFS_PFD_SelectionTool!C436)","v":""},{"$f":"IF(ISBLANK(PFS_PFD_SelectionTool!D436),\"\",PFS_PFD_SelectionTool!D436)","v":""},{"$f":"IF(ISBLANK(PFS_PFD_SelectionTool!E436&\"_\"&PFS_PFD_SelectionTool!F436&\"_\"&PFS_PFD_SelectionTool!G436&\"_\"&PFS_PFD_SelectionTool!H436&\"_\"&PFS_PFD_SelectionTool!I436&\"_\"&PFS_PFD_SelectionTool!J436),\"\",PFS_PFD_SelectionTool!E436&\"_\"&PFS_PFD_SelectionTool!F436&\"_\"&PFS_PFD_SelectionTool!G436&\"_\"&PFS_PFD_SelectionTool!H436&\"_\"&PFS_PFD_SelectionTool!I436&\"_\"&PFS_PFD_SelectionTool!J436)","v":"_____"},{"$f":"IF(ISBLANK(PFS_PFD_SelectionTool!K436),\"\",PFS_PFD_SelectionTool!K436)","v":""},{"$f":"VLOOKUP(D420,Tabelle1!A:B,2,FALSE)","v":{"$error":"#N/A"}},{"$f":"IF(ISBLANK(PFS_PFD_SelectionTool!N461),\"\",PFS_PFD_SelectionTool!N461)","v":""},{"$f":"IF(ISBLANK(PFS_PFD_SelectionTool!O461),\"\",PFS_PFD_SelectionTool!O461)","v":""}]
[{"$f":"IF(ISBLANK(PFS_PFD_SelectionTool!C437),\"\",PFS_PFD_SelectionTool!C437)","v":""},{"$f":"IF(ISBLANK(PFS_PFD_SelectionTool!D437),\"\",PFS_PFD_SelectionTool!D437)","v":""},{"$f":"IF(ISBLANK(PFS_PFD_SelectionTool!E437&\"_\"&PFS_PFD_SelectionTool!F437&\"_\"&PFS_PFD_SelectionTool!G437&\"_\"&PFS_PFD_SelectionTool!H437&\"_\"&PFS_PFD_SelectionTool!I437&\"_\"&PFS_PFD_SelectionTool!J437),\"\",PFS_PFD_SelectionTool!E437&\"_\"&PFS_PFD_SelectionTool!F437&\"_\"&PFS_PFD_SelectionTool!G437&\"_\"&PFS_PFD_SelectionTool!H437&\"_\"&PFS_PFD_SelectionTool!I437&\"_\"&PFS_PFD_SelectionTool!J437)","v":"_____"},{"$f":"IF(ISBLANK(PFS_PFD_SelectionTool!K437),\"\",PFS_PFD_SelectionTool!K437)","v":""},{"$f":"VLOOKUP(D421,Tabelle1!A:B,2,FALSE)","v":{"$error":"#N/A"}},{"$f":"IF(ISBLANK(PFS_PFD_SelectionTool!N462),\"\",PFS_PFD_SelectionTool!N462)","v":""},{"$f":"IF(ISBLANK(PFS_PFD_SelectionTool!O462),\"\",PFS_PFD_SelectionTool!O462)","v":""}]
[{"$f":"IF(ISBLANK(PFS_PFD_SelectionTool!C438),\"\",PFS_PFD_SelectionTool!C438)","v":""},{"$f":"IF(ISBLANK(PFS_PFD_SelectionTool!D438),\"\",PFS_PFD_SelectionTool!D438)","v":""},{"$f":"IF(ISBLANK(PFS_PFD_SelectionTool!E438&\"_\"&PFS_PFD_SelectionTool!F438&\"_\"&PFS_PFD_SelectionTool!G438&\"_\"&PFS_PFD_SelectionTool!H438&\"_\"&PFS_PFD_SelectionTool!I438&\"_\"&PFS_PFD_SelectionTool!J438),\"\",PFS_PFD_SelectionTool!E438&\"_\"&PFS_PFD_SelectionTool!F438&\"_\"&PFS_PFD_SelectionTool!G438&\"_\"&PFS_PFD_SelectionTool!H438&\"_\"&PFS_PFD_SelectionTool!I438&\"_\"&PFS_PFD_SelectionTool!J438)","v":"_____"},{"$f":"IF(ISBLANK(PFS_PFD_SelectionTool!K438),\"\",PFS_PFD_SelectionTool!K438)","v":""},{"$f":"VLOOKUP(D422,Tabelle1!A:B,2,FALSE)","v":{"$error":"#N/A"}},{"$f":"IF(ISBLANK(PFS_PFD_SelectionTool!N463),\"\",PFS_PFD_SelectionTool!N463)","v":""},{"$f":"IF(ISBLANK(PFS_PFD_SelectionTool!O463),\"\",PFS_PFD_SelectionTool!O463)","v":""}]
[{"$f":"IF(ISBLANK(PFS_PFD_SelectionTool!C439),\"\",PFS_PFD_SelectionTool!C439)","v":""},{"$f":"IF(ISBLANK(PFS_PFD_SelectionTool!D439),\"\",PFS_PFD_SelectionTool!D439)","v":""},{"$f":"IF(ISBLANK(PFS_PFD_SelectionTool!E439&\"_\"&PFS_PFD_SelectionTool!F439&\"_\"&PFS_PFD_SelectionTool!G439&\"_\"&PFS_PFD_SelectionTool!H439&\"_\"&PFS_PFD_SelectionTool!I439&\"_\"&PFS_PFD_SelectionTool!J439),\"\",PFS_PFD_SelectionTool!E439&\"_\"&PFS_PFD_SelectionTool!F439&\"_\"&PFS_PFD_SelectionTool!G439&\"_\"&PFS_PFD_SelectionTool!H439&\"_\"&PFS_PFD_SelectionTool!I439&\"_\"&PFS_PFD_SelectionTool!J439)","v":"_____"},{"$f":"IF(ISBLANK(PFS_PFD_SelectionTool!K439),\"\",PFS_PFD_SelectionTool!K439)","v":""},{"$f":"VLOOKUP(D423,Tabelle1!A:B,2,FALSE)","v":{"$error":"#N/A"}},{"$f":"IF(ISBLANK(PFS_PFD_SelectionTool!N464),\"\",PFS_PFD_SelectionTool!N464)","v":""},{"$f":"IF(ISBLANK(PFS_PFD_SelectionTool!O464),\"\",PFS_PFD_SelectionTool!O464)","v":""}]
[{"$f":"IF(ISBLANK(PFS_PFD_SelectionTool!C440),\"\",PFS_PFD_SelectionTool!C440)","v":""},{"$f":"IF(ISBLANK(PFS_PFD_SelectionTool!D440),\"\",PFS_PFD_SelectionTool!D440)","v":""},{"$f":"IF(ISBLANK(PFS_PFD_SelectionTool!E440&\"_\"&PFS_PFD_SelectionTool!F440&\"_\"&PFS_PFD_SelectionTool!G440&\"_\"&PFS_PFD_SelectionTool!H440&\"_\"&PFS_PFD_SelectionTool!I440&\"_\"&PFS_PFD_SelectionTool!J440),\"\",PFS_PFD_SelectionTool!E440&\"_\"&PFS_PFD_SelectionTool!F440&\"_\"&PFS_PFD_SelectionTool!G440&\"_\"&PFS_PFD_SelectionTool!H440&\"_\"&PFS_PFD_SelectionTool!I440&\"_\"&PFS_PFD_SelectionTool!J440)","v":"_____"},{"$f":"IF(ISBLANK(PFS_PFD_SelectionTool!K440),\"\",PFS_PFD_SelectionTool!K440)","v":""},{"$f":"VLOOKUP(D424,Tabelle1!A:B,2,FALSE)","v":{"$error":"#N/A"}},{"$f":"IF(ISBLANK(PFS_PFD_SelectionTool!N465),\"\",PFS_PFD_SelectionTool!N465)","v":""},{"$f":"IF(ISBLANK(PFS_PFD_SelectionTool!O465),\"\",PFS_PFD_SelectionTool!O465)","v":""}]
[{"$f":"IF(ISBLANK(PFS_PFD_SelectionTool!C441),\"\",PFS_PFD_SelectionTool!C441)","v":""},{"$f":"IF(ISBLANK(PFS_PFD_SelectionTool!D441),\"\",PFS_PFD_SelectionTool!D441)","v":""},{"$f":"IF(ISBLANK(PFS_PFD_SelectionTool!E441&\"_\"&PFS_PFD_SelectionTool!F441&\"_\"&PFS_PFD_SelectionTool!G441&\"_\"&PFS_PFD_SelectionTool!H441&\"_\"&PFS_PFD_SelectionTool!I441&\"_\"&PFS_PFD_SelectionTool!J441),\"\",PFS_PFD_SelectionTool!E441&\"_\"&PFS_PFD_SelectionTool!F441&\"_\"&PFS_PFD_SelectionTool!G441&\"_\"&PFS_PFD_SelectionTool!H441&\"_\"&PFS_PFD_SelectionTool!I441&\"_\"&PFS_PFD_SelectionTool!J441)","v":"_____"},{"$f":"IF(ISBLANK(PFS_PFD_SelectionTool!K441),\"\",PFS_PFD_SelectionTool!K441)","v":""},{"$f":"VLOOKUP(D425,Tabelle1!A:B,2,FALSE)","v":{"$error":"#N/A"}},{"$f":"IF(ISBLANK(PFS_PFD_SelectionTool!N466),\"\",PFS_PFD_SelectionTool!N466)","v":""},{"$f":"IF(ISBLANK(PFS_PFD_SelectionTool!O466),\"\",PFS_PFD_SelectionTool!O466)","v":""}]
[{"$f":"IF(ISBLANK(PFS_PFD_SelectionTool!C442),\"\",PFS_PFD_SelectionTool!C442)","v":""},{"$f":"IF(ISBLANK(PFS_PFD_SelectionTool!D442),\"\",PFS_PFD_SelectionTool!D442)","v":""},{"$f":"IF(ISBLANK(PFS_PFD_SelectionTool!E442&\"_\"&PFS_PFD_SelectionTool!F442&\"_\"&PFS_PFD_SelectionTool!G442&\"_\"&PFS_PFD_SelectionTool!H442&\"_\"&PFS_PFD_SelectionTool!I442&\"_\"&PFS_PFD_SelectionTool!J442),\"\",PFS_PFD_SelectionTool!E442&\"_\"&PFS_PFD_SelectionTool!F442&\"_\"&PFS_PFD_SelectionTool!G442&\"_\"&PFS_PFD_SelectionTool!H442&\"_\"&PFS_PFD_SelectionTool!I442&\"_\"&PFS_PFD_SelectionTool!J442)","v":"_____"},{"$f":"IF(ISBLANK(PFS_PFD_SelectionTool!K442),\"\",PFS_PFD_SelectionTool!K442)","v":""},{"$f":"VLOOKUP(D426,Tabelle1!A:B,2,FALSE)","v":{"$error":"#N/A"}},{"$f":"IF(ISBLANK(PFS_PFD_SelectionTool!N467),\"\",PFS_PFD_SelectionTool!N467)","v":""},{"$f":"IF(ISBLANK(PFS_PFD_SelectionTool!O467),\"\",PFS_PFD_SelectionTool!O467)","v":""}]
[{"$f":"IF(ISBLANK(PFS_PFD_SelectionTool!C443),\"\",PFS_PFD_SelectionTool!C443)","v":""},{"$f":"IF(ISBLANK(PFS_PFD_SelectionTool!D443),\"\",PFS_PFD_SelectionTool!D443)","v":""},{"$f":"IF(ISBLANK(PFS_PFD_SelectionTool!E443&\"_\"&PFS_PFD_SelectionTool!F443&\"_\"&PFS_PFD_SelectionTool!G443&\"_\"&PFS_PFD_SelectionTool!H443&\"_\"&PFS_PFD_SelectionTool!I443&\"_\"&PFS_PFD_SelectionTool!J443),\"\",PFS_PFD_SelectionTool!E443&\"_\"&PFS_PFD_SelectionTool!F443&\"_\"&PFS_PFD_SelectionTool!G443&\"_\"&PFS_PFD_SelectionTool!H443&\"_\"&PFS_PFD_SelectionTool!I443&\"_\"&PFS_PFD_SelectionTool!J443)","v":"_____"},{"$f":"IF(ISBLANK(PFS_PFD_SelectionTool!K443),\"\",PFS_PFD_SelectionTool!K443)","v":""},{"$f":"VLOOKUP(D427,Tabelle1!A:B,2,FALSE)","v":{"$error":"#N/A"}},{"$f":"IF(ISBLANK(PFS_PFD_SelectionTool!N468),\"\",PFS_PFD_SelectionTool!N468)","v":""},{"$f":"IF(ISBLANK(PFS_PFD_SelectionTool!O468),\"\",PFS_PFD_SelectionTool!O468)","v":""}]
[{"$f":"IF(ISBLANK(PFS_PFD_SelectionTool!C444),\"\",PFS_PFD_SelectionTool!C444)","v":""},{"$f":"IF(ISBLANK(PFS_PFD_SelectionTool!D444),\"\",PFS_PFD_SelectionTool!D444)","v":""},{"$f":"IF(ISBLANK(PFS_PFD_SelectionTool!E444&\"_\"&PFS_PFD_SelectionTool!F444&\"_\"&PFS_PFD_SelectionTool!G444&\"_\"&PFS_PFD_SelectionTool!H444&\"_\"&PFS_PFD_SelectionTool!I444&\"_\"&PFS_PFD_SelectionTool!J444),\"\",PFS_PFD_SelectionTool!E444&\"_\"&PFS_PFD_SelectionTool!F444&\"_\"&PFS_PFD_SelectionTool!G444&\"_\"&PFS_PFD_SelectionTool!H444&\"_\"&PFS_PFD_SelectionTool!I444&\"_\"&PFS_PFD_SelectionTool!J444)","v":"_____"},{"$f":"IF(ISBLANK(PFS_PFD_SelectionTool!K444),\"\",PFS_PFD_SelectionTool!K444)","v":""},{"$f":"VLOOKUP(D428,Tabelle1!A:B,2,FALSE)","v":{"$error":"#N/A"}},{"$f":"IF(ISBLANK(PFS_PFD_SelectionTool!N469),\"\",PFS_PFD_SelectionTool!N469)","v":""},{"$f":"IF(ISBLANK(PFS_PFD_SelectionTool!O469),\"\",PFS_PFD_SelectionTool!O469)","v":""}]
[{"$f":"IF(ISBLANK(PFS_PFD_SelectionTool!C445),\"\",PFS_PFD_SelectionTool!C445)","v":""},{"$f":"IF(ISBLANK(PFS_PFD_SelectionTool!D445),\"\",PFS_PFD_SelectionTool!D445)","v":""},{"$f":"IF(ISBLANK(PFS_PFD_SelectionTool!E445&\"_\"&PFS_PFD_SelectionTool!F445&\"_\"&PFS_PFD_SelectionTool!G445&\"_\"&PFS_PFD_SelectionTool!H445&\"_\"&PFS_PFD_SelectionTool!I445&\"_\"&PFS_PFD_SelectionTool!J445),\"\",PFS_PFD_SelectionTool!E445&\"_\"&PFS_PFD_SelectionTool!F445&\"_\"&PFS_PFD_SelectionTool!G445&\"_\"&PFS_PFD_SelectionTool!H445&\"_\"&PFS_PFD_SelectionTool!I445&\"_\"&PFS_PFD_SelectionTool!J445)","v":"_____"},{"$f":"IF(ISBLANK(PFS_PFD_SelectionTool!K445),\"\",PFS_PFD_SelectionTool!K445)","v":""},{"$f":"VLOOKUP(D429,Tabelle1!A:B,2,FALSE)","v":{"$error":"#N/A"}},{"$f":"IF(ISBLANK(PFS_PFD_SelectionTool!N470),\"\",PFS_PFD_SelectionTool!N470)","v":""},{"$f":"IF(ISBLANK(PFS_PFD_SelectionTool!O470),\"\",PFS_PFD_SelectionTool!O470)","v":""}]
[{"$f":"IF(ISBLANK(PFS_PFD_SelectionTool!C446),\"\",PFS_PFD_SelectionTool!C446)","v":""},{"$f":"IF(ISBLANK(PFS_PFD_SelectionTool!D446),\"\",PFS_PFD_SelectionTool!D446)","v":""},{"$f":"IF(ISBLANK(PFS_PFD_SelectionTool!E446&\"_\"&PFS_PFD_SelectionTool!F446&\"_\"&PFS_PFD_SelectionTool!G446&\"_\"&PFS_PFD_SelectionTool!H446&\"_\"&PFS_PFD_SelectionTool!I446&\"_\"&PFS_PFD_SelectionTool!J446),\"\",PFS_PFD_SelectionTool!E446&\"_\"&PFS_PFD_SelectionTool!F446&\"_\"&PFS_PFD_SelectionTool!G446&\"_\"&PFS_PFD_SelectionTool!H446&\"_\"&PFS_PFD_SelectionTool!I446&\"_\"&PFS_PFD_SelectionTool!J446)","v":"_____"},{"$f":"IF(ISBLANK(PFS_PFD_SelectionTool!K446),\"\",PFS_PFD_SelectionTool!K446)","v":""},{"$f":"VLOOKUP(D430,Tabelle1!A:B,2,FALSE)","v":{"$error":"#N/A"}},{"$f":"IF(ISBLANK(PFS_PFD_SelectionTool!N471),\"\",PFS_PFD_SelectionTool!N471)","v":""},{"$f":"IF(ISBLANK(PFS_PFD_SelectionTool!O471),\"\",PFS_PFD_SelectionTool!O471)","v":""}]
[{"$f":"IF(ISBLANK(PFS_PFD_SelectionTool!C447),\"\",PFS_PFD_SelectionTool!C447)","v":""},{"$f":"IF(ISBLANK(PFS_PFD_SelectionTool!D447),\"\",PFS_PFD_SelectionTool!D447)","v":""},{"$f":"IF(ISBLANK(PFS_PFD_SelectionTool!E447&\"_\"&PFS_PFD_SelectionTool!F447&\"_\"&PFS_PFD_SelectionTool!G447&\"_\"&PFS_PFD_SelectionTool!H447&\"_\"&PFS_PFD_SelectionTool!I447&\"_\"&PFS_PFD_SelectionTool!J447),\"\",PFS_PFD_SelectionTool!E447&\"_\"&PFS_PFD_SelectionTool!F447&\"_\"&PFS_PFD_SelectionTool!G447&\"_\"&PFS_PFD_SelectionTool!H447&\"_\"&PFS_PFD_SelectionTool!I447&\"_\"&PFS_PFD_SelectionTool!J447)","v":"_____"},{"$f":"IF(ISBLANK(PFS_PFD_SelectionTool!K447),\"\",PFS_PFD_SelectionTool!K447)","v":""},{"$f":"VLOOKUP(D431,Tabelle1!A:B,2,FALSE)","v":{"$error":"#N/A"}},{"$f":"IF(ISBLANK(PFS_PFD_SelectionTool!N472),\"\",PFS_PFD_SelectionTool!N472)","v":""},{"$f":"IF(ISBLANK(PFS_PFD_SelectionTool!O472),\"\",PFS_PFD_SelectionTool!O472)","v":""}]
[{"$f":"IF(ISBLANK(PFS_PFD_SelectionTool!C448),\"\",PFS_PFD_SelectionTool!C448)","v":""},{"$f":"IF(ISBLANK(PFS_PFD_SelectionTool!D448),\"\",PFS_PFD_SelectionTool!D448)","v":""},{"$f":"IF(ISBLANK(PFS_PFD_SelectionTool!E448&\"_\"&PFS_PFD_SelectionTool!F448&\"_\"&PFS_PFD_SelectionTool!G448&\"_\"&PFS_PFD_SelectionTool!H448&\"_\"&PFS_PFD_SelectionTool!I448&\"_\"&PFS_PFD_SelectionTool!J448),\"\",PFS_PFD_SelectionTool!E448&\"_\"&PFS_PFD_SelectionTool!F448&\"_\"&PFS_PFD_SelectionTool!G448&\"_\"&PFS_PFD_SelectionTool!H448&\"_\"&PFS_PFD_SelectionTool!I448&\"_\"&PFS_PFD_SelectionTool!J448)","v":"_____"},{"$f":"IF(ISBLANK(PFS_PFD_SelectionTool!K448),\"\",PFS_PFD_SelectionTool!K448)","v":""},{"$f":"VLOOKUP(D432,Tabelle1!A:B,2,FALSE)","v":{"$error":"#N/A"}},{"$f":"IF(ISBLANK(PFS_PFD_SelectionTool!N473),\"\",PFS_PFD_SelectionTool!N473)","v":""},{"$f":"IF(ISBLANK(PFS_PFD_SelectionTool!O473),\"\",PFS_PFD_SelectionTool!O473)","v":""}]
[{"$f":"IF(ISBLANK(PFS_PFD_SelectionTool!C449),\"\",PFS_PFD_SelectionTool!C449)","v":""},{"$f":"IF(ISBLANK(PFS_PFD_SelectionTool!D449),\"\",PFS_PFD_SelectionTool!D449)","v":""},{"$f":"IF(ISBLANK(PFS_PFD_SelectionTool!E449&\"_\"&PFS_PFD_SelectionTool!F449&\"_\"&PFS_PFD_SelectionTool!G449&\"_\"&PFS_PFD_SelectionTool!H449&\"_\"&PFS_PFD_SelectionTool!I449&\"_\"&PFS_PFD_SelectionTool!J449),\"\",PFS_PFD_SelectionTool!E449&\"_\"&PFS_PFD_SelectionTool!F449&\"_\"&PFS_PFD_SelectionTool!G449&\"_\"&PFS_PFD_SelectionTool!H449&\"_\"&PFS_PFD_SelectionTool!I449&\"_\"&PFS_PFD_SelectionTool!J449)","v":"_____"},{"$f":"IF(ISBLANK(PFS_PFD_SelectionTool!K449),\"\",PFS_PFD_SelectionTool!K449)","v":""},{"$f":"VLOOKUP(D433,Tabelle1!A:B,2,FALSE)","v":{"$error":"#N/A"}},{"$f":"IF(ISBLANK(PFS_PFD_SelectionTool!N474),\"\",PFS_PFD_SelectionTool!N474)","v":""},{"$f":"IF(ISBLANK(PFS_PFD_SelectionTool!O474),\"\",PFS_PFD_SelectionTool!O474)","v":""}]
[{"$f":"IF(ISBLANK(PFS_PFD_SelectionTool!C450),\"\",PFS_PFD_SelectionTool!C450)","v":""},{"$f":"IF(ISBLANK(PFS_PFD_SelectionTool!D450),\"\",PFS_PFD_SelectionTool!D450)","v":""},{"$f":"IF(ISBLANK(PFS_PFD_SelectionTool!E450&\"_\"&PFS_PFD_SelectionTool!F450&\"_\"&PFS_PFD_SelectionTool!G450&\"_\"&PFS_PFD_SelectionTool!H450&\"_\"&PFS_PFD_SelectionTool!I450&\"_\"&PFS_PFD_SelectionTool!J450),\"\",PFS_PFD_SelectionTool!E450&\"_\"&PFS_PFD_SelectionTool!F450&\"_\"&PFS_PFD_SelectionTool!G450&\"_\"&PFS_PFD_SelectionTool!H450&\"_\"&PFS_PFD_SelectionTool!I450&\"_\"&PFS_PFD_SelectionTool!J450)","v":"_____"},{"$f":"IF(ISBLANK(PFS_PFD_SelectionTool!K450),\"\",PFS_PFD_SelectionTool!K450)","v":""},{"$f":"VLOOKUP(D434,Tabelle1!A:B,2,FALSE)","v":{"$error":"#N/A"}},{"$f":"IF(ISBLANK(PFS_PFD_SelectionTool!N475),\"\",PFS_PFD_SelectionTool!N475)","v":""},{"$f":"IF(ISBLANK(PFS_PFD_SelectionTool!O475),\"\",PFS_PFD_SelectionTool!O475)","v":""}]
[{"$f":"IF(ISBLANK(PFS_PFD_SelectionTool!C451),\"\",PFS_PFD_SelectionTool!C451)","v":""},{"$f":"IF(ISBLANK(PFS_PFD_SelectionTool!D451),\"\",PFS_PFD_SelectionTool!D451)","v":""},{"$f":"IF(ISBLANK(PFS_PFD_SelectionTool!E451&\"_\"&PFS_PFD_SelectionTool!F451&\"_\"&PFS_PFD_SelectionTool!G451&\"_\"&PFS_PFD_SelectionTool!H451&\"_\"&PFS_PFD_SelectionTool!I451&\"_\"&PFS_PFD_SelectionTool!J451),\"\",PFS_PFD_SelectionTool!E451&\"_\"&PFS_PFD_SelectionTool!F451&\"_\"&PFS_PFD_SelectionTool!G451&\"_\"&PFS_PFD_SelectionTool!H451&\"_\"&PFS_PFD_SelectionTool!I451&\"_\"&PFS_PFD_SelectionTool!J451)","v":"_____"},{"$f":"IF(ISBLANK(PFS_PFD_SelectionTool!K451),\"\",PFS_PFD_SelectionTool!K451)","v":""},{"$f":"VLOOKUP(D435,Tabelle1!A:B,2,FALSE)","v":{"$error":"#N/A"}},{"$f":"IF(ISBLANK(PFS_PFD_SelectionTool!N476),\"\",PFS_PFD_SelectionTool!N476)","v":""},{"$f":"IF(ISBLANK(PFS_PFD_SelectionTool!O476),\"\",PFS_PFD_SelectionTool!O476)","v":""}]
[{"$f":"IF(ISBLANK(PFS_PFD_SelectionTool!C452),\"\",PFS_PFD_SelectionTool!C452)","v":""},{"$f":"IF(ISBLANK(PFS_PFD_SelectionTool!D452),\"\",PFS_PFD_SelectionTool!D452)","v":""},{"$f":"IF(ISBLANK(PFS_PFD_SelectionTool!E452&\"_\"&PFS_PFD_SelectionTool!F452&\"_\"&PFS_PFD_SelectionTool!G452&\"_\"&PFS_PFD_SelectionTool!H452&\"_\"&PFS_PFD_SelectionTool!I452&\"_\"&PFS_PFD_SelectionTool!J452),\"\",PFS_PFD_SelectionTool!E452&\"_\"&PFS_PFD_SelectionTool!F452&\"_\"&PFS_PFD_SelectionTool!G452&\"_\"&PFS_PFD_SelectionTool!H452&\"_\"&PFS_PFD_SelectionTool!I452&\"_\"&PFS_PFD_SelectionTool!J452)","v":"_____"},{"$f":"IF(ISBLANK(PFS_PFD_SelectionTool!K452),\"\",PFS_PFD_SelectionTool!K452)","v":""},{"$f":"VLOOKUP(D436,Tabelle1!A:B,2,FALSE)","v":{"$error":"#N/A"}},{"$f":"IF(ISBLANK(PFS_PFD_SelectionTool!N477),\"\",PFS_PFD_SelectionTool!N477)","v":""},{"$f":"IF(ISBLANK(PFS_PFD_SelectionTool!O477),\"\",PFS_PFD_SelectionTool!O477)","v":""}]
[{"$f":"IF(ISBLANK(PFS_PFD_SelectionTool!C453),\"\",PFS_PFD_SelectionTool!C453)","v":""},{"$f":"IF(ISBLANK(PFS_PFD_SelectionTool!D453),\"\",PFS_PFD_SelectionTool!D453)","v":""},{"$f":"IF(ISBLANK(PFS_PFD_SelectionTool!E453&\"_\"&PFS_PFD_SelectionTool!F453&\"_\"&PFS_PFD_SelectionTool!G453&\"_\"&PFS_PFD_SelectionTool!H453&\"_\"&PFS_PFD_SelectionTool!I453&\"_\"&PFS_PFD_SelectionTool!J453),\"\",PFS_PFD_SelectionTool!E453&\"_\"&PFS_PFD_SelectionTool!F453&\"_\"&PFS_PFD_SelectionTool!G453&\"_\"&PFS_PFD_SelectionTool!H453&\"_\"&PFS_PFD_SelectionTool!I453&\"_\"&PFS_PFD_SelectionTool!J453)","v":"_____"},{"$f":"IF(ISBLANK(PFS_PFD_SelectionTool!K453),\"\",PFS_PFD_SelectionTool!K453)","v":""},{"$f":"VLOOKUP(D437,Tabelle1!A:B,2,FALSE)","v":{"$error":"#N/A"}},{"$f":"IF(ISBLANK(PFS_PFD_SelectionTool!N478),\"\",PFS_PFD_SelectionTool!N478)","v":""},{"$f":"IF(ISBLANK(PFS_PFD_SelectionTool!O478),\"\",PFS_PFD_SelectionTool!O478)","v":""}]
[{"$f":"IF(ISBLANK(PFS_PFD_SelectionTool!C454),\"\",PFS_PFD_SelectionTool!C454)","v":""},{"$f":"IF(ISBLANK(PFS_PFD_SelectionTool!D454),\"\",PFS_PFD_SelectionTool!D454)","v":""},{"$f":"IF(ISBLANK(PFS_PFD_SelectionTool!E454&\"_\"&PFS_PFD_SelectionTool!F454&\"_\"&PFS_PFD_SelectionTool!G454&\"_\"&PFS_PFD_SelectionTool!H454&\"_\"&PFS_PFD_SelectionTool!I454&\"_\"&PFS_PFD_SelectionTool!J454),\"\",PFS_PFD_SelectionTool!E454&\"_\"&PFS_PFD_SelectionTool!F454&\"_\"&PFS_PFD_SelectionTool!G454&\"_\"&PFS_PFD_SelectionTool!H454&\"_\"&PFS_PFD_SelectionTool!I454&\"_\"&PFS_PFD_SelectionTool!J454)","v":"_____"},{"$f":"IF(ISBLANK(PFS_PFD_SelectionTool!K454),\"\",PFS_PFD_SelectionTool!K454)","v":""},{"$f":"VLOOKUP(D438,Tabelle1!A:B,2,FALSE)","v":{"$error":"#N/A"}},{"$f":"IF(ISBLANK(PFS_PFD_SelectionTool!N479),\"\",PFS_PFD_SelectionTool!N479)","v":""},{"$f":"IF(ISBLANK(PFS_PFD_SelectionTool!O479),\"\",PFS_PFD_SelectionTool!O479)","v":""}]
[{"$f":"IF(ISBLANK(PFS_PFD_SelectionTool!C455),\"\",PFS_PFD_SelectionTool!C455)","v":""},{"$f":"IF(ISBLANK(PFS_PFD_SelectionTool!D455),\"\",PFS_PFD_SelectionTool!D455)","v":""},{"$f":"IF(ISBLANK(PFS_PFD_SelectionTool!E455&\"_\"&PFS_PFD_SelectionTool!F455&\"_\"&PFS_PFD_SelectionTool!G455&\"_\"&PFS_PFD_SelectionTool!H455&\"_\"&PFS_PFD_SelectionTool!I455&\"_\"&PFS_PFD_SelectionTool!J455),\"\",PFS_PFD_SelectionTool!E455&\"_\"&PFS_PFD_SelectionTool!F455&\"_\"&PFS_PFD_SelectionTool!G455&\"_\"&PFS_PFD_SelectionTool!H455&\"_\"&PFS_PFD_SelectionTool!I455&\"_\"&PFS_PFD_SelectionTool!J455)","v":"_____"},{"$f":"IF(ISBLANK(PFS_PFD_SelectionTool!K455),\"\",PFS_PFD_SelectionTool!K455)","v":""},{"$f":"VLOOKUP(D439,Tabelle1!A:B,2,FALSE)","v":{"$error":"#N/A"}},{"$f":"IF(ISBLANK(PFS_PFD_SelectionTool!N480),\"\",PFS_PFD_SelectionTool!N480)","v":""},{"$f":"IF(ISBLANK(PFS_PFD_SelectionTool!O480),\"\",PFS_PFD_SelectionTool!O480)","v":""}]
[{"$f":"IF(ISBLANK(PFS_PFD_SelectionTool!C456),\"\",PFS_PFD_SelectionTool!C456)","v":""},{"$f":"IF(ISBLANK(PFS_PFD_SelectionTool!D456),\"\",PFS_PFD_SelectionTool!D456)","v":""},{"$f":"IF(ISBLANK(PFS_PFD_SelectionTool!E456&\"_\"&PFS_PFD_SelectionTool!F456&\"_\"&PFS_PFD_SelectionTool!G456&\"_\"&PFS_PFD_SelectionTool!H456&\"_\"&PFS_PFD_SelectionTool!I456&\"_\"&PFS_PFD_SelectionTool!J456),\"\",PFS_PFD_SelectionTool!E456&\"_\"&PFS_PFD_SelectionTool!F456&\"_\"&PFS_PFD_SelectionTool!G456&\"_\"&PFS_PFD_SelectionTool!H456&\"_\"&PFS_PFD_SelectionTool!I456&\"_\"&PFS_PFD_SelectionTool!J456)","v":"_____"},{"$f":"IF(ISBLANK(PFS_PFD_SelectionTool!K456),\"\",PFS_PFD_SelectionTool!K456)","v":""},{"$f":"VLOOKUP(D440,Tabelle1!A:B,2,FALSE)","v":{"$error":"#N/A"}},{"$f":"IF(ISBLANK(PFS_PFD_SelectionTool!N481),\"\",PFS_PFD_SelectionTool!N481)","v":""},{"$f":"IF(ISBLANK(PFS_PFD_SelectionTool!O481),\"\",PFS_PFD_SelectionTool!O481)","v":""}]
[{"$f":"IF(ISBLANK(PFS_PFD_SelectionTool!C457),\"\",PFS_PFD_SelectionTool!C457)","v":""},{"$f":"IF(ISBLANK(PFS_PFD_SelectionTool!D457),\"\",PFS_PFD_SelectionTool!D457)","v":""},{"$f":"IF(ISBLANK(PFS_PFD_SelectionTool!E457&\"_\"&PFS_PFD_SelectionTool!F457&\"_\"&PFS_PFD_SelectionTool!G457&\"_\"&PFS_PFD_SelectionTool!H457&\"_\"&PFS_PFD_SelectionTool!I457&\"_\"&PFS_PFD_SelectionTool!J457),\"\",PFS_PFD_SelectionTool!E457&\"_\"&PFS_PFD_SelectionTool!F457&\"_\"&PFS_PFD_SelectionTool!G457&\"_\"&PFS_PFD_SelectionTool!H457&\"_\"&PFS_PFD_SelectionTool!I457&\"_\"&PFS_PFD_SelectionTool!J457)","v":"_____"},{"$f":"IF(ISBLANK(PFS_PFD_SelectionTool!K457),\"\",PFS_PFD_SelectionTool!K457)","v":""},{"$f":"VLOOKUP(D441,Tabelle1!A:B,2,FALSE)","v":{"$error":"#N/A"}},{"$f":"IF(ISBLANK(PFS_PFD_SelectionTool!N482),\"\",PFS_PFD_SelectionTool!N482)","v":""},{"$f":"IF(ISBLANK(PFS_PFD_SelectionTool!O482),\"\",PFS_PFD_SelectionTool!O482)","v":""}]
[{"$f":"IF(ISBLANK(PFS_PFD_SelectionTool!C458),\"\",PFS_PFD_SelectionTool!C458)","v":""},{"$f":"IF(ISBLANK(PFS_PFD_SelectionTool!D458),\"\",PFS_PFD_SelectionTool!D458)","v":""},{"$f":"IF(ISBLANK(PFS_PFD_SelectionTool!E458&\"_\"&PFS_PFD_SelectionTool!F458&\"_\"&PFS_PFD_SelectionTool!G458&\"_\"&PFS_PFD_SelectionTool!H458&\"_\"&PFS_PFD_SelectionTool!I458&\"_\"&PFS_PFD_SelectionTool!J458),\"\",PFS_PFD_SelectionTool!E458&\"_\"&PFS_PFD_SelectionTool!F458&\"_\"&PFS_PFD_SelectionTool!G458&\"_\"&PFS_PFD_SelectionTool!H458&\"_\"&PFS_PFD_SelectionTool!I458&\"_\"&PFS_PFD_SelectionTool!J458)","v":"_____"},{"$f":"IF(ISBLANK(PFS_PFD_SelectionTool!K458),\"\",PFS_PFD_SelectionTool!K458)","v":""},{"$f":"VLOOKUP(D442,Tabelle1!A:B,2,FALSE)","v":{"$error":"#N/A"}},{"$f":"IF(ISBLANK(PFS_PFD_SelectionTool!N483),\"\",PFS_PFD_SelectionTool!N483)","v":""},{"$f":"IF(ISBLANK(PFS_PFD_SelectionTool!O483),\"\",PFS_PFD_SelectionTool!O483)","v":""}]
[{"$f":"IF(ISBLANK(PFS_PFD_SelectionTool!C459),\"\",PFS_PFD_SelectionTool!C459)","v":""},{"$f":"IF(ISBLANK(PFS_PFD_SelectionTool!D459),\"\",PFS_PFD_SelectionTool!D459)","v":""},{"$f":"IF(ISBLANK(PFS_PFD_SelectionTool!E459&\"_\"&PFS_PFD_SelectionTool!F459&\"_\"&PFS_PFD_SelectionTool!G459&\"_\"&PFS_PFD_SelectionTool!H459&\"_\"&PFS_PFD_SelectionTool!I459&\"_\"&PFS_PFD_SelectionTool!J459),\"\",PFS_PFD_SelectionTool!E459&\"_\"&PFS_PFD_SelectionTool!F459&\"_\"&PFS_PFD_SelectionTool!G459&\"_\"&PFS_PFD_SelectionTool!H459&\"_\"&PFS_PFD_SelectionTool!I459&\"_\"&PFS_PFD_SelectionTool!J459)","v":"_____"},{"$f":"IF(ISBLANK(PFS_PFD_SelectionTool!K459),\"\",PFS_PFD_SelectionTool!K459)","v":""},{"$f":"VLOOKUP(D443,Tabelle1!A:B,2,FALSE)","v":{"$error":"#N/A"}},{"$f":"IF(ISBLANK(PFS_PFD_SelectionTool!N484),\"\",PFS_PFD_SelectionTool!N484)","v":""},{"$f":"IF(ISBLANK(PFS_PFD_SelectionTool!O484),\"\",PFS_PFD_SelectionTool!O484)","v":""}]
[{"$f":"IF(ISBLANK(PFS_PFD_SelectionTool!C460),\"\",PFS_PFD_SelectionTool!C460)","v":""},{"$f":"IF(ISBLANK(PFS_PFD_SelectionTool!D460),\"\",PFS_PFD_SelectionTool!D460)","v":""},{"$f":"IF(ISBLANK(PFS_PFD_SelectionTool!E460&\"_\"&PFS_PFD_SelectionTool!F460&\"_\"&PFS_PFD_SelectionTool!G460&\"_\"&PFS_PFD_SelectionTool!H460&\"_\"&PFS_PFD_SelectionTool!I460&\"_\"&PFS_PFD_SelectionTool!J460),\"\",PFS_PFD_SelectionTool!E460&\"_\"&PFS_PFD_SelectionTool!F460&\"_\"&PFS_PFD_SelectionTool!G460&\"_\"&PFS_PFD_SelectionTool!H460&\"_\"&PFS_PFD_SelectionTool!I460&\"_\"&PFS_PFD_SelectionTool!J460)","v":"_____"},{"$f":"IF(ISBLANK(PFS_PFD_SelectionTool!K460),\"\",PFS_PFD_SelectionTool!K460)","v":""},{"$f":"VLOOKUP(D444,Tabelle1!A:B,2,FALSE)","v":{"$error":"#N/A"}},{"$f":"IF(ISBLANK(PFS_PFD_SelectionTool!N485),\"\",PFS_PFD_SelectionTool!N485)","v":""},{"$f":"IF(ISBLANK(PFS_PFD_SelectionTool!O485),\"\",PFS_PFD_SelectionTool!O485)","v":""}]
[{"$f":"IF(ISBLANK(PFS_PFD_SelectionTool!C461),\"\",PFS_PFD_SelectionTool!C461)","v":""},{"$f":"IF(ISBLANK(PFS_PFD_SelectionTool!D461),\"\",PFS_PFD_SelectionTool!D461)","v":""},{"$f":"IF(ISBLANK(PFS_PFD_SelectionTool!E461&\"_\"&PFS_PFD_SelectionTool!F461&\"_\"&PFS_PFD_SelectionTool!G461&\"_\"&PFS_PFD_SelectionTool!H461&\"_\"&PFS_PFD_SelectionTool!I461&\"_\"&PFS_PFD_SelectionTool!J461),\"\",PFS_PFD_SelectionTool!E461&\"_\"&PFS_PFD_SelectionTool!F461&\"_\"&PFS_PFD_SelectionTool!G461&\"_\"&PFS_PFD_SelectionTool!H461&\"_\"&PFS_PFD_SelectionTool!I461&\"_\"&PFS_PFD_SelectionTool!J461)","v":"_____"},{"$f":"IF(ISBLANK(PFS_PFD_SelectionTool!K461),\"\",PFS_PFD_SelectionTool!K461)","v":""},{"$f":"VLOOKUP(D445,Tabelle1!A:B,2,FALSE)","v":{"$error":"#N/A"}},{"$f":"IF(ISBLANK(PFS_PFD_SelectionTool!N486),\"\",PFS_PFD_SelectionTool!N486)","v":""},{"$f":"IF(ISBLANK(PFS_PFD_SelectionTool!O486),\"\",PFS_PFD_SelectionTool!O486)","v":""}]
[{"$f":"IF(ISBLANK(PFS_PFD_SelectionTool!C462),\"\",PFS_PFD_SelectionTool!C462)","v":""},{"$f":"IF(ISBLANK(PFS_PFD_SelectionTool!D462),\"\",PFS_PFD_SelectionTool!D462)","v":""},{"$f":"IF(ISBLANK(PFS_PFD_SelectionTool!E462&\"_\"&PFS_PFD_SelectionTool!F462&\"_\"&PFS_PFD_SelectionTool!G462&\"_\"&PFS_PFD_SelectionTool!H462&\"_\"&PFS_PFD_SelectionTool!I462&\"_\"&PFS_PFD_SelectionTool!J462),\"\",PFS_PFD_SelectionTool!E462&\"_\"&PFS_PFD_SelectionTool!F462&\"_\"&PFS_PFD_SelectionTool!G462&\"_\"&PFS_PFD_SelectionTool!H462&\"_\"&PFS_PFD_SelectionTool!I462&\"_\"&PFS_PFD_SelectionTool!J462)","v":"_____"},{"$f":"IF(ISBLANK(PFS_PFD_SelectionTool!K462),\"\",PFS_PFD_SelectionTool!K462)","v":""},{"$f":"VLOOKUP(D446,Tabelle1!A:B,2,FALSE)","v":{"$error":"#N/A"}},{"$f":"IF(ISBLANK(PFS_PFD_SelectionTool!N487),\"\",PFS_PFD_SelectionTool!N487)","v":""},{"$f":"IF(ISBLANK(PFS_PFD_SelectionTool!O487),\"\",PFS_PFD_SelectionTool!O487)","v":""}]
[{"$f":"IF(ISBLANK(PFS_PFD_SelectionTool!C463),\"\",PFS_PFD_SelectionTool!C463)","v":""},{"$f":"IF(ISBLANK(PFS_PFD_SelectionTool!D463),\"\",PFS_PFD_SelectionTool!D463)","v":""},{"$f":"IF(ISBLANK(PFS_PFD_SelectionTool!E463&\"_\"&PFS_PFD_SelectionTool!F463&\"_\"&PFS_PFD_SelectionTool!G463&\"_\"&PFS_PFD_SelectionTool!H463&\"_\"&PFS_PFD_SelectionTool!I463&\"_\"&PFS_PFD_SelectionTool!J463),\"\",PFS_PFD_SelectionTool!E463&\"_\"&PFS_PFD_SelectionTool!F463&\"_\"&PFS_PFD_SelectionTool!G463&\"_\"&PFS_PFD_SelectionTool!H463&\"_\"&PFS_PFD_SelectionTool!I463&\"_\"&PFS_PFD_SelectionTool!J463)","v":"_____"},{"$f":"IF(ISBLANK(PFS_PFD_SelectionTool!K463),\"\",PFS_PFD_SelectionTool!K463)","v":""},{"$f":"VLOOKUP(D447,Tabelle1!A:B,2,FALSE)","v":{"$error":"#N/A"}},{"$f":"IF(ISBLANK(PFS_PFD_SelectionTool!N488),\"\",PFS_PFD_SelectionTool!N488)","v":""},{"$f":"IF(ISBLANK(PFS_PFD_SelectionTool!O488),\"\",PFS_PFD_SelectionTool!O488)","v":""}]
[{"$f":"IF(ISBLANK(PFS_PFD_SelectionTool!C464),\"\",PFS_PFD_SelectionTool!C464)","v":""},{"$f":"IF(ISBLANK(PFS_PFD_SelectionTool!D464),\"\",PFS_PFD_SelectionTool!D464)","v":""},{"$f":"IF(ISBLANK(PFS_PFD_SelectionTool!E464&\"_\"&PFS_PFD_SelectionTool!F464&\"_\"&PFS_PFD_SelectionTool!G464&\"_\"&PFS_PFD_SelectionTool!H464&\"_\"&PFS_PFD_SelectionTool!I464&\"_\"&PFS_PFD_SelectionTool!J464),\"\",PFS_PFD_SelectionTool!E464&\"_\"&PFS_PFD_SelectionTool!F464&\"_\"&PFS_PFD_SelectionTool!G464&\"_\"&PFS_PFD_SelectionTool!H464&\"_\"&PFS_PFD_SelectionTool!I464&\"_\"&PFS_PFD_SelectionTool!J464)","v":"_____"},{"$f":"IF(ISBLANK(PFS_PFD_SelectionTool!K464),\"\",PFS_PFD_SelectionTool!K464)","v":""},{"$f":"VLOOKUP(D448,Tabelle1!A:B,2,FALSE)","v":{"$error":"#N/A"}},{"$f":"IF(ISBLANK(PFS_PFD_SelectionTool!N489),\"\",PFS_PFD_SelectionTool!N489)","v":""},{"$f":"IF(ISBLANK(PFS_PFD_SelectionTool!O489),\"\",PFS_PFD_SelectionTool!O489)","v":""}]
[{"$f":"IF(ISBLANK(PFS_PFD_SelectionTool!C465),\"\",PFS_PFD_SelectionTool!C465)","v":""},{"$f":"IF(ISBLANK(PFS_PFD_SelectionTool!D465),\"\",PFS_PFD_SelectionTool!D465)","v":""},{"$f":"IF(ISBLANK(PFS_PFD_SelectionTool!E465&\"_\"&PFS_PFD_SelectionTool!F465&\"_\"&PFS_PFD_SelectionTool!G465&\"_\"&PFS_PFD_SelectionTool!H465&\"_\"&PFS_PFD_SelectionTool!I465&\"_\"&PFS_PFD_SelectionTool!J465),\"\",PFS_PFD_SelectionTool!E465&\"_\"&PFS_PFD_SelectionTool!F465&\"_\"&PFS_PFD_SelectionTool!G465&\"_\"&PFS_PFD_SelectionTool!H465&\"_\"&PFS_PFD_SelectionTool!I465&\"_\"&PFS_PFD_SelectionTool!J465)","v":"_____"},{"$f":"IF(ISBLANK(PFS_PFD_SelectionTool!K465),\"\",PFS_PFD_SelectionTool!K465)","v":""},{"$f":"VLOOKUP(D449,Tabelle1!A:B,2,FALSE)","v":{"$error":"#N/A"}},{"$f":"IF(ISBLANK(PFS_PFD_SelectionTool!N490),\"\",PFS_PFD_SelectionTool!N490)","v":""},{"$f":"IF(ISBLANK(PFS_PFD_SelectionTool!O490),\"\",PFS_PFD_SelectionTool!O490)","v":""}]
[{"$f":"IF(ISBLANK(PFS_PFD_SelectionTool!C466),\"\",PFS_PFD_SelectionTool!C466)","v":""},{"$f":"IF(ISBLANK(PFS_PFD_SelectionTool!D466),\"\",PFS_PFD_SelectionTool!D466)","v":""},{"$f":"IF(ISBLANK(PFS_PFD_SelectionTool!E466&\"_\"&PFS_PFD_SelectionTool!F466&\"_\"&PFS_PFD_SelectionTool!G466&\"_\"&PFS_PFD_SelectionTool!H466&\"_\"&PFS_PFD_SelectionTool!I466&\"_\"&PFS_PFD_SelectionTool!J466),\"\",PFS_PFD_SelectionTool!E466&\"_\"&PFS_PFD_SelectionTool!F466&\"_\"&PFS_PFD_SelectionTool!G466&\"_\"&PFS_PFD_SelectionTool!H466&\"_\"&PFS_PFD_SelectionTool!I466&\"_\"&PFS_PFD_SelectionTool!J466)","v":"_____"},{"$f":"IF(ISBLANK(PFS_PFD_SelectionTool!K466),\"\",PFS_PFD_SelectionTool!K466)","v":""},{"$f":"VLOOKUP(D450,Tabelle1!A:B,2,FALSE)","v":{"$error":"#N/A"}},{"$f":"IF(ISBLANK(PFS_PFD_SelectionTool!N491),\"\",PFS_PFD_SelectionTool!N491)","v":""},{"$f":"IF(ISBLANK(PFS_PFD_SelectionTool!O491),\"\",PFS_PFD_SelectionTool!O491)","v":""}]
[{"$f":"IF(ISBLANK(PFS_PFD_SelectionTool!C467),\"\",PFS_PFD_SelectionTool!C467)","v":""},{"$f":"IF(ISBLANK(PFS_PFD_SelectionTool!D467),\"\",PFS_PFD_SelectionTool!D467)","v":""},{"$f":"IF(ISBLANK(PFS_PFD_SelectionTool!E467&\"_\"&PFS_PFD_SelectionTool!F467&\"_\"&PFS_PFD_SelectionTool!G467&\"_\"&PFS_PFD_SelectionTool!H467&\"_\"&PFS_PFD_SelectionTool!I467&\"_\"&PFS_PFD_SelectionTool!J467),\"\",PFS_PFD_SelectionTool!E467&\"_\"&PFS_PFD_SelectionTool!F467&\"_\"&PFS_PFD_SelectionTool!G467&\"_\"&PFS_PFD_SelectionTool!H467&\"_\"&PFS_PFD_SelectionTool!I467&\"_\"&PFS_PFD_SelectionTool!J467)","v":"_____"},{"$f":"IF(ISBLANK(PFS_PFD_SelectionTool!K467),\"\",PFS_PFD_SelectionTool!K467)","v":""},{"$f":"VLOOKUP(D451,Tabelle1!A:B,2,FALSE)","v":{"$error":"#N/A"}},{"$f":"IF(ISBLANK(PFS_PFD_SelectionTool!N492),\"\",PFS_PFD_SelectionTool!N492)","v":""},{"$f":"IF(ISBLANK(PFS_PFD_SelectionTool!O492),\"\",PFS_PFD_SelectionTool!O492)","v":""}]
[{"$f":"IF(ISBLANK(PFS_PFD_SelectionTool!C468),\"\",PFS_PFD_SelectionTool!C468)","v":""},{"$f":"IF(ISBLANK(PFS_PFD_SelectionTool!D468),\"\",PFS_PFD_SelectionTool!D468)","v":""},{"$f":"IF(ISBLANK(PFS_PFD_SelectionTool!E468&\"_\"&PFS_PFD_SelectionTool!F468&\"_\"&PFS_PFD_SelectionTool!G468&\"_\"&PFS_PFD_SelectionTool!H468&\"_\"&PFS_PFD_SelectionTool!I468&\"_\"&PFS_PFD_SelectionTool!J468),\"\",PFS_PFD_SelectionTool!E468&\"_\"&PFS_PFD_SelectionTool!F468&\"_\"&PFS_PFD_SelectionTool!G468&\"_\"&PFS_PFD_SelectionTool!H468&\"_\"&PFS_PFD_SelectionTool!I468&\"_\"&PFS_PFD_SelectionTool!J468)","v":"_____"},{"$f":"IF(ISBLANK(PFS_PFD_SelectionTool!K468),\"\",PFS_PFD_SelectionTool!K468)","v":""},{"$f":"VLOOKUP(D452,Tabelle1!A:B,2,FALSE)","v":{"$error":"#N/A"}},{"$f":"IF(ISBLANK(PFS_PFD_SelectionTool!N493),\"\",PFS_PFD_SelectionTool!N493)","v":""},{"$f":"IF(ISBLANK(PFS_PFD_SelectionTool!O493),\"\",PFS_PFD_SelectionTool!O493)","v":""}]
[{"$f":"IF(ISBLANK(PFS_PFD_SelectionTool!C469),\"\",PFS_PFD_SelectionTool!C469)","v":""},{"$f":"IF(ISBLANK(PFS_PFD_SelectionTool!D469),\"\",PFS_PFD_SelectionTool!D469)","v":""},{"$f":"IF(ISBLANK(PFS_PFD_SelectionTool!E469&\"_\"&PFS_PFD_SelectionTool!F469&\"_\"&PFS_PFD_SelectionTool!G469&\"_\"&PFS_PFD_SelectionTool!H469&\"_\"&PFS_PFD_SelectionTool!I469&\"_\"&PFS_PFD_SelectionTool!J469),\"\",PFS_PFD_SelectionTool!E469&\"_\"&PFS_PFD_SelectionTool!F469&\"_\"&PFS_PFD_SelectionTool!G469&\"_\"&PFS_PFD_SelectionTool!H469&\"_\"&PFS_PFD_SelectionTool!I469&\"_\"&PFS_PFD_SelectionTool!J469)","v":"_____"},{"$f":"IF(ISBLANK(PFS_PFD_SelectionTool!K469),\"\",PFS_PFD_SelectionTool!K469)","v":""},{"$f":"VLOOKUP(D453,Tabelle1!A:B,2,FALSE)","v":{"$error":"#N/A"}},{"$f":"IF(ISBLANK(PFS_PFD_SelectionTool!N494),\"\",PFS_PFD_SelectionTool!N494)","v":""},{"$f":"IF(ISBLANK(PFS_PFD_SelectionTool!O494),\"\",PFS_PFD_SelectionTool!O494)","v":""}]
[{"$f":"IF(ISBLANK(PFS_PFD_SelectionTool!C470),\"\",PFS_PFD_SelectionTool!C470)","v":""},{"$f":"IF(ISBLANK(PFS_PFD_SelectionTool!D470),\"\",PFS_PFD_SelectionTool!D470)","v":""},{"$f":"IF(ISBLANK(PFS_PFD_SelectionTool!E470&\"_\"&PFS_PFD_SelectionTool!F470&\"_\"&PFS_PFD_SelectionTool!G470&\"_\"&PFS_PFD_SelectionTool!H470&\"_\"&PFS_PFD_SelectionTool!I470&\"_\"&PFS_PFD_SelectionTool!J470),\"\",PFS_PFD_SelectionTool!E470&\"_\"&PFS_PFD_SelectionTool!F470&\"_\"&PFS_PFD_SelectionTool!G470&\"_\"&PFS_PFD_SelectionTool!H470&\"_\"&PFS_PFD_SelectionTool!I470&\"_\"&PFS_PFD_SelectionTool!J470)","v":"_____"},{"$f":"IF(ISBLANK(PFS_PFD_SelectionTool!K470),\"\",PFS_PFD_SelectionTool!K470)","v":""},{"$f":"VLOOKUP(D454,Tabelle1!A:B,2,FALSE)","v":{"$error":"#N/A"}},{"$f":"IF(ISBLANK(PFS_PFD_SelectionTool!N495),\"\",PFS_PFD_SelectionTool!N495)","v":""},{"$f":"IF(ISBLANK(PFS_PFD_SelectionTool!O495),\"\",PFS_PFD_SelectionTool!O495)","v":""}]
[{"$f":"IF(ISBLANK(PFS_PFD_SelectionTool!C471),\"\",PFS_PFD_SelectionTool!C471)","v":""},{"$f":"IF(ISBLANK(PFS_PFD_SelectionTool!D471),\"\",PFS_PFD_SelectionTool!D471)","v":""},{"$f":"IF(ISBLANK(PFS_PFD_SelectionTool!E471&\"_\"&PFS_PFD_SelectionTool!F471&\"_\"&PFS_PFD_SelectionTool!G471&\"_\"&PFS_PFD_SelectionTool!H471&\"_\"&PFS_PFD_SelectionTool!I471&\"_\"&PFS_PFD_SelectionTool!J471),\"\",PFS_PFD_SelectionTool!E471&\"_\"&PFS_PFD_SelectionTool!F471&\"_\"&PFS_PFD_SelectionTool!G471&\"_\"&PFS_PFD_SelectionTool!H471&\"_\"&PFS_PFD_SelectionTool!I471&\"_\"&PFS_PFD_SelectionTool!J471)","v":"_____"},{"$f":"IF(ISBLANK(PFS_PFD_SelectionTool!K471),\"\",PFS_PFD_SelectionTool!K471)","v":""},{"$f":"VLOOKUP(D455,Tabelle1!A:B,2,FALSE)","v":{"$error":"#N/A"}},{"$f":"IF(ISBLANK(PFS_PFD_SelectionTool!N496),\"\",PFS_PFD_SelectionTool!N496)","v":""},{"$f":"IF(ISBLANK(PFS_PFD_SelectionTool!O496),\"\",PFS_PFD_SelectionTool!O496)","v":""}]
[{"$f":"IF(ISBLANK(PFS_PFD_SelectionTool!C472),\"\",PFS_PFD_SelectionTool!C472)","v":""},{"$f":"IF(ISBLANK(PFS_PFD_SelectionTool!D472),\"\",PFS_PFD_SelectionTool!D472)","v":""},{"$f":"IF(ISBLANK(PFS_PFD_SelectionTool!E472&\"_\"&PFS_PFD_SelectionTool!F472&\"_\"&PFS_PFD_SelectionTool!G472&\"_\"&PFS_PFD_SelectionTool!H472&\"_\"&PFS_PFD_SelectionTool!I472&\"_\"&PFS_PFD_SelectionTool!J472),\"\",PFS_PFD_SelectionTool!E472&\"_\"&PFS_PFD_SelectionTool!F472&\"_\"&PFS_PFD_SelectionTool!G472&\"_\"&PFS_PFD_SelectionTool!H472&\"_\"&PFS_PFD_SelectionTool!I472&\"_\"&PFS_PFD_SelectionTool!J472)","v":"_____"},{"$f":"IF(ISBLANK(PFS_PFD_SelectionTool!K472),\"\",PFS_PFD_SelectionTool!K472)","v":""},{"$f":"VLOOKUP(D456,Tabelle1!A:B,2,FALSE)","v":{"$error":"#N/A"}},{"$f":"IF(ISBLANK(PFS_PFD_SelectionTool!N497),\"\",PFS_PFD_SelectionTool!N497)","v":""},{"$f":"IF(ISBLANK(PFS_PFD_SelectionTool!O497),\"\",PFS_PFD_SelectionTool!O497)","v":""}]
[{"$f":"IF(ISBLANK(PFS_PFD_SelectionTool!C473),\"\",PFS_PFD_SelectionTool!C473)","v":""},{"$f":"IF(ISBLANK(PFS_PFD_SelectionTool!D473),\"\",PFS_PFD_SelectionTool!D473)","v":""},{"$f":"IF(ISBLANK(PFS_PFD_SelectionTool!E473&\"_\"&PFS_PFD_SelectionTool!F473&\"_\"&PFS_PFD_SelectionTool!G473&\"_\"&PFS_PFD_SelectionTool!H473&\"_\"&PFS_PFD_SelectionTool!I473&\"_\"&PFS_PFD_SelectionTool!J473),\"\",PFS_PFD_SelectionTool!E473&\"_\"&PFS_PFD_SelectionTool!F473&\"_\"&PFS_PFD_SelectionTool!G473&\"_\"&PFS_PFD_SelectionTool!H473&\"_\"&PFS_PFD_SelectionTool!I473&\"_\"&PFS_PFD_SelectionTool!J473)","v":"_____"},{"$f":"IF(ISBLANK(PFS_PFD_SelectionTool!K473),\"\",PFS_PFD_SelectionTool!K473)","v":""},{"$f":"VLOOKUP(D457,Tabelle1!A:B,2,FALSE)","v":{"$error":"#N/A"}},{"$f":"IF(ISBLANK(PFS_PFD_SelectionTool!N498),\"\",PFS_PFD_SelectionTool!N498)","v":""},{"$f":"IF(ISBLANK(PFS_PFD_SelectionTool!O498),\"\",PFS_PFD_SelectionTool!O498)","v":""}]
[{"$f":"IF(ISBLANK(PFS_PFD_SelectionTool!C474),\"\",PFS_PFD_SelectionTool!C474)","v":""},{"$f":"IF(ISBLANK(PFS_PFD_SelectionTool!D474),\"\",PFS_PFD_SelectionTool!D474)","v":""},{"$f":"IF(ISBLANK(PFS_PFD_SelectionTool!E474&\"_\"&PFS_PFD_SelectionTool!F474&\"_\"&PFS_PFD_SelectionTool!G474&\"_\"&PFS_PFD_SelectionTool!H474&\"_\"&PFS_PFD_SelectionTool!I474&\"_\"&PFS_PFD_SelectionTool!J474),\"\",PFS_PFD_SelectionTool!E474&\"_\"&PFS_PFD_SelectionTool!F474&\"_\"&PFS_PFD_SelectionTool!G474&\"_\"&PFS_PFD_SelectionTool!H474&\"_\"&PFS_PFD_SelectionTool!I474&\"_\"&PFS_PFD_SelectionTool!J474)","v":"_____"},{"$f":"IF(ISBLANK(PFS_PFD_SelectionTool!K474),\"\",PFS_PFD_SelectionTool!K474)","v":""},{"$f":"VLOOKUP(D458,Tabelle1!A:B,2,FALSE)","v":{"$error":"#N/A"}},{"$f":"IF(ISBLANK(PFS_PFD_SelectionTool!N499),\"\",PFS_PFD_SelectionTool!N499)","v":""},{"$f":"IF(ISBLANK(PFS_PFD_SelectionTool!O499),\"\",PFS_PFD_SelectionTool!O499)","v":""}]
[{"$f":"IF(ISBLANK(PFS_PFD_SelectionTool!C475),\"\",PFS_PFD_SelectionTool!C475)","v":""},{"$f":"IF(ISBLANK(PFS_PFD_SelectionTool!D475),\"\",PFS_PFD_SelectionTool!D475)","v":""},{"$f":"IF(ISBLANK(PFS_PFD_SelectionTool!E475&\"_\"&PFS_PFD_SelectionTool!F475&\"_\"&PFS_PFD_SelectionTool!G475&\"_\"&PFS_PFD_SelectionTool!H475&\"_\"&PFS_PFD_SelectionTool!I475&\"_\"&PFS_PFD_SelectionTool!J475),\"\",PFS_PFD_SelectionTool!E475&\"_\"&PFS_PFD_SelectionTool!F475&\"_\"&PFS_PFD_SelectionTool!G475&\"_\"&PFS_PFD_SelectionTool!H475&\"_\"&PFS_PFD_SelectionTool!I475&\"_\"&PFS_PFD_SelectionTool!J475)","v":"_____"},{"$f":"IF(ISBLANK(PFS_PFD_SelectionTool!K475),\"\",PFS_PFD_SelectionTool!K475)","v":""},{"$f":"VLOOKUP(D459,Tabelle1!A:B,2,FALSE)","v":{"$error":"#N/A"}},{"$f":"IF(ISBLANK(PFS_PFD_SelectionTool!N500),\"\",PFS_PFD_SelectionTool!N500)","v":""},{"$f":"IF(ISBLANK(PFS_PFD_SelectionTool!O500),\"\",PFS_PFD_SelectionTool!O500)","v":""}]
[{"$f":"IF(ISBLANK(PFS_PFD_SelectionTool!C476),\"\",PFS_PFD_SelectionTool!C476)","v":""},{"$f":"IF(ISBLANK(PFS_PFD_SelectionTool!D476),\"\",PFS_PFD_SelectionTool!D476)","v":""},{"$f":"IF(ISBLANK(PFS_PFD_SelectionTool!E476&\"_\"&PFS_PFD_SelectionTool!F476&\"_\"&PFS_PFD_SelectionTool!G476&\"_\"&PFS_PFD_SelectionTool!H476&\"_\"&PFS_PFD_SelectionTool!I476&\"_\"&PFS_PFD_SelectionTool!J476),\"\",PFS_PFD_SelectionTool!E476&\"_\"&PFS_PFD_SelectionTool!F476&\"_\"&PFS_PFD_SelectionTool!G476&\"_\"&PFS_PFD_SelectionTool!H476&\"_\"&PFS_PFD_SelectionTool!I476&\"_\"&PFS_PFD_SelectionTool!J476)","v":"_____"},{"$f":"IF(ISBLANK(PFS_PFD_SelectionTool!K476),\"\",PFS_PFD_SelectionTool!K476)","v":""},{"$f":"VLOOKUP(D460,Tabelle1!A:B,2,FALSE)","v":{"$error":"#N/A"}},{"$f":"IF(ISBLANK(PFS_PFD_SelectionTool!N501),\"\",PFS_PFD_SelectionTool!N501)","v":""},{"$f":"IF(ISBLANK(PFS_PFD_SelectionTool!O501),\"\",PFS_PFD_SelectionTool!O501)","v":""}]
[{"$f":"IF(ISBLANK(PFS_PFD_SelectionTool!C477),\"\",PFS_PFD_SelectionTool!C477)","v":""},{"$f":"IF(ISBLANK(PFS_PFD_SelectionTool!D477),\"\",PFS_PFD_SelectionTool!D477)","v":""},{"$f":"IF(ISBLANK(PFS_PFD_SelectionTool!E477&\"_\"&PFS_PFD_SelectionTool!F477&\"_\"&PFS_PFD_SelectionTool!G477&\"_\"&PFS_PFD_SelectionTool!H477&\"_\"&PFS_PFD_SelectionTool!I477&\"_\"&PFS_PFD_SelectionTool!J477),\"\",PFS_PFD_SelectionTool!E477&\"_\"&PFS_PFD_SelectionTool!F477&\"_\"&PFS_PFD_SelectionTool!G477&\"_\"&PFS_PFD_SelectionTool!H477&\"_\"&PFS_PFD_SelectionTool!I477&\"_\"&PFS_PFD_SelectionTool!J477)","v":"_____"},{"$f":"IF(ISBLANK(PFS_PFD_SelectionTool!K477),\"\",PFS_PFD_SelectionTool!K477)","v":""},{"$f":"VLOOKUP(D461,Tabelle1!A:B,2,FALSE)","v":{"$error":"#N/A"}},{"$f":"IF(ISBLANK(PFS_PFD_SelectionTool!N502),\"\",PFS_PFD_SelectionTool!N502)","v":""},{"$f":"IF(ISBLANK(PFS_PFD_SelectionTool!O502),\"\",PFS_PFD_SelectionTool!O502)","v":""}]
[{"$f":"IF(ISBLANK(PFS_PFD_SelectionTool!C478),\"\",PFS_PFD_SelectionTool!C478)","v":""},{"$f":"IF(ISBLANK(PFS_PFD_SelectionTool!D478),\"\",PFS_PFD_SelectionTool!D478)","v":""},{"$f":"IF(ISBLANK(PFS_PFD_SelectionTool!E478&\"_\"&PFS_PFD_SelectionTool!F478&\"_\"&PFS_PFD_SelectionTool!G478&\"_\"&PFS_PFD_SelectionTool!H478&\"_\"&PFS_PFD_SelectionTool!I478&\"_\"&PFS_PFD_SelectionTool!J478),\"\",PFS_PFD_SelectionTool!E478&\"_\"&PFS_PFD_SelectionTool!F478&\"_\"&PFS_PFD_SelectionTool!G478&\"_\"&PFS_PFD_SelectionTool!H478&\"_\"&PFS_PFD_SelectionTool!I478&\"_\"&PFS_PFD_SelectionTool!J478)","v":"_____"},{"$f":"IF(ISBLANK(PFS_PFD_SelectionTool!K478),\"\",PFS_PFD_SelectionTool!K478)","v":""},{"$f":"VLOOKUP(D462,Tabelle1!A:B,2,FALSE)","v":{"$error":"#N/A"}},{"$f":"IF(ISBLANK(PFS_PFD_SelectionTool!N503),\"\",PFS_PFD_SelectionTool!N503)","v":""},{"$f":"IF(ISBLANK(PFS_PFD_SelectionTool!O503),\"\",PFS_PFD_SelectionTool!O503)","v":""}]
[{"$f":"IF(ISBLANK(PFS_PFD_SelectionTool!C479),\"\",PFS_PFD_SelectionTool!C479)","v":""},{"$f":"IF(ISBLANK(PFS_PFD_SelectionTool!D479),\"\",PFS_PFD_SelectionTool!D479)","v":""},{"$f":"IF(ISBLANK(PFS_PFD_SelectionTool!E479&\"_\"&PFS_PFD_SelectionTool!F479&\"_\"&PFS_PFD_SelectionTool!G479&\"_\"&PFS_PFD_SelectionTool!H479&\"_\"&PFS_PFD_SelectionTool!I479&\"_\"&PFS_PFD_SelectionTool!J479),\"\",PFS_PFD_SelectionTool!E479&\"_\"&PFS_PFD_SelectionTool!F479&\"_\"&PFS_PFD_SelectionTool!G479&\"_\"&PFS_PFD_SelectionTool!H479&\"_\"&PFS_PFD_SelectionTool!I479&\"_\"&PFS_PFD_SelectionTool!J479)","v":"_____"},{"$f":"IF(ISBLANK(PFS_PFD_SelectionTool!K479),\"\",PFS_PFD_SelectionTool!K479)","v":""},{"$f":"VLOOKUP(D463,Tabelle1!A:B,2,FALSE)","v":{"$error":"#N/A"}},{"$f":"IF(ISBLANK(PFS_PFD_SelectionTool!N504),\"\",PFS_PFD_SelectionTool!N504)","v":""},{"$f":"IF(ISBLANK(PFS_PFD_SelectionTool!O504),\"\",PFS_PFD_SelectionTool!O504)","v":""}]
[{"$f":"IF(ISBLANK(PFS_PFD_SelectionTool!C480),\"\",PFS_PFD_SelectionTool!C480)","v":""},{"$f":"IF(ISBLANK(PFS_PFD_SelectionTool!D480),\"\",PFS_PFD_SelectionTool!D480)","v":""},{"$f":"IF(ISBLANK(PFS_PFD_SelectionTool!E480&\"_\"&PFS_PFD_SelectionTool!F480&\"_\"&PFS_PFD_SelectionTool!G480&\"_\"&PFS_PFD_SelectionTool!H480&\"_\"&PFS_PFD_SelectionTool!I480&\"_\"&PFS_PFD_SelectionTool!J480),\"\",PFS_PFD_SelectionTool!E480&\"_\"&PFS_PFD_SelectionTool!F480&\"_\"&PFS_PFD_SelectionTool!G480&\"_\"&PFS_PFD_SelectionTool!H480&\"_\"&PFS_PFD_SelectionTool!I480&\"_\"&PFS_PFD_SelectionTool!J480)","v":"_____"},{"$f":"IF(ISBLANK(PFS_PFD_SelectionTool!K480),\"\",PFS_PFD_SelectionTool!K480)","v":""},{"$f":"VLOOKUP(D464,Tabelle1!A:B,2,FALSE)","v":{"$error":"#N/A"}},{"$f":"IF(ISBLANK(PFS_PFD_SelectionTool!N505),\"\",PFS_PFD_SelectionTool!N505)","v":""},{"$f":"IF(ISBLANK(PFS_PFD_SelectionTool!O505),\"\",PFS_PFD_SelectionTool!O505)","v":""}]
[{"$f":"IF(ISBLANK(PFS_PFD_SelectionTool!C481),\"\",PFS_PFD_SelectionTool!C481)","v":""},{"$f":"IF(ISBLANK(PFS_PFD_SelectionTool!D481),\"\",PFS_PFD_SelectionTool!D481)","v":""},{"$f":"IF(ISBLANK(PFS_PFD_SelectionTool!E481&\"_\"&PFS_PFD_SelectionTool!F481&\"_\"&PFS_PFD_SelectionTool!G481&\"_\"&PFS_PFD_SelectionTool!H481&\"_\"&PFS_PFD_SelectionTool!I481&\"_\"&PFS_PFD_SelectionTool!J481),\"\",PFS_PFD_SelectionTool!E481&\"_\"&PFS_PFD_SelectionTool!F481&\"_\"&PFS_PFD_SelectionTool!G481&\"_\"&PFS_PFD_SelectionTool!H481&\"_\"&PFS_PFD_SelectionTool!I481&\"_\"&PFS_PFD_SelectionTool!J481)","v":"_____"},{"$f":"IF(ISBLANK(PFS_PFD_SelectionTool!K481),\"\",PFS_PFD_SelectionTool!K481)","v":""},{"$f":"VLOOKUP(D465,Tabelle1!A:B,2,FALSE)","v":{"$error":"#N/A"}},{"$f":"IF(ISBLANK(PFS_PFD_SelectionTool!N506),\"\",PFS_PFD_SelectionTool!N506)","v":""},{"$f":"IF(ISBLANK(PFS_PFD_SelectionTool!O506),\"\",PFS_PFD_SelectionTool!O506)","v":""}]
[{"$f":"IF(ISBLANK(PFS_PFD_SelectionTool!C482),\"\",PFS_PFD_SelectionTool!C482)","v":""},{"$f":"IF(ISBLANK(PFS_PFD_SelectionTool!D482),\"\",PFS_PFD_SelectionTool!D482)","v":""},{"$f":"IF(ISBLANK(PFS_PFD_SelectionTool!E482&\"_\"&PFS_PFD_SelectionTool!F482&\"_\"&PFS_PFD_SelectionTool!G482&\"_\"&PFS_PFD_SelectionTool!H482&\"_\"&PFS_PFD_SelectionTool!I482&\"_\"&PFS_PFD_SelectionTool!J482),\"\",PFS_PFD_SelectionTool!E482&\"_\"&PFS_PFD_SelectionTool!F482&\"_\"&PFS_PFD_SelectionTool!G482&\"_\"&PFS_PFD_SelectionTool!H482&\"_\"&PFS_PFD_SelectionTool!I482&\"_\"&PFS_PFD_SelectionTool!J482)","v":"_____"},{"$f":"IF(ISBLANK(PFS_PFD_SelectionTool!K482),\"\",PFS_PFD_SelectionTool!K482)","v":""},{"$f":"VLOOKUP(D466,Tabelle1!A:B,2,FALSE)","v":{"$error":"#N/A"}},{"$f":"IF(ISBLANK(PFS_PFD_SelectionTool!N507),\"\",PFS_PFD_SelectionTool!N507)","v":""},{"$f":"IF(ISBLANK(PFS_PFD_SelectionTool!O507),\"\",PFS_PFD_SelectionTool!O507)","v":""}]
[{"$f":"IF(ISBLANK(PFS_PFD_SelectionTool!C483),\"\",PFS_PFD_SelectionTool!C483)","v":""},{"$f":"IF(ISBLANK(PFS_PFD_SelectionTool!D483),\"\",PFS_PFD_SelectionTool!D483)","v":""},{"$f":"IF(ISBLANK(PFS_PFD_SelectionTool!E483&\"_\"&PFS_PFD_SelectionTool!F483&\"_\"&PFS_PFD_SelectionTool!G483&\"_\"&PFS_PFD_SelectionTool!H483&\"_\"&PFS_PFD_SelectionTool!I483&\"_\"&PFS_PFD_SelectionTool!J483),\"\",PFS_PFD_SelectionTool!E483&\"_\"&PFS_PFD_SelectionTool!F483&\"_\"&PFS_PFD_SelectionTool!G483&\"_\"&PFS_PFD_SelectionTool!H483&\"_\"&PFS_PFD_SelectionTool!I483&\"_\"&PFS_PFD_SelectionTool!J483)","v":"_____"},{"$f":"IF(ISBLANK(PFS_PFD_SelectionTool!K483),\"\",PFS_PFD_SelectionTool!K483)","v":""},{"$f":"VLOOKUP(D467,Tabelle1!A:B,2,FALSE)","v":{"$error":"#N/A"}},{"$f":"IF(ISBLANK(PFS_PFD_SelectionTool!N508),\"\",PFS_PFD_SelectionTool!N508)","v":""},{"$f":"IF(ISBLANK(PFS_PFD_SelectionTool!O508),\"\",PFS_PFD_SelectionTool!O508)","v":""}]
[{"$f":"IF(ISBLANK(PFS_PFD_SelectionTool!C484),\"\",PFS_PFD_SelectionTool!C484)","v":""},{"$f":"IF(ISBLANK(PFS_PFD_SelectionTool!D484),\"\",PFS_PFD_SelectionTool!D484)","v":""},{"$f":"IF(ISBLANK(PFS_PFD_SelectionTool!E484&\"_\"&PFS_PFD_SelectionTool!F484&\"_\"&PFS_PFD_SelectionTool!G484&\"_\"&PFS_PFD_SelectionTool!H484&\"_\"&PFS_PFD_SelectionTool!I484&\"_\"&PFS_PFD_SelectionTool!J484),\"\",PFS_PFD_SelectionTool!E484&\"_\"&PFS_PFD_SelectionTool!F484&\"_\"&PFS_PFD_SelectionTool!G484&\"_\"&PFS_PFD_SelectionTool!H484&\"_\"&PFS_PFD_SelectionTool!I484&\"_\"&PFS_PFD_SelectionTool!J484)","v":"_____"},{"$f":"IF(ISBLANK(PFS_PFD_SelectionTool!K484),\"\",PFS_PFD_SelectionTool!K484)","v":""},{"$f":"VLOOKUP(D468,Tabelle1!A:B,2,FALSE)","v":{"$error":"#N/A"}},{"$f":"IF(ISBLANK(PFS_PFD_SelectionTool!N509),\"\",PFS_PFD_SelectionTool!N509)","v":""},{"$f":"IF(ISBLANK(PFS_PFD_SelectionTool!O509),\"\",PFS_PFD_SelectionTool!O509)","v":""}]
[{"$f":"IF(ISBLANK(PFS_PFD_SelectionTool!C485),\"\",PFS_PFD_SelectionTool!C485)","v":""},{"$f":"IF(ISBLANK(PFS_PFD_SelectionTool!D485),\"\",PFS_PFD_SelectionTool!D485)","v":""},{"$f":"IF(ISBLANK(PFS_PFD_SelectionTool!E485&\"_\"&PFS_PFD_SelectionTool!F485&\"_\"&PFS_PFD_SelectionTool!G485&\"_\"&PFS_PFD_SelectionTool!H485&\"_\"&PFS_PFD_SelectionTool!I485&\"_\"&PFS_PFD_SelectionTool!J485),\"\",PFS_PFD_SelectionTool!E485&\"_\"&PFS_PFD_SelectionTool!F485&\"_\"&PFS_PFD_SelectionTool!G485&\"_\"&PFS_PFD_SelectionTool!H485&\"_\"&PFS_PFD_SelectionTool!I485&\"_\"&PFS_PFD_SelectionTool!J485)","v":"_____"},{"$f":"IF(ISBLANK(PFS_PFD_SelectionTool!K485),\"\",PFS_PFD_SelectionTool!K485)","v":""},{"$f":"VLOOKUP(D469,Tabelle1!A:B,2,FALSE)","v":{"$error":"#N/A"}},{"$f":"IF(ISBLANK(PFS_PFD_SelectionTool!N510),\"\",PFS_PFD_SelectionTool!N510)","v":""},{"$f":"IF(ISBLANK(PFS_PFD_SelectionTool!O510),\"\",PFS_PFD_SelectionTool!O510)","v":""}]
[{"$f":"IF(ISBLANK(PFS_PFD_SelectionTool!C486),\"\",PFS_PFD_SelectionTool!C486)","v":""},{"$f":"IF(ISBLANK(PFS_PFD_SelectionTool!D486),\"\",PFS_PFD_SelectionTool!D486)","v":""},{"$f":"IF(ISBLANK(PFS_PFD_SelectionTool!E486&\"_\"&PFS_PFD_SelectionTool!F486&\"_\"&PFS_PFD_SelectionTool!G486&\"_\"&PFS_PFD_SelectionTool!H486&\"_\"&PFS_PFD_SelectionTool!I486&\"_\"&PFS_PFD_SelectionTool!J486),\"\",PFS_PFD_SelectionTool!E486&\"_\"&PFS_PFD_SelectionTool!F486&\"_\"&PFS_PFD_SelectionTool!G486&\"_\"&PFS_PFD_SelectionTool!H486&\"_\"&PFS_PFD_SelectionTool!I486&\"_\"&PFS_PFD_SelectionTool!J486)","v":"_____"},{"$f":"IF(ISBLANK(PFS_PFD_SelectionTool!K486),\"\",PFS_PFD_SelectionTool!K486)","v":""},{"$f":"VLOOKUP(D470,Tabelle1!A:B,2,FALSE)","v":{"$error":"#N/A"}},{"$f":"IF(ISBLANK(PFS_PFD_SelectionTool!N511),\"\",PFS_PFD_SelectionTool!N511)","v":""},{"$f":"IF(ISBLANK(PFS_PFD_SelectionTool!O511),\"\",PFS_PFD_SelectionTool!O511)","v":""}]
[{"$f":"IF(ISBLANK(PFS_PFD_SelectionTool!C487),\"\",PFS_PFD_SelectionTool!C487)","v":""},{"$f":"IF(ISBLANK(PFS_PFD_SelectionTool!D487),\"\",PFS_PFD_SelectionTool!D487)","v":""},{"$f":"IF(ISBLANK(PFS_PFD_SelectionTool!E487&\"_\"&PFS_PFD_SelectionTool!F487&\"_\"&PFS_PFD_SelectionTool!G487&\"_\"&PFS_PFD_SelectionTool!H487&\"_\"&PFS_PFD_SelectionTool!I487&\"_\"&PFS_PFD_SelectionTool!J487),\"\",PFS_PFD_SelectionTool!E487&\"_\"&PFS_PFD_SelectionTool!F487&\"_\"&PFS_PFD_SelectionTool!G487&\"_\"&PFS_PFD_SelectionTool!H487&\"_\"&PFS_PFD_SelectionTool!I487&\"_\"&PFS_PFD_SelectionTool!J487)","v":"_____"},{"$f":"IF(ISBLANK(PFS_PFD_SelectionTool!K487),\"\",PFS_PFD_SelectionTool!K487)","v":""},{"$f":"VLOOKUP(D471,Tabelle1!A:B,2,FALSE)","v":{"$error":"#N/A"}},{"$f":"IF(ISBLANK(PFS_PFD_SelectionTool!N512),\"\",PFS_PFD_SelectionTool!N512)","v":""},{"$f":"IF(ISBLANK(PFS_PFD_SelectionTool!O512),\"\",PFS_PFD_SelectionTool!O512)","v":""}]
[{"$f":"IF(ISBLANK(PFS_PFD_SelectionTool!C488),\"\",PFS_PFD_SelectionTool!C488)","v":""},{"$f":"IF(ISBLANK(PFS_PFD_SelectionTool!D488),\"\",PFS_PFD_SelectionTool!D488)","v":""},{"$f":"IF(ISBLANK(PFS_PFD_SelectionTool!E488&\"_\"&PFS_PFD_SelectionTool!F488&\"_\"&PFS_PFD_SelectionTool!G488&\"_\"&PFS_PFD_SelectionTool!H488&\"_\"&PFS_PFD_SelectionTool!I488&\"_\"&PFS_PFD_SelectionTool!J488),\"\",PFS_PFD_SelectionTool!E488&\"_\"&PFS_PFD_SelectionTool!F488&\"_\"&PFS_PFD_SelectionTool!G488&\"_\"&PFS_PFD_SelectionTool!H488&\"_\"&PFS_PFD_SelectionTool!I488&\"_\"&PFS_PFD_SelectionTool!J488)","v":"_____"},{"$f":"IF(ISBLANK(PFS_PFD_SelectionTool!K488),\"\",PFS_PFD_SelectionTool!K488)","v":""},{"$f":"VLOOKUP(D472,Tabelle1!A:B,2,FALSE)","v":{"$error":"#N/A"}},{"$f":"IF(ISBLANK(PFS_PFD_SelectionTool!N513),\"\",PFS_PFD_SelectionTool!N513)","v":""},{"$f":"IF(ISBLANK(PFS_PFD_SelectionTool!O513),\"\",PFS_PFD_SelectionTool!O513)","v":""}]
[{"$f":"IF(ISBLANK(PFS_PFD_SelectionTool!C489),\"\",PFS_PFD_SelectionTool!C489)","v":""},{"$f":"IF(ISBLANK(PFS_PFD_SelectionTool!D489),\"\",PFS_PFD_SelectionTool!D489)","v":""},{"$f":"IF(ISBLANK(PFS_PFD_SelectionTool!E489&\"_\"&PFS_PFD_SelectionTool!F489&\"_\"&PFS_PFD_SelectionTool!G489&\"_\"&PFS_PFD_SelectionTool!H489&\"_\"&PFS_PFD_SelectionTool!I489&\"_\"&PFS_PFD_SelectionTool!J489),\"\",PFS_PFD_SelectionTool!E489&\"_\"&PFS_PFD_SelectionTool!F489&\"_\"&PFS_PFD_SelectionTool!G489&\"_\"&PFS_PFD_SelectionTool!H489&\"_\"&PFS_PFD_SelectionTool!I489&\"_\"&PFS_PFD_SelectionTool!J489)","v":"_____"},{"$f":"IF(ISBLANK(PFS_PFD_SelectionTool!K489),\"\",PFS_PFD_SelectionTool!K489)","v":""},{"$f":"VLOOKUP(D473,Tabelle1!A:B,2,FALSE)","v":{"$error":"#N/A"}},{"$f":"IF(ISBLANK(PFS_PFD_SelectionTool!N514),\"\",PFS_PFD_SelectionTool!N514)","v":""},{"$f":"IF(ISBLANK(PFS_PFD_SelectionTool!O514),\"\",PFS_PFD_SelectionTool!O514)","v":""}]
[{"$f":"IF(ISBLANK(PFS_PFD_SelectionTool!C490),\"\",PFS_PFD_SelectionTool!C490)","v":""},{"$f":"IF(ISBLANK(PFS_PFD_SelectionTool!D490),\"\",PFS_PFD_SelectionTool!D490)","v":""},{"$f":"IF(ISBLANK(PFS_PFD_SelectionTool!E490&\"_\"&PFS_PFD_SelectionTool!F490&\"_\"&PFS_PFD_SelectionTool!G490&\"_\"&PFS_PFD_SelectionTool!H490&\"_\"&PFS_PFD_SelectionTool!I490&\"_\"&PFS_PFD_SelectionTool!J490),\"\",PFS_PFD_SelectionTool!E490&\"_\"&PFS_PFD_SelectionTool!F490&\"_\"&PFS_PFD_SelectionTool!G490&\"_\"&PFS_PFD_SelectionTool!H490&\"_\"&PFS_PFD_SelectionTool!I490&\"_\"&PFS_PFD_SelectionTool!J490)","v":"_____"},{"$f":"IF(ISBLANK(PFS_PFD_SelectionTool!K490),\"\",PFS_PFD_SelectionTool!K490)","v":""},{"$f":"VLOOKUP(D474,Tabelle1!A:B,2,FALSE)","v":{"$error":"#N/A"}},{"$f":"IF(ISBLANK(PFS_PFD_SelectionTool!N515),\"\",PFS_PFD_SelectionTool!N515)","v":""},{"$f":"IF(ISBLANK(PFS_PFD_SelectionTool!O515),\"\",PFS_PFD_SelectionTool!O515)","v":""}]
[{"$f":"IF(ISBLANK(PFS_PFD_SelectionTool!C491),\"\",PFS_PFD_SelectionTool!C491)","v":""},{"$f":"IF(ISBLANK(PFS_PFD_SelectionTool!D491),\"\",PFS_PFD_SelectionTool!D491)","v":""},{"$f":"IF(ISBLANK(PFS_PFD_SelectionTool!E491&\"_\"&PFS_PFD_SelectionTool!F491&\"_\"&PFS_PFD_SelectionTool!G491&\"_\"&PFS_PFD_SelectionTool!H491&\"_\"&PFS_PFD_SelectionTool!I491&\"_\"&PFS_PFD_SelectionTool!J491),\"\",PFS_PFD_SelectionTool!E491&\"_\"&PFS_PFD_SelectionTool!F491&\"_\"&PFS_PFD_SelectionTool!G491&\"_\"&PFS_PFD_SelectionTool!H491&\"_\"&PFS_PFD_SelectionTool!I491&\"_\"&PFS_PFD_SelectionTool!J491)","v":"_____"},{"$f":"IF(ISBLANK(PFS_PFD_SelectionTool!K491),\"\",PFS_PFD_SelectionTool!K491)","v":""},{"$f":"VLOOKUP(D475,Tabelle1!A:B,2,FALSE)","v":{"$error":"#N/A"}},{"$f":"IF(ISBLANK(PFS_PFD_SelectionTool!N516),\"\",PFS_PFD_SelectionTool!N516)","v":""},{"$f":"IF(ISBLANK(PFS_PFD_SelectionTool!O516),\"\",PFS_PFD_SelectionTool!O516)","v":""}]
[{"$f":"IF(ISBLANK(PFS_PFD_SelectionTool!C492),\"\",PFS_PFD_SelectionTool!C492)","v":""},{"$f":"IF(ISBLANK(PFS_PFD_SelectionTool!D492),\"\",PFS_PFD_SelectionTool!D492)","v":""},{"$f":"IF(ISBLANK(PFS_PFD_SelectionTool!E492&\"_\"&PFS_PFD_SelectionTool!F492&\"_\"&PFS_PFD_SelectionTool!G492&\"_\"&PFS_PFD_SelectionTool!H492&\"_\"&PFS_PFD_SelectionTool!I492&\"_\"&PFS_PFD_SelectionTool!J492),\"\",PFS_PFD_SelectionTool!E492&\"_\"&PFS_PFD_SelectionTool!F492&\"_\"&PFS_PFD_SelectionTool!G492&\"_\"&PFS_PFD_SelectionTool!H492&\"_\"&PFS_PFD_SelectionTool!I492&\"_\"&PFS_PFD_SelectionTool!J492)","v":"_____"},{"$f":"IF(ISBLANK(PFS_PFD_SelectionTool!K492),\"\",PFS_PFD_SelectionTool!K492)","v":""},{"$f":"VLOOKUP(D476,Tabelle1!A:B,2,FALSE)","v":{"$error":"#N/A"}},{"$f":"IF(ISBLANK(PFS_PFD_SelectionTool!N517),\"\",PFS_PFD_SelectionTool!N517)","v":""},{"$f":"IF(ISBLANK(PFS_PFD_SelectionTool!O517),\"\",PFS_PFD_SelectionTool!O517)","v":""}]
[{"$f":"IF(ISBLANK(PFS_PFD_SelectionTool!C493),\"\",PFS_PFD_SelectionTool!C493)","v":""},{"$f":"IF(ISBLANK(PFS_PFD_SelectionTool!D493),\"\",PFS_PFD_SelectionTool!D493)","v":""},{"$f":"IF(ISBLANK(PFS_PFD_SelectionTool!E493&\"_\"&PFS_PFD_SelectionTool!F493&\"_\"&PFS_PFD_SelectionTool!G493&\"_\"&PFS_PFD_SelectionTool!H493&\"_\"&PFS_PFD_SelectionTool!I493&\"_\"&PFS_PFD_SelectionTool!J493),\"\",PFS_PFD_SelectionTool!E493&\"_\"&PFS_PFD_SelectionTool!F493&\"_\"&PFS_PFD_SelectionTool!G493&\"_\"&PFS_PFD_SelectionTool!H493&\"_\"&PFS_PFD_SelectionTool!I493&\"_\"&PFS_PFD_SelectionTool!J493)","v":"_____"},{"$f":"IF(ISBLANK(PFS_PFD_SelectionTool!K493),\"\",PFS_PFD_SelectionTool!K493)","v":""},{"$f":"VLOOKUP(D477,Tabelle1!A:B,2,FALSE)","v":{"$error":"#N/A"}},{"$f":"IF(ISBLANK(PFS_PFD_SelectionTool!N518),\"\",PFS_PFD_SelectionTool!N518)","v":""},{"$f":"IF(ISBLANK(PFS_PFD_SelectionTool!O518),\"\",PFS_PFD_SelectionTool!O518)","v":""}]
[{"$f":"IF(ISBLANK(PFS_PFD_SelectionTool!C494),\"\",PFS_PFD_SelectionTool!C494)","v":""},{"$f":"IF(ISBLANK(PFS_PFD_SelectionTool!D494),\"\",PFS_PFD_SelectionTool!D494)","v":""},{"$f":"IF(ISBLANK(PFS_PFD_SelectionTool!E494&\"_\"&PFS_PFD_SelectionTool!F494&\"_\"&PFS_PFD_SelectionTool!G494&\"_\"&PFS_PFD_SelectionTool!H494&\"_\"&PFS_PFD_SelectionTool!I494&\"_\"&PFS_PFD_SelectionTool!J494),\"\",PFS_PFD_SelectionTool!E494&\"_\"&PFS_PFD_SelectionTool!F494&\"_\"&PFS_PFD_SelectionTool!G494&\"_\"&PFS_PFD_SelectionTool!H494&\"_\"&PFS_PFD_SelectionTool!I494&\"_\"&PFS_PFD_SelectionTool!J494)","v":"_____"},{"$f":"IF(ISBLANK(PFS_PFD_SelectionTool!K494),\"\",PFS_PFD_SelectionTool!K494)","v":""},{"$f":"VLOOKUP(D478,Tabelle1!A:B,2,FALSE)","v":{"$error":"#N/A"}},{"$f":"IF(ISBLANK(PFS_PFD_SelectionTool!N519),\"\",PFS_PFD_SelectionTool!N519)","v":""},{"$f":"IF(ISBLANK(PFS_PFD_SelectionTool!O519),\"\",PFS_PFD_SelectionTool!O519)","v":""}]
[{"$f":"IF(ISBLANK(PFS_PFD_SelectionTool!C495),\"\",PFS_PFD_SelectionTool!C495)","v":""},{"$f":"IF(ISBLANK(PFS_PFD_SelectionTool!D495),\"\",PFS_PFD_SelectionTool!D495)","v":""},{"$f":"IF(ISBLANK(PFS_PFD_SelectionTool!E495&\"_\"&PFS_PFD_SelectionTool!F495&\"_\"&PFS_PFD_SelectionTool!G495&\"_\"&PFS_PFD_SelectionTool!H495&\"_\"&PFS_PFD_SelectionTool!I495&\"_\"&PFS_PFD_SelectionTool!J495),\"\",PFS_PFD_SelectionTool!E495&\"_\"&PFS_PFD_SelectionTool!F495&\"_\"&PFS_PFD_SelectionTool!G495&\"_\"&PFS_PFD_SelectionTool!H495&\"_\"&PFS_PFD_SelectionTool!I495&\"_\"&PFS_PFD_SelectionTool!J495)","v":"_____"},{"$f":"IF(ISBLANK(PFS_PFD_SelectionTool!K495),\"\",PFS_PFD_SelectionTool!K495)","v":""},{"$f":"VLOOKUP(D479,Tabelle1!A:B,2,FALSE)","v":{"$error":"#N/A"}},{"$f":"IF(ISBLANK(PFS_PFD_SelectionTool!N520),\"\",PFS_PFD_SelectionTool!N520)","v":""},{"$f":"IF(ISBLANK(PFS_PFD_SelectionTool!O520),\"\",PFS_PFD_SelectionTool!O520)","v":""}]
[{"$f":"IF(ISBLANK(PFS_PFD_SelectionTool!C496),\"\",PFS_PFD_SelectionTool!C496)","v":""},{"$f":"IF(ISBLANK(PFS_PFD_SelectionTool!D496),\"\",PFS_PFD_SelectionTool!D496)","v":""},{"$f":"IF(ISBLANK(PFS_PFD_SelectionTool!E496&\"_\"&PFS_PFD_SelectionTool!F496&\"_\"&PFS_PFD_SelectionTool!G496&\"_\"&PFS_PFD_SelectionTool!H496&\"_\"&PFS_PFD_SelectionTool!I496&\"_\"&PFS_PFD_SelectionTool!J496),\"\",PFS_PFD_SelectionTool!E496&\"_\"&PFS_PFD_SelectionTool!F496&\"_\"&PFS_PFD_SelectionTool!G496&\"_\"&PFS_PFD_SelectionTool!H496&\"_\"&PFS_PFD_SelectionTool!I496&\"_\"&PFS_PFD_SelectionTool!J496)","v":"_____"},{"$f":"IF(ISBLANK(PFS_PFD_SelectionTool!K496),\"\",PFS_PFD_SelectionTool!K496)","v":""},{"$f":"VLOOKUP(D480,Tabelle1!A:B,2,FALSE)","v":{"$error":"#N/A"}},{"$f":"IF(ISBLANK(PFS_PFD_SelectionTool!N521),\"\",PFS_PFD_SelectionTool!N521)","v":""},{"$f":"IF(ISBLANK(PFS_PFD_SelectionTool!O521),\"\",PFS_PFD_SelectionTool!O521)","v":""}]
[{"$f":"IF(ISBLANK(PFS_PFD_SelectionTool!C497),\"\",PFS_PFD_SelectionTool!C497)","v":""},{"$f":"IF(ISBLANK(PFS_PFD_SelectionTool!D497),\"\",PFS_PFD_SelectionTool!D497)","v":""},{"$f":"IF(ISBLANK(PFS_PFD_SelectionTool!E497&\"_\"&PFS_PFD_SelectionTool!F497&\"_\"&PFS_PFD_SelectionTool!G497&\"_\"&PFS_PFD_SelectionTool!H497&\"_\"&PFS_PFD_SelectionTool!I497&\"_\"&PFS_PFD_SelectionTool!J497),\"\",PFS_PFD_SelectionTool!E497&\"_\"&PFS_PFD_SelectionTool!F497&\"_\"&PFS_PFD_SelectionTool!G497&\"_\"&PFS_PFD_SelectionTool!H497&\"_\"&PFS_PFD_SelectionTool!I497&\"_\"&PFS_PFD_SelectionTool!J497)","v":"_____"},{"$f":"IF(ISBLANK(PFS_PFD_SelectionTool!K497),\"\",PFS_PFD_SelectionTool!K497)","v":""},{"$f":"VLOOKUP(D481,Tabelle1!A:B,2,FALSE)","v":{"$error":"#N/A"}},{"$f":"IF(ISBLANK(PFS_PFD_SelectionTool!N522),\"\",PFS_PFD_SelectionTool!N522)","v":""},{"$f":"IF(ISBLANK(PFS_PFD_SelectionTool!O522),\"\",PFS_PFD_SelectionTool!O522)","v":""}]
[{"$f":"IF(ISBLANK(PFS_PFD_SelectionTool!C498),\"\",PFS_PFD_SelectionTool!C498)","v":""},{"$f":"IF(ISBLANK(PFS_PFD_SelectionTool!D498),\"\",PFS_PFD_SelectionTool!D498)","v":""},{"$f":"IF(ISBLANK(PFS_PFD_SelectionTool!E498&\"_\"&PFS_PFD_SelectionTool!F498&\"_\"&PFS_PFD_SelectionTool!G498&\"_\"&PFS_PFD_SelectionTool!H498&\"_\"&PFS_PFD_SelectionTool!I498&\"_\"&PFS_PFD_SelectionTool!J498),\"\",PFS_PFD_SelectionTool!E498&\"_\"&PFS_PFD_SelectionTool!F498&\"_\"&PFS_PFD_SelectionTool!G498&\"_\"&PFS_PFD_SelectionTool!H498&\"_\"&PFS_PFD_SelectionTool!I498&\"_\"&PFS_PFD_SelectionTool!J498)","v":"_____"},{"$f":"IF(ISBLANK(PFS_PFD_SelectionTool!K498),\"\",PFS_PFD_SelectionTool!K498)","v":""},{"$f":"VLOOKUP(D482,Tabelle1!A:B,2,FALSE)","v":{"$error":"#N/A"}},{"$f":"IF(ISBLANK(PFS_PFD_SelectionTool!N523),\"\",PFS_PFD_SelectionTool!N523)","v":""},{"$f":"IF(ISBLANK(PFS_PFD_SelectionTool!O523),\"\",PFS_PFD_SelectionTool!O523)","v":""}]
[{"$f":"IF(ISBLANK(PFS_PFD_SelectionTool!C499),\"\",PFS_PFD_SelectionTool!C499)","v":""},{"$f":"IF(ISBLANK(PFS_PFD_SelectionTool!D499),\"\",PFS_PFD_SelectionTool!D499)","v":""},{"$f":"IF(ISBLANK(PFS_PFD_SelectionTool!E499&\"_\"&PFS_PFD_SelectionTool!F499&\"_\"&PFS_PFD_SelectionTool!G499&\"_\"&PFS_PFD_SelectionTool!H499&\"_\"&PFS_PFD_SelectionTool!I499&\"_\"&PFS_PFD_SelectionTool!J499),\"\",PFS_PFD_SelectionTool!E499&\"_\"&PFS_PFD_SelectionTool!F499&\"_\"&PFS_PFD_SelectionTool!G499&\"_\"&PFS_PFD_SelectionTool!H499&\"_\"&PFS_PFD_SelectionTool!I499&\"_\"&PFS_PFD_SelectionTool!J499)","v":"_____"},{"$f":"IF(ISBLANK(PFS_PFD_SelectionTool!K499),\"\",PFS_PFD_SelectionTool!K499)","v":""},{"$f":"VLOOKUP(D483,Tabelle1!A:B,2,FALSE)","v":{"$error":"#N/A"}},{"$f":"IF(ISBLANK(PFS_PFD_SelectionTool!N524),\"\",PFS_PFD_SelectionTool!N524)","v":""},{"$f":"IF(ISBLANK(PFS_PFD_SelectionTool!O524),\"\",PFS_PFD_SelectionTool!O524)","v":""}]
[{"$f":"IF(ISBLANK(PFS_PFD_SelectionTool!C500),\"\",PFS_PFD_SelectionTool!C500)","v":""},{"$f":"IF(ISBLANK(PFS_PFD_SelectionTool!D500),\"\",PFS_PFD_SelectionTool!D500)","v":""},{"$f":"IF(ISBLANK(PFS_PFD_SelectionTool!E500&\"_\"&PFS_PFD_SelectionTool!F500&\"_\"&PFS_PFD_SelectionTool!G500&\"_\"&PFS_PFD_SelectionTool!H500&\"_\"&PFS_PFD_SelectionTool!I500&\"_\"&PFS_PFD_SelectionTool!J500),\"\",PFS_PFD_SelectionTool!E500&\"_\"&PFS_PFD_SelectionTool!F500&\"_\"&PFS_PFD_SelectionTool!G500&\"_\"&PFS_PFD_SelectionTool!H500&\"_\"&PFS_PFD_SelectionTool!I500&\"_\"&PFS_PFD_SelectionTool!J500)","v":"_____"},{"$f":"IF(ISBLANK(PFS_PFD_SelectionTool!K500),\"\",PFS_PFD_SelectionTool!K500)","v":""},{"$f":"VLOOKUP(D484,Tabelle1!A:B,2,FALSE)","v":{"$error":"#N/A"}},{"$f":"IF(ISBLANK(PFS_PFD_SelectionTool!N525),\"\",PFS_PFD_SelectionTool!N525)","v":""},{"$f":"IF(ISBLANK(PFS_PFD_SelectionTool!O525),\"\",PFS_PFD_SelectionTool!O525)","v":""}]
[{"$f":"IF(ISBLANK(PFS_PFD_SelectionTool!C501),\"\",PFS_PFD_SelectionTool!C501)","v":""},{"$f":"IF(ISBLANK(PFS_PFD_SelectionTool!D501),\"\",PFS_PFD_SelectionTool!D501)","v":""},{"$f":"IF(ISBLANK(PFS_PFD_SelectionTool!E501&\"_\"&PFS_PFD_SelectionTool!F501&\"_\"&PFS_PFD_SelectionTool!G501&\"_\"&PFS_PFD_SelectionTool!H501&\"_\"&PFS_PFD_SelectionTool!I501&\"_\"&PFS_PFD_SelectionTool!J501),\"\",PFS_PFD_SelectionTool!E501&\"_\"&PFS_PFD_SelectionTool!F501&\"_\"&PFS_PFD_SelectionTool!G501&\"_\"&PFS_PFD_SelectionTool!H501&\"_\"&PFS_PFD_SelectionTool!I501&\"_\"&PFS_PFD_SelectionTool!J501)","v":"_____"},{"$f":"IF(ISBLANK(PFS_PFD_SelectionTool!K501),\"\",PFS_PFD_SelectionTool!K501)","v":""},{"$f":"VLOOKUP(D485,Tabelle1!A:B,2,FALSE)","v":{"$error":"#N/A"}},{"$f":"IF(ISBLANK(PFS_PFD_SelectionTool!N526),\"\",PFS_PFD_SelectionTool!N526)","v":""},{"$f":"IF(ISBLANK(PFS_PFD_SelectionTool!O526),\"\",PFS_PFD_SelectionTool!O526)","v":""}]
[{"$f":"IF(ISBLANK(PFS_PFD_SelectionTool!C502),\"\",PFS_PFD_SelectionTool!C502)","v":""},{"$f":"IF(ISBLANK(PFS_PFD_SelectionTool!D502),\"\",PFS_PFD_SelectionTool!D502)","v":""},{"$f":"IF(ISBLANK(PFS_PFD_SelectionTool!E502&\"_\"&PFS_PFD_SelectionTool!F502&\"_\"&PFS_PFD_SelectionTool!G502&\"_\"&PFS_PFD_SelectionTool!H502&\"_\"&PFS_PFD_SelectionTool!I502&\"_\"&PFS_PFD_SelectionTool!J502),\"\",PFS_PFD_SelectionTool!E502&\"_\"&PFS_PFD_SelectionTool!F502&\"_\"&PFS_PFD_SelectionTool!G502&\"_\"&PFS_PFD_SelectionTool!H502&\"_\"&PFS_PFD_SelectionTool!I502&\"_\"&PFS_PFD_SelectionTool!J502)","v":"_____"},{"$f":"IF(ISBLANK(PFS_PFD_SelectionTool!K502),\"\",PFS_PFD_SelectionTool!K502)","v":""},{"$f":"VLOOKUP(D486,Tabelle1!A:B,2,FALSE)","v":{"$error":"#N/A"}},{"$f":"IF(ISBLANK(PFS_PFD_SelectionTool!N527),\"\",PFS_PFD_SelectionTool!N527)","v":""},{"$f":"IF(ISBLANK(PFS_PFD_SelectionTool!O527),\"\",PFS_PFD_SelectionTool!O527)","v":""}]
[{"$f":"IF(ISBLANK(PFS_PFD_SelectionTool!C503),\"\",PFS_PFD_SelectionTool!C503)","v":""},{"$f":"IF(ISBLANK(PFS_PFD_SelectionTool!D503),\"\",PFS_PFD_SelectionTool!D503)","v":""},{"$f":"IF(ISBLANK(PFS_PFD_SelectionTool!E503&\"_\"&PFS_PFD_SelectionTool!F503&\"_\"&PFS_PFD_SelectionTool!G503&\"_\"&PFS_PFD_SelectionTool!H503&\"_\"&PFS_PFD_SelectionTool!I503&\"_\"&PFS_PFD_SelectionTool!J503),\"\",PFS_PFD_SelectionTool!E503&\"_\"&PFS_PFD_SelectionTool!F503&\"_\"&PFS_PFD_SelectionTool!G503&\"_\"&PFS_PFD_SelectionTool!H503&\"_\"&PFS_PFD_SelectionTool!I503&\"_\"&PFS_PFD_SelectionTool!J503)","v":"_____"},{"$f":"IF(ISBLANK(PFS_PFD_SelectionTool!K503),\"\",PFS_PFD_SelectionTool!K503)","v":""},{"$f":"VLOOKUP(D487,Tabelle1!A:B,2,FALSE)","v":{"$error":"#N/A"}},{"$f":"IF(ISBLANK(PFS_PFD_SelectionTool!N528),\"\",PFS_PFD_SelectionTool!N528)","v":""},{"$f":"IF(ISBLANK(PFS_PFD_SelectionTool!O528),\"\",PFS_PFD_SelectionTool!O528)","v":""}]
[{"$f":"IF(ISBLANK(PFS_PFD_SelectionTool!C504),\"\",PFS_PFD_SelectionTool!C504)","v":""},{"$f":"IF(ISBLANK(PFS_PFD_SelectionTool!D504),\"\",PFS_PFD_SelectionTool!D504)","v":""},{"$f":"IF(ISBLANK(PFS_PFD_SelectionTool!E504&\"_\"&PFS_PFD_SelectionTool!F504&\"_\"&PFS_PFD_SelectionTool!G504&\"_\"&PFS_PFD_SelectionTool!H504&\"_\"&PFS_PFD_SelectionTool!I504&\"_\"&PFS_PFD_SelectionTool!J504),\"\",PFS_PFD_SelectionTool!E504&\"_\"&PFS_PFD_SelectionTool!F504&\"_\"&PFS_PFD_SelectionTool!G504&\"_\"&PFS_PFD_SelectionTool!H504&\"_\"&PFS_PFD_SelectionTool!I504&\"_\"&PFS_PFD_SelectionTool!J504)","v":"_____"},{"$f":"IF(ISBLANK(PFS_PFD_SelectionTool!K504),\"\",PFS_PFD_SelectionTool!K504)","v":""},{"$f":"VLOOKUP(D488,Tabelle1!A:B,2,FALSE)","v":{"$error":"#N/A"}},{"$f":"IF(ISBLANK(PFS_PFD_SelectionTool!N529),\"\",PFS_PFD_SelectionTool!N529)","v":""},{"$f":"IF(ISBLANK(PFS_PFD_SelectionTool!O529),\"\",PFS_PFD_SelectionTool!O529)","v":""}]
[{"$f":"IF(ISBLANK(PFS_PFD_SelectionTool!C505),\"\",PFS_PFD_SelectionTool!C505)","v":""},{"$f":"IF(ISBLANK(PFS_PFD_SelectionTool!D505),\"\",PFS_PFD_SelectionTool!D505)","v":""},{"$f":"IF(ISBLANK(PFS_PFD_SelectionTool!E505&\"_\"&PFS_PFD_SelectionTool!F505&\"_\"&PFS_PFD_SelectionTool!G505&\"_\"&PFS_PFD_SelectionTool!H505&\"_\"&PFS_PFD_SelectionTool!I505&\"_\"&PFS_PFD_SelectionTool!J505),\"\",PFS_PFD_SelectionTool!E505&\"_\"&PFS_PFD_SelectionTool!F505&\"_\"&PFS_PFD_SelectionTool!G505&\"_\"&PFS_PFD_SelectionTool!H505&\"_\"&PFS_PFD_SelectionTool!I505&\"_\"&PFS_PFD_SelectionTool!J505)","v":"_____"},{"$f":"IF(ISBLANK(PFS_PFD_SelectionTool!K505),\"\",PFS_PFD_SelectionTool!K505)","v":""},{"$f":"VLOOKUP(D489,Tabelle1!A:B,2,FALSE)","v":{"$error":"#N/A"}},{"$f":"IF(ISBLANK(PFS_PFD_SelectionTool!N530),\"\",PFS_PFD_SelectionTool!N530)","v":""},{"$f":"IF(ISBLANK(PFS_PFD_SelectionTool!O530),\"\",PFS_PFD_SelectionTool!O530)","v":""}]
[{"$f":"IF(ISBLANK(PFS_PFD_SelectionTool!C506),\"\",PFS_PFD_SelectionTool!C506)","v":""},{"$f":"IF(ISBLANK(PFS_PFD_SelectionTool!D506),\"\",PFS_PFD_SelectionTool!D506)","v":""},{"$f":"IF(ISBLANK(PFS_PFD_SelectionTool!E506&\"_\"&PFS_PFD_SelectionTool!F506&\"_\"&PFS_PFD_SelectionTool!G506&\"_\"&PFS_PFD_SelectionTool!H506&\"_\"&PFS_PFD_SelectionTool!I506&\"_\"&PFS_PFD_SelectionTool!J506),\"\",PFS_PFD_SelectionTool!E506&\"_\"&PFS_PFD_SelectionTool!F506&\"_\"&PFS_PFD_SelectionTool!G506&\"_\"&PFS_PFD_SelectionTool!H506&\"_\"&PFS_PFD_SelectionTool!I506&\"_\"&PFS_PFD_SelectionTool!J506)","v":"_____"},{"$f":"IF(ISBLANK(PFS_PFD_SelectionTool!K506),\"\",PFS_PFD_SelectionTool!K506)","v":""},{"$f":"VLOOKUP(D490,Tabelle1!A:B,2,FALSE)","v":{"$error":"#N/A"}},{"$f":"IF(ISBLANK(PFS_PFD_SelectionTool!N531),\"\",PFS_PFD_SelectionTool!N531)","v":""},{"$f":"IF(ISBLANK(PFS_PFD_SelectionTool!O531),\"\",PFS_PFD_SelectionTool!O531)","v":""}]
[{"$f":"IF(ISBLANK(PFS_PFD_SelectionTool!C507),\"\",PFS_PFD_SelectionTool!C507)","v":""},{"$f":"IF(ISBLANK(PFS_PFD_SelectionTool!D507),\"\",PFS_PFD_SelectionTool!D507)","v":""},{"$f":"IF(ISBLANK(PFS_PFD_SelectionTool!E507&\"_\"&PFS_PFD_SelectionTool!F507&\"_\"&PFS_PFD_SelectionTool!G507&\"_\"&PFS_PFD_SelectionTool!H507&\"_\"&PFS_PFD_SelectionTool!I507&\"_\"&PFS_PFD_SelectionTool!J507),\"\",PFS_PFD_SelectionTool!E507&\"_\"&PFS_PFD_SelectionTool!F507&\"_\"&PFS_PFD_SelectionTool!G507&\"_\"&PFS_PFD_SelectionTool!H507&\"_\"&PFS_PFD_SelectionTool!I507&\"_\"&PFS_PFD_SelectionTool!J507)","v":"_____"},{"$f":"IF(ISBLANK(PFS_PFD_SelectionTool!K507),\"\",PFS_PFD_SelectionTool!K507)","v":""},{"$f":"VLOOKUP(D491,Tabelle1!A:B,2,FALSE)","v":{"$error":"#N/A"}},{"$f":"IF(ISBLANK(PFS_PFD_SelectionTool!N532),\"\",PFS_PFD_SelectionTool!N532)","v":""},{"$f":"IF(ISBLANK(PFS_PFD_SelectionTool!O532),\"\",PFS_PFD_SelectionTool!O532)","v":""}]
[{"$f":"IF(ISBLANK(PFS_PFD_SelectionTool!C508),\"\",PFS_PFD_SelectionTool!C508)","v":""},{"$f":"IF(ISBLANK(PFS_PFD_SelectionTool!D508),\"\",PFS_PFD_SelectionTool!D508)","v":""},{"$f":"IF(ISBLANK(PFS_PFD_SelectionTool!E508&\"_\"&PFS_PFD_SelectionTool!F508&\"_\"&PFS_PFD_SelectionTool!G508&\"_\"&PFS_PFD_SelectionTool!H508&\"_\"&PFS_PFD_SelectionTool!I508&\"_\"&PFS_PFD_SelectionTool!J508),\"\",PFS_PFD_SelectionTool!E508&\"_\"&PFS_PFD_SelectionTool!F508&\"_\"&PFS_PFD_SelectionTool!G508&\"_\"&PFS_PFD_SelectionTool!H508&\"_\"&PFS_PFD_SelectionTool!I508&\"_\"&PFS_PFD_SelectionTool!J508)","v":"_____"},{"$f":"IF(ISBLANK(PFS_PFD_SelectionTool!K508),\"\",PFS_PFD_SelectionTool!K508)","v":""},{"$f":"VLOOKUP(D492,Tabelle1!A:B,2,FALSE)","v":{"$error":"#N/A"}},{"$f":"IF(ISBLANK(PFS_PFD_SelectionTool!N533),\"\",PFS_PFD_SelectionTool!N533)","v":""},{"$f":"IF(ISBLANK(PFS_PFD_SelectionTool!O533),\"\",PFS_PFD_SelectionTool!O533)","v":""}]
[{"$f":"IF(ISBLANK(PFS_PFD_SelectionTool!C509),\"\",PFS_PFD_SelectionTool!C509)","v":""},{"$f":"IF(ISBLANK(PFS_PFD_SelectionTool!D509),\"\",PFS_PFD_SelectionTool!D509)","v":""},{"$f":"IF(ISBLANK(PFS_PFD_SelectionTool!E509&\"_\"&PFS_PFD_SelectionTool!F509&\"_\"&PFS_PFD_SelectionTool!G509&\"_\"&PFS_PFD_SelectionTool!H509&\"_\"&PFS_PFD_SelectionTool!I509&\"_\"&PFS_PFD_SelectionTool!J509),\"\",PFS_PFD_SelectionTool!E509&\"_\"&PFS_PFD_SelectionTool!F509&\"_\"&PFS_PFD_SelectionTool!G509&\"_\"&PFS_PFD_SelectionTool!H509&\"_\"&PFS_PFD_SelectionTool!I509&\"_\"&PFS_PFD_SelectionTool!J509)","v":"_____"},{"$f":"IF(ISBLANK(PFS_PFD_SelectionTool!K509),\"\",PFS_PFD_SelectionTool!K509)","v":""},{"$f":"VLOOKUP(D493,Tabelle1!A:B,2,FALSE)","v":{"$error":"#N/A"}},{"$f":"IF(ISBLANK(PFS_PFD_SelectionTool!N534),\"\",PFS_PFD_SelectionTool!N534)","v":""},{"$f":"IF(ISBLANK(PFS_PFD_SelectionTool!O534),\"\",PFS_PFD_SelectionTool!O534)","v":""}]
[{"$f":"IF(ISBLANK(PFS_PFD_SelectionTool!C510),\"\",PFS_PFD_SelectionTool!C510)","v":""},{"$f":"IF(ISBLANK(PFS_PFD_SelectionTool!D510),\"\",PFS_PFD_SelectionTool!D510)","v":""},{"$f":"IF(ISBLANK(PFS_PFD_SelectionTool!E510&\"_\"&PFS_PFD_SelectionTool!F510&\"_\"&PFS_PFD_SelectionTool!G510&\"_\"&PFS_PFD_SelectionTool!H510&\"_\"&PFS_PFD_SelectionTool!I510&\"_\"&PFS_PFD_SelectionTool!J510),\"\",PFS_PFD_SelectionTool!E510&\"_\"&PFS_PFD_SelectionTool!F510&\"_\"&PFS_PFD_SelectionTool!G510&\"_\"&PFS_PFD_SelectionTool!H510&\"_\"&PFS_PFD_SelectionTool!I510&\"_\"&PFS_PFD_SelectionTool!J510)","v":"_____"},{"$f":"IF(ISBLANK(PFS_PFD_SelectionTool!K510),\"\",PFS_PFD_SelectionTool!K510)","v":""},{"$f":"VLOOKUP(D494,Tabelle1!A:B,2,FALSE)","v":{"$error":"#N/A"}},{"$f":"IF(ISBLANK(PFS_PFD_SelectionTool!N535),\"\",PFS_PFD_SelectionTool!N535)","v":""},{"$f":"IF(ISBLANK(PFS_PFD_SelectionTool!O535),\"\",PFS_PFD_SelectionTool!O535)","v":""}]
[{"$f":"IF(ISBLANK(PFS_PFD_SelectionTool!C511),\"\",PFS_PFD_SelectionTool!C511)","v":""},{"$f":"IF(ISBLANK(PFS_PFD_SelectionTool!D511),\"\",PFS_PFD_SelectionTool!D511)","v":""},{"$f":"IF(ISBLANK(PFS_PFD_SelectionTool!E511&\"_\"&PFS_PFD_SelectionTool!F511&\"_\"&PFS_PFD_SelectionTool!G511&\"_\"&PFS_PFD_SelectionTool!H511&\"_\"&PFS_PFD_SelectionTool!I511&\"_\"&PFS_PFD_SelectionTool!J511),\"\",PFS_PFD_SelectionTool!E511&\"_\"&PFS_PFD_SelectionTool!F511&\"_\"&PFS_PFD_SelectionTool!G511&\"_\"&PFS_PFD_SelectionTool!H511&\"_\"&PFS_PFD_SelectionTool!I511&\"_\"&PFS_PFD_SelectionTool!J511)","v":"_____"},{"$f":"IF(ISBLANK(PFS_PFD_SelectionTool!K511),\"\",PFS_PFD_SelectionTool!K511)","v":""},{"$f":"VLOOKUP(D495,Tabelle1!A:B,2,FALSE)","v":{"$error":"#N/A"}},{"$f":"IF(ISBLANK(PFS_PFD_SelectionTool!N536),\"\",PFS_PFD_SelectionTool!N536)","v":""},{"$f":"IF(ISBLANK(PFS_PFD_SelectionTool!O536),\"\",PFS_PFD_SelectionTool!O536)","v":""}]
[{"$f":"IF(ISBLANK(PFS_PFD_SelectionTool!C512),\"\",PFS_PFD_SelectionTool!C512)","v":""},{"$f":"IF(ISBLANK(PFS_PFD_SelectionTool!D512),\"\",PFS_PFD_SelectionTool!D512)","v":""},{"$f":"IF(ISBLANK(PFS_PFD_SelectionTool!E512&\"_\"&PFS_PFD_SelectionTool!F512&\"_\"&PFS_PFD_SelectionTool!G512&\"_\"&PFS_PFD_SelectionTool!H512&\"_\"&PFS_PFD_SelectionTool!I512&\"_\"&PFS_PFD_SelectionTool!J512),\"\",PFS_PFD_SelectionTool!E512&\"_\"&PFS_PFD_SelectionTool!F512&\"_\"&PFS_PFD_SelectionTool!G512&\"_\"&PFS_PFD_SelectionTool!H512&\"_\"&PFS_PFD_SelectionTool!I512&\"_\"&PFS_PFD_SelectionTool!J512)","v":"_____"},{"$f":"IF(ISBLANK(PFS_PFD_SelectionTool!K512),\"\",PFS_PFD_SelectionTool!K512)","v":""},{"$f":"VLOOKUP(D496,Tabelle1!A:B,2,FALSE)","v":{"$error":"#N/A"}},{"$f":"IF(ISBLANK(PFS_PFD_SelectionTool!N537),\"\",PFS_PFD_SelectionTool!N537)","v":""},{"$f":"IF(ISBLANK(PFS_PFD_SelectionTool!O537),\"\",PFS_PFD_SelectionTool!O537)","v":""}]
[{"$f":"IF(ISBLANK(PFS_PFD_SelectionTool!C513),\"\",PFS_PFD_SelectionTool!C513)","v":""},{"$f":"IF(ISBLANK(PFS_PFD_SelectionTool!D513),\"\",PFS_PFD_SelectionTool!D513)","v":""},{"$f":"IF(ISBLANK(PFS_PFD_SelectionTool!E513&\"_\"&PFS_PFD_SelectionTool!F513&\"_\"&PFS_PFD_SelectionTool!G513&\"_\"&PFS_PFD_SelectionTool!H513&\"_\"&PFS_PFD_SelectionTool!I513&\"_\"&PFS_PFD_SelectionTool!J513),\"\",PFS_PFD_SelectionTool!E513&\"_\"&PFS_PFD_SelectionTool!F513&\"_\"&PFS_PFD_SelectionTool!G513&\"_\"&PFS_PFD_SelectionTool!H513&\"_\"&PFS_PFD_SelectionTool!I513&\"_\"&PFS_PFD_SelectionTool!J513)","v":"_____"},{"$f":"IF(ISBLANK(PFS_PFD_SelectionTool!K513),\"\",PFS_PFD_SelectionTool!K513)","v":""},{"$f":"VLOOKUP(D497,Tabelle1!A:B,2,FALSE)","v":{"$error":"#N/A"}},{"$f":"IF(ISBLANK(PFS_PFD_SelectionTool!N538),\"\",PFS_PFD_SelectionTool!N538)","v":""},{"$f":"IF(ISBLANK(PFS_PFD_SelectionTool!O538),\"\",PFS_PFD_SelectionTool!O538)","v":""}]
[{"$f":"IF(ISBLANK(PFS_PFD_SelectionTool!C514),\"\",PFS_PFD_SelectionTool!C514)","v":""},{"$f":"IF(ISBLANK(PFS_PFD_SelectionTool!D514),\"\",PFS_PFD_SelectionTool!D514)","v":""},{"$f":"IF(ISBLANK(PFS_PFD_SelectionTool!E514&\"_\"&PFS_PFD_SelectionTool!F514&\"_\"&PFS_PFD_SelectionTool!G514&\"_\"&PFS_PFD_SelectionTool!H514&\"_\"&PFS_PFD_SelectionTool!I514&\"_\"&PFS_PFD_SelectionTool!J514),\"\",PFS_PFD_SelectionTool!E514&\"_\"&PFS_PFD_SelectionTool!F514&\"_\"&PFS_PFD_SelectionTool!G514&\"_\"&PFS_PFD_SelectionTool!H514&\"_\"&PFS_PFD_SelectionTool!I514&\"_\"&PFS_PFD_SelectionTool!J514)","v":"_____"},{"$f":"IF(ISBLANK(PFS_PFD_SelectionTool!K514),\"\",PFS_PFD_SelectionTool!K514)","v":""},{"$f":"VLOOKUP(D498,Tabelle1!A:B,2,FALSE)","v":{"$error":"#N/A"}},{"$f":"IF(ISBLANK(PFS_PFD_SelectionTool!N539),\"\",PFS_PFD_SelectionTool!N539)","v":""},{"$f":"IF(ISBLANK(PFS_PFD_SelectionTool!O539),\"\",PFS_PFD_SelectionTool!O539)","v":""}]
[{"$f":"IF(ISBLANK(PFS_PFD_SelectionTool!C515),\"\",PFS_PFD_SelectionTool!C515)","v":""},{"$f":"IF(ISBLANK(PFS_PFD_SelectionTool!D515),\"\",PFS_PFD_SelectionTool!D515)","v":""},{"$f":"IF(ISBLANK(PFS_PFD_SelectionTool!E515&\"_\"&PFS_PFD_SelectionTool!F515&\"_\"&PFS_PFD_SelectionTool!G515&\"_\"&PFS_PFD_SelectionTool!H515&\"_\"&PFS_PFD_SelectionTool!I515&\"_\"&PFS_PFD_SelectionTool!J515),\"\",PFS_PFD_SelectionTool!E515&\"_\"&PFS_PFD_SelectionTool!F515&\"_\"&PFS_PFD_SelectionTool!G515&\"_\"&PFS_PFD_SelectionTool!H515&\"_\"&PFS_PFD_SelectionTool!I515&\"_\"&PFS_PFD_SelectionTool!J515)","v":"_____"},{"$f":"IF(ISBLANK(PFS_PFD_SelectionTool!K515),\"\",PFS_PFD_SelectionTool!K515)","v":""},{"$f":"VLOOKUP(D499,Tabelle1!A:B,2,FALSE)","v":{"$error":"#N/A"}},{"$f":"IF(ISBLANK(PFS_PFD_SelectionTool!N540),\"\",PFS_PFD_SelectionTool!N540)","v":""},{"$f":"IF(ISBLANK(PFS_PFD_SelectionTool!O540),\"\",PFS_PFD_SelectionTool!O540)","v":""}]
[{"$f":"IF(ISBLANK(PFS_PFD_SelectionTool!C516),\"\",PFS_PFD_SelectionTool!C516)","v":""},{"$f":"IF(ISBLANK(PFS_PFD_SelectionTool!D516),\"\",PFS_PFD_SelectionTool!D516)","v":""},{"$f":"IF(ISBLANK(PFS_PFD_SelectionTool!E516&\"_\"&PFS_PFD_SelectionTool!F516&\"_\"&PFS_PFD_SelectionTool!G516&\"_\"&PFS_PFD_SelectionTool!H516&\"_\"&PFS_PFD_SelectionTool!I516&\"_\"&PFS_PFD_SelectionTool!J516),\"\",PFS_PFD_SelectionTool!E516&\"_\"&PFS_PFD_SelectionTool!F516&\"_\"&PFS_PFD_SelectionTool!G516&\"_\"&PFS_PFD_SelectionTool!H516&\"_\"&PFS_PFD_SelectionTool!I516&\"_\"&PFS_PFD_SelectionTool!J516)","v":"_____"},{"$f":"IF(ISBLANK(PFS_PFD_SelectionTool!K516),\"\",PFS_PFD_SelectionTool!K516)","v":""},{"$f":"VLOOKUP(D500,Tabelle1!A:B,2,FALSE)","v":{"$error":"#N/A"}},{"$f":"IF(ISBLANK(PFS_PFD_SelectionTool!N541),\"\",PFS_PFD_SelectionTool!N541)","v":""},{"$f":"IF(ISBLANK(PFS_PFD_SelectionTool!O541),\"\",PFS_PFD_SelectionTool!O541)","v":""}]
[{"$f":"IF(ISBLANK(PFS_PFD_SelectionTool!C517),\"\",PFS_PFD_SelectionTool!C517)","v":""},{"$f":"IF(ISBLANK(PFS_PFD_SelectionTool!D517),\"\",PFS_PFD_SelectionTool!D517)","v":""},{"$f":"IF(ISBLANK(PFS_PFD_SelectionTool!E517&\"_\"&PFS_PFD_SelectionTool!F517&\"_\"&PFS_PFD_SelectionTool!G517&\"_\"&PFS_PFD_SelectionTool!H517&\"_\"&PFS_PFD_SelectionTool!I517&\"_\"&PFS_PFD_SelectionTool!J517),\"\",PFS_PFD_SelectionTool!E517&\"_\"&PFS_PFD_SelectionTool!F517&\"_\"&PFS_PFD_SelectionTool!G517&\"_\"&PFS_PFD_SelectionTool!H517&\"_\"&PFS_PFD_SelectionTool!I517&\"_\"&PFS_PFD_SelectionTool!J517)","v":"_____"},{"$f":"IF(ISBLANK(PFS_PFD_SelectionTool!K517),\"\",PFS_PFD_SelectionTool!K517)","v":""},{"$f":"VLOOKUP(D501,Tabelle1!A:B,2,FALSE)","v":{"$error":"#N/A"}},{"$f":"IF(ISBLANK(PFS_PFD_SelectionTool!N542),\"\",PFS_PFD_SelectionTool!N542)","v":""},{"$f":"IF(ISBLANK(PFS_PFD_SelectionTool!O542),\"\",PFS_PFD_SelectionTool!O542)","v":""}]
[{"$f":"IF(ISBLANK(PFS_PFD_SelectionTool!C518),\"\",PFS_PFD_SelectionTool!C518)","v":""},{"$f":"IF(ISBLANK(PFS_PFD_SelectionTool!D518),\"\",PFS_PFD_SelectionTool!D518)","v":""},{"$f":"IF(ISBLANK(PFS_PFD_SelectionTool!E518&\"_\"&PFS_PFD_SelectionTool!F518&\"_\"&PFS_PFD_SelectionTool!G518&\"_\"&PFS_PFD_SelectionTool!H518&\"_\"&PFS_PFD_SelectionTool!I518&\"_\"&PFS_PFD_SelectionTool!J518),\"\",PFS_PFD_SelectionTool!E518&\"_\"&PFS_PFD_SelectionTool!F518&\"_\"&PFS_PFD_SelectionTool!G518&\"_\"&PFS_PFD_SelectionTool!H518&\"_\"&PFS_PFD_SelectionTool!I518&\"_\"&PFS_PFD_SelectionTool!J518)","v":"_____"},{"$f":"IF(ISBLANK(PFS_PFD_SelectionTool!K518),\"\",PFS_PFD_SelectionTool!K518)","v":""},{"$f":"VLOOKUP(D502,Tabelle1!A:B,2,FALSE)","v":{"$error":"#N/A"}},{"$f":"IF(ISBLANK(PFS_PFD_SelectionTool!N543),\"\",PFS_PFD_SelectionTool!N543)","v":""},{"$f":"IF(ISBLANK(PFS_PFD_SelectionTool!O543),\"\",PFS_PFD_SelectionTool!O543)","v":""}]
[{"$f":"IF(ISBLANK(PFS_PFD_SelectionTool!C519),\"\",PFS_PFD_SelectionTool!C519)","v":""},{"$f":"IF(ISBLANK(PFS_PFD_SelectionTool!D519),\"\",PFS_PFD_SelectionTool!D519)","v":""},{"$f":"IF(ISBLANK(PFS_PFD_SelectionTool!E519&\"_\"&PFS_PFD_SelectionTool!F519&\"_\"&PFS_PFD_SelectionTool!G519&\"_\"&PFS_PFD_SelectionTool!H519&\"_\"&PFS_PFD_SelectionTool!I519&\"_\"&PFS_PFD_SelectionTool!J519),\"\",PFS_PFD_SelectionTool!E519&\"_\"&PFS_PFD_SelectionTool!F519&\"_\"&PFS_PFD_SelectionTool!G519&\"_\"&PFS_PFD_SelectionTool!H519&\"_\"&PFS_PFD_SelectionTool!I519&\"_\"&PFS_PFD_SelectionTool!J519)","v":"_____"},{"$f":"IF(ISBLANK(PFS_PFD_SelectionTool!K519),\"\",PFS_PFD_SelectionTool!K519)","v":""},{"$f":"VLOOKUP(D503,Tabelle1!A:B,2,FALSE)","v":{"$error":"#N/A"}},{"$f":"IF(ISBLANK(PFS_PFD_SelectionTool!N544),\"\",PFS_PFD_SelectionTool!N544)","v":""},{"$f":"IF(ISBLANK(PFS_PFD_SelectionTool!O544),\"\",PFS_PFD_SelectionTool!O544)","v":""}]
[{"$f":"IF(ISBLANK(PFS_PFD_SelectionTool!C520),\"\",PFS_PFD_SelectionTool!C520)","v":""},{"$f":"IF(ISBLANK(PFS_PFD_SelectionTool!D520),\"\",PFS_PFD_SelectionTool!D520)","v":""},{"$f":"IF(ISBLANK(PFS_PFD_SelectionTool!E520&\"_\"&PFS_PFD_SelectionTool!F520&\"_\"&PFS_PFD_SelectionTool!G520&\"_\"&PFS_PFD_SelectionTool!H520&\"_\"&PFS_PFD_SelectionTool!I520&\"_\"&PFS_PFD_SelectionTool!J520),\"\",PFS_PFD_SelectionTool!E520&\"_\"&PFS_PFD_SelectionTool!F520&\"_\"&PFS_PFD_SelectionTool!G520&\"_\"&PFS_PFD_SelectionTool!H520&\"_\"&PFS_PFD_SelectionTool!I520&\"_\"&PFS_PFD_SelectionTool!J520)","v":"_____"},{"$f":"IF(ISBLANK(PFS_PFD_SelectionTool!K520),\"\",PFS_PFD_SelectionTool!K520)","v":""},{"$f":"VLOOKUP(D504,Tabelle1!A:B,2,FALSE)","v":{"$error":"#N/A"}},{"$f":"IF(ISBLANK(PFS_PFD_SelectionTool!N545),\"\",PFS_PFD_SelectionTool!N545)","v":""},{"$f":"IF(ISBLANK(PFS_PFD_SelectionTool!O545),\"\",PFS_PFD_SelectionTool!O545)","v":""}]
[{"$f":"IF(ISBLANK(PFS_PFD_SelectionTool!C521),\"\",PFS_PFD_SelectionTool!C521)","v":""},{"$f":"IF(ISBLANK(PFS_PFD_SelectionTool!D521),\"\",PFS_PFD_SelectionTool!D521)","v":""},{"$f":"IF(ISBLANK(PFS_PFD_SelectionTool!E521&\"_\"&PFS_PFD_SelectionTool!F521&\"_\"&PFS_PFD_SelectionTool!G521&\"_\"&PFS_PFD_SelectionTool!H521&\"_\"&PFS_PFD_SelectionTool!I521&\"_\"&PFS_PFD_SelectionTool!J521),\"\",PFS_PFD_SelectionTool!E521&\"_\"&PFS_PFD_SelectionTool!F521&\"_\"&PFS_PFD_SelectionTool!G521&\"_\"&PFS_PFD_SelectionTool!H521&\"_\"&PFS_PFD_SelectionTool!I521&\"_\"&PFS_PFD_SelectionTool!J521)","v":"_____"},{"$f":"IF(ISBLANK(PFS_PFD_SelectionTool!K521),\"\",PFS_PFD_SelectionTool!K521)","v":""},{"$f":"VLOOKUP(D505,Tabelle1!A:B,2,FALSE)","v":{"$error":"#N/A"}},{"$f":"IF(ISBLANK(PFS_PFD_SelectionTool!N546),\"\",PFS_PFD_SelectionTool!N546)","v":""},{"$f":"IF(ISBLANK(PFS_PFD_SelectionTool!O546),\"\",PFS_PFD_SelectionTool!O546)","v":""}]
[{"$f":"IF(ISBLANK(PFS_PFD_SelectionTool!C522),\"\",PFS_PFD_SelectionTool!C522)","v":""},{"$f":"IF(ISBLANK(PFS_PFD_SelectionTool!D522),\"\",PFS_PFD_SelectionTool!D522)","v":""},{"$f":"IF(ISBLANK(PFS_PFD_SelectionTool!E522&\"_\"&PFS_PFD_SelectionTool!F522&\"_\"&PFS_PFD_SelectionTool!G522&\"_\"&PFS_PFD_SelectionTool!H522&\"_\"&PFS_PFD_SelectionTool!I522&\"_\"&PFS_PFD_SelectionTool!J522),\"\",PFS_PFD_SelectionTool!E522&\"_\"&PFS_PFD_SelectionTool!F522&\"_\"&PFS_PFD_SelectionTool!G522&\"_\"&PFS_PFD_SelectionTool!H522&\"_\"&PFS_PFD_SelectionTool!I522&\"_\"&PFS_PFD_SelectionTool!J522)","v":"_____"},{"$f":"IF(ISBLANK(PFS_PFD_SelectionTool!K522),\"\",PFS_PFD_SelectionTool!K522)","v":""},{"$f":"VLOOKUP(D506,Tabelle1!A:B,2,FALSE)","v":{"$error":"#N/A"}},{"$f":"IF(ISBLANK(PFS_PFD_SelectionTool!N547),\"\",PFS_PFD_SelectionTool!N547)","v":""},{"$f":"IF(ISBLANK(PFS_PFD_SelectionTool!O547),\"\",PFS_PFD_SelectionTool!O547)","v":""}]
[{"$f":"IF(ISBLANK(PFS_PFD_SelectionTool!C523),\"\",PFS_PFD_SelectionTool!C523)","v":""},{"$f":"IF(ISBLANK(PFS_PFD_SelectionTool!D523),\"\",PFS_PFD_SelectionTool!D523)","v":""},{"$f":"IF(ISBLANK(PFS_PFD_SelectionTool!E523&\"_\"&PFS_PFD_SelectionTool!F523&\"_\"&PFS_PFD_SelectionTool!G523&\"_\"&PFS_PFD_SelectionTool!H523&\"_\"&PFS_PFD_SelectionTool!I523&\"_\"&PFS_PFD_SelectionTool!J523),\"\",PFS_PFD_SelectionTool!E523&\"_\"&PFS_PFD_SelectionTool!F523&\"_\"&PFS_PFD_SelectionTool!G523&\"_\"&PFS_PFD_SelectionTool!H523&\"_\"&PFS_PFD_SelectionTool!I523&\"_\"&PFS_PFD_SelectionTool!J523)","v":"_____"},{"$f":"IF(ISBLANK(PFS_PFD_SelectionTool!K523),\"\",PFS_PFD_SelectionTool!K523)","v":""},{"$f":"VLOOKUP(D507,Tabelle1!A:B,2,FALSE)","v":{"$error":"#N/A"}},{"$f":"IF(ISBLANK(PFS_PFD_SelectionTool!N548),\"\",PFS_PFD_SelectionTool!N548)","v":""},{"$f":"IF(ISBLANK(PFS_PFD_SelectionTool!O548),\"\",PFS_PFD_SelectionTool!O548)","v":""}]
[{"$f":"IF(ISBLANK(PFS_PFD_SelectionTool!C524),\"\",PFS_PFD_SelectionTool!C524)","v":""},{"$f":"IF(ISBLANK(PFS_PFD_SelectionTool!D524),\"\",PFS_PFD_SelectionTool!D524)","v":""},{"$f":"IF(ISBLANK(PFS_PFD_SelectionTool!E524&\"_\"&PFS_PFD_SelectionTool!F524&\"_\"&PFS_PFD_SelectionTool!G524&\"_\"&PFS_PFD_SelectionTool!H524&\"_\"&PFS_PFD_SelectionTool!I524&\"_\"&PFS_PFD_SelectionTool!J524),\"\",PFS_PFD_SelectionTool!E524&\"_\"&PFS_PFD_SelectionTool!F524&\"_\"&PFS_PFD_SelectionTool!G524&\"_\"&PFS_PFD_SelectionTool!H524&\"_\"&PFS_PFD_SelectionTool!I524&\"_\"&PFS_PFD_SelectionTool!J524)","v":"_____"},{"$f":"IF(ISBLANK(PFS_PFD_SelectionTool!K524),\"\",PFS_PFD_SelectionTool!K524)","v":""},{"$f":"VLOOKUP(D508,Tabelle1!A:B,2,FALSE)","v":{"$error":"#N/A"}},{"$f":"IF(ISBLANK(PFS_PFD_SelectionTool!N549),\"\",PFS_PFD_SelectionTool!N549)","v":""},{"$f":"IF(ISBLANK(PFS_PFD_SelectionTool!O549),\"\",PFS_PFD_SelectionTool!O549)","v":""}]
[{"$f":"IF(ISBLANK(PFS_PFD_SelectionTool!C525),\"\",PFS_PFD_SelectionTool!C525)","v":""},{"$f":"IF(ISBLANK(PFS_PFD_SelectionTool!D525),\"\",PFS_PFD_SelectionTool!D525)","v":""},{"$f":"IF(ISBLANK(PFS_PFD_SelectionTool!E525&\"_\"&PFS_PFD_SelectionTool!F525&\"_\"&PFS_PFD_SelectionTool!G525&\"_\"&PFS_PFD_SelectionTool!H525&\"_\"&PFS_PFD_SelectionTool!I525&\"_\"&PFS_PFD_SelectionTool!J525),\"\",PFS_PFD_SelectionTool!E525&\"_\"&PFS_PFD_SelectionTool!F525&\"_\"&PFS_PFD_SelectionTool!G525&\"_\"&PFS_PFD_SelectionTool!H525&\"_\"&PFS_PFD_SelectionTool!I525&\"_\"&PFS_PFD_SelectionTool!J525)","v":"_____"},{"$f":"IF(ISBLANK(PFS_PFD_SelectionTool!K525),\"\",PFS_PFD_SelectionTool!K525)","v":""},{"$f":"VLOOKUP(D509,Tabelle1!A:B,2,FALSE)","v":{"$error":"#N/A"}},{"$f":"IF(ISBLANK(PFS_PFD_SelectionTool!N550),\"\",PFS_PFD_SelectionTool!N550)","v":""},{"$f":"IF(ISBLANK(PFS_PFD_SelectionTool!O550),\"\",PFS_PFD_SelectionTool!O550)","v":""}]
[{"$f":"IF(ISBLANK(PFS_PFD_SelectionTool!C526),\"\",PFS_PFD_SelectionTool!C526)","v":""},{"$f":"IF(ISBLANK(PFS_PFD_SelectionTool!D526),\"\",PFS_PFD_SelectionTool!D526)","v":""},{"$f":"IF(ISBLANK(PFS_PFD_SelectionTool!E526&\"_\"&PFS_PFD_SelectionTool!F526&\"_\"&PFS_PFD_SelectionTool!G526&\"_\"&PFS_PFD_SelectionTool!H526&\"_\"&PFS_PFD_SelectionTool!I526&\"_\"&PFS_PFD_SelectionTool!J526),\"\",PFS_PFD_SelectionTool!E526&\"_\"&PFS_PFD_SelectionTool!F526&\"_\"&PFS_PFD_SelectionTool!G526&\"_\"&PFS_PFD_SelectionTool!H526&\"_\"&PFS_PFD_SelectionTool!I526&\"_\"&PFS_PFD_SelectionTool!J526)","v":"_____"},{"$f":"IF(ISBLANK(PFS_PFD_SelectionTool!K526),\"\",PFS_PFD_SelectionTool!K526)","v":""},{"$f":"VLOOKUP(D510,Tabelle1!A:B,2,FALSE)","v":{"$error":"#N/A"}},{"$f":"IF(ISBLANK(PFS_PFD_SelectionTool!N551),\"\",PFS_PFD_SelectionTool!N551)","v":""},{"$f":"IF(ISBLANK(PFS_PFD_SelectionTool!O551),\"\",PFS_PFD_SelectionTool!O551)","v":""}]
[{"$f":"IF(ISBLANK(PFS_PFD_SelectionTool!C527),\"\",PFS_PFD_SelectionTool!C527)","v":""},{"$f":"IF(ISBLANK(PFS_PFD_SelectionTool!D527),\"\",PFS_PFD_SelectionTool!D527)","v":""},{"$f":"IF(ISBLANK(PFS_PFD_SelectionTool!E527&\"_\"&PFS_PFD_SelectionTool!F527&\"_\"&PFS_PFD_SelectionTool!G527&\"_\"&PFS_PFD_SelectionTool!H527&\"_\"&PFS_PFD_SelectionTool!I527&\"_\"&PFS_PFD_SelectionTool!J527),\"\",PFS_PFD_SelectionTool!E527&\"_\"&PFS_PFD_SelectionTool!F527&\"_\"&PFS_PFD_SelectionTool!G527&\"_\"&PFS_PFD_SelectionTool!H527&\"_\"&PFS_PFD_SelectionTool!I527&\"_\"&PFS_PFD_SelectionTool!J527)","v":"_____"},{"$f":"IF(ISBLANK(PFS_PFD_SelectionTool!K527),\"\",PFS_PFD_SelectionTool!K527)","v":""},{"$f":"VLOOKUP(D511,Tabelle1!A:B,2,FALSE)","v":{"$error":"#N/A"}},{"$f":"IF(ISBLANK(PFS_PFD_SelectionTool!N552),\"\",PFS_PFD_SelectionTool!N552)","v":""},{"$f":"IF(ISBLANK(PFS_PFD_SelectionTool!O552),\"\",PFS_PFD_SelectionTool!O552)","v":""}]
[{"$f":"IF(ISBLANK(PFS_PFD_SelectionTool!C528),\"\",PFS_PFD_SelectionTool!C528)","v":""},{"$f":"IF(ISBLANK(PFS_PFD_SelectionTool!D528),\"\",PFS_PFD_SelectionTool!D528)","v":""},{"$f":"IF(ISBLANK(PFS_PFD_SelectionTool!E528&\"_\"&PFS_PFD_SelectionTool!F528&\"_\"&PFS_PFD_SelectionTool!G528&\"_\"&PFS_PFD_SelectionTool!H528&\"_\"&PFS_PFD_SelectionTool!I528&\"_\"&PFS_PFD_SelectionTool!J528),\"\",PFS_PFD_SelectionTool!E528&\"_\"&PFS_PFD_SelectionTool!F528&\"_\"&PFS_PFD_SelectionTool!G528&\"_\"&PFS_PFD_SelectionTool!H528&\"_\"&PFS_PFD_SelectionTool!I528&\"_\"&PFS_PFD_SelectionTool!J528)","v":"_____"},{"$f":"IF(ISBLANK(PFS_PFD_SelectionTool!K528),\"\",PFS_PFD_SelectionTool!K528)","v":""},{"$f":"VLOOKUP(D512,Tabelle1!A:B,2,FALSE)","v":{"$error":"#N/A"}},{"$f":"IF(ISBLANK(PFS_PFD_SelectionTool!N553),\"\",PFS_PFD_SelectionTool!N553)","v":""},{"$f":"IF(ISBLANK(PFS_PFD_SelectionTool!O553),\"\",PFS_PFD_SelectionTool!O553)","v":""}]
[{"$f":"IF(ISBLANK(PFS_PFD_SelectionTool!C529),\"\",PFS_PFD_SelectionTool!C529)","v":""},{"$f":"IF(ISBLANK(PFS_PFD_SelectionTool!D529),\"\",PFS_PFD_SelectionTool!D529)","v":""},{"$f":"IF(ISBLANK(PFS_PFD_SelectionTool!E529&\"_\"&PFS_PFD_SelectionTool!F529&\"_\"&PFS_PFD_SelectionTool!G529&\"_\"&PFS_PFD_SelectionTool!H529&\"_\"&PFS_PFD_SelectionTool!I529&\"_\"&PFS_PFD_SelectionTool!J529),\"\",PFS_PFD_SelectionTool!E529&\"_\"&PFS_PFD_SelectionTool!F529&\"_\"&PFS_PFD_SelectionTool!G529&\"_\"&PFS_PFD_SelectionTool!H529&\"_\"&PFS_PFD_SelectionTool!I529&\"_\"&PFS_PFD_SelectionTool!J529)","v":"_____"},{"$f":"IF(ISBLANK(PFS_PFD_SelectionTool!K529),\"\",PFS_PFD_SelectionTool!K529)","v":""},{"$f":"VLOOKUP(D513,Tabelle1!A:B,2,FALSE)","v":{"$error":"#N/A"}},{"$f":"IF(ISBLANK(PFS_PFD_SelectionTool!N554),\"\",PFS_PFD_SelectionTool!N554)","v":""},{"$f":"IF(ISBLANK(PFS_PFD_SelectionTool!O554),\"\",PFS_PFD_SelectionTool!O554)","v":""}]
[{"$f":"IF(ISBLANK(PFS_PFD_SelectionTool!C530),\"\",PFS_PFD_SelectionTool!C530)","v":""},{"$f":"IF(ISBLANK(PFS_PFD_SelectionTool!D530),\"\",PFS_PFD_SelectionTool!D530)","v":""},{"$f":"IF(ISBLANK(PFS_PFD_SelectionTool!E530&\"_\"&PFS_PFD_SelectionTool!F530&\"_\"&PFS_PFD_SelectionTool!G530&\"_\"&PFS_PFD_SelectionTool!H530&\"_\"&PFS_PFD_SelectionTool!I530&\"_\"&PFS_PFD_SelectionTool!J530),\"\",PFS_PFD_SelectionTool!E530&\"_\"&PFS_PFD_SelectionTool!F530&\"_\"&PFS_PFD_SelectionTool!G530&\"_\"&PFS_PFD_SelectionTool!H530&\"_\"&PFS_PFD_SelectionTool!I530&\"_\"&PFS_PFD_SelectionTool!J530)","v":"_____"},{"$f":"IF(ISBLANK(PFS_PFD_SelectionTool!K530),\"\",PFS_PFD_SelectionTool!K530)","v":""},{"$f":"VLOOKUP(D514,Tabelle1!A:B,2,FALSE)","v":{"$error":"#N/A"}},{"$f":"IF(ISBLANK(PFS_PFD_SelectionTool!N555),\"\",PFS_PFD_SelectionTool!N555)","v":""},{"$f":"IF(ISBLANK(PFS_PFD_SelectionTool!O555),\"\",PFS_PFD_SelectionTool!O555)","v":""}]
[{"$f":"IF(ISBLANK(PFS_PFD_SelectionTool!C531),\"\",PFS_PFD_SelectionTool!C531)","v":""},{"$f":"IF(ISBLANK(PFS_PFD_SelectionTool!D531),\"\",PFS_PFD_SelectionTool!D531)","v":""},{"$f":"IF(ISBLANK(PFS_PFD_SelectionTool!E531&\"_\"&PFS_PFD_SelectionTool!F531&\"_\"&PFS_PFD_SelectionTool!G531&\"_\"&PFS_PFD_SelectionTool!H531&\"_\"&PFS_PFD_SelectionTool!I531&\"_\"&PFS_PFD_SelectionTool!J531),\"\",PFS_PFD_SelectionTool!E531&\"_\"&PFS_PFD_SelectionTool!F531&\"_\"&PFS_PFD_SelectionTool!G531&\"_\"&PFS_PFD_SelectionTool!H531&\"_\"&PFS_PFD_SelectionTool!I531&\"_\"&PFS_PFD_SelectionTool!J531)","v":"_____"},{"$f":"IF(ISBLANK(PFS_PFD_SelectionTool!K531),\"\",PFS_PFD_SelectionTool!K531)","v":""},{"$f":"VLOOKUP(D515,Tabelle1!A:B,2,FALSE)","v":{"$error":"#N/A"}},{"$f":"IF(ISBLANK(PFS_PFD_SelectionTool!N556),\"\",PFS_PFD_SelectionTool!N556)","v":""},{"$f":"IF(ISBLANK(PFS_PFD_SelectionTool!O556),\"\",PFS_PFD_SelectionTool!O556)","v":""}]
[{"$f":"IF(ISBLANK(PFS_PFD_SelectionTool!C532),\"\",PFS_PFD_SelectionTool!C532)","v":""},{"$f":"IF(ISBLANK(PFS_PFD_SelectionTool!D532),\"\",PFS_PFD_SelectionTool!D532)","v":""},{"$f":"IF(ISBLANK(PFS_PFD_SelectionTool!E532&\"_\"&PFS_PFD_SelectionTool!F532&\"_\"&PFS_PFD_SelectionTool!G532&\"_\"&PFS_PFD_SelectionTool!H532&\"_\"&PFS_PFD_SelectionTool!I532&\"_\"&PFS_PFD_SelectionTool!J532),\"\",PFS_PFD_SelectionTool!E532&\"_\"&PFS_PFD_SelectionTool!F532&\"_\"&PFS_PFD_SelectionTool!G532&\"_\"&PFS_PFD_SelectionTool!H532&\"_\"&PFS_PFD_SelectionTool!I532&\"_\"&PFS_PFD_SelectionTool!J532)","v":"_____"},{"$f":"IF(ISBLANK(PFS_PFD_SelectionTool!K532),\"\",PFS_PFD_SelectionTool!K532)","v":""},{"$f":"VLOOKUP(D516,Tabelle1!A:B,2,FALSE)","v":{"$error":"#N/A"}},{"$f":"IF(ISBLANK(PFS_PFD_SelectionTool!N557),\"\",PFS_PFD_SelectionTool!N557)","v":""},{"$f":"IF(ISBLANK(PFS_PFD_SelectionTool!O557),\"\",PFS_PFD_SelectionTool!O557)","v":""}]
[{"$f":"IF(ISBLANK(PFS_PFD_SelectionTool!C533),\"\",PFS_PFD_SelectionTool!C533)","v":""},{"$f":"IF(ISBLANK(PFS_PFD_SelectionTool!D533),\"\",PFS_PFD_SelectionTool!D533)","v":""},{"$f":"IF(ISBLANK(PFS_PFD_SelectionTool!E533&\"_\"&PFS_PFD_SelectionTool!F533&\"_\"&PFS_PFD_SelectionTool!G533&\"_\"&PFS_PFD_SelectionTool!H533&\"_\"&PFS_PFD_SelectionTool!I533&\"_\"&PFS_PFD_SelectionTool!J533),\"\",PFS_PFD_SelectionTool!E533&\"_\"&PFS_PFD_SelectionTool!F533&\"_\"&PFS_PFD_SelectionTool!G533&\"_\"&PFS_PFD_SelectionTool!H533&\"_\"&PFS_PFD_SelectionTool!I533&\"_\"&PFS_PFD_SelectionTool!J533)","v":"_____"},{"$f":"IF(ISBLANK(PFS_PFD_SelectionTool!K533),\"\",PFS_PFD_SelectionTool!K533)","v":""},{"$f":"VLOOKUP(D517,Tabelle1!A:B,2,FALSE)","v":{"$error":"#N/A"}},{"$f":"IF(ISBLANK(PFS_PFD_SelectionTool!N558),\"\",PFS_PFD_SelectionTool!N558)","v":""},{"$f":"IF(ISBLANK(PFS_PFD_SelectionTool!O558),\"\",PFS_PFD_SelectionTool!O558)","v":""}]
[{"$f":"IF(ISBLANK(PFS_PFD_SelectionTool!C534),\"\",PFS_PFD_SelectionTool!C534)","v":""},{"$f":"IF(ISBLANK(PFS_PFD_SelectionTool!D534),\"\",PFS_PFD_SelectionTool!D534)","v":""},{"$f":"IF(ISBLANK(PFS_PFD_SelectionTool!E534&\"_\"&PFS_PFD_SelectionTool!F534&\"_\"&PFS_PFD_SelectionTool!G534&\"_\"&PFS_PFD_SelectionTool!H534&\"_\"&PFS_PFD_SelectionTool!I534&\"_\"&PFS_PFD_SelectionTool!J534),\"\",PFS_PFD_SelectionTool!E534&\"_\"&PFS_PFD_SelectionTool!F534&\"_\"&PFS_PFD_SelectionTool!G534&\"_\"&PFS_PFD_SelectionTool!H534&\"_\"&PFS_PFD_SelectionTool!I534&\"_\"&PFS_PFD_SelectionTool!J534)","v":"_____"},{"$f":"IF(ISBLANK(PFS_PFD_SelectionTool!K534),\"\",PFS_PFD_SelectionTool!K534)","v":""},{"$f":"VLOOKUP(D518,Tabelle1!A:B,2,FALSE)","v":{"$error":"#N/A"}},{"$f":"IF(ISBLANK(PFS_PFD_SelectionTool!N559),\"\",PFS_PFD_SelectionTool!N559)","v":""},{"$f":"IF(ISBLANK(PFS_PFD_SelectionTool!O559),\"\",PFS_PFD_SelectionTool!O559)","v":""}]
[{"$f":"IF(ISBLANK(PFS_PFD_SelectionTool!C535),\"\",PFS_PFD_SelectionTool!C535)","v":""},{"$f":"IF(ISBLANK(PFS_PFD_SelectionTool!D535),\"\",PFS_PFD_SelectionTool!D535)","v":""},{"$f":"IF(ISBLANK(PFS_PFD_SelectionTool!E535&\"_\"&PFS_PFD_SelectionTool!F535&\"_\"&PFS_PFD_SelectionTool!G535&\"_\"&PFS_PFD_SelectionTool!H535&\"_\"&PFS_PFD_SelectionTool!I535&\"_\"&PFS_PFD_SelectionTool!J535),\"\",PFS_PFD_SelectionTool!E535&\"_\"&PFS_PFD_SelectionTool!F535&\"_\"&PFS_PFD_SelectionTool!G535&\"_\"&PFS_PFD_SelectionTool!H535&\"_\"&PFS_PFD_SelectionTool!I535&\"_\"&PFS_PFD_SelectionTool!J535)","v":"_____"},{"$f":"IF(ISBLANK(PFS_PFD_SelectionTool!K535),\"\",PFS_PFD_SelectionTool!K535)","v":""},{"$f":"VLOOKUP(D519,Tabelle1!A:B,2,FALSE)","v":{"$error":"#N/A"}},{"$f":"IF(ISBLANK(PFS_PFD_SelectionTool!N560),\"\",PFS_PFD_SelectionTool!N560)","v":""},{"$f":"IF(ISBLANK(PFS_PFD_SelectionTool!O560),\"\",PFS_PFD_SelectionTool!O560)","v":""}]
[{"$f":"IF(ISBLANK(PFS_PFD_SelectionTool!C536),\"\",PFS_PFD_SelectionTool!C536)","v":""},{"$f":"IF(ISBLANK(PFS_PFD_SelectionTool!D536),\"\",PFS_PFD_SelectionTool!D536)","v":""},{"$f":"IF(ISBLANK(PFS_PFD_SelectionTool!E536&\"_\"&PFS_PFD_SelectionTool!F536&\"_\"&PFS_PFD_SelectionTool!G536&\"_\"&PFS_PFD_SelectionTool!H536&\"_\"&PFS_PFD_SelectionTool!I536&\"_\"&PFS_PFD_SelectionTool!J536),\"\",PFS_PFD_SelectionTool!E536&\"_\"&PFS_PFD_SelectionTool!F536&\"_\"&PFS_PFD_SelectionTool!G536&\"_\"&PFS_PFD_SelectionTool!H536&\"_\"&PFS_PFD_SelectionTool!I536&\"_\"&PFS_PFD_SelectionTool!J536)","v":"_____"},{"$f":"IF(ISBLANK(PFS_PFD_SelectionTool!K536),\"\",PFS_PFD_SelectionTool!K536)","v":""},{"$f":"VLOOKUP(D520,Tabelle1!A:B,2,FALSE)","v":{"$error":"#N/A"}},{"$f":"IF(ISBLANK(PFS_PFD_SelectionTool!N561),\"\",PFS_PFD_SelectionTool!N561)","v":""},{"$f":"IF(ISBLANK(PFS_PFD_SelectionTool!O561),\"\",PFS_PFD_SelectionTool!O561)","v":""}]
[{"$f":"IF(ISBLANK(PFS_PFD_SelectionTool!C537),\"\",PFS_PFD_SelectionTool!C537)","v":""},{"$f":"IF(ISBLANK(PFS_PFD_SelectionTool!D537),\"\",PFS_PFD_SelectionTool!D537)","v":""},{"$f":"IF(ISBLANK(PFS_PFD_SelectionTool!E537&\"_\"&PFS_PFD_SelectionTool!F537&\"_\"&PFS_PFD_SelectionTool!G537&\"_\"&PFS_PFD_SelectionTool!H537&\"_\"&PFS_PFD_SelectionTool!I537&\"_\"&PFS_PFD_SelectionTool!J537),\"\",PFS_PFD_SelectionTool!E537&\"_\"&PFS_PFD_SelectionTool!F537&\"_\"&PFS_PFD_SelectionTool!G537&\"_\"&PFS_PFD_SelectionTool!H537&\"_\"&PFS_PFD_SelectionTool!I537&\"_\"&PFS_PFD_SelectionTool!J537)","v":"_____"},{"$f":"IF(ISBLANK(PFS_PFD_SelectionTool!K537),\"\",PFS_PFD_SelectionTool!K537)","v":""},{"$f":"VLOOKUP(D521,Tabelle1!A:B,2,FALSE)","v":{"$error":"#N/A"}},{"$f":"IF(ISBLANK(PFS_PFD_SelectionTool!N562),\"\",PFS_PFD_SelectionTool!N562)","v":""},{"$f":"IF(ISBLANK(PFS_PFD_SelectionTool!O562),\"\",PFS_PFD_SelectionTool!O562)","v":""}]
[{"$f":"IF(ISBLANK(PFS_PFD_SelectionTool!C538),\"\",PFS_PFD_SelectionTool!C538)","v":""},{"$f":"IF(ISBLANK(PFS_PFD_SelectionTool!D538),\"\",PFS_PFD_SelectionTool!D538)","v":""},{"$f":"IF(ISBLANK(PFS_PFD_SelectionTool!E538&\"_\"&PFS_PFD_SelectionTool!F538&\"_\"&PFS_PFD_SelectionTool!G538&\"_\"&PFS_PFD_SelectionTool!H538&\"_\"&PFS_PFD_SelectionTool!I538&\"_\"&PFS_PFD_SelectionTool!J538),\"\",PFS_PFD_SelectionTool!E538&\"_\"&PFS_PFD_SelectionTool!F538&\"_\"&PFS_PFD_SelectionTool!G538&\"_\"&PFS_PFD_SelectionTool!H538&\"_\"&PFS_PFD_SelectionTool!I538&\"_\"&PFS_PFD_SelectionTool!J538)","v":"_____"},{"$f":"IF(ISBLANK(PFS_PFD_SelectionTool!K538),\"\",PFS_PFD_SelectionTool!K538)","v":""},{"$f":"VLOOKUP(D522,Tabelle1!A:B,2,FALSE)","v":{"$error":"#N/A"}},{"$f":"IF(ISBLANK(PFS_PFD_SelectionTool!N563),\"\",PFS_PFD_SelectionTool!N563)","v":""},{"$f":"IF(ISBLANK(PFS_PFD_SelectionTool!O563),\"\",PFS_PFD_SelectionTool!O563)","v":""}]
[{"$f":"IF(ISBLANK(PFS_PFD_SelectionTool!C539),\"\",PFS_PFD_SelectionTool!C539)","v":""},{"$f":"IF(ISBLANK(PFS_PFD_SelectionTool!D539),\"\",PFS_PFD_SelectionTool!D539)","v":""},{"$f":"IF(ISBLANK(PFS_PFD_SelectionTool!E539&\"_\"&PFS_PFD_SelectionTool!F539&\"_\"&PFS_PFD_SelectionTool!G539&\"_\"&PFS_PFD_SelectionTool!H539&\"_\"&PFS_PFD_SelectionTool!I539&\"_\"&PFS_PFD_SelectionTool!J539),\"\",PFS_PFD_SelectionTool!E539&\"_\"&PFS_PFD_SelectionTool!F539&\"_\"&PFS_PFD_SelectionTool!G539&\"_\"&PFS_PFD_SelectionTool!H539&\"_\"&PFS_PFD_SelectionTool!I539&\"_\"&PFS_PFD_SelectionTool!J539)","v":"_____"},{"$f":"IF(ISBLANK(PFS_PFD_SelectionTool!K539),\"\",PFS_PFD_SelectionTool!K539)","v":""},{"$f":"VLOOKUP(D523,Tabelle1!A:B,2,FALSE)","v":{"$error":"#N/A"}},{"$f":"IF(ISBLANK(PFS_PFD_SelectionTool!N564),\"\",PFS_PFD_SelectionTool!N564)","v":""},{"$f":"IF(ISBLANK(PFS_PFD_SelectionTool!O564),\"\",PFS_PFD_SelectionTool!O564)","v":""}]
[{"$f":"IF(ISBLANK(PFS_PFD_SelectionTool!C540),\"\",PFS_PFD_SelectionTool!C540)","v":""},{"$f":"IF(ISBLANK(PFS_PFD_SelectionTool!D540),\"\",PFS_PFD_SelectionTool!D540)","v":""},{"$f":"IF(ISBLANK(PFS_PFD_SelectionTool!E540&\"_\"&PFS_PFD_SelectionTool!F540&\"_\"&PFS_PFD_SelectionTool!G540&\"_\"&PFS_PFD_SelectionTool!H540&\"_\"&PFS_PFD_SelectionTool!I540&\"_\"&PFS_PFD_SelectionTool!J540),\"\",PFS_PFD_SelectionTool!E540&\"_\"&PFS_PFD_SelectionTool!F540&\"_\"&PFS_PFD_SelectionTool!G540&\"_\"&PFS_PFD_SelectionTool!H540&\"_\"&PFS_PFD_SelectionTool!I540&\"_\"&PFS_PFD_SelectionTool!J540)","v":"_____"},{"$f":"IF(ISBLANK(PFS_PFD_SelectionTool!K540),\"\",PFS_PFD_SelectionTool!K540)","v":""},{"$f":"VLOOKUP(D524,Tabelle1!A:B,2,FALSE)","v":{"$error":"#N/A"}},{"$f":"IF(ISBLANK(PFS_PFD_SelectionTool!N565),\"\",PFS_PFD_SelectionTool!N565)","v":""},{"$f":"IF(ISBLANK(PFS_PFD_SelectionTool!O565),\"\",PFS_PFD_SelectionTool!O565)","v":""}]
[{"$f":"IF(ISBLANK(PFS_PFD_SelectionTool!C541),\"\",PFS_PFD_SelectionTool!C541)","v":""},{"$f":"IF(ISBLANK(PFS_PFD_SelectionTool!D541),\"\",PFS_PFD_SelectionTool!D541)","v":""},{"$f":"IF(ISBLANK(PFS_PFD_SelectionTool!E541&\"_\"&PFS_PFD_SelectionTool!F541&\"_\"&PFS_PFD_SelectionTool!G541&\"_\"&PFS_PFD_SelectionTool!H541&\"_\"&PFS_PFD_SelectionTool!I541&\"_\"&PFS_PFD_SelectionTool!J541),\"\",PFS_PFD_SelectionTool!E541&\"_\"&PFS_PFD_SelectionTool!F541&\"_\"&PFS_PFD_SelectionTool!G541&\"_\"&PFS_PFD_SelectionTool!H541&\"_\"&PFS_PFD_SelectionTool!I541&\"_\"&PFS_PFD_SelectionTool!J541)","v":"_____"},{"$f":"IF(ISBLANK(PFS_PFD_SelectionTool!K541),\"\",PFS_PFD_SelectionTool!K541)","v":""},{"$f":"VLOOKUP(D525,Tabelle1!A:B,2,FALSE)","v":{"$error":"#N/A"}},{"$f":"IF(ISBLANK(PFS_PFD_SelectionTool!N566),\"\",PFS_PFD_SelectionTool!N566)","v":""},{"$f":"IF(ISBLANK(PFS_PFD_SelectionTool!O566),\"\",PFS_PFD_SelectionTool!O566)","v":""}]
[{"$f":"IF(ISBLANK(PFS_PFD_SelectionTool!C542),\"\",PFS_PFD_SelectionTool!C542)","v":""},{"$f":"IF(ISBLANK(PFS_PFD_SelectionTool!D542),\"\",PFS_PFD_SelectionTool!D542)","v":""},{"$f":"IF(ISBLANK(PFS_PFD_SelectionTool!E542&\"_\"&PFS_PFD_SelectionTool!F542&\"_\"&PFS_PFD_SelectionTool!G542&\"_\"&PFS_PFD_SelectionTool!H542&\"_\"&PFS_PFD_SelectionTool!I542&\"_\"&PFS_PFD_SelectionTool!J542),\"\",PFS_PFD_SelectionTool!E542&\"_\"&PFS_PFD_SelectionTool!F542&\"_\"&PFS_PFD_SelectionTool!G542&\"_\"&PFS_PFD_SelectionTool!H542&\"_\"&PFS_PFD_SelectionTool!I542&\"_\"&PFS_PFD_SelectionTool!J542)","v":"_____"},{"$f":"IF(ISBLANK(PFS_PFD_SelectionTool!K542),\"\",PFS_PFD_SelectionTool!K542)","v":""},{"$f":"VLOOKUP(D526,Tabelle1!A:B,2,FALSE)","v":{"$error":"#N/A"}},{"$f":"IF(ISBLANK(PFS_PFD_SelectionTool!N567),\"\",PFS_PFD_SelectionTool!N567)","v":""},{"$f":"IF(ISBLANK(PFS_PFD_SelectionTool!O567),\"\",PFS_PFD_SelectionTool!O567)","v":""}]
[{"$f":"IF(ISBLANK(PFS_PFD_SelectionTool!C543),\"\",PFS_PFD_SelectionTool!C543)","v":""},{"$f":"IF(ISBLANK(PFS_PFD_SelectionTool!D543),\"\",PFS_PFD_SelectionTool!D543)","v":""},{"$f":"IF(ISBLANK(PFS_PFD_SelectionTool!E543&\"_\"&PFS_PFD_SelectionTool!F543&\"_\"&PFS_PFD_SelectionTool!G543&\"_\"&PFS_PFD_SelectionTool!H543&\"_\"&PFS_PFD_SelectionTool!I543&\"_\"&PFS_PFD_SelectionTool!J543),\"\",PFS_PFD_SelectionTool!E543&\"_\"&PFS_PFD_SelectionTool!F543&\"_\"&PFS_PFD_SelectionTool!G543&\"_\"&PFS_PFD_SelectionTool!H543&\"_\"&PFS_PFD_SelectionTool!I543&\"_\"&PFS_PFD_SelectionTool!J543)","v":"_____"},{"$f":"IF(ISBLANK(PFS_PFD_SelectionTool!K543),\"\",PFS_PFD_SelectionTool!K543)","v":""},{"$f":"VLOOKUP(D527,Tabelle1!A:B,2,FALSE)","v":{"$error":"#N/A"}},{"$f":"IF(ISBLANK(PFS_PFD_SelectionTool!N568),\"\",PFS_PFD_SelectionTool!N568)","v":""},{"$f":"IF(ISBLANK(PFS_PFD_SelectionTool!O568),\"\",PFS_PFD_SelectionTool!O568)","v":""}]
[{"$f":"IF(ISBLANK(PFS_PFD_SelectionTool!C544),\"\",PFS_PFD_SelectionTool!C544)","v":""},{"$f":"IF(ISBLANK(PFS_PFD_SelectionTool!D544),\"\",PFS_PFD_SelectionTool!D544)","v":""},{"$f":"IF(ISBLANK(PFS_PFD_SelectionTool!E544&\"_\"&PFS_PFD_SelectionTool!F544&\"_\"&PFS_PFD_SelectionTool!G544&\"_\"&PFS_PFD_SelectionTool!H544&\"_\"&PFS_PFD_SelectionTool!I544&\"_\"&PFS_PFD_SelectionTool!J544),\"\",PFS_PFD_SelectionTool!E544&\"_\"&PFS_PFD_SelectionTool!F544&\"_\"&PFS_PFD_SelectionTool!G544&\"_\"&PFS_PFD_SelectionTool!H544&\"_\"&PFS_PFD_SelectionTool!I544&\"_\"&PFS_PFD_SelectionTool!J544)","v":"_____"},{"$f":"IF(ISBLANK(PFS_PFD_SelectionTool!K544),\"\",PFS_PFD_SelectionTool!K544)","v":""},{"$f":"VLOOKUP(D528,Tabelle1!A:B,2,FALSE)","v":{"$error":"#N/A"}},{"$f":"IF(ISBLANK(PFS_PFD_SelectionTool!N569),\"\",PFS_PFD_SelectionTool!N569)","v":""},{"$f":"IF(ISBLANK(PFS_PFD_SelectionTool!O569),\"\",PFS_PFD_SelectionTool!O569)","v":""}]
[{"$f":"IF(ISBLANK(PFS_PFD_SelectionTool!C545),\"\",PFS_PFD_SelectionTool!C545)","v":""},{"$f":"IF(ISBLANK(PFS_PFD_SelectionTool!D545),\"\",PFS_PFD_SelectionTool!D545)","v":""},{"$f":"IF(ISBLANK(PFS_PFD_SelectionTool!E545&\"_\"&PFS_PFD_SelectionTool!F545&\"_\"&PFS_PFD_SelectionTool!G545&\"_\"&PFS_PFD_SelectionTool!H545&\"_\"&PFS_PFD_SelectionTool!I545&\"_\"&PFS_PFD_SelectionTool!J545),\"\",PFS_PFD_SelectionTool!E545&\"_\"&PFS_PFD_SelectionTool!F545&\"_\"&PFS_PFD_SelectionTool!G545&\"_\"&PFS_PFD_SelectionTool!H545&\"_\"&PFS_PFD_SelectionTool!I545&\"_\"&PFS_PFD_SelectionTool!J545)","v":"_____"},{"$f":"IF(ISBLANK(PFS_PFD_SelectionTool!K545),\"\",PFS_PFD_SelectionTool!K545)","v":""},{"$f":"VLOOKUP(D529,Tabelle1!A:B,2,FALSE)","v":{"$error":"#N/A"}},{"$f":"IF(ISBLANK(PFS_PFD_SelectionTool!N570),\"\",PFS_PFD_SelectionTool!N570)","v":""},{"$f":"IF(ISBLANK(PFS_PFD_SelectionTool!O570),\"\",PFS_PFD_SelectionTool!O570)","v":""}]
[{"$f":"IF(ISBLANK(PFS_PFD_SelectionTool!C546),\"\",PFS_PFD_SelectionTool!C546)","v":""},{"$f":"IF(ISBLANK(PFS_PFD_SelectionTool!D546),\"\",PFS_PFD_SelectionTool!D546)","v":""},{"$f":"IF(ISBLANK(PFS_PFD_SelectionTool!E546&\"_\"&PFS_PFD_SelectionTool!F546&\"_\"&PFS_PFD_SelectionTool!G546&\"_\"&PFS_PFD_SelectionTool!H546&\"_\"&PFS_PFD_SelectionTool!I546&\"_\"&PFS_PFD_SelectionTool!J546),\"\",PFS_PFD_SelectionTool!E546&\"_\"&PFS_PFD_SelectionTool!F546&\"_\"&PFS_PFD_SelectionTool!G546&\"_\"&PFS_PFD_SelectionTool!H546&\"_\"&PFS_PFD_SelectionTool!I546&\"_\"&PFS_PFD_SelectionTool!J546)","v":"_____"},{"$f":"IF(ISBLANK(PFS_PFD_SelectionTool!K546),\"\",PFS_PFD_SelectionTool!K546)","v":""},{"$f":"VLOOKUP(D530,Tabelle1!A:B,2,FALSE)","v":{"$error":"#N/A"}},{"$f":"IF(ISBLANK(PFS_PFD_SelectionTool!N571),\"\",PFS_PFD_SelectionTool!N571)","v":""},{"$f":"IF(ISBLANK(PFS_PFD_SelectionTool!O571),\"\",PFS_PFD_SelectionTool!O571)","v":""}]
[{"$f":"IF(ISBLANK(PFS_PFD_SelectionTool!C547),\"\",PFS_PFD_SelectionTool!C547)","v":""},{"$f":"IF(ISBLANK(PFS_PFD_SelectionTool!D547),\"\",PFS_PFD_SelectionTool!D547)","v":""},{"$f":"IF(ISBLANK(PFS_PFD_SelectionTool!E547&\"_\"&PFS_PFD_SelectionTool!F547&\"_\"&PFS_PFD_SelectionTool!G547&\"_\"&PFS_PFD_SelectionTool!H547&\"_\"&PFS_PFD_SelectionTool!I547&\"_\"&PFS_PFD_SelectionTool!J547),\"\",PFS_PFD_SelectionTool!E547&\"_\"&PFS_PFD_SelectionTool!F547&\"_\"&PFS_PFD_SelectionTool!G547&\"_\"&PFS_PFD_SelectionTool!H547&\"_\"&PFS_PFD_SelectionTool!I547&\"_\"&PFS_PFD_SelectionTool!J547)","v":"_____"},{"$f":"IF(ISBLANK(PFS_PFD_SelectionTool!K547),\"\",PFS_PFD_SelectionTool!K547)","v":""},{"$f":"VLOOKUP(D531,Tabelle1!A:B,2,FALSE)","v":{"$error":"#N/A"}},{"$f":"IF(ISBLANK(PFS_PFD_SelectionTool!N572),\"\",PFS_PFD_SelectionTool!N572)","v":""},{"$f":"IF(ISBLANK(PFS_PFD_SelectionTool!O572),\"\",PFS_PFD_SelectionTool!O572)","v":""}]
[{"$f":"IF(ISBLANK(PFS_PFD_SelectionTool!C548),\"\",PFS_PFD_SelectionTool!C548)","v":""},{"$f":"IF(ISBLANK(PFS_PFD_SelectionTool!D548),\"\",PFS_PFD_SelectionTool!D548)","v":""},{"$f":"IF(ISBLANK(PFS_PFD_SelectionTool!E548&\"_\"&PFS_PFD_SelectionTool!F548&\"_\"&PFS_PFD_SelectionTool!G548&\"_\"&PFS_PFD_SelectionTool!H548&\"_\"&PFS_PFD_SelectionTool!I548&\"_\"&PFS_PFD_SelectionTool!J548),\"\",PFS_PFD_SelectionTool!E548&\"_\"&PFS_PFD_SelectionTool!F548&\"_\"&PFS_PFD_SelectionTool!G548&\"_\"&PFS_PFD_SelectionTool!H548&\"_\"&PFS_PFD_SelectionTool!I548&\"_\"&PFS_PFD_SelectionTool!J548)","v":"_____"},{"$f":"IF(ISBLANK(PFS_PFD_SelectionTool!K548),\"\",PFS_PFD_SelectionTool!K548)","v":""},{"$f":"VLOOKUP(D532,Tabelle1!A:B,2,FALSE)","v":{"$error":"#N/A"}},{"$f":"IF(ISBLANK(PFS_PFD_SelectionTool!N573),\"\",PFS_PFD_SelectionTool!N573)","v":""},{"$f":"IF(ISBLANK(PFS_PFD_SelectionTool!O573),\"\",PFS_PFD_SelectionTool!O573)","v":""}]
[{"$f":"IF(ISBLANK(PFS_PFD_SelectionTool!C549),\"\",PFS_PFD_SelectionTool!C549)","v":""},{"$f":"IF(ISBLANK(PFS_PFD_SelectionTool!D549),\"\",PFS_PFD_SelectionTool!D549)","v":""},{"$f":"IF(ISBLANK(PFS_PFD_SelectionTool!E549&\"_\"&PFS_PFD_SelectionTool!F549&\"_\"&PFS_PFD_SelectionTool!G549&\"_\"&PFS_PFD_SelectionTool!H549&\"_\"&PFS_PFD_SelectionTool!I549&\"_\"&PFS_PFD_SelectionTool!J549),\"\",PFS_PFD_SelectionTool!E549&\"_\"&PFS_PFD_SelectionTool!F549&\"_\"&PFS_PFD_SelectionTool!G549&\"_\"&PFS_PFD_SelectionTool!H549&\"_\"&PFS_PFD_SelectionTool!I549&\"_\"&PFS_PFD_SelectionTool!J549)","v":"_____"},{"$f":"IF(ISBLANK(PFS_PFD_SelectionTool!K549),\"\",PFS_PFD_SelectionTool!K549)","v":""},{"$f":"VLOOKUP(D533,Tabelle1!A:B,2,FALSE)","v":{"$error":"#N/A"}},{"$f":"IF(ISBLANK(PFS_PFD_SelectionTool!N574),\"\",PFS_PFD_SelectionTool!N574)","v":""},{"$f":"IF(ISBLANK(PFS_PFD_SelectionTool!O574),\"\",PFS_PFD_SelectionTool!O574)","v":""}]
[{"$f":"IF(ISBLANK(PFS_PFD_SelectionTool!C550),\"\",PFS_PFD_SelectionTool!C550)","v":""},{"$f":"IF(ISBLANK(PFS_PFD_SelectionTool!D550),\"\",PFS_PFD_SelectionTool!D550)","v":""},{"$f":"IF(ISBLANK(PFS_PFD_SelectionTool!E550&\"_\"&PFS_PFD_SelectionTool!F550&\"_\"&PFS_PFD_SelectionTool!G550&\"_\"&PFS_PFD_SelectionTool!H550&\"_\"&PFS_PFD_SelectionTool!I550&\"_\"&PFS_PFD_SelectionTool!J550),\"\",PFS_PFD_SelectionTool!E550&\"_\"&PFS_PFD_SelectionTool!F550&\"_\"&PFS_PFD_SelectionTool!G550&\"_\"&PFS_PFD_SelectionTool!H550&\"_\"&PFS_PFD_SelectionTool!I550&\"_\"&PFS_PFD_SelectionTool!J550)","v":"_____"},{"$f":"IF(ISBLANK(PFS_PFD_SelectionTool!K550),\"\",PFS_PFD_SelectionTool!K550)","v":""},{"$f":"VLOOKUP(D534,Tabelle1!A:B,2,FALSE)","v":{"$error":"#N/A"}},{"$f":"IF(ISBLANK(PFS_PFD_SelectionTool!N575),\"\",PFS_PFD_SelectionTool!N575)","v":""},{"$f":"IF(ISBLANK(PFS_PFD_SelectionTool!O575),\"\",PFS_PFD_SelectionTool!O575)","v":""}]
[{"$f":"IF(ISBLANK(PFS_PFD_SelectionTool!C551),\"\",PFS_PFD_SelectionTool!C551)","v":""},{"$f":"IF(ISBLANK(PFS_PFD_SelectionTool!D551),\"\",PFS_PFD_SelectionTool!D551)","v":""},{"$f":"IF(ISBLANK(PFS_PFD_SelectionTool!E551&\"_\"&PFS_PFD_SelectionTool!F551&\"_\"&PFS_PFD_SelectionTool!G551&\"_\"&PFS_PFD_SelectionTool!H551&\"_\"&PFS_PFD_SelectionTool!I551&\"_\"&PFS_PFD_SelectionTool!J551),\"\",PFS_PFD_SelectionTool!E551&\"_\"&PFS_PFD_SelectionTool!F551&\"_\"&PFS_PFD_SelectionTool!G551&\"_\"&PFS_PFD_SelectionTool!H551&\"_\"&PFS_PFD_SelectionTool!I551&\"_\"&PFS_PFD_SelectionTool!J551)","v":"_____"},{"$f":"IF(ISBLANK(PFS_PFD_SelectionTool!K551),\"\",PFS_PFD_SelectionTool!K551)","v":""},{"$f":"VLOOKUP(D535,Tabelle1!A:B,2,FALSE)","v":{"$error":"#N/A"}},{"$f":"IF(ISBLANK(PFS_PFD_SelectionTool!N576),\"\",PFS_PFD_SelectionTool!N576)","v":""},{"$f":"IF(ISBLANK(PFS_PFD_SelectionTool!O576),\"\",PFS_PFD_SelectionTool!O576)","v":""}]
[{"$f":"IF(ISBLANK(PFS_PFD_SelectionTool!C552),\"\",PFS_PFD_SelectionTool!C552)","v":""},{"$f":"IF(ISBLANK(PFS_PFD_SelectionTool!D552),\"\",PFS_PFD_SelectionTool!D552)","v":""},{"$f":"IF(ISBLANK(PFS_PFD_SelectionTool!E552&\"_\"&PFS_PFD_SelectionTool!F552&\"_\"&PFS_PFD_SelectionTool!G552&\"_\"&PFS_PFD_SelectionTool!H552&\"_\"&PFS_PFD_SelectionTool!I552&\"_\"&PFS_PFD_SelectionTool!J552),\"\",PFS_PFD_SelectionTool!E552&\"_\"&PFS_PFD_SelectionTool!F552&\"_\"&PFS_PFD_SelectionTool!G552&\"_\"&PFS_PFD_SelectionTool!H552&\"_\"&PFS_PFD_SelectionTool!I552&\"_\"&PFS_PFD_SelectionTool!J552)","v":"_____"},{"$f":"IF(ISBLANK(PFS_PFD_SelectionTool!K552),\"\",PFS_PFD_SelectionTool!K552)","v":""},{"$f":"VLOOKUP(D536,Tabelle1!A:B,2,FALSE)","v":{"$error":"#N/A"}},{"$f":"IF(ISBLANK(PFS_PFD_SelectionTool!N577),\"\",PFS_PFD_SelectionTool!N577)","v":""},{"$f":"IF(ISBLANK(PFS_PFD_SelectionTool!O577),\"\",PFS_PFD_SelectionTool!O577)","v":""}]
[{"$f":"IF(ISBLANK(PFS_PFD_SelectionTool!C553),\"\",PFS_PFD_SelectionTool!C553)","v":""},{"$f":"IF(ISBLANK(PFS_PFD_SelectionTool!D553),\"\",PFS_PFD_SelectionTool!D553)","v":""},{"$f":"IF(ISBLANK(PFS_PFD_SelectionTool!E553&\"_\"&PFS_PFD_SelectionTool!F553&\"_\"&PFS_PFD_SelectionTool!G553&\"_\"&PFS_PFD_SelectionTool!H553&\"_\"&PFS_PFD_SelectionTool!I553&\"_\"&PFS_PFD_SelectionTool!J553),\"\",PFS_PFD_SelectionTool!E553&\"_\"&PFS_PFD_SelectionTool!F553&\"_\"&PFS_PFD_SelectionTool!G553&\"_\"&PFS_PFD_SelectionTool!H553&\"_\"&PFS_PFD_SelectionTool!I553&\"_\"&PFS_PFD_SelectionTool!J553)","v":"_____"},{"$f":"IF(ISBLANK(PFS_PFD_SelectionTool!K553),\"\",PFS_PFD_SelectionTool!K553)","v":""},{"$f":"VLOOKUP(D537,Tabelle1!A:B,2,FALSE)","v":{"$error":"#N/A"}},{"$f":"IF(ISBLANK(PFS_PFD_SelectionTool!N578),\"\",PFS_PFD_SelectionTool!N578)","v":""},{"$f":"IF(ISBLANK(PFS_PFD_SelectionTool!O578),\"\",PFS_PFD_SelectionTool!O578)","v":""}]
[{"$f":"IF(ISBLANK(PFS_PFD_SelectionTool!C554),\"\",PFS_PFD_SelectionTool!C554)","v":""},{"$f":"IF(ISBLANK(PFS_PFD_SelectionTool!D554),\"\",PFS_PFD_SelectionTool!D554)","v":""},{"$f":"IF(ISBLANK(PFS_PFD_SelectionTool!E554&\"_\"&PFS_PFD_SelectionTool!F554&\"_\"&PFS_PFD_SelectionTool!G554&\"_\"&PFS_PFD_SelectionTool!H554&\"_\"&PFS_PFD_SelectionTool!I554&\"_\"&PFS_PFD_SelectionTool!J554),\"\",PFS_PFD_SelectionTool!E554&\"_\"&PFS_PFD_SelectionTool!F554&\"_\"&PFS_PFD_SelectionTool!G554&\"_\"&PFS_PFD_SelectionTool!H554&\"_\"&PFS_PFD_SelectionTool!I554&\"_\"&PFS_PFD_SelectionTool!J554)","v":"_____"},{"$f":"IF(ISBLANK(PFS_PFD_SelectionTool!K554),\"\",PFS_PFD_SelectionTool!K554)","v":""},{"$f":"VLOOKUP(D538,Tabelle1!A:B,2,FALSE)","v":{"$error":"#N/A"}},{"$f":"IF(ISBLANK(PFS_PFD_SelectionTool!N579),\"\",PFS_PFD_SelectionTool!N579)","v":""},{"$f":"IF(ISBLANK(PFS_PFD_SelectionTool!O579),\"\",PFS_PFD_SelectionTool!O579)","v":""}]
[{"$f":"IF(ISBLANK(PFS_PFD_SelectionTool!C555),\"\",PFS_PFD_SelectionTool!C555)","v":""},{"$f":"IF(ISBLANK(PFS_PFD_SelectionTool!D555),\"\",PFS_PFD_SelectionTool!D555)","v":""},{"$f":"IF(ISBLANK(PFS_PFD_SelectionTool!E555&\"_\"&PFS_PFD_SelectionTool!F555&\"_\"&PFS_PFD_SelectionTool!G555&\"_\"&PFS_PFD_SelectionTool!H555&\"_\"&PFS_PFD_SelectionTool!I555&\"_\"&PFS_PFD_SelectionTool!J555),\"\",PFS_PFD_SelectionTool!E555&\"_\"&PFS_PFD_SelectionTool!F555&\"_\"&PFS_PFD_SelectionTool!G555&\"_\"&PFS_PFD_SelectionTool!H555&\"_\"&PFS_PFD_SelectionTool!I555&\"_\"&PFS_PFD_SelectionTool!J555)","v":"_____"},{"$f":"IF(ISBLANK(PFS_PFD_SelectionTool!K555),\"\",PFS_PFD_SelectionTool!K555)","v":""},{"$f":"VLOOKUP(D539,Tabelle1!A:B,2,FALSE)","v":{"$error":"#N/A"}},{"$f":"IF(ISBLANK(PFS_PFD_SelectionTool!N580),\"\",PFS_PFD_SelectionTool!N580)","v":""},{"$f":"IF(ISBLANK(PFS_PFD_SelectionTool!O580),\"\",PFS_PFD_SelectionTool!O580)","v":""}]
[{"$f":"IF(ISBLANK(PFS_PFD_SelectionTool!C556),\"\",PFS_PFD_SelectionTool!C556)","v":""},{"$f":"IF(ISBLANK(PFS_PFD_SelectionTool!D556),\"\",PFS_PFD_SelectionTool!D556)","v":""},{"$f":"IF(ISBLANK(PFS_PFD_SelectionTool!E556&\"_\"&PFS_PFD_SelectionTool!F556&\"_\"&PFS_PFD_SelectionTool!G556&\"_\"&PFS_PFD_SelectionTool!H556&\"_\"&PFS_PFD_SelectionTool!I556&\"_\"&PFS_PFD_SelectionTool!J556),\"\",PFS_PFD_SelectionTool!E556&\"_\"&PFS_PFD_SelectionTool!F556&\"_\"&PFS_PFD_SelectionTool!G556&\"_\"&PFS_PFD_SelectionTool!H556&\"_\"&PFS_PFD_SelectionTool!I556&\"_\"&PFS_PFD_SelectionTool!J556)","v":"_____"},{"$f":"IF(ISBLANK(PFS_PFD_SelectionTool!K556),\"\",PFS_PFD_SelectionTool!K556)","v":""},{"$f":"VLOOKUP(D540,Tabelle1!A:B,2,FALSE)","v":{"$error":"#N/A"}},{"$f":"IF(ISBLANK(PFS_PFD_SelectionTool!N581),\"\",PFS_PFD_SelectionTool!N581)","v":""},{"$f":"IF(ISBLANK(PFS_PFD_SelectionTool!O581),\"\",PFS_PFD_SelectionTool!O581)","v":""}]
[{"$f":"IF(ISBLANK(PFS_PFD_SelectionTool!C557),\"\",PFS_PFD_SelectionTool!C557)","v":""},{"$f":"IF(ISBLANK(PFS_PFD_SelectionTool!D557),\"\",PFS_PFD_SelectionTool!D557)","v":""},{"$f":"IF(ISBLANK(PFS_PFD_SelectionTool!E557&\"_\"&PFS_PFD_SelectionTool!F557&\"_\"&PFS_PFD_SelectionTool!G557&\"_\"&PFS_PFD_SelectionTool!H557&\"_\"&PFS_PFD_SelectionTool!I557&\"_\"&PFS_PFD_SelectionTool!J557),\"\",PFS_PFD_SelectionTool!E557&\"_\"&PFS_PFD_SelectionTool!F557&\"_\"&PFS_PFD_SelectionTool!G557&\"_\"&PFS_PFD_SelectionTool!H557&\"_\"&PFS_PFD_SelectionTool!I557&\"_\"&PFS_PFD_SelectionTool!J557)","v":"_____"},{"$f":"IF(ISBLANK(PFS_PFD_SelectionTool!K557),\"\",PFS_PFD_SelectionTool!K557)","v":""},{"$f":"VLOOKUP(D541,Tabelle1!A:B,2,FALSE)","v":{"$error":"#N/A"}},{"$f":"IF(ISBLANK(PFS_PFD_SelectionTool!N582),\"\",PFS_PFD_SelectionTool!N582)","v":""},{"$f":"IF(ISBLANK(PFS_PFD_SelectionTool!O582),\"\",PFS_PFD_SelectionTool!O582)","v":""}]
[{"$f":"IF(ISBLANK(PFS_PFD_SelectionTool!C558),\"\",PFS_PFD_SelectionTool!C558)","v":""},{"$f":"IF(ISBLANK(PFS_PFD_SelectionTool!D558),\"\",PFS_PFD_SelectionTool!D558)","v":""},{"$f":"IF(ISBLANK(PFS_PFD_SelectionTool!E558&\"_\"&PFS_PFD_SelectionTool!F558&\"_\"&PFS_PFD_SelectionTool!G558&\"_\"&PFS_PFD_SelectionTool!H558&\"_\"&PFS_PFD_SelectionTool!I558&\"_\"&PFS_PFD_SelectionTool!J558),\"\",PFS_PFD_SelectionTool!E558&\"_\"&PFS_PFD_SelectionTool!F558&\"_\"&PFS_PFD_SelectionTool!G558&\"_\"&PFS_PFD_SelectionTool!H558&\"_\"&PFS_PFD_SelectionTool!I558&\"_\"&PFS_PFD_SelectionTool!J558)","v":"_____"},{"$f":"IF(ISBLANK(PFS_PFD_SelectionTool!K558),\"\",PFS_PFD_SelectionTool!K558)","v":""},{"$f":"VLOOKUP(D542,Tabelle1!A:B,2,FALSE)","v":{"$error":"#N/A"}},{"$f":"IF(ISBLANK(PFS_PFD_SelectionTool!N583),\"\",PFS_PFD_SelectionTool!N583)","v":""},{"$f":"IF(ISBLANK(PFS_PFD_SelectionTool!O583),\"\",PFS_PFD_SelectionTool!O583)","v":""}]
[{"$f":"IF(ISBLANK(PFS_PFD_SelectionTool!C559),\"\",PFS_PFD_SelectionTool!C559)","v":""},{"$f":"IF(ISBLANK(PFS_PFD_SelectionTool!D559),\"\",PFS_PFD_SelectionTool!D559)","v":""},{"$f":"IF(ISBLANK(PFS_PFD_SelectionTool!E559&\"_\"&PFS_PFD_SelectionTool!F559&\"_\"&PFS_PFD_SelectionTool!G559&\"_\"&PFS_PFD_SelectionTool!H559&\"_\"&PFS_PFD_SelectionTool!I559&\"_\"&PFS_PFD_SelectionTool!J559),\"\",PFS_PFD_SelectionTool!E559&\"_\"&PFS_PFD_SelectionTool!F559&\"_\"&PFS_PFD_SelectionTool!G559&\"_\"&PFS_PFD_SelectionTool!H559&\"_\"&PFS_PFD_SelectionTool!I559&\"_\"&PFS_PFD_SelectionTool!J559)","v":"_____"},{"$f":"IF(ISBLANK(PFS_PFD_SelectionTool!K559),\"\",PFS_PFD_SelectionTool!K559)","v":""},{"$f":"VLOOKUP(D543,Tabelle1!A:B,2,FALSE)","v":{"$error":"#N/A"}},{"$f":"IF(ISBLANK(PFS_PFD_SelectionTool!N584),\"\",PFS_PFD_SelectionTool!N584)","v":""},{"$f":"IF(ISBLANK(PFS_PFD_SelectionTool!O584),\"\",PFS_PFD_SelectionTool!O584)","v":""}]
[{"$f":"IF(ISBLANK(PFS_PFD_SelectionTool!C560),\"\",PFS_PFD_SelectionTool!C560)","v":""},{"$f":"IF(ISBLANK(PFS_PFD_SelectionTool!D560),\"\",PFS_PFD_SelectionTool!D560)","v":""},{"$f":"IF(ISBLANK(PFS_PFD_SelectionTool!E560&\"_\"&PFS_PFD_SelectionTool!F560&\"_\"&PFS_PFD_SelectionTool!G560&\"_\"&PFS_PFD_SelectionTool!H560&\"_\"&PFS_PFD_SelectionTool!I560&\"_\"&PFS_PFD_SelectionTool!J560),\"\",PFS_PFD_SelectionTool!E560&\"_\"&PFS_PFD_SelectionTool!F560&\"_\"&PFS_PFD_SelectionTool!G560&\"_\"&PFS_PFD_SelectionTool!H560&\"_\"&PFS_PFD_SelectionTool!I560&\"_\"&PFS_PFD_SelectionTool!J560)","v":"_____"},{"$f":"IF(ISBLANK(PFS_PFD_SelectionTool!K560),\"\",PFS_PFD_SelectionTool!K560)","v":""},{"$f":"VLOOKUP(D544,Tabelle1!A:B,2,FALSE)","v":{"$error":"#N/A"}},{"$f":"IF(ISBLANK(PFS_PFD_SelectionTool!N585),\"\",PFS_PFD_SelectionTool!N585)","v":""},{"$f":"IF(ISBLANK(PFS_PFD_SelectionTool!O585),\"\",PFS_PFD_SelectionTool!O585)","v":""}]
[{"$f":"IF(ISBLANK(PFS_PFD_SelectionTool!C561),\"\",PFS_PFD_SelectionTool!C561)","v":""},{"$f":"IF(ISBLANK(PFS_PFD_SelectionTool!D561),\"\",PFS_PFD_SelectionTool!D561)","v":""},{"$f":"IF(ISBLANK(PFS_PFD_SelectionTool!E561&\"_\"&PFS_PFD_SelectionTool!F561&\"_\"&PFS_PFD_SelectionTool!G561&\"_\"&PFS_PFD_SelectionTool!H561&\"_\"&PFS_PFD_SelectionTool!I561&\"_\"&PFS_PFD_SelectionTool!J561),\"\",PFS_PFD_SelectionTool!E561&\"_\"&PFS_PFD_SelectionTool!F561&\"_\"&PFS_PFD_SelectionTool!G561&\"_\"&PFS_PFD_SelectionTool!H561&\"_\"&PFS_PFD_SelectionTool!I561&\"_\"&PFS_PFD_SelectionTool!J561)","v":"_____"},{"$f":"IF(ISBLANK(PFS_PFD_SelectionTool!K561),\"\",PFS_PFD_SelectionTool!K561)","v":""},{"$f":"VLOOKUP(D545,Tabelle1!A:B,2,FALSE)","v":{"$error":"#N/A"}},{"$f":"IF(ISBLANK(PFS_PFD_SelectionTool!N586),\"\",PFS_PFD_SelectionTool!N586)","v":""},{"$f":"IF(ISBLANK(PFS_PFD_SelectionTool!O586),\"\",PFS_PFD_SelectionTool!O586)","v":""}]
[{"$f":"IF(ISBLANK(PFS_PFD_SelectionTool!C562),\"\",PFS_PFD_SelectionTool!C562)","v":""},{"$f":"IF(ISBLANK(PFS_PFD_SelectionTool!D562),\"\",PFS_PFD_SelectionTool!D562)","v":""},{"$f":"IF(ISBLANK(PFS_PFD_SelectionTool!E562&\"_\"&PFS_PFD_SelectionTool!F562&\"_\"&PFS_PFD_SelectionTool!G562&\"_\"&PFS_PFD_SelectionTool!H562&\"_\"&PFS_PFD_SelectionTool!I562&\"_\"&PFS_PFD_SelectionTool!J562),\"\",PFS_PFD_SelectionTool!E562&\"_\"&PFS_PFD_SelectionTool!F562&\"_\"&PFS_PFD_SelectionTool!G562&\"_\"&PFS_PFD_SelectionTool!H562&\"_\"&PFS_PFD_SelectionTool!I562&\"_\"&PFS_PFD_SelectionTool!J562)","v":"_____"},{"$f":"IF(ISBLANK(PFS_PFD_SelectionTool!K562),\"\",PFS_PFD_SelectionTool!K562)","v":""},{"$f":"VLOOKUP(D546,Tabelle1!A:B,2,FALSE)","v":{"$error":"#N/A"}},{"$f":"IF(ISBLANK(PFS_PFD_SelectionTool!N587),\"\",PFS_PFD_SelectionTool!N587)","v":""},{"$f":"IF(ISBLANK(PFS_PFD_SelectionTool!O587),\"\",PFS_PFD_SelectionTool!O587)","v":""}]
[{"$f":"IF(ISBLANK(PFS_PFD_SelectionTool!C563),\"\",PFS_PFD_SelectionTool!C563)","v":""},{"$f":"IF(ISBLANK(PFS_PFD_SelectionTool!D563),\"\",PFS_PFD_SelectionTool!D563)","v":""},{"$f":"IF(ISBLANK(PFS_PFD_SelectionTool!E563&\"_\"&PFS_PFD_SelectionTool!F563&\"_\"&PFS_PFD_SelectionTool!G563&\"_\"&PFS_PFD_SelectionTool!H563&\"_\"&PFS_PFD_SelectionTool!I563&\"_\"&PFS_PFD_SelectionTool!J563),\"\",PFS_PFD_SelectionTool!E563&\"_\"&PFS_PFD_SelectionTool!F563&\"_\"&PFS_PFD_SelectionTool!G563&\"_\"&PFS_PFD_SelectionTool!H563&\"_\"&PFS_PFD_SelectionTool!I563&\"_\"&PFS_PFD_SelectionTool!J563)","v":"_____"},{"$f":"IF(ISBLANK(PFS_PFD_SelectionTool!K563),\"\",PFS_PFD_SelectionTool!K563)","v":""},{"$f":"VLOOKUP(D547,Tabelle1!A:B,2,FALSE)","v":{"$error":"#N/A"}},{"$f":"IF(ISBLANK(PFS_PFD_SelectionTool!N588),\"\",PFS_PFD_SelectionTool!N588)","v":""},{"$f":"IF(ISBLANK(PFS_PFD_SelectionTool!O588),\"\",PFS_PFD_SelectionTool!O588)","v":""}]
[{"$f":"IF(ISBLANK(PFS_PFD_SelectionTool!C564),\"\",PFS_PFD_SelectionTool!C564)","v":""},{"$f":"IF(ISBLANK(PFS_PFD_SelectionTool!D564),\"\",PFS_PFD_SelectionTool!D564)","v":""},{"$f":"IF(ISBLANK(PFS_PFD_SelectionTool!E564&\"_\"&PFS_PFD_SelectionTool!F564&\"_\"&PFS_PFD_SelectionTool!G564&\"_\"&PFS_PFD_SelectionTool!H564&\"_\"&PFS_PFD_SelectionTool!I564&\"_\"&PFS_PFD_SelectionTool!J564),\"\",PFS_PFD_SelectionTool!E564&\"_\"&PFS_PFD_SelectionTool!F564&\"_\"&PFS_PFD_SelectionTool!G564&\"_\"&PFS_PFD_SelectionTool!H564&\"_\"&PFS_PFD_SelectionTool!I564&\"_\"&PFS_PFD_SelectionTool!J564)","v":"_____"},{"$f":"IF(ISBLANK(PFS_PFD_SelectionTool!K564),\"\",PFS_PFD_SelectionTool!K564)","v":""},{"$f":"VLOOKUP(D548,Tabelle1!A:B,2,FALSE)","v":{"$error":"#N/A"}},{"$f":"IF(ISBLANK(PFS_PFD_SelectionTool!N589),\"\",PFS_PFD_SelectionTool!N589)","v":""},{"$f":"IF(ISBLANK(PFS_PFD_SelectionTool!O589),\"\",PFS_PFD_SelectionTool!O589)","v":""}]
[{"$f":"IF(ISBLANK(PFS_PFD_SelectionTool!C565),\"\",PFS_PFD_SelectionTool!C565)","v":""},{"$f":"IF(ISBLANK(PFS_PFD_SelectionTool!D565),\"\",PFS_PFD_SelectionTool!D565)","v":""},{"$f":"IF(ISBLANK(PFS_PFD_SelectionTool!E565&\"_\"&PFS_PFD_SelectionTool!F565&\"_\"&PFS_PFD_SelectionTool!G565&\"_\"&PFS_PFD_SelectionTool!H565&\"_\"&PFS_PFD_SelectionTool!I565&\"_\"&PFS_PFD_SelectionTool!J565),\"\",PFS_PFD_SelectionTool!E565&\"_\"&PFS_PFD_SelectionTool!F565&\"_\"&PFS_PFD_SelectionTool!G565&\"_\"&PFS_PFD_SelectionTool!H565&\"_\"&PFS_PFD_SelectionTool!I565&\"_\"&PFS_PFD_SelectionTool!J565)","v":"_____"},{"$f":"IF(ISBLANK(PFS_PFD_SelectionTool!K565),\"\",PFS_PFD_SelectionTool!K565)","v":""},{"$f":"VLOOKUP(D549,Tabelle1!A:B,2,FALSE)","v":{"$error":"#N/A"}},{"$f":"IF(ISBLANK(PFS_PFD_SelectionTool!N590),\"\",PFS_PFD_SelectionTool!N590)","v":""},{"$f":"IF(ISBLANK(PFS_PFD_SelectionTool!O590),\"\",PFS_PFD_SelectionTool!O590)","v":""}]
[{"$f":"IF(ISBLANK(PFS_PFD_SelectionTool!C566),\"\",PFS_PFD_SelectionTool!C566)","v":""},{"$f":"IF(ISBLANK(PFS_PFD_SelectionTool!D566),\"\",PFS_PFD_SelectionTool!D566)","v":""},{"$f":"IF(ISBLANK(PFS_PFD_SelectionTool!E566&\"_\"&PFS_PFD_SelectionTool!F566&\"_\"&PFS_PFD_SelectionTool!G566&\"_\"&PFS_PFD_SelectionTool!H566&\"_\"&PFS_PFD_SelectionTool!I566&\"_\"&PFS_PFD_SelectionTool!J566),\"\",PFS_PFD_SelectionTool!E566&\"_\"&PFS_PFD_SelectionTool!F566&\"_\"&PFS_PFD_SelectionTool!G566&\"_\"&PFS_PFD_SelectionTool!H566&\"_\"&PFS_PFD_SelectionTool!I566&\"_\"&PFS_PFD_SelectionTool!J566)","v":"_____"},{"$f":"IF(ISBLANK(PFS_PFD_SelectionTool!K566),\"\",PFS_PFD_SelectionTool!K566)","v":""},{"$f":"VLOOKUP(D550,Tabelle1!A:B,2,FALSE)","v":{"$error":"#N/A"}},{"$f":"IF(ISBLANK(PFS_PFD_SelectionTool!N591),\"\",PFS_PFD_SelectionTool!N591)","v":""},{"$f":"IF(ISBLANK(PFS_PFD_SelectionTool!O591),\"\",PFS_PFD_SelectionTool!O591)","v":""}]
[{"$f":"IF(ISBLANK(PFS_PFD_SelectionTool!C567),\"\",PFS_PFD_SelectionTool!C567)","v":""},{"$f":"IF(ISBLANK(PFS_PFD_SelectionTool!D567),\"\",PFS_PFD_SelectionTool!D567)","v":""},{"$f":"IF(ISBLANK(PFS_PFD_SelectionTool!E567&\"_\"&PFS_PFD_SelectionTool!F567&\"_\"&PFS_PFD_SelectionTool!G567&\"_\"&PFS_PFD_SelectionTool!H567&\"_\"&PFS_PFD_SelectionTool!I567&\"_\"&PFS_PFD_SelectionTool!J567),\"\",PFS_PFD_SelectionTool!E567&\"_\"&PFS_PFD_SelectionTool!F567&\"_\"&PFS_PFD_SelectionTool!G567&\"_\"&PFS_PFD_SelectionTool!H567&\"_\"&PFS_PFD_SelectionTool!I567&\"_\"&PFS_PFD_SelectionTool!J567)","v":"_____"},{"$f":"IF(ISBLANK(PFS_PFD_SelectionTool!K567),\"\",PFS_PFD_SelectionTool!K567)","v":""},{"$f":"VLOOKUP(D551,Tabelle1!A:B,2,FALSE)","v":{"$error":"#N/A"}},{"$f":"IF(ISBLANK(PFS_PFD_SelectionTool!N592),\"\",PFS_PFD_SelectionTool!N592)","v":""},{"$f":"IF(ISBLANK(PFS_PFD_SelectionTool!O592),\"\",PFS_PFD_SelectionTool!O592)","v":""}]
[{"$f":"IF(ISBLANK(PFS_PFD_SelectionTool!C568),\"\",PFS_PFD_SelectionTool!C568)","v":""},{"$f":"IF(ISBLANK(PFS_PFD_SelectionTool!D568),\"\",PFS_PFD_SelectionTool!D568)","v":""},{"$f":"IF(ISBLANK(PFS_PFD_SelectionTool!E568&\"_\"&PFS_PFD_SelectionTool!F568&\"_\"&PFS_PFD_SelectionTool!G568&\"_\"&PFS_PFD_SelectionTool!H568&\"_\"&PFS_PFD_SelectionTool!I568&\"_\"&PFS_PFD_SelectionTool!J568),\"\",PFS_PFD_SelectionTool!E568&\"_\"&PFS_PFD_SelectionTool!F568&\"_\"&PFS_PFD_SelectionTool!G568&\"_\"&PFS_PFD_SelectionTool!H568&\"_\"&PFS_PFD_SelectionTool!I568&\"_\"&PFS_PFD_SelectionTool!J568)","v":"_____"},{"$f":"IF(ISBLANK(PFS_PFD_SelectionTool!K568),\"\",PFS_PFD_SelectionTool!K568)","v":""},{"$f":"VLOOKUP(D552,Tabelle1!A:B,2,FALSE)","v":{"$error":"#N/A"}},{"$f":"IF(ISBLANK(PFS_PFD_SelectionTool!N593),\"\",PFS_PFD_SelectionTool!N593)","v":""},{"$f":"IF(ISBLANK(PFS_PFD_SelectionTool!O593),\"\",PFS_PFD_SelectionTool!O593)","v":""}]
[{"$f":"IF(ISBLANK(PFS_PFD_SelectionTool!C569),\"\",PFS_PFD_SelectionTool!C569)","v":""},{"$f":"IF(ISBLANK(PFS_PFD_SelectionTool!D569),\"\",PFS_PFD_SelectionTool!D569)","v":""},{"$f":"IF(ISBLANK(PFS_PFD_SelectionTool!E569&\"_\"&PFS_PFD_SelectionTool!F569&\"_\"&PFS_PFD_SelectionTool!G569&\"_\"&PFS_PFD_SelectionTool!H569&\"_\"&PFS_PFD_SelectionTool!I569&\"_\"&PFS_PFD_SelectionTool!J569),\"\",PFS_PFD_SelectionTool!E569&\"_\"&PFS_PFD_SelectionTool!F569&\"_\"&PFS_PFD_SelectionTool!G569&\"_\"&PFS_PFD_SelectionTool!H569&\"_\"&PFS_PFD_SelectionTool!I569&\"_\"&PFS_PFD_SelectionTool!J569)","v":"_____"},{"$f":"IF(ISBLANK(PFS_PFD_SelectionTool!K569),\"\",PFS_PFD_SelectionTool!K569)","v":""},{"$f":"VLOOKUP(D553,Tabelle1!A:B,2,FALSE)","v":{"$error":"#N/A"}},{"$f":"IF(ISBLANK(PFS_PFD_SelectionTool!N594),\"\",PFS_PFD_SelectionTool!N594)","v":""},{"$f":"IF(ISBLANK(PFS_PFD_SelectionTool!O594),\"\",PFS_PFD_SelectionTool!O594)","v":""}]
[{"$f":"IF(ISBLANK(PFS_PFD_SelectionTool!C570),\"\",PFS_PFD_SelectionTool!C570)","v":""},{"$f":"IF(ISBLANK(PFS_PFD_SelectionTool!D570),\"\",PFS_PFD_SelectionTool!D570)","v":""},{"$f":"IF(ISBLANK(PFS_PFD_SelectionTool!E570&\"_\"&PFS_PFD_SelectionTool!F570&\"_\"&PFS_PFD_SelectionTool!G570&\"_\"&PFS_PFD_SelectionTool!H570&\"_\"&PFS_PFD_SelectionTool!I570&\"_\"&PFS_PFD_SelectionTool!J570),\"\",PFS_PFD_SelectionTool!E570&\"_\"&PFS_PFD_SelectionTool!F570&\"_\"&PFS_PFD_SelectionTool!G570&\"_\"&PFS_PFD_SelectionTool!H570&\"_\"&PFS_PFD_SelectionTool!I570&\"_\"&PFS_PFD_SelectionTool!J570)","v":"_____"},{"$f":"IF(ISBLANK(PFS_PFD_SelectionTool!K570),\"\",PFS_PFD_SelectionTool!K570)","v":""},{"$f":"VLOOKUP(D554,Tabelle1!A:B,2,FALSE)","v":{"$error":"#N/A"}},{"$f":"IF(ISBLANK(PFS_PFD_SelectionTool!N595),\"\",PFS_PFD_SelectionTool!N595)","v":""},{"$f":"IF(ISBLANK(PFS_PFD_SelectionTool!O595),\"\",PFS_PFD_SelectionTool!O595)","v":""}]
[{"$f":"IF(ISBLANK(PFS_PFD_SelectionTool!C571),\"\",PFS_PFD_SelectionTool!C571)","v":""},{"$f":"IF(ISBLANK(PFS_PFD_SelectionTool!D571),\"\",PFS_PFD_SelectionTool!D571)","v":""},{"$f":"IF(ISBLANK(PFS_PFD_SelectionTool!E571&\"_\"&PFS_PFD_SelectionTool!F571&\"_\"&PFS_PFD_SelectionTool!G571&\"_\"&PFS_PFD_SelectionTool!H571&\"_\"&PFS_PFD_SelectionTool!I571&\"_\"&PFS_PFD_SelectionTool!J571),\"\",PFS_PFD_SelectionTool!E571&\"_\"&PFS_PFD_SelectionTool!F571&\"_\"&PFS_PFD_SelectionTool!G571&\"_\"&PFS_PFD_SelectionTool!H571&\"_\"&PFS_PFD_SelectionTool!I571&\"_\"&PFS_PFD_SelectionTool!J571)","v":"_____"},{"$f":"IF(ISBLANK(PFS_PFD_SelectionTool!K571),\"\",PFS_PFD_SelectionTool!K571)","v":""},{"$f":"VLOOKUP(D555,Tabelle1!A:B,2,FALSE)","v":{"$error":"#N/A"}},{"$f":"IF(ISBLANK(PFS_PFD_SelectionTool!N596),\"\",PFS_PFD_SelectionTool!N596)","v":""},{"$f":"IF(ISBLANK(PFS_PFD_SelectionTool!O596),\"\",PFS_PFD_SelectionTool!O596)","v":""}]
[{"$f":"IF(ISBLANK(PFS_PFD_SelectionTool!C572),\"\",PFS_PFD_SelectionTool!C572)","v":""},{"$f":"IF(ISBLANK(PFS_PFD_SelectionTool!D572),\"\",PFS_PFD_SelectionTool!D572)","v":""},{"$f":"IF(ISBLANK(PFS_PFD_SelectionTool!E572&\"_\"&PFS_PFD_SelectionTool!F572&\"_\"&PFS_PFD_SelectionTool!G572&\"_\"&PFS_PFD_SelectionTool!H572&\"_\"&PFS_PFD_SelectionTool!I572&\"_\"&PFS_PFD_SelectionTool!J572),\"\",PFS_PFD_SelectionTool!E572&\"_\"&PFS_PFD_SelectionTool!F572&\"_\"&PFS_PFD_SelectionTool!G572&\"_\"&PFS_PFD_SelectionTool!H572&\"_\"&PFS_PFD_SelectionTool!I572&\"_\"&PFS_PFD_SelectionTool!J572)","v":"_____"},{"$f":"IF(ISBLANK(PFS_PFD_SelectionTool!K572),\"\",PFS_PFD_SelectionTool!K572)","v":""},{"$f":"VLOOKUP(D556,Tabelle1!A:B,2,FALSE)","v":{"$error":"#N/A"}},{"$f":"IF(ISBLANK(PFS_PFD_SelectionTool!N597),\"\",PFS_PFD_SelectionTool!N597)","v":""},{"$f":"IF(ISBLANK(PFS_PFD_SelectionTool!O597),\"\",PFS_PFD_SelectionTool!O597)","v":""}]
[{"$f":"IF(ISBLANK(PFS_PFD_SelectionTool!C573),\"\",PFS_PFD_SelectionTool!C573)","v":""},{"$f":"IF(ISBLANK(PFS_PFD_SelectionTool!D573),\"\",PFS_PFD_SelectionTool!D573)","v":""},{"$f":"IF(ISBLANK(PFS_PFD_SelectionTool!E573&\"_\"&PFS_PFD_SelectionTool!F573&\"_\"&PFS_PFD_SelectionTool!G573&\"_\"&PFS_PFD_SelectionTool!H573&\"_\"&PFS_PFD_SelectionTool!I573&\"_\"&PFS_PFD_SelectionTool!J573),\"\",PFS_PFD_SelectionTool!E573&\"_\"&PFS_PFD_SelectionTool!F573&\"_\"&PFS_PFD_SelectionTool!G573&\"_\"&PFS_PFD_SelectionTool!H573&\"_\"&PFS_PFD_SelectionTool!I573&\"_\"&PFS_PFD_SelectionTool!J573)","v":"_____"},{"$f":"IF(ISBLANK(PFS_PFD_SelectionTool!K573),\"\",PFS_PFD_SelectionTool!K573)","v":""},{"$f":"VLOOKUP(D557,Tabelle1!A:B,2,FALSE)","v":{"$error":"#N/A"}},{"$f":"IF(ISBLANK(PFS_PFD_SelectionTool!N598),\"\",PFS_PFD_SelectionTool!N598)","v":""},{"$f":"IF(ISBLANK(PFS_PFD_SelectionTool!O598),\"\",PFS_PFD_SelectionTool!O598)","v":""}]
[{"$f":"IF(ISBLANK(PFS_PFD_SelectionTool!C574),\"\",PFS_PFD_SelectionTool!C574)","v":""},{"$f":"IF(ISBLANK(PFS_PFD_SelectionTool!D574),\"\",PFS_PFD_SelectionTool!D574)","v":""},{"$f":"IF(ISBLANK(PFS_PFD_SelectionTool!E574&\"_\"&PFS_PFD_SelectionTool!F574&\"_\"&PFS_PFD_SelectionTool!G574&\"_\"&PFS_PFD_SelectionTool!H574&\"_\"&PFS_PFD_SelectionTool!I574&\"_\"&PFS_PFD_SelectionTool!J574),\"\",PFS_PFD_SelectionTool!E574&\"_\"&PFS_PFD_SelectionTool!F574&\"_\"&PFS_PFD_SelectionTool!G574&\"_\"&PFS_PFD_SelectionTool!H574&\"_\"&PFS_PFD_SelectionTool!I574&\"_\"&PFS_PFD_SelectionTool!J574)","v":"_____"},{"$f":"IF(ISBLANK(PFS_PFD_SelectionTool!K574),\"\",PFS_PFD_SelectionTool!K574)","v":""},{"$f":"VLOOKUP(D558,Tabelle1!A:B,2,FALSE)","v":{"$error":"#N/A"}},{"$f":"IF(ISBLANK(PFS_PFD_SelectionTool!N599),\"\",PFS_PFD_SelectionTool!N599)","v":""},{"$f":"IF(ISBLANK(PFS_PFD_SelectionTool!O599),\"\",PFS_PFD_SelectionTool!O599)","v":""}]
[{"$f":"IF(ISBLANK(PFS_PFD_SelectionTool!C575),\"\",PFS_PFD_SelectionTool!C575)","v":""},{"$f":"IF(ISBLANK(PFS_PFD_SelectionTool!D575),\"\",PFS_PFD_SelectionTool!D575)","v":""},{"$f":"IF(ISBLANK(PFS_PFD_SelectionTool!E575&\"_\"&PFS_PFD_SelectionTool!F575&\"_\"&PFS_PFD_SelectionTool!G575&\"_\"&PFS_PFD_SelectionTool!H575&\"_\"&PFS_PFD_SelectionTool!I575&\"_\"&PFS_PFD_SelectionTool!J575),\"\",PFS_PFD_SelectionTool!E575&\"_\"&PFS_PFD_SelectionTool!F575&\"_\"&PFS_PFD_SelectionTool!G575&\"_\"&PFS_PFD_SelectionTool!H575&\"_\"&PFS_PFD_SelectionTool!I575&\"_\"&PFS_PFD_SelectionTool!J575)","v":"_____"},{"$f":"IF(ISBLANK(PFS_PFD_SelectionTool!K575),\"\",PFS_PFD_SelectionTool!K575)","v":""},{"$f":"VLOOKUP(D559,Tabelle1!A:B,2,FALSE)","v":{"$error":"#N/A"}},{"$f":"IF(ISBLANK(PFS_PFD_SelectionTool!N600),\"\",PFS_PFD_SelectionTool!N600)","v":""},{"$f":"IF(ISBLANK(PFS_PFD_SelectionTool!O600),\"\",PFS_PFD_SelectionTool!O600)","v":""}]
[{"$f":"IF(ISBLANK(PFS_PFD_SelectionTool!C576),\"\",PFS_PFD_SelectionTool!C576)","v":""},{"$f":"IF(ISBLANK(PFS_PFD_SelectionTool!D576),\"\",PFS_PFD_SelectionTool!D576)","v":""},{"$f":"IF(ISBLANK(PFS_PFD_SelectionTool!E576&\"_\"&PFS_PFD_SelectionTool!F576&\"_\"&PFS_PFD_SelectionTool!G576&\"_\"&PFS_PFD_SelectionTool!H576&\"_\"&PFS_PFD_SelectionTool!I576&\"_\"&PFS_PFD_SelectionTool!J576),\"\",PFS_PFD_SelectionTool!E576&\"_\"&PFS_PFD_SelectionTool!F576&\"_\"&PFS_PFD_SelectionTool!G576&\"_\"&PFS_PFD_SelectionTool!H576&\"_\"&PFS_PFD_SelectionTool!I576&\"_\"&PFS_PFD_SelectionTool!J576)","v":"_____"},{"$f":"IF(ISBLANK(PFS_PFD_SelectionTool!K576),\"\",PFS_PFD_SelectionTool!K576)","v":""},{"$f":"VLOOKUP(D560,Tabelle1!A:B,2,FALSE)","v":{"$error":"#N/A"}},{"$f":"IF(ISBLANK(PFS_PFD_SelectionTool!N601),\"\",PFS_PFD_SelectionTool!N601)","v":""},{"$f":"IF(ISBLANK(PFS_PFD_SelectionTool!O601),\"\",PFS_PFD_SelectionTool!O601)","v":""}]
[{"$f":"IF(ISBLANK(PFS_PFD_SelectionTool!C577),\"\",PFS_PFD_SelectionTool!C577)","v":""},{"$f":"IF(ISBLANK(PFS_PFD_SelectionTool!D577),\"\",PFS_PFD_SelectionTool!D577)","v":""},{"$f":"IF(ISBLANK(PFS_PFD_SelectionTool!E577&\"_\"&PFS_PFD_SelectionTool!F577&\"_\"&PFS_PFD_SelectionTool!G577&\"_\"&PFS_PFD_SelectionTool!H577&\"_\"&PFS_PFD_SelectionTool!I577&\"_\"&PFS_PFD_SelectionTool!J577),\"\",PFS_PFD_SelectionTool!E577&\"_\"&PFS_PFD_SelectionTool!F577&\"_\"&PFS_PFD_SelectionTool!G577&\"_\"&PFS_PFD_SelectionTool!H577&\"_\"&PFS_PFD_SelectionTool!I577&\"_\"&PFS_PFD_SelectionTool!J577)","v":"_____"},{"$f":"IF(ISBLANK(PFS_PFD_SelectionTool!K577),\"\",PFS_PFD_SelectionTool!K577)","v":""},{"$f":"VLOOKUP(D561,Tabelle1!A:B,2,FALSE)","v":{"$error":"#N/A"}},{"$f":"IF(ISBLANK(PFS_PFD_SelectionTool!N602),\"\",PFS_PFD_SelectionTool!N602)","v":""},{"$f":"IF(ISBLANK(PFS_PFD_SelectionTool!O602),\"\",PFS_PFD_SelectionTool!O602)","v":""}]
[{"$f":"IF(ISBLANK(PFS_PFD_SelectionTool!C578),\"\",PFS_PFD_SelectionTool!C578)","v":""},{"$f":"IF(ISBLANK(PFS_PFD_SelectionTool!D578),\"\",PFS_PFD_SelectionTool!D578)","v":""},{"$f":"IF(ISBLANK(PFS_PFD_SelectionTool!E578&\"_\"&PFS_PFD_SelectionTool!F578&\"_\"&PFS_PFD_SelectionTool!G578&\"_\"&PFS_PFD_SelectionTool!H578&\"_\"&PFS_PFD_SelectionTool!I578&\"_\"&PFS_PFD_SelectionTool!J578),\"\",PFS_PFD_SelectionTool!E578&\"_\"&PFS_PFD_SelectionTool!F578&\"_\"&PFS_PFD_SelectionTool!G578&\"_\"&PFS_PFD_SelectionTool!H578&\"_\"&PFS_PFD_SelectionTool!I578&\"_\"&PFS_PFD_SelectionTool!J578)","v":"_____"},{"$f":"IF(ISBLANK(PFS_PFD_SelectionTool!K578),\"\",PFS_PFD_SelectionTool!K578)","v":""},{"$f":"VLOOKUP(D562,Tabelle1!A:B,2,FALSE)","v":{"$error":"#N/A"}},{"$f":"IF(ISBLANK(PFS_PFD_SelectionTool!N603),\"\",PFS_PFD_SelectionTool!N603)","v":""},{"$f":"IF(ISBLANK(PFS_PFD_SelectionTool!O603),\"\",PFS_PFD_SelectionTool!O603)","v":""}]
[{"$f":"IF(ISBLANK(PFS_PFD_SelectionTool!C579),\"\",PFS_PFD_SelectionTool!C579)","v":""},{"$f":"IF(ISBLANK(PFS_PFD_SelectionTool!D579),\"\",PFS_PFD_SelectionTool!D579)","v":""},{"$f":"IF(ISBLANK(PFS_PFD_SelectionTool!E579&\"_\"&PFS_PFD_SelectionTool!F579&\"_\"&PFS_PFD_SelectionTool!G579&\"_\"&PFS_PFD_SelectionTool!H579&\"_\"&PFS_PFD_SelectionTool!I579&\"_\"&PFS_PFD_SelectionTool!J579),\"\",PFS_PFD_SelectionTool!E579&\"_\"&PFS_PFD_SelectionTool!F579&\"_\"&PFS_PFD_SelectionTool!G579&\"_\"&PFS_PFD_SelectionTool!H579&\"_\"&PFS_PFD_SelectionTool!I579&\"_\"&PFS_PFD_SelectionTool!J579)","v":"_____"},{"$f":"IF(ISBLANK(PFS_PFD_SelectionTool!K579),\"\",PFS_PFD_SelectionTool!K579)","v":""},{"$f":"VLOOKUP(D563,Tabelle1!A:B,2,FALSE)","v":{"$error":"#N/A"}},{"$f":"IF(ISBLANK(PFS_PFD_SelectionTool!N604),\"\",PFS_PFD_SelectionTool!N604)","v":""},{"$f":"IF(ISBLANK(PFS_PFD_SelectionTool!O604),\"\",PFS_PFD_SelectionTool!O604)","v":""}]
[{"$f":"IF(ISBLANK(PFS_PFD_SelectionTool!C580),\"\",PFS_PFD_SelectionTool!C580)","v":""},{"$f":"IF(ISBLANK(PFS_PFD_SelectionTool!D580),\"\",PFS_PFD_SelectionTool!D580)","v":""},{"$f":"IF(ISBLANK(PFS_PFD_SelectionTool!E580&\"_\"&PFS_PFD_SelectionTool!F580&\"_\"&PFS_PFD_SelectionTool!G580&\"_\"&PFS_PFD_SelectionTool!H580&\"_\"&PFS_PFD_SelectionTool!I580&\"_\"&PFS_PFD_SelectionTool!J580),\"\",PFS_PFD_SelectionTool!E580&\"_\"&PFS_PFD_SelectionTool!F580&\"_\"&PFS_PFD_SelectionTool!G580&\"_\"&PFS_PFD_SelectionTool!H580&\"_\"&PFS_PFD_SelectionTool!I580&\"_\"&PFS_PFD_SelectionTool!J580)","v":"_____"},{"$f":"IF(ISBLANK(PFS_PFD_SelectionTool!K580),\"\",PFS_PFD_SelectionTool!K580)","v":""},{"$f":"VLOOKUP(D564,Tabelle1!A:B,2,FALSE)","v":{"$error":"#N/A"}},{"$f":"IF(ISBLANK(PFS_PFD_SelectionTool!N605),\"\",PFS_PFD_SelectionTool!N605)","v":""},{"$f":"IF(ISBLANK(PFS_PFD_SelectionTool!O605),\"\",PFS_PFD_SelectionTool!O605)","v":""}]
[{"$f":"IF(ISBLANK(PFS_PFD_SelectionTool!C581),\"\",PFS_PFD_SelectionTool!C581)","v":""},{"$f":"IF(ISBLANK(PFS_PFD_SelectionTool!D581),\"\",PFS_PFD_SelectionTool!D581)","v":""},{"$f":"IF(ISBLANK(PFS_PFD_SelectionTool!E581&\"_\"&PFS_PFD_SelectionTool!F581&\"_\"&PFS_PFD_SelectionTool!G581&\"_\"&PFS_PFD_SelectionTool!H581&\"_\"&PFS_PFD_SelectionTool!I581&\"_\"&PFS_PFD_SelectionTool!J581),\"\",PFS_PFD_SelectionTool!E581&\"_\"&PFS_PFD_SelectionTool!F581&\"_\"&PFS_PFD_SelectionTool!G581&\"_\"&PFS_PFD_SelectionTool!H581&\"_\"&PFS_PFD_SelectionTool!I581&\"_\"&PFS_PFD_SelectionTool!J581)","v":"_____"},{"$f":"IF(ISBLANK(PFS_PFD_SelectionTool!K581),\"\",PFS_PFD_SelectionTool!K581)","v":""},{"$f":"VLOOKUP(D565,Tabelle1!A:B,2,FALSE)","v":{"$error":"#N/A"}},{"$f":"IF(ISBLANK(PFS_PFD_SelectionTool!N606),\"\",PFS_PFD_SelectionTool!N606)","v":""},{"$f":"IF(ISBLANK(PFS_PFD_SelectionTool!O606),\"\",PFS_PFD_SelectionTool!O606)","v":""}]
[{"$f":"IF(ISBLANK(PFS_PFD_SelectionTool!C582),\"\",PFS_PFD_SelectionTool!C582)","v":""},{"$f":"IF(ISBLANK(PFS_PFD_SelectionTool!D582),\"\",PFS_PFD_SelectionTool!D582)","v":""},{"$f":"IF(ISBLANK(PFS_PFD_SelectionTool!E582&\"_\"&PFS_PFD_SelectionTool!F582&\"_\"&PFS_PFD_SelectionTool!G582&\"_\"&PFS_PFD_SelectionTool!H582&\"_\"&PFS_PFD_SelectionTool!I582&\"_\"&PFS_PFD_SelectionTool!J582),\"\",PFS_PFD_SelectionTool!E582&\"_\"&PFS_PFD_SelectionTool!F582&\"_\"&PFS_PFD_SelectionTool!G582&\"_\"&PFS_PFD_SelectionTool!H582&\"_\"&PFS_PFD_SelectionTool!I582&\"_\"&PFS_PFD_SelectionTool!J582)","v":"_____"},{"$f":"IF(ISBLANK(PFS_PFD_SelectionTool!K582),\"\",PFS_PFD_SelectionTool!K582)","v":""},{"$f":"VLOOKUP(D566,Tabelle1!A:B,2,FALSE)","v":{"$error":"#N/A"}},{"$f":"IF(ISBLANK(PFS_PFD_SelectionTool!N607),\"\",PFS_PFD_SelectionTool!N607)","v":""},{"$f":"IF(ISBLANK(PFS_PFD_SelectionTool!O607),\"\",PFS_PFD_SelectionTool!O607)","v":""}]
[{"$f":"IF(ISBLANK(PFS_PFD_SelectionTool!C583),\"\",PFS_PFD_SelectionTool!C583)","v":""},{"$f":"IF(ISBLANK(PFS_PFD_SelectionTool!D583),\"\",PFS_PFD_SelectionTool!D583)","v":""},{"$f":"IF(ISBLANK(PFS_PFD_SelectionTool!E583&\"_\"&PFS_PFD_SelectionTool!F583&\"_\"&PFS_PFD_SelectionTool!G583&\"_\"&PFS_PFD_SelectionTool!H583&\"_\"&PFS_PFD_SelectionTool!I583&\"_\"&PFS_PFD_SelectionTool!J583),\"\",PFS_PFD_SelectionTool!E583&\"_\"&PFS_PFD_SelectionTool!F583&\"_\"&PFS_PFD_SelectionTool!G583&\"_\"&PFS_PFD_SelectionTool!H583&\"_\"&PFS_PFD_SelectionTool!I583&\"_\"&PFS_PFD_SelectionTool!J583)","v":"_____"},{"$f":"IF(ISBLANK(PFS_PFD_SelectionTool!K583),\"\",PFS_PFD_SelectionTool!K583)","v":""},{"$f":"VLOOKUP(D567,Tabelle1!A:B,2,FALSE)","v":{"$error":"#N/A"}},{"$f":"IF(ISBLANK(PFS_PFD_SelectionTool!N608),\"\",PFS_PFD_SelectionTool!N608)","v":""},{"$f":"IF(ISBLANK(PFS_PFD_SelectionTool!O608),\"\",PFS_PFD_SelectionTool!O608)","v":""}]
[{"$f":"IF(ISBLANK(PFS_PFD_SelectionTool!C584),\"\",PFS_PFD_SelectionTool!C584)","v":""},{"$f":"IF(ISBLANK(PFS_PFD_SelectionTool!D584),\"\",PFS_PFD_SelectionTool!D584)","v":""},{"$f":"IF(ISBLANK(PFS_PFD_SelectionTool!E584&\"_\"&PFS_PFD_SelectionTool!F584&\"_\"&PFS_PFD_SelectionTool!G584&\"_\"&PFS_PFD_SelectionTool!H584&\"_\"&PFS_PFD_SelectionTool!I584&\"_\"&PFS_PFD_SelectionTool!J584),\"\",PFS_PFD_SelectionTool!E584&\"_\"&PFS_PFD_SelectionTool!F584&\"_\"&PFS_PFD_SelectionTool!G584&\"_\"&PFS_PFD_SelectionTool!H584&\"_\"&PFS_PFD_SelectionTool!I584&\"_\"&PFS_PFD_SelectionTool!J584)","v":"_____"},{"$f":"IF(ISBLANK(PFS_PFD_SelectionTool!K584),\"\",PFS_PFD_SelectionTool!K584)","v":""},{"$f":"VLOOKUP(D568,Tabelle1!A:B,2,FALSE)","v":{"$error":"#N/A"}},{"$f":"IF(ISBLANK(PFS_PFD_SelectionTool!N609),\"\",PFS_PFD_SelectionTool!N609)","v":""},{"$f":"IF(ISBLANK(PFS_PFD_SelectionTool!O609),\"\",PFS_PFD_SelectionTool!O609)","v":""}]
[{"$f":"IF(ISBLANK(PFS_PFD_SelectionTool!C585),\"\",PFS_PFD_SelectionTool!C585)","v":""},{"$f":"IF(ISBLANK(PFS_PFD_SelectionTool!D585),\"\",PFS_PFD_SelectionTool!D585)","v":""},{"$f":"IF(ISBLANK(PFS_PFD_SelectionTool!E585&\"_\"&PFS_PFD_SelectionTool!F585&\"_\"&PFS_PFD_SelectionTool!G585&\"_\"&PFS_PFD_SelectionTool!H585&\"_\"&PFS_PFD_SelectionTool!I585&\"_\"&PFS_PFD_SelectionTool!J585),\"\",PFS_PFD_SelectionTool!E585&\"_\"&PFS_PFD_SelectionTool!F585&\"_\"&PFS_PFD_SelectionTool!G585&\"_\"&PFS_PFD_SelectionTool!H585&\"_\"&PFS_PFD_SelectionTool!I585&\"_\"&PFS_PFD_SelectionTool!J585)","v":"_____"},{"$f":"IF(ISBLANK(PFS_PFD_SelectionTool!K585),\"\",PFS_PFD_SelectionTool!K585)","v":""},{"$f":"VLOOKUP(D569,Tabelle1!A:B,2,FALSE)","v":{"$error":"#N/A"}},{"$f":"IF(ISBLANK(PFS_PFD_SelectionTool!N610),\"\",PFS_PFD_SelectionTool!N610)","v":""},{"$f":"IF(ISBLANK(PFS_PFD_SelectionTool!O610),\"\",PFS_PFD_SelectionTool!O610)","v":""}]
[{"$f":"IF(ISBLANK(PFS_PFD_SelectionTool!C586),\"\",PFS_PFD_SelectionTool!C586)","v":""},{"$f":"IF(ISBLANK(PFS_PFD_SelectionTool!D586),\"\",PFS_PFD_SelectionTool!D586)","v":""},{"$f":"IF(ISBLANK(PFS_PFD_SelectionTool!E586&\"_\"&PFS_PFD_SelectionTool!F586&\"_\"&PFS_PFD_SelectionTool!G586&\"_\"&PFS_PFD_SelectionTool!H586&\"_\"&PFS_PFD_SelectionTool!I586&\"_\"&PFS_PFD_SelectionTool!J586),\"\",PFS_PFD_SelectionTool!E586&\"_\"&PFS_PFD_SelectionTool!F586&\"_\"&PFS_PFD_SelectionTool!G586&\"_\"&PFS_PFD_SelectionTool!H586&\"_\"&PFS_PFD_SelectionTool!I586&\"_\"&PFS_PFD_SelectionTool!J586)","v":"_____"},{"$f":"IF(ISBLANK(PFS_PFD_SelectionTool!K586),\"\",PFS_PFD_SelectionTool!K586)","v":""},{"$f":"VLOOKUP(D570,Tabelle1!A:B,2,FALSE)","v":{"$error":"#N/A"}},{"$f":"IF(ISBLANK(PFS_PFD_SelectionTool!N611),\"\",PFS_PFD_SelectionTool!N611)","v":""},{"$f":"IF(ISBLANK(PFS_PFD_SelectionTool!O611),\"\",PFS_PFD_SelectionTool!O611)","v":""}]
[{"$f":"IF(ISBLANK(PFS_PFD_SelectionTool!C587),\"\",PFS_PFD_SelectionTool!C587)","v":""},{"$f":"IF(ISBLANK(PFS_PFD_SelectionTool!D587),\"\",PFS_PFD_SelectionTool!D587)","v":""},{"$f":"IF(ISBLANK(PFS_PFD_SelectionTool!E587&\"_\"&PFS_PFD_SelectionTool!F587&\"_\"&PFS_PFD_SelectionTool!G587&\"_\"&PFS_PFD_SelectionTool!H587&\"_\"&PFS_PFD_SelectionTool!I587&\"_\"&PFS_PFD_SelectionTool!J587),\"\",PFS_PFD_SelectionTool!E587&\"_\"&PFS_PFD_SelectionTool!F587&\"_\"&PFS_PFD_SelectionTool!G587&\"_\"&PFS_PFD_SelectionTool!H587&\"_\"&PFS_PFD_SelectionTool!I587&\"_\"&PFS_PFD_SelectionTool!J587)","v":"_____"},{"$f":"IF(ISBLANK(PFS_PFD_SelectionTool!K587),\"\",PFS_PFD_SelectionTool!K587)","v":""},{"$f":"VLOOKUP(D571,Tabelle1!A:B,2,FALSE)","v":{"$error":"#N/A"}},{"$f":"IF(ISBLANK(PFS_PFD_SelectionTool!N612),\"\",PFS_PFD_SelectionTool!N612)","v":""},{"$f":"IF(ISBLANK(PFS_PFD_SelectionTool!O612),\"\",PFS_PFD_SelectionTool!O612)","v":""}]
[{"$f":"IF(ISBLANK(PFS_PFD_SelectionTool!C588),\"\",PFS_PFD_SelectionTool!C588)","v":""},{"$f":"IF(ISBLANK(PFS_PFD_SelectionTool!D588),\"\",PFS_PFD_SelectionTool!D588)","v":""},{"$f":"IF(ISBLANK(PFS_PFD_SelectionTool!E588&\"_\"&PFS_PFD_SelectionTool!F588&\"_\"&PFS_PFD_SelectionTool!G588&\"_\"&PFS_PFD_SelectionTool!H588&\"_\"&PFS_PFD_SelectionTool!I588&\"_\"&PFS_PFD_SelectionTool!J588),\"\",PFS_PFD_SelectionTool!E588&\"_\"&PFS_PFD_SelectionTool!F588&\"_\"&PFS_PFD_SelectionTool!G588&\"_\"&PFS_PFD_SelectionTool!H588&\"_\"&PFS_PFD_SelectionTool!I588&\"_\"&PFS_PFD_SelectionTool!J588)","v":"_____"},{"$f":"IF(ISBLANK(PFS_PFD_SelectionTool!K588),\"\",PFS_PFD_SelectionTool!K588)","v":""},{"$f":"VLOOKUP(D572,Tabelle1!A:B,2,FALSE)","v":{"$error":"#N/A"}},{"$f":"IF(ISBLANK(PFS_PFD_SelectionTool!N613),\"\",PFS_PFD_SelectionTool!N613)","v":""},{"$f":"IF(ISBLANK(PFS_PFD_SelectionTool!O613),\"\",PFS_PFD_SelectionTool!O613)","v":""}]
[{"$f":"IF(ISBLANK(PFS_PFD_SelectionTool!C589),\"\",PFS_PFD_SelectionTool!C589)","v":""},{"$f":"IF(ISBLANK(PFS_PFD_SelectionTool!D589),\"\",PFS_PFD_SelectionTool!D589)","v":""},{"$f":"IF(ISBLANK(PFS_PFD_SelectionTool!E589&\"_\"&PFS_PFD_SelectionTool!F589&\"_\"&PFS_PFD_SelectionTool!G589&\"_\"&PFS_PFD_SelectionTool!H589&\"_\"&PFS_PFD_SelectionTool!I589&\"_\"&PFS_PFD_SelectionTool!J589),\"\",PFS_PFD_SelectionTool!E589&\"_\"&PFS_PFD_SelectionTool!F589&\"_\"&PFS_PFD_SelectionTool!G589&\"_\"&PFS_PFD_SelectionTool!H589&\"_\"&PFS_PFD_SelectionTool!I589&\"_\"&PFS_PFD_SelectionTool!J589)","v":"_____"},{"$f":"IF(ISBLANK(PFS_PFD_SelectionTool!K589),\"\",PFS_PFD_SelectionTool!K589)","v":""},{"$f":"VLOOKUP(D573,Tabelle1!A:B,2,FALSE)","v":{"$error":"#N/A"}},{"$f":"IF(ISBLANK(PFS_PFD_SelectionTool!N614),\"\",PFS_PFD_SelectionTool!N614)","v":""},{"$f":"IF(ISBLANK(PFS_PFD_SelectionTool!O614),\"\",PFS_PFD_SelectionTool!O614)","v":""}]
[{"$f":"IF(ISBLANK(PFS_PFD_SelectionTool!C590),\"\",PFS_PFD_SelectionTool!C590)","v":""},{"$f":"IF(ISBLANK(PFS_PFD_SelectionTool!D590),\"\",PFS_PFD_SelectionTool!D590)","v":""},{"$f":"IF(ISBLANK(PFS_PFD_SelectionTool!E590&\"_\"&PFS_PFD_SelectionTool!F590&\"_\"&PFS_PFD_SelectionTool!G590&\"_\"&PFS_PFD_SelectionTool!H590&\"_\"&PFS_PFD_SelectionTool!I590&\"_\"&PFS_PFD_SelectionTool!J590),\"\",PFS_PFD_SelectionTool!E590&\"_\"&PFS_PFD_SelectionTool!F590&\"_\"&PFS_PFD_SelectionTool!G590&\"_\"&PFS_PFD_SelectionTool!H590&\"_\"&PFS_PFD_SelectionTool!I590&\"_\"&PFS_PFD_SelectionTool!J590)","v":"_____"},{"$f":"IF(ISBLANK(PFS_PFD_SelectionTool!K590),\"\",PFS_PFD_SelectionTool!K590)","v":""},{"$f":"VLOOKUP(D574,Tabelle1!A:B,2,FALSE)","v":{"$error":"#N/A"}},{"$f":"IF(ISBLANK(PFS_PFD_SelectionTool!N615),\"\",PFS_PFD_SelectionTool!N615)","v":""},{"$f":"IF(ISBLANK(PFS_PFD_SelectionTool!O615),\"\",PFS_PFD_SelectionTool!O615)","v":""}]
[{"$f":"IF(ISBLANK(PFS_PFD_SelectionTool!C591),\"\",PFS_PFD_SelectionTool!C591)","v":""},{"$f":"IF(ISBLANK(PFS_PFD_SelectionTool!D591),\"\",PFS_PFD_SelectionTool!D591)","v":""},{"$f":"IF(ISBLANK(PFS_PFD_SelectionTool!E591&\"_\"&PFS_PFD_SelectionTool!F591&\"_\"&PFS_PFD_SelectionTool!G591&\"_\"&PFS_PFD_SelectionTool!H591&\"_\"&PFS_PFD_SelectionTool!I591&\"_\"&PFS_PFD_SelectionTool!J591),\"\",PFS_PFD_SelectionTool!E591&\"_\"&PFS_PFD_SelectionTool!F591&\"_\"&PFS_PFD_SelectionTool!G591&\"_\"&PFS_PFD_SelectionTool!H591&\"_\"&PFS_PFD_SelectionTool!I591&\"_\"&PFS_PFD_SelectionTool!J591)","v":"_____"},{"$f":"IF(ISBLANK(PFS_PFD_SelectionTool!K591),\"\",PFS_PFD_SelectionTool!K591)","v":""},{"$f":"VLOOKUP(D575,Tabelle1!A:B,2,FALSE)","v":{"$error":"#N/A"}},{"$f":"IF(ISBLANK(PFS_PFD_SelectionTool!N616),\"\",PFS_PFD_SelectionTool!N616)","v":""},{"$f":"IF(ISBLANK(PFS_PFD_SelectionTool!O616),\"\",PFS_PFD_SelectionTool!O616)","v":""}]
[{"$f":"IF(ISBLANK(PFS_PFD_SelectionTool!C592),\"\",PFS_PFD_SelectionTool!C592)","v":""},{"$f":"IF(ISBLANK(PFS_PFD_SelectionTool!D592),\"\",PFS_PFD_SelectionTool!D592)","v":""},{"$f":"IF(ISBLANK(PFS_PFD_SelectionTool!E592&\"_\"&PFS_PFD_SelectionTool!F592&\"_\"&PFS_PFD_SelectionTool!G592&\"_\"&PFS_PFD_SelectionTool!H592&\"_\"&PFS_PFD_SelectionTool!I592&\"_\"&PFS_PFD_SelectionTool!J592),\"\",PFS_PFD_SelectionTool!E592&\"_\"&PFS_PFD_SelectionTool!F592&\"_\"&PFS_PFD_SelectionTool!G592&\"_\"&PFS_PFD_SelectionTool!H592&\"_\"&PFS_PFD_SelectionTool!I592&\"_\"&PFS_PFD_SelectionTool!J592)","v":"_____"},{"$f":"IF(ISBLANK(PFS_PFD_SelectionTool!K592),\"\",PFS_PFD_SelectionTool!K592)","v":""},{"$f":"VLOOKUP(D576,Tabelle1!A:B,2,FALSE)","v":{"$error":"#N/A"}},{"$f":"IF(ISBLANK(PFS_PFD_SelectionTool!N617),\"\",PFS_PFD_SelectionTool!N617)","v":""},{"$f":"IF(ISBLANK(PFS_PFD_SelectionTool!O617),\"\",PFS_PFD_SelectionTool!O617)","v":""}]
[{"$f":"IF(ISBLANK(PFS_PFD_SelectionTool!C593),\"\",PFS_PFD_SelectionTool!C593)","v":""},{"$f":"IF(ISBLANK(PFS_PFD_SelectionTool!D593),\"\",PFS_PFD_SelectionTool!D593)","v":""},{"$f":"IF(ISBLANK(PFS_PFD_SelectionTool!E593&\"_\"&PFS_PFD_SelectionTool!F593&\"_\"&PFS_PFD_SelectionTool!G593&\"_\"&PFS_PFD_SelectionTool!H593&\"_\"&PFS_PFD_SelectionTool!I593&\"_\"&PFS_PFD_SelectionTool!J593),\"\",PFS_PFD_SelectionTool!E593&\"_\"&PFS_PFD_SelectionTool!F593&\"_\"&PFS_PFD_SelectionTool!G593&\"_\"&PFS_PFD_SelectionTool!H593&\"_\"&PFS_PFD_SelectionTool!I593&\"_\"&PFS_PFD_SelectionTool!J593)","v":"_____"},{"$f":"IF(ISBLANK(PFS_PFD_SelectionTool!K593),\"\",PFS_PFD_SelectionTool!K593)","v":""},{"$f":"VLOOKUP(D577,Tabelle1!A:B,2,FALSE)","v":{"$error":"#N/A"}},{"$f":"IF(ISBLANK(PFS_PFD_SelectionTool!N618),\"\",PFS_PFD_SelectionTool!N618)","v":""},{"$f":"IF(ISBLANK(PFS_PFD_SelectionTool!O618),\"\",PFS_PFD_SelectionTool!O618)","v":""}]
[{"$f":"IF(ISBLANK(PFS_PFD_SelectionTool!C594),\"\",PFS_PFD_SelectionTool!C594)","v":""},{"$f":"IF(ISBLANK(PFS_PFD_SelectionTool!D594),\"\",PFS_PFD_SelectionTool!D594)","v":""},{"$f":"IF(ISBLANK(PFS_PFD_SelectionTool!E594&\"_\"&PFS_PFD_SelectionTool!F594&\"_\"&PFS_PFD_SelectionTool!G594&\"_\"&PFS_PFD_SelectionTool!H594&\"_\"&PFS_PFD_SelectionTool!I594&\"_\"&PFS_PFD_SelectionTool!J594),\"\",PFS_PFD_SelectionTool!E594&\"_\"&PFS_PFD_SelectionTool!F594&\"_\"&PFS_PFD_SelectionTool!G594&\"_\"&PFS_PFD_SelectionTool!H594&\"_\"&PFS_PFD_SelectionTool!I594&\"_\"&PFS_PFD_SelectionTool!J594)","v":"_____"},{"$f":"IF(ISBLANK(PFS_PFD_SelectionTool!K594),\"\",PFS_PFD_SelectionTool!K594)","v":""},{"$f":"VLOOKUP(D578,Tabelle1!A:B,2,FALSE)","v":{"$error":"#N/A"}},{"$f":"IF(ISBLANK(PFS_PFD_SelectionTool!N619),\"\",PFS_PFD_SelectionTool!N619)","v":""},{"$f":"IF(ISBLANK(PFS_PFD_SelectionTool!O619),\"\",PFS_PFD_SelectionTool!O619)","v":""}]
[{"$f":"IF(ISBLANK(PFS_PFD_SelectionTool!C595),\"\",PFS_PFD_SelectionTool!C595)","v":""},{"$f":"IF(ISBLANK(PFS_PFD_SelectionTool!D595),\"\",PFS_PFD_SelectionTool!D595)","v":""},{"$f":"IF(ISBLANK(PFS_PFD_SelectionTool!E595&\"_\"&PFS_PFD_SelectionTool!F595&\"_\"&PFS_PFD_SelectionTool!G595&\"_\"&PFS_PFD_SelectionTool!H595&\"_\"&PFS_PFD_SelectionTool!I595&\"_\"&PFS_PFD_SelectionTool!J595),\"\",PFS_PFD_SelectionTool!E595&\"_\"&PFS_PFD_SelectionTool!F595&\"_\"&PFS_PFD_SelectionTool!G595&\"_\"&PFS_PFD_SelectionTool!H595&\"_\"&PFS_PFD_SelectionTool!I595&\"_\"&PFS_PFD_SelectionTool!J595)","v":"_____"},{"$f":"IF(ISBLANK(PFS_PFD_SelectionTool!K595),\"\",PFS_PFD_SelectionTool!K595)","v":""},{"$f":"VLOOKUP(D579,Tabelle1!A:B,2,FALSE)","v":{"$error":"#N/A"}},{"$f":"IF(ISBLANK(PFS_PFD_SelectionTool!N620),\"\",PFS_PFD_SelectionTool!N620)","v":""},{"$f":"IF(ISBLANK(PFS_PFD_SelectionTool!O620),\"\",PFS_PFD_SelectionTool!O620)","v":""}]
[{"$f":"IF(ISBLANK(PFS_PFD_SelectionTool!C596),\"\",PFS_PFD_SelectionTool!C596)","v":""},{"$f":"IF(ISBLANK(PFS_PFD_SelectionTool!D596),\"\",PFS_PFD_SelectionTool!D596)","v":""},{"$f":"IF(ISBLANK(PFS_PFD_SelectionTool!E596&\"_\"&PFS_PFD_SelectionTool!F596&\"_\"&PFS_PFD_SelectionTool!G596&\"_\"&PFS_PFD_SelectionTool!H596&\"_\"&PFS_PFD_SelectionTool!I596&\"_\"&PFS_PFD_SelectionTool!J596),\"\",PFS_PFD_SelectionTool!E596&\"_\"&PFS_PFD_SelectionTool!F596&\"_\"&PFS_PFD_SelectionTool!G596&\"_\"&PFS_PFD_SelectionTool!H596&\"_\"&PFS_PFD_SelectionTool!I596&\"_\"&PFS_PFD_SelectionTool!J596)","v":"_____"},{"$f":"IF(ISBLANK(PFS_PFD_SelectionTool!K596),\"\",PFS_PFD_SelectionTool!K596)","v":""},{"$f":"VLOOKUP(D580,Tabelle1!A:B,2,FALSE)","v":{"$error":"#N/A"}},{"$f":"IF(ISBLANK(PFS_PFD_SelectionTool!N621),\"\",PFS_PFD_SelectionTool!N621)","v":""},{"$f":"IF(ISBLANK(PFS_PFD_SelectionTool!O621),\"\",PFS_PFD_SelectionTool!O621)","v":""}]
[{"$f":"IF(ISBLANK(PFS_PFD_SelectionTool!C597),\"\",PFS_PFD_SelectionTool!C597)","v":""},{"$f":"IF(ISBLANK(PFS_PFD_SelectionTool!D597),\"\",PFS_PFD_SelectionTool!D597)","v":""},{"$f":"IF(ISBLANK(PFS_PFD_SelectionTool!E597&\"_\"&PFS_PFD_SelectionTool!F597&\"_\"&PFS_PFD_SelectionTool!G597&\"_\"&PFS_PFD_SelectionTool!H597&\"_\"&PFS_PFD_SelectionTool!I597&\"_\"&PFS_PFD_SelectionTool!J597),\"\",PFS_PFD_SelectionTool!E597&\"_\"&PFS_PFD_SelectionTool!F597&\"_\"&PFS_PFD_SelectionTool!G597&\"_\"&PFS_PFD_SelectionTool!H597&\"_\"&PFS_PFD_SelectionTool!I597&\"_\"&PFS_PFD_SelectionTool!J597)","v":"_____"},{"$f":"IF(ISBLANK(PFS_PFD_SelectionTool!K597),\"\",PFS_PFD_SelectionTool!K597)","v":""},{"$f":"VLOOKUP(D581,Tabelle1!A:B,2,FALSE)","v":{"$error":"#N/A"}},{"$f":"IF(ISBLANK(PFS_PFD_SelectionTool!N622),\"\",PFS_PFD_SelectionTool!N622)","v":""},{"$f":"IF(ISBLANK(PFS_PFD_SelectionTool!O622),\"\",PFS_PFD_SelectionTool!O622)","v":""}]
[{"$f":"IF(ISBLANK(PFS_PFD_SelectionTool!C598),\"\",PFS_PFD_SelectionTool!C598)","v":""},{"$f":"IF(ISBLANK(PFS_PFD_SelectionTool!D598),\"\",PFS_PFD_SelectionTool!D598)","v":""},{"$f":"IF(ISBLANK(PFS_PFD_SelectionTool!E598&\"_\"&PFS_PFD_SelectionTool!F598&\"_\"&PFS_PFD_SelectionTool!G598&\"_\"&PFS_PFD_SelectionTool!H598&\"_\"&PFS_PFD_SelectionTool!I598&\"_\"&PFS_PFD_SelectionTool!J598),\"\",PFS_PFD_SelectionTool!E598&\"_\"&PFS_PFD_SelectionTool!F598&\"_\"&PFS_PFD_SelectionTool!G598&\"_\"&PFS_PFD_SelectionTool!H598&\"_\"&PFS_PFD_SelectionTool!I598&\"_\"&PFS_PFD_SelectionTool!J598)","v":"_____"},{"$f":"IF(ISBLANK(PFS_PFD_SelectionTool!K598),\"\",PFS_PFD_SelectionTool!K598)","v":""},{"$f":"VLOOKUP(D582,Tabelle1!A:B,2,FALSE)","v":{"$error":"#N/A"}},{"$f":"IF(ISBLANK(PFS_PFD_SelectionTool!N623),\"\",PFS_PFD_SelectionTool!N623)","v":""},{"$f":"IF(ISBLANK(PFS_PFD_SelectionTool!O623),\"\",PFS_PFD_SelectionTool!O623)","v":""}]
[{"$f":"IF(ISBLANK(PFS_PFD_SelectionTool!C599),\"\",PFS_PFD_SelectionTool!C599)","v":""},{"$f":"IF(ISBLANK(PFS_PFD_SelectionTool!D599),\"\",PFS_PFD_SelectionTool!D599)","v":""},{"$f":"IF(ISBLANK(PFS_PFD_SelectionTool!E599&\"_\"&PFS_PFD_SelectionTool!F599&\"_\"&PFS_PFD_SelectionTool!G599&\"_\"&PFS_PFD_SelectionTool!H599&\"_\"&PFS_PFD_SelectionTool!I599&\"_\"&PFS_PFD_SelectionTool!J599),\"\",PFS_PFD_SelectionTool!E599&\"_\"&PFS_PFD_SelectionTool!F599&\"_\"&PFS_PFD_SelectionTool!G599&\"_\"&PFS_PFD_SelectionTool!H599&\"_\"&PFS_PFD_SelectionTool!I599&\"_\"&PFS_PFD_SelectionTool!J599)","v":"_____"},{"$f":"IF(ISBLANK(PFS_PFD_SelectionTool!K599),\"\",PFS_PFD_SelectionTool!K599)","v":""},{"$f":"VLOOKUP(D583,Tabelle1!A:B,2,FALSE)","v":{"$error":"#N/A"}},{"$f":"IF(ISBLANK(PFS_PFD_SelectionTool!N624),\"\",PFS_PFD_SelectionTool!N624)","v":""},{"$f":"IF(ISBLANK(PFS_PFD_SelectionTool!O624),\"\",PFS_PFD_SelectionTool!O624)","v":""}]
[{"$f":"IF(ISBLANK(PFS_PFD_SelectionTool!C600),\"\",PFS_PFD_SelectionTool!C600)","v":""},{"$f":"IF(ISBLANK(PFS_PFD_SelectionTool!D600),\"\",PFS_PFD_SelectionTool!D600)","v":""},{"$f":"IF(ISBLANK(PFS_PFD_SelectionTool!E600&\"_\"&PFS_PFD_SelectionTool!F600&\"_\"&PFS_PFD_SelectionTool!G600&\"_\"&PFS_PFD_SelectionTool!H600&\"_\"&PFS_PFD_SelectionTool!I600&\"_\"&PFS_PFD_SelectionTool!J600),\"\",PFS_PFD_SelectionTool!E600&\"_\"&PFS_PFD_SelectionTool!F600&\"_\"&PFS_PFD_SelectionTool!G600&\"_\"&PFS_PFD_SelectionTool!H600&\"_\"&PFS_PFD_SelectionTool!I600&\"_\"&PFS_PFD_SelectionTool!J600)","v":"_____"},{"$f":"IF(ISBLANK(PFS_PFD_SelectionTool!K600),\"\",PFS_PFD_SelectionTool!K600)","v":""},{"$f":"VLOOKUP(D584,Tabelle1!A:B,2,FALSE)","v":{"$error":"#N/A"}},{"$f":"IF(ISBLANK(PFS_PFD_SelectionTool!N625),\"\",PFS_PFD_SelectionTool!N625)","v":""},{"$f":"IF(ISBLANK(PFS_PFD_SelectionTool!O625),\"\",PFS_PFD_SelectionTool!O625)","v":""}]
[{"$f":"IF(ISBLANK(PFS_PFD_SelectionTool!C601),\"\",PFS_PFD_SelectionTool!C601)","v":""},{"$f":"IF(ISBLANK(PFS_PFD_SelectionTool!D601),\"\",PFS_PFD_SelectionTool!D601)","v":""},{"$f":"IF(ISBLANK(PFS_PFD_SelectionTool!E601&\"_\"&PFS_PFD_SelectionTool!F601&\"_\"&PFS_PFD_SelectionTool!G601&\"_\"&PFS_PFD_SelectionTool!H601&\"_\"&PFS_PFD_SelectionTool!I601&\"_\"&PFS_PFD_SelectionTool!J601),\"\",PFS_PFD_SelectionTool!E601&\"_\"&PFS_PFD_SelectionTool!F601&\"_\"&PFS_PFD_SelectionTool!G601&\"_\"&PFS_PFD_SelectionTool!H601&\"_\"&PFS_PFD_SelectionTool!I601&\"_\"&PFS_PFD_SelectionTool!J601)","v":"_____"},{"$f":"IF(ISBLANK(PFS_PFD_SelectionTool!K601),\"\",PFS_PFD_SelectionTool!K601)","v":""},{"$f":"VLOOKUP(D585,Tabelle1!A:B,2,FALSE)","v":{"$error":"#N/A"}},{"$f":"IF(ISBLANK(PFS_PFD_SelectionTool!N626),\"\",PFS_PFD_SelectionTool!N626)","v":""},{"$f":"IF(ISBLANK(PFS_PFD_SelectionTool!O626),\"\",PFS_PFD_SelectionTool!O626)","v":""}]
[{"$f":"IF(ISBLANK(PFS_PFD_SelectionTool!C602),\"\",PFS_PFD_SelectionTool!C602)","v":""},{"$f":"IF(ISBLANK(PFS_PFD_SelectionTool!D602),\"\",PFS_PFD_SelectionTool!D602)","v":""},{"$f":"IF(ISBLANK(PFS_PFD_SelectionTool!E602&\"_\"&PFS_PFD_SelectionTool!F602&\"_\"&PFS_PFD_SelectionTool!G602&\"_\"&PFS_PFD_SelectionTool!H602&\"_\"&PFS_PFD_SelectionTool!I602&\"_\"&PFS_PFD_SelectionTool!J602),\"\",PFS_PFD_SelectionTool!E602&\"_\"&PFS_PFD_SelectionTool!F602&\"_\"&PFS_PFD_SelectionTool!G602&\"_\"&PFS_PFD_SelectionTool!H602&\"_\"&PFS_PFD_SelectionTool!I602&\"_\"&PFS_PFD_SelectionTool!J602)","v":"_____"},{"$f":"IF(ISBLANK(PFS_PFD_SelectionTool!K602),\"\",PFS_PFD_SelectionTool!K602)","v":""},{"$f":"VLOOKUP(D586,Tabelle1!A:B,2,FALSE)","v":{"$error":"#N/A"}},{"$f":"IF(ISBLANK(PFS_PFD_SelectionTool!N627),\"\",PFS_PFD_SelectionTool!N627)","v":""},{"$f":"IF(ISBLANK(PFS_PFD_SelectionTool!O627),\"\",PFS_PFD_SelectionTool!O627)","v":""}]
[{"$f":"IF(ISBLANK(PFS_PFD_SelectionTool!C603),\"\",PFS_PFD_SelectionTool!C603)","v":""},{"$f":"IF(ISBLANK(PFS_PFD_SelectionTool!D603),\"\",PFS_PFD_SelectionTool!D603)","v":""},{"$f":"IF(ISBLANK(PFS_PFD_SelectionTool!E603&\"_\"&PFS_PFD_SelectionTool!F603&\"_\"&PFS_PFD_SelectionTool!G603&\"_\"&PFS_PFD_SelectionTool!H603&\"_\"&PFS_PFD_SelectionTool!I603&\"_\"&PFS_PFD_SelectionTool!J603),\"\",PFS_PFD_SelectionTool!E603&\"_\"&PFS_PFD_SelectionTool!F603&\"_\"&PFS_PFD_SelectionTool!G603&\"_\"&PFS_PFD_SelectionTool!H603&\"_\"&PFS_PFD_SelectionTool!I603&\"_\"&PFS_PFD_SelectionTool!J603)","v":"_____"},{"$f":"IF(ISBLANK(PFS_PFD_SelectionTool!K603),\"\",PFS_PFD_SelectionTool!K603)","v":""},{"$f":"VLOOKUP(D587,Tabelle1!A:B,2,FALSE)","v":{"$error":"#N/A"}},{"$f":"IF(ISBLANK(PFS_PFD_SelectionTool!N628),\"\",PFS_PFD_SelectionTool!N628)","v":""},{"$f":"IF(ISBLANK(PFS_PFD_SelectionTool!O628),\"\",PFS_PFD_SelectionTool!O628)","v":""}]
[{"$f":"IF(ISBLANK(PFS_PFD_SelectionTool!C604),\"\",PFS_PFD_SelectionTool!C604)","v":""},{"$f":"IF(ISBLANK(PFS_PFD_SelectionTool!D604),\"\",PFS_PFD_SelectionTool!D604)","v":""},{"$f":"IF(ISBLANK(PFS_PFD_SelectionTool!E604&\"_\"&PFS_PFD_SelectionTool!F604&\"_\"&PFS_PFD_SelectionTool!G604&\"_\"&PFS_PFD_SelectionTool!H604&\"_\"&PFS_PFD_SelectionTool!I604&\"_\"&PFS_PFD_SelectionTool!J604),\"\",PFS_PFD_SelectionTool!E604&\"_\"&PFS_PFD_SelectionTool!F604&\"_\"&PFS_PFD_SelectionTool!G604&\"_\"&PFS_PFD_SelectionTool!H604&\"_\"&PFS_PFD_SelectionTool!I604&\"_\"&PFS_PFD_SelectionTool!J604)","v":"_____"},{"$f":"IF(ISBLANK(PFS_PFD_SelectionTool!K604),\"\",PFS_PFD_SelectionTool!K604)","v":""},{"$f":"VLOOKUP(D588,Tabelle1!A:B,2,FALSE)","v":{"$error":"#N/A"}},{"$f":"IF(ISBLANK(PFS_PFD_SelectionTool!N629),\"\",PFS_PFD_SelectionTool!N629)","v":""},{"$f":"IF(ISBLANK(PFS_PFD_SelectionTool!O629),\"\",PFS_PFD_SelectionTool!O629)","v":""}]
[{"$f":"IF(ISBLANK(PFS_PFD_SelectionTool!C605),\"\",PFS_PFD_SelectionTool!C605)","v":""},{"$f":"IF(ISBLANK(PFS_PFD_SelectionTool!D605),\"\",PFS_PFD_SelectionTool!D605)","v":""},{"$f":"IF(ISBLANK(PFS_PFD_SelectionTool!E605&\"_\"&PFS_PFD_SelectionTool!F605&\"_\"&PFS_PFD_SelectionTool!G605&\"_\"&PFS_PFD_SelectionTool!H605&\"_\"&PFS_PFD_SelectionTool!I605&\"_\"&PFS_PFD_SelectionTool!J605),\"\",PFS_PFD_SelectionTool!E605&\"_\"&PFS_PFD_SelectionTool!F605&\"_\"&PFS_PFD_SelectionTool!G605&\"_\"&PFS_PFD_SelectionTool!H605&\"_\"&PFS_PFD_SelectionTool!I605&\"_\"&PFS_PFD_SelectionTool!J605)","v":"_____"},{"$f":"IF(ISBLANK(PFS_PFD_SelectionTool!K605),\"\",PFS_PFD_SelectionTool!K605)","v":""},{"$f":"VLOOKUP(D589,Tabelle1!A:B,2,FALSE)","v":{"$error":"#N/A"}},{"$f":"IF(ISBLANK(PFS_PFD_SelectionTool!N630),\"\",PFS_PFD_SelectionTool!N630)","v":""},{"$f":"IF(ISBLANK(PFS_PFD_SelectionTool!O630),\"\",PFS_PFD_SelectionTool!O630)","v":""}]
[{"$f":"IF(ISBLANK(PFS_PFD_SelectionTool!C606),\"\",PFS_PFD_SelectionTool!C606)","v":""},{"$f":"IF(ISBLANK(PFS_PFD_SelectionTool!D606),\"\",PFS_PFD_SelectionTool!D606)","v":""},{"$f":"IF(ISBLANK(PFS_PFD_SelectionTool!E606&\"_\"&PFS_PFD_SelectionTool!F606&\"_\"&PFS_PFD_SelectionTool!G606&\"_\"&PFS_PFD_SelectionTool!H606&\"_\"&PFS_PFD_SelectionTool!I606&\"_\"&PFS_PFD_SelectionTool!J606),\"\",PFS_PFD_SelectionTool!E606&\"_\"&PFS_PFD_SelectionTool!F606&\"_\"&PFS_PFD_SelectionTool!G606&\"_\"&PFS_PFD_SelectionTool!H606&\"_\"&PFS_PFD_SelectionTool!I606&\"_\"&PFS_PFD_SelectionTool!J606)","v":"_____"},{"$f":"IF(ISBLANK(PFS_PFD_SelectionTool!K606),\"\",PFS_PFD_SelectionTool!K606)","v":""},{"$f":"VLOOKUP(D590,Tabelle1!A:B,2,FALSE)","v":{"$error":"#N/A"}},{"$f":"IF(ISBLANK(PFS_PFD_SelectionTool!N631),\"\",PFS_PFD_SelectionTool!N631)","v":""},{"$f":"IF(ISBLANK(PFS_PFD_SelectionTool!O631),\"\",PFS_PFD_SelectionTool!O631)","v":""}]
[{"$f":"IF(ISBLANK(PFS_PFD_SelectionTool!C607),\"\",PFS_PFD_SelectionTool!C607)","v":""},{"$f":"IF(ISBLANK(PFS_PFD_SelectionTool!D607),\"\",PFS_PFD_SelectionTool!D607)","v":""},{"$f":"IF(ISBLANK(PFS_PFD_SelectionTool!E607&\"_\"&PFS_PFD_SelectionTool!F607&\"_\"&PFS_PFD_SelectionTool!G607&\"_\"&PFS_PFD_SelectionTool!H607&\"_\"&PFS_PFD_SelectionTool!I607&\"_\"&PFS_PFD_SelectionTool!J607),\"\",PFS_PFD_SelectionTool!E607&\"_\"&PFS_PFD_SelectionTool!F607&\"_\"&PFS_PFD_SelectionTool!G607&\"_\"&PFS_PFD_SelectionTool!H607&\"_\"&PFS_PFD_SelectionTool!I607&\"_\"&PFS_PFD_SelectionTool!J607)","v":"_____"},{"$f":"IF(ISBLANK(PFS_PFD_SelectionTool!K607),\"\",PFS_PFD_SelectionTool!K607)","v":""},{"$f":"VLOOKUP(D591,Tabelle1!A:B,2,FALSE)","v":{"$error":"#N/A"}},{"$f":"IF(ISBLANK(PFS_PFD_SelectionTool!N632),\"\",PFS_PFD_SelectionTool!N632)","v":""},{"$f":"IF(ISBLANK(PFS_PFD_SelectionTool!O632),\"\",PFS_PFD_SelectionTool!O632)","v":""}]
[{"$f":"IF(ISBLANK(PFS_PFD_SelectionTool!C608),\"\",PFS_PFD_SelectionTool!C608)","v":""},{"$f":"IF(ISBLANK(PFS_PFD_SelectionTool!D608),\"\",PFS_PFD_SelectionTool!D608)","v":""},{"$f":"IF(ISBLANK(PFS_PFD_SelectionTool!E608&\"_\"&PFS_PFD_SelectionTool!F608&\"_\"&PFS_PFD_SelectionTool!G608&\"_\"&PFS_PFD_SelectionTool!H608&\"_\"&PFS_PFD_SelectionTool!I608&\"_\"&PFS_PFD_SelectionTool!J608),\"\",PFS_PFD_SelectionTool!E608&\"_\"&PFS_PFD_SelectionTool!F608&\"_\"&PFS_PFD_SelectionTool!G608&\"_\"&PFS_PFD_SelectionTool!H608&\"_\"&PFS_PFD_SelectionTool!I608&\"_\"&PFS_PFD_SelectionTool!J608)","v":"_____"},{"$f":"IF(ISBLANK(PFS_PFD_SelectionTool!K608),\"\",PFS_PFD_SelectionTool!K608)","v":""},{"$f":"VLOOKUP(D592,Tabelle1!A:B,2,FALSE)","v":{"$error":"#N/A"}},{"$f":"IF(ISBLANK(PFS_PFD_SelectionTool!N633),\"\",PFS_PFD_SelectionTool!N633)","v":""},{"$f":"IF(ISBLANK(PFS_PFD_SelectionTool!O633),\"\",PFS_PFD_SelectionTool!O633)","v":""}]
[{"$f":"IF(ISBLANK(PFS_PFD_SelectionTool!C609),\"\",PFS_PFD_SelectionTool!C609)","v":""},{"$f":"IF(ISBLANK(PFS_PFD_SelectionTool!D609),\"\",PFS_PFD_SelectionTool!D609)","v":""},{"$f":"IF(ISBLANK(PFS_PFD_SelectionTool!E609&\"_\"&PFS_PFD_SelectionTool!F609&\"_\"&PFS_PFD_SelectionTool!G609&\"_\"&PFS_PFD_SelectionTool!H609&\"_\"&PFS_PFD_SelectionTool!I609&\"_\"&PFS_PFD_SelectionTool!J609),\"\",PFS_PFD_SelectionTool!E609&\"_\"&PFS_PFD_SelectionTool!F609&\"_\"&PFS_PFD_SelectionTool!G609&\"_\"&PFS_PFD_SelectionTool!H609&\"_\"&PFS_PFD_SelectionTool!I609&\"_\"&PFS_PFD_SelectionTool!J609)","v":"_____"},{"$f":"IF(ISBLANK(PFS_PFD_SelectionTool!K609),\"\",PFS_PFD_SelectionTool!K609)","v":""},{"$f":"VLOOKUP(D593,Tabelle1!A:B,2,FALSE)","v":{"$error":"#N/A"}},{"$f":"IF(ISBLANK(PFS_PFD_SelectionTool!N634),\"\",PFS_PFD_SelectionTool!N634)","v":""},{"$f":"IF(ISBLANK(PFS_PFD_SelectionTool!O634),\"\",PFS_PFD_SelectionTool!O634)","v":""}]
[{"$f":"IF(ISBLANK(PFS_PFD_SelectionTool!C610),\"\",PFS_PFD_SelectionTool!C610)","v":""},{"$f":"IF(ISBLANK(PFS_PFD_SelectionTool!D610),\"\",PFS_PFD_SelectionTool!D610)","v":""},{"$f":"IF(ISBLANK(PFS_PFD_SelectionTool!E610&\"_\"&PFS_PFD_SelectionTool!F610&\"_\"&PFS_PFD_SelectionTool!G610&\"_\"&PFS_PFD_SelectionTool!H610&\"_\"&PFS_PFD_SelectionTool!I610&\"_\"&PFS_PFD_SelectionTool!J610),\"\",PFS_PFD_SelectionTool!E610&\"_\"&PFS_PFD_SelectionTool!F610&\"_\"&PFS_PFD_SelectionTool!G610&\"_\"&PFS_PFD_SelectionTool!H610&\"_\"&PFS_PFD_SelectionTool!I610&\"_\"&PFS_PFD_SelectionTool!J610)","v":"_____"},{"$f":"IF(ISBLANK(PFS_PFD_SelectionTool!K610),\"\",PFS_PFD_SelectionTool!K610)","v":""},{"$f":"VLOOKUP(D594,Tabelle1!A:B,2,FALSE)","v":{"$error":"#N/A"}},{"$f":"IF(ISBLANK(PFS_PFD_SelectionTool!N635),\"\",PFS_PFD_SelectionTool!N635)","v":""},{"$f":"IF(ISBLANK(PFS_PFD_SelectionTool!O635),\"\",PFS_PFD_SelectionTool!O635)","v":""}]
[{"$f":"IF(ISBLANK(PFS_PFD_SelectionTool!C611),\"\",PFS_PFD_SelectionTool!C611)","v":""},{"$f":"IF(ISBLANK(PFS_PFD_SelectionTool!D611),\"\",PFS_PFD_SelectionTool!D611)","v":""},{"$f":"IF(ISBLANK(PFS_PFD_SelectionTool!E611&\"_\"&PFS_PFD_SelectionTool!F611&\"_\"&PFS_PFD_SelectionTool!G611&\"_\"&PFS_PFD_SelectionTool!H611&\"_\"&PFS_PFD_SelectionTool!I611&\"_\"&PFS_PFD_SelectionTool!J611),\"\",PFS_PFD_SelectionTool!E611&\"_\"&PFS_PFD_SelectionTool!F611&\"_\"&PFS_PFD_SelectionTool!G611&\"_\"&PFS_PFD_SelectionTool!H611&\"_\"&PFS_PFD_SelectionTool!I611&\"_\"&PFS_PFD_SelectionTool!J611)","v":"_____"},{"$f":"IF(ISBLANK(PFS_PFD_SelectionTool!K611),\"\",PFS_PFD_SelectionTool!K611)","v":""},{"$f":"VLOOKUP(D595,Tabelle1!A:B,2,FALSE)","v":{"$error":"#N/A"}},{"$f":"IF(ISBLANK(PFS_PFD_SelectionTool!N636),\"\",PFS_PFD_SelectionTool!N636)","v":""},{"$f":"IF(ISBLANK(PFS_PFD_SelectionTool!O636),\"\",PFS_PFD_SelectionTool!O636)","v":""}]
[{"$f":"IF(ISBLANK(PFS_PFD_SelectionTool!C612),\"\",PFS_PFD_SelectionTool!C612)","v":""},{"$f":"IF(ISBLANK(PFS_PFD_SelectionTool!D612),\"\",PFS_PFD_SelectionTool!D612)","v":""},{"$f":"IF(ISBLANK(PFS_PFD_SelectionTool!E612&\"_\"&PFS_PFD_SelectionTool!F612&\"_\"&PFS_PFD_SelectionTool!G612&\"_\"&PFS_PFD_SelectionTool!H612&\"_\"&PFS_PFD_SelectionTool!I612&\"_\"&PFS_PFD_SelectionTool!J612),\"\",PFS_PFD_SelectionTool!E612&\"_\"&PFS_PFD_SelectionTool!F612&\"_\"&PFS_PFD_SelectionTool!G612&\"_\"&PFS_PFD_SelectionTool!H612&\"_\"&PFS_PFD_SelectionTool!I612&\"_\"&PFS_PFD_SelectionTool!J612)","v":"_____"},{"$f":"IF(ISBLANK(PFS_PFD_SelectionTool!K612),\"\",PFS_PFD_SelectionTool!K612)","v":""},{"$f":"VLOOKUP(D596,Tabelle1!A:B,2,FALSE)","v":{"$error":"#N/A"}},{"$f":"IF(ISBLANK(PFS_PFD_SelectionTool!N637),\"\",PFS_PFD_SelectionTool!N637)","v":""},{"$f":"IF(ISBLANK(PFS_PFD_SelectionTool!O637),\"\",PFS_PFD_SelectionTool!O637)","v":""}]
[{"$f":"IF(ISBLANK(PFS_PFD_SelectionTool!C613),\"\",PFS_PFD_SelectionTool!C613)","v":""},{"$f":"IF(ISBLANK(PFS_PFD_SelectionTool!D613),\"\",PFS_PFD_SelectionTool!D613)","v":""},{"$f":"IF(ISBLANK(PFS_PFD_SelectionTool!E613&\"_\"&PFS_PFD_SelectionTool!F613&\"_\"&PFS_PFD_SelectionTool!G613&\"_\"&PFS_PFD_SelectionTool!H613&\"_\"&PFS_PFD_SelectionTool!I613&\"_\"&PFS_PFD_SelectionTool!J613),\"\",PFS_PFD_SelectionTool!E613&\"_\"&PFS_PFD_SelectionTool!F613&\"_\"&PFS_PFD_SelectionTool!G613&\"_\"&PFS_PFD_SelectionTool!H613&\"_\"&PFS_PFD_SelectionTool!I613&\"_\"&PFS_PFD_SelectionTool!J613)","v":"_____"},{"$f":"IF(ISBLANK(PFS_PFD_SelectionTool!K613),\"\",PFS_PFD_SelectionTool!K613)","v":""},{"$f":"VLOOKUP(D597,Tabelle1!A:B,2,FALSE)","v":{"$error":"#N/A"}},{"$f":"IF(ISBLANK(PFS_PFD_SelectionTool!N638),\"\",PFS_PFD_SelectionTool!N638)","v":""},{"$f":"IF(ISBLANK(PFS_PFD_SelectionTool!O638),\"\",PFS_PFD_SelectionTool!O638)","v":""}]
[{"$f":"IF(ISBLANK(PFS_PFD_SelectionTool!C614),\"\",PFS_PFD_SelectionTool!C614)","v":""},{"$f":"IF(ISBLANK(PFS_PFD_SelectionTool!D614),\"\",PFS_PFD_SelectionTool!D614)","v":""},{"$f":"IF(ISBLANK(PFS_PFD_SelectionTool!E614&\"_\"&PFS_PFD_SelectionTool!F614&\"_\"&PFS_PFD_SelectionTool!G614&\"_\"&PFS_PFD_SelectionTool!H614&\"_\"&PFS_PFD_SelectionTool!I614&\"_\"&PFS_PFD_SelectionTool!J614),\"\",PFS_PFD_SelectionTool!E614&\"_\"&PFS_PFD_SelectionTool!F614&\"_\"&PFS_PFD_SelectionTool!G614&\"_\"&PFS_PFD_SelectionTool!H614&\"_\"&PFS_PFD_SelectionTool!I614&\"_\"&PFS_PFD_SelectionTool!J614)","v":"_____"},{"$f":"IF(ISBLANK(PFS_PFD_SelectionTool!K614),\"\",PFS_PFD_SelectionTool!K614)","v":""},{"$f":"VLOOKUP(D598,Tabelle1!A:B,2,FALSE)","v":{"$error":"#N/A"}},{"$f":"IF(ISBLANK(PFS_PFD_SelectionTool!N639),\"\",PFS_PFD_SelectionTool!N639)","v":""},{"$f":"IF(ISBLANK(PFS_PFD_SelectionTool!O639),\"\",PFS_PFD_SelectionTool!O639)","v":""}]
[{"$f":"IF(ISBLANK(PFS_PFD_SelectionTool!C615),\"\",PFS_PFD_SelectionTool!C615)","v":""},{"$f":"IF(ISBLANK(PFS_PFD_SelectionTool!D615),\"\",PFS_PFD_SelectionTool!D615)","v":""},{"$f":"IF(ISBLANK(PFS_PFD_SelectionTool!E615&\"_\"&PFS_PFD_SelectionTool!F615&\"_\"&PFS_PFD_SelectionTool!G615&\"_\"&PFS_PFD_SelectionTool!H615&\"_\"&PFS_PFD_SelectionTool!I615&\"_\"&PFS_PFD_SelectionTool!J615),\"\",PFS_PFD_SelectionTool!E615&\"_\"&PFS_PFD_SelectionTool!F615&\"_\"&PFS_PFD_SelectionTool!G615&\"_\"&PFS_PFD_SelectionTool!H615&\"_\"&PFS_PFD_SelectionTool!I615&\"_\"&PFS_PFD_SelectionTool!J615)","v":"_____"},{"$f":"IF(ISBLANK(PFS_PFD_SelectionTool!K615),\"\",PFS_PFD_SelectionTool!K615)","v":""},{"$f":"VLOOKUP(D599,Tabelle1!A:B,2,FALSE)","v":{"$error":"#N/A"}},{"$f":"IF(ISBLANK(PFS_PFD_SelectionTool!N640),\"\",PFS_PFD_SelectionTool!N640)","v":""},{"$f":"IF(ISBLANK(PFS_PFD_SelectionTool!O640),\"\",PFS_PFD_SelectionTool!O640)","v":""}]
[{"$f":"IF(ISBLANK(PFS_PFD_SelectionTool!C616),\"\",PFS_PFD_SelectionTool!C616)","v":""},{"$f":"IF(ISBLANK(PFS_PFD_SelectionTool!D616),\"\",PFS_PFD_SelectionTool!D616)","v":""},{"$f":"IF(ISBLANK(PFS_PFD_SelectionTool!E616&\"_\"&PFS_PFD_SelectionTool!F616&\"_\"&PFS_PFD_SelectionTool!G616&\"_\"&PFS_PFD_SelectionTool!H616&\"_\"&PFS_PFD_SelectionTool!I616&\"_\"&PFS_PFD_SelectionTool!J616),\"\",PFS_PFD_SelectionTool!E616&\"_\"&PFS_PFD_SelectionTool!F616&\"_\"&PFS_PFD_SelectionTool!G616&\"_\"&PFS_PFD_SelectionTool!H616&\"_\"&PFS_PFD_SelectionTool!I616&\"_\"&PFS_PFD_SelectionTool!J616)","v":"_____"},{"$f":"IF(ISBLANK(PFS_PFD_SelectionTool!K616),\"\",PFS_PFD_SelectionTool!K616)","v":""},{"$f":"VLOOKUP(D600,Tabelle1!A:B,2,FALSE)","v":{"$error":"#N/A"}},{"$f":"IF(ISBLANK(PFS_PFD_SelectionTool!N641),\"\",PFS_PFD_SelectionTool!N641)","v":""},{"$f":"IF(ISBLANK(PFS_PFD_SelectionTool!O641),\"\",PFS_PFD_SelectionTool!O641)","v":""}]
[{"$f":"IF(ISBLANK(PFS_PFD_SelectionTool!C617),\"\",PFS_PFD_SelectionTool!C617)","v":""},{"$f":"IF(ISBLANK(PFS_PFD_SelectionTool!D617),\"\",PFS_PFD_SelectionTool!D617)","v":""},{"$f":"IF(ISBLANK(PFS_PFD_SelectionTool!E617&\"_\"&PFS_PFD_SelectionTool!F617&\"_\"&PFS_PFD_SelectionTool!G617&\"_\"&PFS_PFD_SelectionTool!H617&\"_\"&PFS_PFD_SelectionTool!I617&\"_\"&PFS_PFD_SelectionTool!J617),\"\",PFS_PFD_SelectionTool!E617&\"_\"&PFS_PFD_SelectionTool!F617&\"_\"&PFS_PFD_SelectionTool!G617&\"_\"&PFS_PFD_SelectionTool!H617&\"_\"&PFS_PFD_SelectionTool!I617&\"_\"&PFS_PFD_SelectionTool!J617)","v":"_____"},{"$f":"IF(ISBLANK(PFS_PFD_SelectionTool!K617),\"\",PFS_PFD_SelectionTool!K617)","v":""},{"$f":"VLOOKUP(D601,Tabelle1!A:B,2,FALSE)","v":{"$error":"#N/A"}},{"$f":"IF(ISBLANK(PFS_PFD_SelectionTool!N642),\"\",PFS_PFD_SelectionTool!N642)","v":""},{"$f":"IF(ISBLANK(PFS_PFD_SelectionTool!O642),\"\",PFS_PFD_SelectionTool!O642)","v":""}]
[{"$f":"IF(ISBLANK(PFS_PFD_SelectionTool!C618),\"\",PFS_PFD_SelectionTool!C618)","v":""},{"$f":"IF(ISBLANK(PFS_PFD_SelectionTool!D618),\"\",PFS_PFD_SelectionTool!D618)","v":""},{"$f":"IF(ISBLANK(PFS_PFD_SelectionTool!E618&\"_\"&PFS_PFD_SelectionTool!F618&\"_\"&PFS_PFD_SelectionTool!G618&\"_\"&PFS_PFD_SelectionTool!H618&\"_\"&PFS_PFD_SelectionTool!I618&\"_\"&PFS_PFD_SelectionTool!J618),\"\",PFS_PFD_SelectionTool!E618&\"_\"&PFS_PFD_SelectionTool!F618&\"_\"&PFS_PFD_SelectionTool!G618&\"_\"&PFS_PFD_SelectionTool!H618&\"_\"&PFS_PFD_SelectionTool!I618&\"_\"&PFS_PFD_SelectionTool!J618)","v":"_____"},{"$f":"IF(ISBLANK(PFS_PFD_SelectionTool!K618),\"\",PFS_PFD_SelectionTool!K618)","v":""},{"$f":"VLOOKUP(D602,Tabelle1!A:B,2,FALSE)","v":{"$error":"#N/A"}},{"$f":"IF(ISBLANK(PFS_PFD_SelectionTool!N643),\"\",PFS_PFD_SelectionTool!N643)","v":""},{"$f":"IF(ISBLANK(PFS_PFD_SelectionTool!O643),\"\",PFS_PFD_SelectionTool!O643)","v":""}]
[{"$f":"IF(ISBLANK(PFS_PFD_SelectionTool!C619),\"\",PFS_PFD_SelectionTool!C619)","v":""},{"$f":"IF(ISBLANK(PFS_PFD_SelectionTool!D619),\"\",PFS_PFD_SelectionTool!D619)","v":""},{"$f":"IF(ISBLANK(PFS_PFD_SelectionTool!E619&\"_\"&PFS_PFD_SelectionTool!F619&\"_\"&PFS_PFD_SelectionTool!G619&\"_\"&PFS_PFD_SelectionTool!H619&\"_\"&PFS_PFD_SelectionTool!I619&\"_\"&PFS_PFD_SelectionTool!J619),\"\",PFS_PFD_SelectionTool!E619&\"_\"&PFS_PFD_SelectionTool!F619&\"_\"&PFS_PFD_SelectionTool!G619&\"_\"&PFS_PFD_SelectionTool!H619&\"_\"&PFS_PFD_SelectionTool!I619&\"_\"&PFS_PFD_SelectionTool!J619)","v":"_____"},{"$f":"IF(ISBLANK(PFS_PFD_SelectionTool!K619),\"\",PFS_PFD_SelectionTool!K619)","v":""},{"$f":"VLOOKUP(D603,Tabelle1!A:B,2,FALSE)","v":{"$error":"#N/A"}},{"$f":"IF(ISBLANK(PFS_PFD_SelectionTool!N644),\"\",PFS_PFD_SelectionTool!N644)","v":""},{"$f":"IF(ISBLANK(PFS_PFD_SelectionTool!O644),\"\",PFS_PFD_SelectionTool!O644)","v":""}]
[{"$f":"IF(ISBLANK(PFS_PFD_SelectionTool!C620),\"\",PFS_PFD_SelectionTool!C620)","v":""},{"$f":"IF(ISBLANK(PFS_PFD_SelectionTool!D620),\"\",PFS_PFD_SelectionTool!D620)","v":""},{"$f":"IF(ISBLANK(PFS_PFD_SelectionTool!E620&\"_\"&PFS_PFD_SelectionTool!F620&\"_\"&PFS_PFD_SelectionTool!G620&\"_\"&PFS_PFD_SelectionTool!H620&\"_\"&PFS_PFD_SelectionTool!I620&\"_\"&PFS_PFD_SelectionTool!J620),\"\",PFS_PFD_SelectionTool!E620&\"_\"&PFS_PFD_SelectionTool!F620&\"_\"&PFS_PFD_SelectionTool!G620&\"_\"&PFS_PFD_SelectionTool!H620&\"_\"&PFS_PFD_SelectionTool!I620&\"_\"&PFS_PFD_SelectionTool!J620)","v":"_____"},{"$f":"IF(ISBLANK(PFS_PFD_SelectionTool!K620),\"\",PFS_PFD_SelectionTool!K620)","v":""},{"$f":"VLOOKUP(D604,Tabelle1!A:B,2,FALSE)","v":{"$error":"#N/A"}},{"$f":"IF(ISBLANK(PFS_PFD_SelectionTool!N645),\"\",PFS_PFD_SelectionTool!N645)","v":""},{"$f":"IF(ISBLANK(PFS_PFD_SelectionTool!O645),\"\",PFS_PFD_SelectionTool!O645)","v":""}]
[{"$f":"IF(ISBLANK(PFS_PFD_SelectionTool!C621),\"\",PFS_PFD_SelectionTool!C621)","v":""},{"$f":"IF(ISBLANK(PFS_PFD_SelectionTool!D621),\"\",PFS_PFD_SelectionTool!D621)","v":""},{"$f":"IF(ISBLANK(PFS_PFD_SelectionTool!E621&\"_\"&PFS_PFD_SelectionTool!F621&\"_\"&PFS_PFD_SelectionTool!G621&\"_\"&PFS_PFD_SelectionTool!H621&\"_\"&PFS_PFD_SelectionTool!I621&\"_\"&PFS_PFD_SelectionTool!J621),\"\",PFS_PFD_SelectionTool!E621&\"_\"&PFS_PFD_SelectionTool!F621&\"_\"&PFS_PFD_SelectionTool!G621&\"_\"&PFS_PFD_SelectionTool!H621&\"_\"&PFS_PFD_SelectionTool!I621&\"_\"&PFS_PFD_SelectionTool!J621)","v":"_____"},{"$f":"IF(ISBLANK(PFS_PFD_SelectionTool!K621),\"\",PFS_PFD_SelectionTool!K621)","v":""},{"$f":"VLOOKUP(D605,Tabelle1!A:B,2,FALSE)","v":{"$error":"#N/A"}},{"$f":"IF(ISBLANK(PFS_PFD_SelectionTool!N646),\"\",PFS_PFD_SelectionTool!N646)","v":""},{"$f":"IF(ISBLANK(PFS_PFD_SelectionTool!O646),\"\",PFS_PFD_SelectionTool!O646)","v":""}]
[{"$f":"IF(ISBLANK(PFS_PFD_SelectionTool!C622),\"\",PFS_PFD_SelectionTool!C622)","v":""},{"$f":"IF(ISBLANK(PFS_PFD_SelectionTool!D622),\"\",PFS_PFD_SelectionTool!D622)","v":""},{"$f":"IF(ISBLANK(PFS_PFD_SelectionTool!E622&\"_\"&PFS_PFD_SelectionTool!F622&\"_\"&PFS_PFD_SelectionTool!G622&\"_\"&PFS_PFD_SelectionTool!H622&\"_\"&PFS_PFD_SelectionTool!I622&\"_\"&PFS_PFD_SelectionTool!J622),\"\",PFS_PFD_SelectionTool!E622&\"_\"&PFS_PFD_SelectionTool!F622&\"_\"&PFS_PFD_SelectionTool!G622&\"_\"&PFS_PFD_SelectionTool!H622&\"_\"&PFS_PFD_SelectionTool!I622&\"_\"&PFS_PFD_SelectionTool!J622)","v":"_____"},{"$f":"IF(ISBLANK(PFS_PFD_SelectionTool!K622),\"\",PFS_PFD_SelectionTool!K622)","v":""},{"$f":"VLOOKUP(D606,Tabelle1!A:B,2,FALSE)","v":{"$error":"#N/A"}},{"$f":"IF(ISBLANK(PFS_PFD_SelectionTool!N647),\"\",PFS_PFD_SelectionTool!N647)","v":""},{"$f":"IF(ISBLANK(PFS_PFD_SelectionTool!O647),\"\",PFS_PFD_SelectionTool!O647)","v":""}]
[{"$f":"IF(ISBLANK(PFS_PFD_SelectionTool!C623),\"\",PFS_PFD_SelectionTool!C623)","v":""},{"$f":"IF(ISBLANK(PFS_PFD_SelectionTool!D623),\"\",PFS_PFD_SelectionTool!D623)","v":""},{"$f":"IF(ISBLANK(PFS_PFD_SelectionTool!E623&\"_\"&PFS_PFD_SelectionTool!F623&\"_\"&PFS_PFD_SelectionTool!G623&\"_\"&PFS_PFD_SelectionTool!H623&\"_\"&PFS_PFD_SelectionTool!I623&\"_\"&PFS_PFD_SelectionTool!J623),\"\",PFS_PFD_SelectionTool!E623&\"_\"&PFS_PFD_SelectionTool!F623&\"_\"&PFS_PFD_SelectionTool!G623&\"_\"&PFS_PFD_SelectionTool!H623&\"_\"&PFS_PFD_SelectionTool!I623&\"_\"&PFS_PFD_SelectionTool!J623)","v":"_____"},{"$f":"IF(ISBLANK(PFS_PFD_SelectionTool!K623),\"\",PFS_PFD_SelectionTool!K623)","v":""},{"$f":"VLOOKUP(D607,Tabelle1!A:B,2,FALSE)","v":{"$error":"#N/A"}},{"$f":"IF(ISBLANK(PFS_PFD_SelectionTool!N648),\"\",PFS_PFD_SelectionTool!N648)","v":""},{"$f":"IF(ISBLANK(PFS_PFD_SelectionTool!O648),\"\",PFS_PFD_SelectionTool!O648)","v":""}]
[{"$f":"IF(ISBLANK(PFS_PFD_SelectionTool!C624),\"\",PFS_PFD_SelectionTool!C624)","v":""},{"$f":"IF(ISBLANK(PFS_PFD_SelectionTool!D624),\"\",PFS_PFD_SelectionTool!D624)","v":""},{"$f":"IF(ISBLANK(PFS_PFD_SelectionTool!E624&\"_\"&PFS_PFD_SelectionTool!F624&\"_\"&PFS_PFD_SelectionTool!G624&\"_\"&PFS_PFD_SelectionTool!H624&\"_\"&PFS_PFD_SelectionTool!I624&\"_\"&PFS_PFD_SelectionTool!J624),\"\",PFS_PFD_SelectionTool!E624&\"_\"&PFS_PFD_SelectionTool!F624&\"_\"&PFS_PFD_SelectionTool!G624&\"_\"&PFS_PFD_SelectionTool!H624&\"_\"&PFS_PFD_SelectionTool!I624&\"_\"&PFS_PFD_SelectionTool!J624)","v":"_____"},{"$f":"IF(ISBLANK(PFS_PFD_SelectionTool!K624),\"\",PFS_PFD_SelectionTool!K624)","v":""},{"$f":"VLOOKUP(D608,Tabelle1!A:B,2,FALSE)","v":{"$error":"#N/A"}},{"$f":"IF(ISBLANK(PFS_PFD_SelectionTool!N649),\"\",PFS_PFD_SelectionTool!N649)","v":""},{"$f":"IF(ISBLANK(PFS_PFD_SelectionTool!O649),\"\",PFS_PFD_SelectionTool!O649)","v":""}]
[{"$f":"IF(ISBLANK(PFS_PFD_SelectionTool!C625),\"\",PFS_PFD_SelectionTool!C625)","v":""},{"$f":"IF(ISBLANK(PFS_PFD_SelectionTool!D625),\"\",PFS_PFD_SelectionTool!D625)","v":""},{"$f":"IF(ISBLANK(PFS_PFD_SelectionTool!E625&\"_\"&PFS_PFD_SelectionTool!F625&\"_\"&PFS_PFD_SelectionTool!G625&\"_\"&PFS_PFD_SelectionTool!H625&\"_\"&PFS_PFD_SelectionTool!I625&\"_\"&PFS_PFD_SelectionTool!J625),\"\",PFS_PFD_SelectionTool!E625&\"_\"&PFS_PFD_SelectionTool!F625&\"_\"&PFS_PFD_SelectionTool!G625&\"_\"&PFS_PFD_SelectionTool!H625&\"_\"&PFS_PFD_SelectionTool!I625&\"_\"&PFS_PFD_SelectionTool!J625)","v":"_____"},{"$f":"IF(ISBLANK(PFS_PFD_SelectionTool!K625),\"\",PFS_PFD_SelectionTool!K625)","v":""},{"$f":"VLOOKUP(D609,Tabelle1!A:B,2,FALSE)","v":{"$error":"#N/A"}},{"$f":"IF(ISBLANK(PFS_PFD_SelectionTool!N650),\"\",PFS_PFD_SelectionTool!N650)","v":""},{"$f":"IF(ISBLANK(PFS_PFD_SelectionTool!O650),\"\",PFS_PFD_SelectionTool!O650)","v":""}]
[{"$f":"IF(ISBLANK(PFS_PFD_SelectionTool!C626),\"\",PFS_PFD_SelectionTool!C626)","v":""},{"$f":"IF(ISBLANK(PFS_PFD_SelectionTool!D626),\"\",PFS_PFD_SelectionTool!D626)","v":""},{"$f":"IF(ISBLANK(PFS_PFD_SelectionTool!E626&\"_\"&PFS_PFD_SelectionTool!F626&\"_\"&PFS_PFD_SelectionTool!G626&\"_\"&PFS_PFD_SelectionTool!H626&\"_\"&PFS_PFD_SelectionTool!I626&\"_\"&PFS_PFD_SelectionTool!J626),\"\",PFS_PFD_SelectionTool!E626&\"_\"&PFS_PFD_SelectionTool!F626&\"_\"&PFS_PFD_SelectionTool!G626&\"_\"&PFS_PFD_SelectionTool!H626&\"_\"&PFS_PFD_SelectionTool!I626&\"_\"&PFS_PFD_SelectionTool!J626)","v":"_____"},{"$f":"IF(ISBLANK(PFS_PFD_SelectionTool!K626),\"\",PFS_PFD_SelectionTool!K626)","v":""},{"$f":"VLOOKUP(D610,Tabelle1!A:B,2,FALSE)","v":{"$error":"#N/A"}},{"$f":"IF(ISBLANK(PFS_PFD_SelectionTool!N651),\"\",PFS_PFD_SelectionTool!N651)","v":""},{"$f":"IF(ISBLANK(PFS_PFD_SelectionTool!O651),\"\",PFS_PFD_SelectionTool!O651)","v":""}]
[{"$f":"IF(ISBLANK(PFS_PFD_SelectionTool!C627),\"\",PFS_PFD_SelectionTool!C627)","v":""},{"$f":"IF(ISBLANK(PFS_PFD_SelectionTool!D627),\"\",PFS_PFD_SelectionTool!D627)","v":""},{"$f":"IF(ISBLANK(PFS_PFD_SelectionTool!E627&\"_\"&PFS_PFD_SelectionTool!F627&\"_\"&PFS_PFD_SelectionTool!G627&\"_\"&PFS_PFD_SelectionTool!H627&\"_\"&PFS_PFD_SelectionTool!I627&\"_\"&PFS_PFD_SelectionTool!J627),\"\",PFS_PFD_SelectionTool!E627&\"_\"&PFS_PFD_SelectionTool!F627&\"_\"&PFS_PFD_SelectionTool!G627&\"_\"&PFS_PFD_SelectionTool!H627&\"_\"&PFS_PFD_SelectionTool!I627&\"_\"&PFS_PFD_SelectionTool!J627)","v":"_____"},{"$f":"IF(ISBLANK(PFS_PFD_SelectionTool!K627),\"\",PFS_PFD_SelectionTool!K627)","v":""},{"$f":"VLOOKUP(D611,Tabelle1!A:B,2,FALSE)","v":{"$error":"#N/A"}},{"$f":"IF(ISBLANK(PFS_PFD_SelectionTool!N652),\"\",PFS_PFD_SelectionTool!N652)","v":""},{"$f":"IF(ISBLANK(PFS_PFD_SelectionTool!O652),\"\",PFS_PFD_SelectionTool!O652)","v":""}]
[{"$f":"IF(ISBLANK(PFS_PFD_SelectionTool!C628),\"\",PFS_PFD_SelectionTool!C628)","v":""},{"$f":"IF(ISBLANK(PFS_PFD_SelectionTool!D628),\"\",PFS_PFD_SelectionTool!D628)","v":""},{"$f":"IF(ISBLANK(PFS_PFD_SelectionTool!E628&\"_\"&PFS_PFD_SelectionTool!F628&\"_\"&PFS_PFD_SelectionTool!G628&\"_\"&PFS_PFD_SelectionTool!H628&\"_\"&PFS_PFD_SelectionTool!I628&\"_\"&PFS_PFD_SelectionTool!J628),\"\",PFS_PFD_SelectionTool!E628&\"_\"&PFS_PFD_SelectionTool!F628&\"_\"&PFS_PFD_SelectionTool!G628&\"_\"&PFS_PFD_SelectionTool!H628&\"_\"&PFS_PFD_SelectionTool!I628&\"_\"&PFS_PFD_SelectionTool!J628)","v":"_____"},{"$f":"IF(ISBLANK(PFS_PFD_SelectionTool!K628),\"\",PFS_PFD_SelectionTool!K628)","v":""},{"$f":"VLOOKUP(D612,Tabelle1!A:B,2,FALSE)","v":{"$error":"#N/A"}},{"$f":"IF(ISBLANK(PFS_PFD_SelectionTool!N653),\"\",PFS_PFD_SelectionTool!N653)","v":""},{"$f":"IF(ISBLANK(PFS_PFD_SelectionTool!O653),\"\",PFS_PFD_SelectionTool!O653)","v":""}]
[{"$f":"IF(ISBLANK(PFS_PFD_SelectionTool!C629),\"\",PFS_PFD_SelectionTool!C629)","v":""},{"$f":"IF(ISBLANK(PFS_PFD_SelectionTool!D629),\"\",PFS_PFD_SelectionTool!D629)","v":""},{"$f":"IF(ISBLANK(PFS_PFD_SelectionTool!E629&\"_\"&PFS_PFD_SelectionTool!F629&\"_\"&PFS_PFD_SelectionTool!G629&\"_\"&PFS_PFD_SelectionTool!H629&\"_\"&PFS_PFD_SelectionTool!I629&\"_\"&PFS_PFD_SelectionTool!J629),\"\",PFS_PFD_SelectionTool!E629&\"_\"&PFS_PFD_SelectionTool!F629&\"_\"&PFS_PFD_SelectionTool!G629&\"_\"&PFS_PFD_SelectionTool!H629&\"_\"&PFS_PFD_SelectionTool!I629&\"_\"&PFS_PFD_SelectionTool!J629)","v":"_____"},{"$f":"IF(ISBLANK(PFS_PFD_SelectionTool!K629),\"\",PFS_PFD_SelectionTool!K629)","v":""},{"$f":"VLOOKUP(D613,Tabelle1!A:B,2,FALSE)","v":{"$error":"#N/A"}},{"$f":"IF(ISBLANK(PFS_PFD_SelectionTool!N654),\"\",PFS_PFD_SelectionTool!N654)","v":""},{"$f":"IF(ISBLANK(PFS_PFD_SelectionTool!O654),\"\",PFS_PFD_SelectionTool!O654)","v":""}]
[{"$f":"IF(ISBLANK(PFS_PFD_SelectionTool!C630),\"\",PFS_PFD_SelectionTool!C630)","v":""},{"$f":"IF(ISBLANK(PFS_PFD_SelectionTool!D630),\"\",PFS_PFD_SelectionTool!D630)","v":""},{"$f":"IF(ISBLANK(PFS_PFD_SelectionTool!E630&\"_\"&PFS_PFD_SelectionTool!F630&\"_\"&PFS_PFD_SelectionTool!G630&\"_\"&PFS_PFD_SelectionTool!H630&\"_\"&PFS_PFD_SelectionTool!I630&\"_\"&PFS_PFD_SelectionTool!J630),\"\",PFS_PFD_SelectionTool!E630&\"_\"&PFS_PFD_SelectionTool!F630&\"_\"&PFS_PFD_SelectionTool!G630&\"_\"&PFS_PFD_SelectionTool!H630&\"_\"&PFS_PFD_SelectionTool!I630&\"_\"&PFS_PFD_SelectionTool!J630)","v":"_____"},{"$f":"IF(ISBLANK(PFS_PFD_SelectionTool!K630),\"\",PFS_PFD_SelectionTool!K630)","v":""},{"$f":"VLOOKUP(D614,Tabelle1!A:B,2,FALSE)","v":{"$error":"#N/A"}},{"$f":"IF(ISBLANK(PFS_PFD_SelectionTool!N655),\"\",PFS_PFD_SelectionTool!N655)","v":""},{"$f":"IF(ISBLANK(PFS_PFD_SelectionTool!O655),\"\",PFS_PFD_SelectionTool!O655)","v":""}]
[{"$f":"IF(ISBLANK(PFS_PFD_SelectionTool!C631),\"\",PFS_PFD_SelectionTool!C631)","v":""},{"$f":"IF(ISBLANK(PFS_PFD_SelectionTool!D631),\"\",PFS_PFD_SelectionTool!D631)","v":""},{"$f":"IF(ISBLANK(PFS_PFD_SelectionTool!E631&\"_\"&PFS_PFD_SelectionTool!F631&\"_\"&PFS_PFD_SelectionTool!G631&\"_\"&PFS_PFD_SelectionTool!H631&\"_\"&PFS_PFD_SelectionTool!I631&\"_\"&PFS_PFD_SelectionTool!J631),\"\",PFS_PFD_SelectionTool!E631&\"_\"&PFS_PFD_SelectionTool!F631&\"_\"&PFS_PFD_SelectionTool!G631&\"_\"&PFS_PFD_SelectionTool!H631&\"_\"&PFS_PFD_SelectionTool!I631&\"_\"&PFS_PFD_SelectionTool!J631)","v":"_____"},{"$f":"IF(ISBLANK(PFS_PFD_SelectionTool!K631),\"\",PFS_PFD_SelectionTool!K631)","v":""},{"$f":"VLOOKUP(D615,Tabelle1!A:B,2,FALSE)","v":{"$error":"#N/A"}},{"$f":"IF(ISBLANK(PFS_PFD_SelectionTool!N656),\"\",PFS_PFD_SelectionTool!N656)","v":""},{"$f":"IF(ISBLANK(PFS_PFD_SelectionTool!O656),\"\",PFS_PFD_SelectionTool!O656)","v":""}]
[{"$f":"IF(ISBLANK(PFS_PFD_SelectionTool!C632),\"\",PFS_PFD_SelectionTool!C632)","v":""},{"$f":"IF(ISBLANK(PFS_PFD_SelectionTool!D632),\"\",PFS_PFD_SelectionTool!D632)","v":""},{"$f":"IF(ISBLANK(PFS_PFD_SelectionTool!E632&\"_\"&PFS_PFD_SelectionTool!F632&\"_\"&PFS_PFD_SelectionTool!G632&\"_\"&PFS_PFD_SelectionTool!H632&\"_\"&PFS_PFD_SelectionTool!I632&\"_\"&PFS_PFD_SelectionTool!J632),\"\",PFS_PFD_SelectionTool!E632&\"_\"&PFS_PFD_SelectionTool!F632&\"_\"&PFS_PFD_SelectionTool!G632&\"_\"&PFS_PFD_SelectionTool!H632&\"_\"&PFS_PFD_SelectionTool!I632&\"_\"&PFS_PFD_SelectionTool!J632)","v":"_____"},{"$f":"IF(ISBLANK(PFS_PFD_SelectionTool!K632),\"\",PFS_PFD_SelectionTool!K632)","v":""},{"$f":"VLOOKUP(D616,Tabelle1!A:B,2,FALSE)","v":{"$error":"#N/A"}},{"$f":"IF(ISBLANK(PFS_PFD_SelectionTool!N657),\"\",PFS_PFD_SelectionTool!N657)","v":""},{"$f":"IF(ISBLANK(PFS_PFD_SelectionTool!O657),\"\",PFS_PFD_SelectionTool!O657)","v":""}]
[{"$f":"IF(ISBLANK(PFS_PFD_SelectionTool!C633),\"\",PFS_PFD_SelectionTool!C633)","v":""},{"$f":"IF(ISBLANK(PFS_PFD_SelectionTool!D633),\"\",PFS_PFD_SelectionTool!D633)","v":""},{"$f":"IF(ISBLANK(PFS_PFD_SelectionTool!E633&\"_\"&PFS_PFD_SelectionTool!F633&\"_\"&PFS_PFD_SelectionTool!G633&\"_\"&PFS_PFD_SelectionTool!H633&\"_\"&PFS_PFD_SelectionTool!I633&\"_\"&PFS_PFD_SelectionTool!J633),\"\",PFS_PFD_SelectionTool!E633&\"_\"&PFS_PFD_SelectionTool!F633&\"_\"&PFS_PFD_SelectionTool!G633&\"_\"&PFS_PFD_SelectionTool!H633&\"_\"&PFS_PFD_SelectionTool!I633&\"_\"&PFS_PFD_SelectionTool!J633)","v":"_____"},{"$f":"IF(ISBLANK(PFS_PFD_SelectionTool!K633),\"\",PFS_PFD_SelectionTool!K633)","v":""},{"$f":"VLOOKUP(D617,Tabelle1!A:B,2,FALSE)","v":{"$error":"#N/A"}},{"$f":"IF(ISBLANK(PFS_PFD_SelectionTool!N658),\"\",PFS_PFD_SelectionTool!N658)","v":""},{"$f":"IF(ISBLANK(PFS_PFD_SelectionTool!O658),\"\",PFS_PFD_SelectionTool!O658)","v":""}]
[{"$f":"IF(ISBLANK(PFS_PFD_SelectionTool!C634),\"\",PFS_PFD_SelectionTool!C634)","v":""},{"$f":"IF(ISBLANK(PFS_PFD_SelectionTool!D634),\"\",PFS_PFD_SelectionTool!D634)","v":""},{"$f":"IF(ISBLANK(PFS_PFD_SelectionTool!E634&\"_\"&PFS_PFD_SelectionTool!F634&\"_\"&PFS_PFD_SelectionTool!G634&\"_\"&PFS_PFD_SelectionTool!H634&\"_\"&PFS_PFD_SelectionTool!I634&\"_\"&PFS_PFD_SelectionTool!J634),\"\",PFS_PFD_SelectionTool!E634&\"_\"&PFS_PFD_SelectionTool!F634&\"_\"&PFS_PFD_SelectionTool!G634&\"_\"&PFS_PFD_SelectionTool!H634&\"_\"&PFS_PFD_SelectionTool!I634&\"_\"&PFS_PFD_SelectionTool!J634)","v":"_____"},{"$f":"IF(ISBLANK(PFS_PFD_SelectionTool!K634),\"\",PFS_PFD_SelectionTool!K634)","v":""},{"$f":"VLOOKUP(D618,Tabelle1!A:B,2,FALSE)","v":{"$error":"#N/A"}},{"$f":"IF(ISBLANK(PFS_PFD_SelectionTool!N659),\"\",PFS_PFD_SelectionTool!N659)","v":""},{"$f":"IF(ISBLANK(PFS_PFD_SelectionTool!O659),\"\",PFS_PFD_SelectionTool!O659)","v":""}]
[{"$f":"IF(ISBLANK(PFS_PFD_SelectionTool!C635),\"\",PFS_PFD_SelectionTool!C635)","v":""},{"$f":"IF(ISBLANK(PFS_PFD_SelectionTool!D635),\"\",PFS_PFD_SelectionTool!D635)","v":""},{"$f":"IF(ISBLANK(PFS_PFD_SelectionTool!E635&\"_\"&PFS_PFD_SelectionTool!F635&\"_\"&PFS_PFD_SelectionTool!G635&\"_\"&PFS_PFD_SelectionTool!H635&\"_\"&PFS_PFD_SelectionTool!I635&\"_\"&PFS_PFD_SelectionTool!J635),\"\",PFS_PFD_SelectionTool!E635&\"_\"&PFS_PFD_SelectionTool!F635&\"_\"&PFS_PFD_SelectionTool!G635&\"_\"&PFS_PFD_SelectionTool!H635&\"_\"&PFS_PFD_SelectionTool!I635&\"_\"&PFS_PFD_SelectionTool!J635)","v":"_____"},{"$f":"IF(ISBLANK(PFS_PFD_SelectionTool!K635),\"\",PFS_PFD_SelectionTool!K635)","v":""},{"$f":"VLOOKUP(D619,Tabelle1!A:B,2,FALSE)","v":{"$error":"#N/A"}},{"$f":"IF(ISBLANK(PFS_PFD_SelectionTool!N660),\"\",PFS_PFD_SelectionTool!N660)","v":""},{"$f":"IF(ISBLANK(PFS_PFD_SelectionTool!O660),\"\",PFS_PFD_SelectionTool!O660)","v":""}]
[{"$f":"IF(ISBLANK(PFS_PFD_SelectionTool!C636),\"\",PFS_PFD_SelectionTool!C636)","v":""},{"$f":"IF(ISBLANK(PFS_PFD_SelectionTool!D636),\"\",PFS_PFD_SelectionTool!D636)","v":""},{"$f":"IF(ISBLANK(PFS_PFD_SelectionTool!E636&\"_\"&PFS_PFD_SelectionTool!F636&\"_\"&PFS_PFD_SelectionTool!G636&\"_\"&PFS_PFD_SelectionTool!H636&\"_\"&PFS_PFD_SelectionTool!I636&\"_\"&PFS_PFD_SelectionTool!J636),\"\",PFS_PFD_SelectionTool!E636&\"_\"&PFS_PFD_SelectionTool!F636&\"_\"&PFS_PFD_SelectionTool!G636&\"_\"&PFS_PFD_SelectionTool!H636&\"_\"&PFS_PFD_SelectionTool!I636&\"_\"&PFS_PFD_SelectionTool!J636)","v":"_____"},{"$f":"IF(ISBLANK(PFS_PFD_SelectionTool!K636),\"\",PFS_PFD_SelectionTool!K636)","v":""},{"$f":"VLOOKUP(D620,Tabelle1!A:B,2,FALSE)","v":{"$error":"#N/A"}},{"$f":"IF(ISBLANK(PFS_PFD_SelectionTool!N661),\"\",PFS_PFD_SelectionTool!N661)","v":""},{"$f":"IF(ISBLANK(PFS_PFD_SelectionTool!O661),\"\",PFS_PFD_SelectionTool!O661)","v":""}]
[{"$f":"IF(ISBLANK(PFS_PFD_SelectionTool!C637),\"\",PFS_PFD_SelectionTool!C637)","v":""},{"$f":"IF(ISBLANK(PFS_PFD_SelectionTool!D637),\"\",PFS_PFD_SelectionTool!D637)","v":""},{"$f":"IF(ISBLANK(PFS_PFD_SelectionTool!E637&\"_\"&PFS_PFD_SelectionTool!F637&\"_\"&PFS_PFD_SelectionTool!G637&\"_\"&PFS_PFD_SelectionTool!H637&\"_\"&PFS_PFD_SelectionTool!I637&\"_\"&PFS_PFD_SelectionTool!J637),\"\",PFS_PFD_SelectionTool!E637&\"_\"&PFS_PFD_SelectionTool!F637&\"_\"&PFS_PFD_SelectionTool!G637&\"_\"&PFS_PFD_SelectionTool!H637&\"_\"&PFS_PFD_SelectionTool!I637&\"_\"&PFS_PFD_SelectionTool!J637)","v":"_____"},{"$f":"IF(ISBLANK(PFS_PFD_SelectionTool!K637),\"\",PFS_PFD_SelectionTool!K637)","v":""},{"$f":"VLOOKUP(D621,Tabelle1!A:B,2,FALSE)","v":{"$error":"#N/A"}},{"$f":"IF(ISBLANK(PFS_PFD_SelectionTool!N662),\"\",PFS_PFD_SelectionTool!N662)","v":""},{"$f":"IF(ISBLANK(PFS_PFD_SelectionTool!O662),\"\",PFS_PFD_SelectionTool!O662)","v":""}]
[{"$f":"IF(ISBLANK(PFS_PFD_SelectionTool!C638),\"\",PFS_PFD_SelectionTool!C638)","v":""},{"$f":"IF(ISBLANK(PFS_PFD_SelectionTool!D638),\"\",PFS_PFD_SelectionTool!D638)","v":""},{"$f":"IF(ISBLANK(PFS_PFD_SelectionTool!E638&\"_\"&PFS_PFD_SelectionTool!F638&\"_\"&PFS_PFD_SelectionTool!G638&\"_\"&PFS_PFD_SelectionTool!H638&\"_\"&PFS_PFD_SelectionTool!I638&\"_\"&PFS_PFD_SelectionTool!J638),\"\",PFS_PFD_SelectionTool!E638&\"_\"&PFS_PFD_SelectionTool!F638&\"_\"&PFS_PFD_SelectionTool!G638&\"_\"&PFS_PFD_SelectionTool!H638&\"_\"&PFS_PFD_SelectionTool!I638&\"_\"&PFS_PFD_SelectionTool!J638)","v":"_____"},{"$f":"IF(ISBLANK(PFS_PFD_SelectionTool!K638),\"\",PFS_PFD_SelectionTool!K638)","v":""},{"$f":"VLOOKUP(D622,Tabelle1!A:B,2,FALSE)","v":{"$error":"#N/A"}},{"$f":"IF(ISBLANK(PFS_PFD_SelectionTool!N663),\"\",PFS_PFD_SelectionTool!N663)","v":""},{"$f":"IF(ISBLANK(PFS_PFD_SelectionTool!O663),\"\",PFS_PFD_SelectionTool!O663)","v":""}]
[{"$f":"IF(ISBLANK(PFS_PFD_SelectionTool!C639),\"\",PFS_PFD_SelectionTool!C639)","v":""},{"$f":"IF(ISBLANK(PFS_PFD_SelectionTool!D639),\"\",PFS_PFD_SelectionTool!D639)","v":""},{"$f":"IF(ISBLANK(PFS_PFD_SelectionTool!E639&\"_\"&PFS_PFD_SelectionTool!F639&\"_\"&PFS_PFD_SelectionTool!G639&\"_\"&PFS_PFD_SelectionTool!H639&\"_\"&PFS_PFD_SelectionTool!I639&\"_\"&PFS_PFD_SelectionTool!J639),\"\",PFS_PFD_SelectionTool!E639&\"_\"&PFS_PFD_SelectionTool!F639&\"_\"&PFS_PFD_SelectionTool!G639&\"_\"&PFS_PFD_SelectionTool!H639&\"_\"&PFS_PFD_SelectionTool!I639&\"_\"&PFS_PFD_SelectionTool!J639)","v":"_____"},{"$f":"IF(ISBLANK(PFS_PFD_SelectionTool!K639),\"\",PFS_PFD_SelectionTool!K639)","v":""},{"$f":"VLOOKUP(D623,Tabelle1!A:B,2,FALSE)","v":{"$error":"#N/A"}},{"$f":"IF(ISBLANK(PFS_PFD_SelectionTool!N664),\"\",PFS_PFD_SelectionTool!N664)","v":""},{"$f":"IF(ISBLANK(PFS_PFD_SelectionTool!O664),\"\",PFS_PFD_SelectionTool!O664)","v":""}]
[{"$f":"IF(ISBLANK(PFS_PFD_SelectionTool!C640),\"\",PFS_PFD_SelectionTool!C640)","v":""},{"$f":"IF(ISBLANK(PFS_PFD_SelectionTool!D640),\"\",PFS_PFD_SelectionTool!D640)","v":""},{"$f":"IF(ISBLANK(PFS_PFD_SelectionTool!E640&\"_\"&PFS_PFD_SelectionTool!F640&\"_\"&PFS_PFD_SelectionTool!G640&\"_\"&PFS_PFD_SelectionTool!H640&\"_\"&PFS_PFD_SelectionTool!I640&\"_\"&PFS_PFD_SelectionTool!J640),\"\",PFS_PFD_SelectionTool!E640&\"_\"&PFS_PFD_SelectionTool!F640&\"_\"&PFS_PFD_SelectionTool!G640&\"_\"&PFS_PFD_SelectionTool!H640&\"_\"&PFS_PFD_SelectionTool!I640&\"_\"&PFS_PFD_SelectionTool!J640)","v":"_____"},{"$f":"IF(ISBLANK(PFS_PFD_SelectionTool!K640),\"\",PFS_PFD_SelectionTool!K640)","v":""},{"$f":"VLOOKUP(D624,Tabelle1!A:B,2,FALSE)","v":{"$error":"#N/A"}},{"$f":"IF(ISBLANK(PFS_PFD_SelectionTool!N665),\"\",PFS_PFD_SelectionTool!N665)","v":""},{"$f":"IF(ISBLANK(PFS_PFD_SelectionTool!O665),\"\",PFS_PFD_SelectionTool!O665)","v":""}]
[{"$f":"IF(ISBLANK(PFS_PFD_SelectionTool!C641),\"\",PFS_PFD_SelectionTool!C641)","v":""},{"$f":"IF(ISBLANK(PFS_PFD_SelectionTool!D641),\"\",PFS_PFD_SelectionTool!D641)","v":""},{"$f":"IF(ISBLANK(PFS_PFD_SelectionTool!E641&\"_\"&PFS_PFD_SelectionTool!F641&\"_\"&PFS_PFD_SelectionTool!G641&\"_\"&PFS_PFD_SelectionTool!H641&\"_\"&PFS_PFD_SelectionTool!I641&\"_\"&PFS_PFD_SelectionTool!J641),\"\",PFS_PFD_SelectionTool!E641&\"_\"&PFS_PFD_SelectionTool!F641&\"_\"&PFS_PFD_SelectionTool!G641&\"_\"&PFS_PFD_SelectionTool!H641&\"_\"&PFS_PFD_SelectionTool!I641&\"_\"&PFS_PFD_SelectionTool!J641)","v":"_____"},{"$f":"IF(ISBLANK(PFS_PFD_SelectionTool!K641),\"\",PFS_PFD_SelectionTool!K641)","v":""},{"$f":"VLOOKUP(D625,Tabelle1!A:B,2,FALSE)","v":{"$error":"#N/A"}},{"$f":"IF(ISBLANK(PFS_PFD_SelectionTool!N666),\"\",PFS_PFD_SelectionTool!N666)","v":""},{"$f":"IF(ISBLANK(PFS_PFD_SelectionTool!O666),\"\",PFS_PFD_SelectionTool!O666)","v":""}]
[{"$f":"IF(ISBLANK(PFS_PFD_SelectionTool!C642),\"\",PFS_PFD_SelectionTool!C642)","v":""},{"$f":"IF(ISBLANK(PFS_PFD_SelectionTool!D642),\"\",PFS_PFD_SelectionTool!D642)","v":""},{"$f":"IF(ISBLANK(PFS_PFD_SelectionTool!E642&\"_\"&PFS_PFD_SelectionTool!F642&\"_\"&PFS_PFD_SelectionTool!G642&\"_\"&PFS_PFD_SelectionTool!H642&\"_\"&PFS_PFD_SelectionTool!I642&\"_\"&PFS_PFD_SelectionTool!J642),\"\",PFS_PFD_SelectionTool!E642&\"_\"&PFS_PFD_SelectionTool!F642&\"_\"&PFS_PFD_SelectionTool!G642&\"_\"&PFS_PFD_SelectionTool!H642&\"_\"&PFS_PFD_SelectionTool!I642&\"_\"&PFS_PFD_SelectionTool!J642)","v":"_____"},{"$f":"IF(ISBLANK(PFS_PFD_SelectionTool!K642),\"\",PFS_PFD_SelectionTool!K642)","v":""},{"$f":"VLOOKUP(D626,Tabelle1!A:B,2,FALSE)","v":{"$error":"#N/A"}},{"$f":"IF(ISBLANK(PFS_PFD_SelectionTool!N667),\"\",PFS_PFD_SelectionTool!N667)","v":""},{"$f":"IF(ISBLANK(PFS_PFD_SelectionTool!O667),\"\",PFS_PFD_SelectionTool!O667)","v":""}]
[{"$f":"IF(ISBLANK(PFS_PFD_SelectionTool!C643),\"\",PFS_PFD_SelectionTool!C643)","v":""},{"$f":"IF(ISBLANK(PFS_PFD_SelectionTool!D643),\"\",PFS_PFD_SelectionTool!D643)","v":""},{"$f":"IF(ISBLANK(PFS_PFD_SelectionTool!E643&\"_\"&PFS_PFD_SelectionTool!F643&\"_\"&PFS_PFD_SelectionTool!G643&\"_\"&PFS_PFD_SelectionTool!H643&\"_\"&PFS_PFD_SelectionTool!I643&\"_\"&PFS_PFD_SelectionTool!J643),\"\",PFS_PFD_SelectionTool!E643&\"_\"&PFS_PFD_SelectionTool!F643&\"_\"&PFS_PFD_SelectionTool!G643&\"_\"&PFS_PFD_SelectionTool!H643&\"_\"&PFS_PFD_SelectionTool!I643&\"_\"&PFS_PFD_SelectionTool!J643)","v":"_____"},{"$f":"IF(ISBLANK(PFS_PFD_SelectionTool!K643),\"\",PFS_PFD_SelectionTool!K643)","v":""},{"$f":"VLOOKUP(D627,Tabelle1!A:B,2,FALSE)","v":{"$error":"#N/A"}},{"$f":"IF(ISBLANK(PFS_PFD_SelectionTool!N668),\"\",PFS_PFD_SelectionTool!N668)","v":""},{"$f":"IF(ISBLANK(PFS_PFD_SelectionTool!O668),\"\",PFS_PFD_SelectionTool!O668)","v":""}]
[{"$f":"IF(ISBLANK(PFS_PFD_SelectionTool!C644),\"\",PFS_PFD_SelectionTool!C644)","v":""},{"$f":"IF(ISBLANK(PFS_PFD_SelectionTool!D644),\"\",PFS_PFD_SelectionTool!D644)","v":""},{"$f":"IF(ISBLANK(PFS_PFD_SelectionTool!E644&\"_\"&PFS_PFD_SelectionTool!F644&\"_\"&PFS_PFD_SelectionTool!G644&\"_\"&PFS_PFD_SelectionTool!H644&\"_\"&PFS_PFD_SelectionTool!I644&\"_\"&PFS_PFD_SelectionTool!J644),\"\",PFS_PFD_SelectionTool!E644&\"_\"&PFS_PFD_SelectionTool!F644&\"_\"&PFS_PFD_SelectionTool!G644&\"_\"&PFS_PFD_SelectionTool!H644&\"_\"&PFS_PFD_SelectionTool!I644&\"_\"&PFS_PFD_SelectionTool!J644)","v":"_____"},{"$f":"IF(ISBLANK(PFS_PFD_SelectionTool!K644),\"\",PFS_PFD_SelectionTool!K644)","v":""},{"$f":"VLOOKUP(D628,Tabelle1!A:B,2,FALSE)","v":{"$error":"#N/A"}},{"$f":"IF(ISBLANK(PFS_PFD_SelectionTool!N669),\"\",PFS_PFD_SelectionTool!N669)","v":""},{"$f":"IF(ISBLANK(PFS_PFD_SelectionTool!O669),\"\",PFS_PFD_SelectionTool!O669)","v":""}]
[{"$f":"IF(ISBLANK(PFS_PFD_SelectionTool!C645),\"\",PFS_PFD_SelectionTool!C645)","v":""},{"$f":"IF(ISBLANK(PFS_PFD_SelectionTool!D645),\"\",PFS_PFD_SelectionTool!D645)","v":""},{"$f":"IF(ISBLANK(PFS_PFD_SelectionTool!E645&\"_\"&PFS_PFD_SelectionTool!F645&\"_\"&PFS_PFD_SelectionTool!G645&\"_\"&PFS_PFD_SelectionTool!H645&\"_\"&PFS_PFD_SelectionTool!I645&\"_\"&PFS_PFD_SelectionTool!J645),\"\",PFS_PFD_SelectionTool!E645&\"_\"&PFS_PFD_SelectionTool!F645&\"_\"&PFS_PFD_SelectionTool!G645&\"_\"&PFS_PFD_SelectionTool!H645&\"_\"&PFS_PFD_SelectionTool!I645&\"_\"&PFS_PFD_SelectionTool!J645)","v":"_____"},{"$f":"IF(ISBLANK(PFS_PFD_SelectionTool!K645),\"\",PFS_PFD_SelectionTool!K645)","v":""},{"$f":"VLOOKUP(D629,Tabelle1!A:B,2,FALSE)","v":{"$error":"#N/A"}},{"$f":"IF(ISBLANK(PFS_PFD_SelectionTool!N670),\"\",PFS_PFD_SelectionTool!N670)","v":""},{"$f":"IF(ISBLANK(PFS_PFD_SelectionTool!O670),\"\",PFS_PFD_SelectionTool!O670)","v":""}]
[{"$f":"IF(ISBLANK(PFS_PFD_SelectionTool!C646),\"\",PFS_PFD_SelectionTool!C646)","v":""},{"$f":"IF(ISBLANK(PFS_PFD_SelectionTool!D646),\"\",PFS_PFD_SelectionTool!D646)","v":""},{"$f":"IF(ISBLANK(PFS_PFD_SelectionTool!E646&\"_\"&PFS_PFD_SelectionTool!F646&\"_\"&PFS_PFD_SelectionTool!G646&\"_\"&PFS_PFD_SelectionTool!H646&\"_\"&PFS_PFD_SelectionTool!I646&\"_\"&PFS_PFD_SelectionTool!J646),\"\",PFS_PFD_SelectionTool!E646&\"_\"&PFS_PFD_SelectionTool!F646&\"_\"&PFS_PFD_SelectionTool!G646&\"_\"&PFS_PFD_SelectionTool!H646&\"_\"&PFS_PFD_SelectionTool!I646&\"_\"&PFS_PFD_SelectionTool!J646)","v":"_____"},{"$f":"IF(ISBLANK(PFS_PFD_SelectionTool!K646),\"\",PFS_PFD_SelectionTool!K646)","v":""},{"$f":"VLOOKUP(D630,Tabelle1!A:B,2,FALSE)","v":{"$error":"#N/A"}},{"$f":"IF(ISBLANK(PFS_PFD_SelectionTool!N671),\"\",PFS_PFD_SelectionTool!N671)","v":""},{"$f":"IF(ISBLANK(PFS_PFD_SelectionTool!O671),\"\",PFS_PFD_SelectionTool!O671)","v":""}]
[{"$f":"IF(ISBLANK(PFS_PFD_SelectionTool!C647),\"\",PFS_PFD_SelectionTool!C647)","v":""},{"$f":"IF(ISBLANK(PFS_PFD_SelectionTool!D647),\"\",PFS_PFD_SelectionTool!D647)","v":""},{"$f":"IF(ISBLANK(PFS_PFD_SelectionTool!E647&\"_\"&PFS_PFD_SelectionTool!F647&\"_\"&PFS_PFD_SelectionTool!G647&\"_\"&PFS_PFD_SelectionTool!H647&\"_\"&PFS_PFD_SelectionTool!I647&\"_\"&PFS_PFD_SelectionTool!J647),\"\",PFS_PFD_SelectionTool!E647&\"_\"&PFS_PFD_SelectionTool!F647&\"_\"&PFS_PFD_SelectionTool!G647&\"_\"&PFS_PFD_SelectionTool!H647&\"_\"&PFS_PFD_SelectionTool!I647&\"_\"&PFS_PFD_SelectionTool!J647)","v":"_____"},{"$f":"IF(ISBLANK(PFS_PFD_SelectionTool!K647),\"\",PFS_PFD_SelectionTool!K647)","v":""},{"$f":"VLOOKUP(D631,Tabelle1!A:B,2,FALSE)","v":{"$error":"#N/A"}},{"$f":"IF(ISBLANK(PFS_PFD_SelectionTool!N672),\"\",PFS_PFD_SelectionTool!N672)","v":""},{"$f":"IF(ISBLANK(PFS_PFD_SelectionTool!O672),\"\",PFS_PFD_SelectionTool!O672)","v":""}]
[{"$f":"IF(ISBLANK(PFS_PFD_SelectionTool!C648),\"\",PFS_PFD_SelectionTool!C648)","v":""},{"$f":"IF(ISBLANK(PFS_PFD_SelectionTool!D648),\"\",PFS_PFD_SelectionTool!D648)","v":""},{"$f":"IF(ISBLANK(PFS_PFD_SelectionTool!E648&\"_\"&PFS_PFD_SelectionTool!F648&\"_\"&PFS_PFD_SelectionTool!G648&\"_\"&PFS_PFD_SelectionTool!H648&\"_\"&PFS_PFD_SelectionTool!I648&\"_\"&PFS_PFD_SelectionTool!J648),\"\",PFS_PFD_SelectionTool!E648&\"_\"&PFS_PFD_SelectionTool!F648&\"_\"&PFS_PFD_SelectionTool!G648&\"_\"&PFS_PFD_SelectionTool!H648&\"_\"&PFS_PFD_SelectionTool!I648&\"_\"&PFS_PFD_SelectionTool!J648)","v":"_____"},{"$f":"IF(ISBLANK(PFS_PFD_SelectionTool!K648),\"\",PFS_PFD_SelectionTool!K648)","v":""},{"$f":"VLOOKUP(D632,Tabelle1!A:B,2,FALSE)","v":{"$error":"#N/A"}},{"$f":"IF(ISBLANK(PFS_PFD_SelectionTool!N673),\"\",PFS_PFD_SelectionTool!N673)","v":""},{"$f":"IF(ISBLANK(PFS_PFD_SelectionTool!O673),\"\",PFS_PFD_SelectionTool!O673)","v":""}]
[{"$f":"IF(ISBLANK(PFS_PFD_SelectionTool!C649),\"\",PFS_PFD_SelectionTool!C649)","v":""},{"$f":"IF(ISBLANK(PFS_PFD_SelectionTool!D649),\"\",PFS_PFD_SelectionTool!D649)","v":""},{"$f":"IF(ISBLANK(PFS_PFD_SelectionTool!E649&\"_\"&PFS_PFD_SelectionTool!F649&\"_\"&PFS_PFD_SelectionTool!G649&\"_\"&PFS_PFD_SelectionTool!H649&\"_\"&PFS_PFD_SelectionTool!I649&\"_\"&PFS_PFD_SelectionTool!J649),\"\",PFS_PFD_SelectionTool!E649&\"_\"&PFS_PFD_SelectionTool!F649&\"_\"&PFS_PFD_SelectionTool!G649&\"_\"&PFS_PFD_SelectionTool!H649&\"_\"&PFS_PFD_SelectionTool!I649&\"_\"&PFS_PFD_SelectionTool!J649)","v":"_____"},{"$f":"IF(ISBLANK(PFS_PFD_SelectionTool!K649),\"\",PFS_PFD_SelectionTool!K649)","v":""},{"$f":"VLOOKUP(D633,Tabelle1!A:B,2,FALSE)","v":{"$error":"#N/A"}},{"$f":"IF(ISBLANK(PFS_PFD_SelectionTool!N674),\"\",PFS_PFD_SelectionTool!N674)","v":""},{"$f":"IF(ISBLANK(PFS_PFD_SelectionTool!O674),\"\",PFS_PFD_SelectionTool!O674)","v":""}]
[{"$f":"IF(ISBLANK(PFS_PFD_SelectionTool!C650),\"\",PFS_PFD_SelectionTool!C650)","v":""},{"$f":"IF(ISBLANK(PFS_PFD_SelectionTool!D650),\"\",PFS_PFD_SelectionTool!D650)","v":""},{"$f":"IF(ISBLANK(PFS_PFD_SelectionTool!E650&\"_\"&PFS_PFD_SelectionTool!F650&\"_\"&PFS_PFD_SelectionTool!G650&\"_\"&PFS_PFD_SelectionTool!H650&\"_\"&PFS_PFD_SelectionTool!I650&\"_\"&PFS_PFD_SelectionTool!J650),\"\",PFS_PFD_SelectionTool!E650&\"_\"&PFS_PFD_SelectionTool!F650&\"_\"&PFS_PFD_SelectionTool!G650&\"_\"&PFS_PFD_SelectionTool!H650&\"_\"&PFS_PFD_SelectionTool!I650&\"_\"&PFS_PFD_SelectionTool!J650)","v":"_____"},{"$f":"IF(ISBLANK(PFS_PFD_SelectionTool!K650),\"\",PFS_PFD_SelectionTool!K650)","v":""},{"$f":"VLOOKUP(D634,Tabelle1!A:B,2,FALSE)","v":{"$error":"#N/A"}},{"$f":"IF(ISBLANK(PFS_PFD_SelectionTool!N675),\"\",PFS_PFD_SelectionTool!N675)","v":""},{"$f":"IF(ISBLANK(PFS_PFD_SelectionTool!O675),\"\",PFS_PFD_SelectionTool!O675)","v":""}]
[{"$f":"IF(ISBLANK(PFS_PFD_SelectionTool!C651),\"\",PFS_PFD_SelectionTool!C651)","v":""},{"$f":"IF(ISBLANK(PFS_PFD_SelectionTool!D651),\"\",PFS_PFD_SelectionTool!D651)","v":""},{"$f":"IF(ISBLANK(PFS_PFD_SelectionTool!E651&\"_\"&PFS_PFD_SelectionTool!F651&\"_\"&PFS_PFD_SelectionTool!G651&\"_\"&PFS_PFD_SelectionTool!H651&\"_\"&PFS_PFD_SelectionTool!I651&\"_\"&PFS_PFD_SelectionTool!J651),\"\",PFS_PFD_SelectionTool!E651&\"_\"&PFS_PFD_SelectionTool!F651&\"_\"&PFS_PFD_SelectionTool!G651&\"_\"&PFS_PFD_SelectionTool!H651&\"_\"&PFS_PFD_SelectionTool!I651&\"_\"&PFS_PFD_SelectionTool!J651)","v":"_____"},{"$f":"IF(ISBLANK(PFS_PFD_SelectionTool!K651),\"\",PFS_PFD_SelectionTool!K651)","v":""},{"$f":"VLOOKUP(D635,Tabelle1!A:B,2,FALSE)","v":{"$error":"#N/A"}},{"$f":"IF(ISBLANK(PFS_PFD_SelectionTool!N676),\"\",PFS_PFD_SelectionTool!N676)","v":""},{"$f":"IF(ISBLANK(PFS_PFD_SelectionTool!O676),\"\",PFS_PFD_SelectionTool!O676)","v":""}]
[{"$f":"IF(ISBLANK(PFS_PFD_SelectionTool!C652),\"\",PFS_PFD_SelectionTool!C652)","v":""},{"$f":"IF(ISBLANK(PFS_PFD_SelectionTool!D652),\"\",PFS_PFD_SelectionTool!D652)","v":""},{"$f":"IF(ISBLANK(PFS_PFD_SelectionTool!E652&\"_\"&PFS_PFD_SelectionTool!F652&\"_\"&PFS_PFD_SelectionTool!G652&\"_\"&PFS_PFD_SelectionTool!H652&\"_\"&PFS_PFD_SelectionTool!I652&\"_\"&PFS_PFD_SelectionTool!J652),\"\",PFS_PFD_SelectionTool!E652&\"_\"&PFS_PFD_SelectionTool!F652&\"_\"&PFS_PFD_SelectionTool!G652&\"_\"&PFS_PFD_SelectionTool!H652&\"_\"&PFS_PFD_SelectionTool!I652&\"_\"&PFS_PFD_SelectionTool!J652)","v":"_____"},{"$f":"IF(ISBLANK(PFS_PFD_SelectionTool!K652),\"\",PFS_PFD_SelectionTool!K652)","v":""},{"$f":"VLOOKUP(D636,Tabelle1!A:B,2,FALSE)","v":{"$error":"#N/A"}},{"$f":"IF(ISBLANK(PFS_PFD_SelectionTool!N677),\"\",PFS_PFD_SelectionTool!N677)","v":""},{"$f":"IF(ISBLANK(PFS_PFD_SelectionTool!O677),\"\",PFS_PFD_SelectionTool!O677)","v":""}]
[{"$f":"IF(ISBLANK(PFS_PFD_SelectionTool!C653),\"\",PFS_PFD_SelectionTool!C653)","v":""},{"$f":"IF(ISBLANK(PFS_PFD_SelectionTool!D653),\"\",PFS_PFD_SelectionTool!D653)","v":""},{"$f":"IF(ISBLANK(PFS_PFD_SelectionTool!E653&\"_\"&PFS_PFD_SelectionTool!F653&\"_\"&PFS_PFD_SelectionTool!G653&\"_\"&PFS_PFD_SelectionTool!H653&\"_\"&PFS_PFD_SelectionTool!I653&\"_\"&PFS_PFD_SelectionTool!J653),\"\",PFS_PFD_SelectionTool!E653&\"_\"&PFS_PFD_SelectionTool!F653&\"_\"&PFS_PFD_SelectionTool!G653&\"_\"&PFS_PFD_SelectionTool!H653&\"_\"&PFS_PFD_SelectionTool!I653&\"_\"&PFS_PFD_SelectionTool!J653)","v":"_____"},{"$f":"IF(ISBLANK(PFS_PFD_SelectionTool!K653),\"\",PFS_PFD_SelectionTool!K653)","v":""},{"$f":"VLOOKUP(D637,Tabelle1!A:B,2,FALSE)","v":{"$error":"#N/A"}},{"$f":"IF(ISBLANK(PFS_PFD_SelectionTool!N678),\"\",PFS_PFD_SelectionTool!N678)","v":""},{"$f":"IF(ISBLANK(PFS_PFD_SelectionTool!O678),\"\",PFS_PFD_SelectionTool!O678)","v":""}]
[{"$f":"IF(ISBLANK(PFS_PFD_SelectionTool!C654),\"\",PFS_PFD_SelectionTool!C654)","v":""},{"$f":"IF(ISBLANK(PFS_PFD_SelectionTool!D654),\"\",PFS_PFD_SelectionTool!D654)","v":""},{"$f":"IF(ISBLANK(PFS_PFD_SelectionTool!E654&\"_\"&PFS_PFD_SelectionTool!F654&\"_\"&PFS_PFD_SelectionTool!G654&\"_\"&PFS_PFD_SelectionTool!H654&\"_\"&PFS_PFD_SelectionTool!I654&\"_\"&PFS_PFD_SelectionTool!J654),\"\",PFS_PFD_SelectionTool!E654&\"_\"&PFS_PFD_SelectionTool!F654&\"_\"&PFS_PFD_SelectionTool!G654&\"_\"&PFS_PFD_SelectionTool!H654&\"_\"&PFS_PFD_SelectionTool!I654&\"_\"&PFS_PFD_SelectionTool!J654)","v":"_____"},{"$f":"IF(ISBLANK(PFS_PFD_SelectionTool!K654),\"\",PFS_PFD_SelectionTool!K654)","v":""},{"$f":"VLOOKUP(D638,Tabelle1!A:B,2,FALSE)","v":{"$error":"#N/A"}},{"$f":"IF(ISBLANK(PFS_PFD_SelectionTool!N679),\"\",PFS_PFD_SelectionTool!N679)","v":""},{"$f":"IF(ISBLANK(PFS_PFD_SelectionTool!O679),\"\",PFS_PFD_SelectionTool!O679)","v":""}]
[{"$f":"IF(ISBLANK(PFS_PFD_SelectionTool!C655),\"\",PFS_PFD_SelectionTool!C655)","v":""},{"$f":"IF(ISBLANK(PFS_PFD_SelectionTool!D655),\"\",PFS_PFD_SelectionTool!D655)","v":""},{"$f":"IF(ISBLANK(PFS_PFD_SelectionTool!E655&\"_\"&PFS_PFD_SelectionTool!F655&\"_\"&PFS_PFD_SelectionTool!G655&\"_\"&PFS_PFD_SelectionTool!H655&\"_\"&PFS_PFD_SelectionTool!I655&\"_\"&PFS_PFD_SelectionTool!J655),\"\",PFS_PFD_SelectionTool!E655&\"_\"&PFS_PFD_SelectionTool!F655&\"_\"&PFS_PFD_SelectionTool!G655&\"_\"&PFS_PFD_SelectionTool!H655&\"_\"&PFS_PFD_SelectionTool!I655&\"_\"&PFS_PFD_SelectionTool!J655)","v":"_____"},{"$f":"IF(ISBLANK(PFS_PFD_SelectionTool!K655),\"\",PFS_PFD_SelectionTool!K655)","v":""},{"$f":"VLOOKUP(D639,Tabelle1!A:B,2,FALSE)","v":{"$error":"#N/A"}},{"$f":"IF(ISBLANK(PFS_PFD_SelectionTool!N680),\"\",PFS_PFD_SelectionTool!N680)","v":""},{"$f":"IF(ISBLANK(PFS_PFD_SelectionTool!O680),\"\",PFS_PFD_SelectionTool!O680)","v":""}]
[{"$f":"IF(ISBLANK(PFS_PFD_SelectionTool!C656),\"\",PFS_PFD_SelectionTool!C656)","v":""},{"$f":"IF(ISBLANK(PFS_PFD_SelectionTool!D656),\"\",PFS_PFD_SelectionTool!D656)","v":""},{"$f":"IF(ISBLANK(PFS_PFD_SelectionTool!E656&\"_\"&PFS_PFD_SelectionTool!F656&\"_\"&PFS_PFD_SelectionTool!G656&\"_\"&PFS_PFD_SelectionTool!H656&\"_\"&PFS_PFD_SelectionTool!I656&\"_\"&PFS_PFD_SelectionTool!J656),\"\",PFS_PFD_SelectionTool!E656&\"_\"&PFS_PFD_SelectionTool!F656&\"_\"&PFS_PFD_SelectionTool!G656&\"_\"&PFS_PFD_SelectionTool!H656&\"_\"&PFS_PFD_SelectionTool!I656&\"_\"&PFS_PFD_SelectionTool!J656)","v":"_____"},{"$f":"IF(ISBLANK(PFS_PFD_SelectionTool!K656),\"\",PFS_PFD_SelectionTool!K656)","v":""},{"$f":"VLOOKUP(D640,Tabelle1!A:B,2,FALSE)","v":{"$error":"#N/A"}},{"$f":"IF(ISBLANK(PFS_PFD_SelectionTool!N681),\"\",PFS_PFD_SelectionTool!N681)","v":""},{"$f":"IF(ISBLANK(PFS_PFD_SelectionTool!O681),\"\",PFS_PFD_SelectionTool!O681)","v":""}]
[{"$f":"IF(ISBLANK(PFS_PFD_SelectionTool!C657),\"\",PFS_PFD_SelectionTool!C657)","v":""},{"$f":"IF(ISBLANK(PFS_PFD_SelectionTool!D657),\"\",PFS_PFD_SelectionTool!D657)","v":""},{"$f":"IF(ISBLANK(PFS_PFD_SelectionTool!E657&\"_\"&PFS_PFD_SelectionTool!F657&\"_\"&PFS_PFD_SelectionTool!G657&\"_\"&PFS_PFD_SelectionTool!H657&\"_\"&PFS_PFD_SelectionTool!I657&\"_\"&PFS_PFD_SelectionTool!J657),\"\",PFS_PFD_SelectionTool!E657&\"_\"&PFS_PFD_SelectionTool!F657&\"_\"&PFS_PFD_SelectionTool!G657&\"_\"&PFS_PFD_SelectionTool!H657&\"_\"&PFS_PFD_SelectionTool!I657&\"_\"&PFS_PFD_SelectionTool!J657)","v":"_____"},{"$f":"IF(ISBLANK(PFS_PFD_SelectionTool!K657),\"\",PFS_PFD_SelectionTool!K657)","v":""},{"$f":"VLOOKUP(D641,Tabelle1!A:B,2,FALSE)","v":{"$error":"#N/A"}},{"$f":"IF(ISBLANK(PFS_PFD_SelectionTool!N682),\"\",PFS_PFD_SelectionTool!N682)","v":""},{"$f":"IF(ISBLANK(PFS_PFD_SelectionTool!O682),\"\",PFS_PFD_SelectionTool!O682)","v":""}]
[{"$f":"IF(ISBLANK(PFS_PFD_SelectionTool!C658),\"\",PFS_PFD_SelectionTool!C658)","v":""},{"$f":"IF(ISBLANK(PFS_PFD_SelectionTool!D658),\"\",PFS_PFD_SelectionTool!D658)","v":""},{"$f":"IF(ISBLANK(PFS_PFD_SelectionTool!E658&\"_\"&PFS_PFD_SelectionTool!F658&\"_\"&PFS_PFD_SelectionTool!G658&\"_\"&PFS_PFD_SelectionTool!H658&\"_\"&PFS_PFD_SelectionTool!I658&\"_\"&PFS_PFD_SelectionTool!J658),\"\",PFS_PFD_SelectionTool!E658&\"_\"&PFS_PFD_SelectionTool!F658&\"_\"&PFS_PFD_SelectionTool!G658&\"_\"&PFS_PFD_SelectionTool!H658&\"_\"&PFS_PFD_SelectionTool!I658&\"_\"&PFS_PFD_SelectionTool!J658)","v":"_____"},{"$f":"IF(ISBLANK(PFS_PFD_SelectionTool!K658),\"\",PFS_PFD_SelectionTool!K658)","v":""},{"$f":"VLOOKUP(D642,Tabelle1!A:B,2,FALSE)","v":{"$error":"#N/A"}},{"$f":"IF(ISBLANK(PFS_PFD_SelectionTool!N683),\"\",PFS_PFD_SelectionTool!N683)","v":""},{"$f":"IF(ISBLANK(PFS_PFD_SelectionTool!O683),\"\",PFS_PFD_SelectionTool!O683)","v":""}]
[{"$f":"IF(ISBLANK(PFS_PFD_SelectionTool!C659),\"\",PFS_PFD_SelectionTool!C659)","v":""},{"$f":"IF(ISBLANK(PFS_PFD_SelectionTool!D659),\"\",PFS_PFD_SelectionTool!D659)","v":""},{"$f":"IF(ISBLANK(PFS_PFD_SelectionTool!E659&\"_\"&PFS_PFD_SelectionTool!F659&\"_\"&PFS_PFD_SelectionTool!G659&\"_\"&PFS_PFD_SelectionTool!H659&\"_\"&PFS_PFD_SelectionTool!I659&\"_\"&PFS_PFD_SelectionTool!J659),\"\",PFS_PFD_SelectionTool!E659&\"_\"&PFS_PFD_SelectionTool!F659&\"_\"&PFS_PFD_SelectionTool!G659&\"_\"&PFS_PFD_SelectionTool!H659&\"_\"&PFS_PFD_SelectionTool!I659&\"_\"&PFS_PFD_SelectionTool!J659)","v":"_____"},{"$f":"IF(ISBLANK(PFS_PFD_SelectionTool!K659),\"\",PFS_PFD_SelectionTool!K659)","v":""},{"$f":"VLOOKUP(D643,Tabelle1!A:B,2,FALSE)","v":{"$error":"#N/A"}},{"$f":"IF(ISBLANK(PFS_PFD_SelectionTool!N684),\"\",PFS_PFD_SelectionTool!N684)","v":""},{"$f":"IF(ISBLANK(PFS_PFD_SelectionTool!O684),\"\",PFS_PFD_SelectionTool!O684)","v":""}]
[{"$f":"IF(ISBLANK(PFS_PFD_SelectionTool!C660),\"\",PFS_PFD_SelectionTool!C660)","v":""},{"$f":"IF(ISBLANK(PFS_PFD_SelectionTool!D660),\"\",PFS_PFD_SelectionTool!D660)","v":""},{"$f":"IF(ISBLANK(PFS_PFD_SelectionTool!E660&\"_\"&PFS_PFD_SelectionTool!F660&\"_\"&PFS_PFD_SelectionTool!G660&\"_\"&PFS_PFD_SelectionTool!H660&\"_\"&PFS_PFD_SelectionTool!I660&\"_\"&PFS_PFD_SelectionTool!J660),\"\",PFS_PFD_SelectionTool!E660&\"_\"&PFS_PFD_SelectionTool!F660&\"_\"&PFS_PFD_SelectionTool!G660&\"_\"&PFS_PFD_SelectionTool!H660&\"_\"&PFS_PFD_SelectionTool!I660&\"_\"&PFS_PFD_SelectionTool!J660)","v":"_____"},{"$f":"IF(ISBLANK(PFS_PFD_SelectionTool!K660),\"\",PFS_PFD_SelectionTool!K660)","v":""},{"$f":"VLOOKUP(D644,Tabelle1!A:B,2,FALSE)","v":{"$error":"#N/A"}},{"$f":"IF(ISBLANK(PFS_PFD_SelectionTool!N685),\"\",PFS_PFD_SelectionTool!N685)","v":""},{"$f":"IF(ISBLANK(PFS_PFD_SelectionTool!O685),\"\",PFS_PFD_SelectionTool!O685)","v":""}]
[{"$f":"IF(ISBLANK(PFS_PFD_SelectionTool!C661),\"\",PFS_PFD_SelectionTool!C661)","v":""},{"$f":"IF(ISBLANK(PFS_PFD_SelectionTool!D661),\"\",PFS_PFD_SelectionTool!D661)","v":""},{"$f":"IF(ISBLANK(PFS_PFD_SelectionTool!E661&\"_\"&PFS_PFD_SelectionTool!F661&\"_\"&PFS_PFD_SelectionTool!G661&\"_\"&PFS_PFD_SelectionTool!H661&\"_\"&PFS_PFD_SelectionTool!I661&\"_\"&PFS_PFD_SelectionTool!J661),\"\",PFS_PFD_SelectionTool!E661&\"_\"&PFS_PFD_SelectionTool!F661&\"_\"&PFS_PFD_SelectionTool!G661&\"_\"&PFS_PFD_SelectionTool!H661&\"_\"&PFS_PFD_SelectionTool!I661&\"_\"&PFS_PFD_SelectionTool!J661)","v":"_____"},{"$f":"IF(ISBLANK(PFS_PFD_SelectionTool!K661),\"\",PFS_PFD_SelectionTool!K661)","v":""},{"$f":"VLOOKUP(D645,Tabelle1!A:B,2,FALSE)","v":{"$error":"#N/A"}},{"$f":"IF(ISBLANK(PFS_PFD_SelectionTool!N686),\"\",PFS_PFD_SelectionTool!N686)","v":""},{"$f":"IF(ISBLANK(PFS_PFD_SelectionTool!O686),\"\",PFS_PFD_SelectionTool!O686)","v":""}]
[{"$f":"IF(ISBLANK(PFS_PFD_SelectionTool!C662),\"\",PFS_PFD_SelectionTool!C662)","v":""},{"$f":"IF(ISBLANK(PFS_PFD_SelectionTool!D662),\"\",PFS_PFD_SelectionTool!D662)","v":""},{"$f":"IF(ISBLANK(PFS_PFD_SelectionTool!E662&\"_\"&PFS_PFD_SelectionTool!F662&\"_\"&PFS_PFD_SelectionTool!G662&\"_\"&PFS_PFD_SelectionTool!H662&\"_\"&PFS_PFD_SelectionTool!I662&\"_\"&PFS_PFD_SelectionTool!J662),\"\",PFS_PFD_SelectionTool!E662&\"_\"&PFS_PFD_SelectionTool!F662&\"_\"&PFS_PFD_SelectionTool!G662&\"_\"&PFS_PFD_SelectionTool!H662&\"_\"&PFS_PFD_SelectionTool!I662&\"_\"&PFS_PFD_SelectionTool!J662)","v":"_____"},{"$f":"IF(ISBLANK(PFS_PFD_SelectionTool!K662),\"\",PFS_PFD_SelectionTool!K662)","v":""},{"$f":"VLOOKUP(D646,Tabelle1!A:B,2,FALSE)","v":{"$error":"#N/A"}},{"$f":"IF(ISBLANK(PFS_PFD_SelectionTool!N687),\"\",PFS_PFD_SelectionTool!N687)","v":""},{"$f":"IF(ISBLANK(PFS_PFD_SelectionTool!O687),\"\",PFS_PFD_SelectionTool!O687)","v":""}]
[{"$f":"IF(ISBLANK(PFS_PFD_SelectionTool!C663),\"\",PFS_PFD_SelectionTool!C663)","v":""},{"$f":"IF(ISBLANK(PFS_PFD_SelectionTool!D663),\"\",PFS_PFD_SelectionTool!D663)","v":""},{"$f":"IF(ISBLANK(PFS_PFD_SelectionTool!E663&\"_\"&PFS_PFD_SelectionTool!F663&\"_\"&PFS_PFD_SelectionTool!G663&\"_\"&PFS_PFD_SelectionTool!H663&\"_\"&PFS_PFD_SelectionTool!I663&\"_\"&PFS_PFD_SelectionTool!J663),\"\",PFS_PFD_SelectionTool!E663&\"_\"&PFS_PFD_SelectionTool!F663&\"_\"&PFS_PFD_SelectionTool!G663&\"_\"&PFS_PFD_SelectionTool!H663&\"_\"&PFS_PFD_SelectionTool!I663&\"_\"&PFS_PFD_SelectionTool!J663)","v":"_____"},{"$f":"IF(ISBLANK(PFS_PFD_SelectionTool!K663),\"\",PFS_PFD_SelectionTool!K663)","v":""},{"$f":"VLOOKUP(D647,Tabelle1!A:B,2,FALSE)","v":{"$error":"#N/A"}},{"$f":"IF(ISBLANK(PFS_PFD_SelectionTool!N688),\"\",PFS_PFD_SelectionTool!N688)","v":""},{"$f":"IF(ISBLANK(PFS_PFD_SelectionTool!O688),\"\",PFS_PFD_SelectionTool!O688)","v":""}]
[{"$f":"IF(ISBLANK(PFS_PFD_SelectionTool!C664),\"\",PFS_PFD_SelectionTool!C664)","v":""},{"$f":"IF(ISBLANK(PFS_PFD_SelectionTool!D664),\"\",PFS_PFD_SelectionTool!D664)","v":""},{"$f":"IF(ISBLANK(PFS_PFD_SelectionTool!E664&\"_\"&PFS_PFD_SelectionTool!F664&\"_\"&PFS_PFD_SelectionTool!G664&\"_\"&PFS_PFD_SelectionTool!H664&\"_\"&PFS_PFD_SelectionTool!I664&\"_\"&PFS_PFD_SelectionTool!J664),\"\",PFS_PFD_SelectionTool!E664&\"_\"&PFS_PFD_SelectionTool!F664&\"_\"&PFS_PFD_SelectionTool!G664&\"_\"&PFS_PFD_SelectionTool!H664&\"_\"&PFS_PFD_SelectionTool!I664&\"_\"&PFS_PFD_SelectionTool!J664)","v":"_____"},{"$f":"IF(ISBLANK(PFS_PFD_SelectionTool!K664),\"\",PFS_PFD_SelectionTool!K664)","v":""},{"$f":"VLOOKUP(D648,Tabelle1!A:B,2,FALSE)","v":{"$error":"#N/A"}},{"$f":"IF(ISBLANK(PFS_PFD_SelectionTool!N689),\"\",PFS_PFD_SelectionTool!N689)","v":""},{"$f":"IF(ISBLANK(PFS_PFD_SelectionTool!O689),\"\",PFS_PFD_SelectionTool!O689)","v":""}]
[{"$f":"IF(ISBLANK(PFS_PFD_SelectionTool!C665),\"\",PFS_PFD_SelectionTool!C665)","v":""},{"$f":"IF(ISBLANK(PFS_PFD_SelectionTool!D665),\"\",PFS_PFD_SelectionTool!D665)","v":""},{"$f":"IF(ISBLANK(PFS_PFD_SelectionTool!E665&\"_\"&PFS_PFD_SelectionTool!F665&\"_\"&PFS_PFD_SelectionTool!G665&\"_\"&PFS_PFD_SelectionTool!H665&\"_\"&PFS_PFD_SelectionTool!I665&\"_\"&PFS_PFD_SelectionTool!J665),\"\",PFS_PFD_SelectionTool!E665&\"_\"&PFS_PFD_SelectionTool!F665&\"_\"&PFS_PFD_SelectionTool!G665&\"_\"&PFS_PFD_SelectionTool!H665&\"_\"&PFS_PFD_SelectionTool!I665&\"_\"&PFS_PFD_SelectionTool!J665)","v":"_____"},{"$f":"IF(ISBLANK(PFS_PFD_SelectionTool!K665),\"\",PFS_PFD_SelectionTool!K665)","v":""},{"$f":"VLOOKUP(D649,Tabelle1!A:B,2,FALSE)","v":{"$error":"#N/A"}},{"$f":"IF(ISBLANK(PFS_PFD_SelectionTool!N690),\"\",PFS_PFD_SelectionTool!N690)","v":""},{"$f":"IF(ISBLANK(PFS_PFD_SelectionTool!O690),\"\",PFS_PFD_SelectionTool!O690)","v":""}]
[{"$f":"IF(ISBLANK(PFS_PFD_SelectionTool!C666),\"\",PFS_PFD_SelectionTool!C666)","v":""},{"$f":"IF(ISBLANK(PFS_PFD_SelectionTool!D666),\"\",PFS_PFD_SelectionTool!D666)","v":""},{"$f":"IF(ISBLANK(PFS_PFD_SelectionTool!E666&\"_\"&PFS_PFD_SelectionTool!F666&\"_\"&PFS_PFD_SelectionTool!G666&\"_\"&PFS_PFD_SelectionTool!H666&\"_\"&PFS_PFD_SelectionTool!I666&\"_\"&PFS_PFD_SelectionTool!J666),\"\",PFS_PFD_SelectionTool!E666&\"_\"&PFS_PFD_SelectionTool!F666&\"_\"&PFS_PFD_SelectionTool!G666&\"_\"&PFS_PFD_SelectionTool!H666&\"_\"&PFS_PFD_SelectionTool!I666&\"_\"&PFS_PFD_SelectionTool!J666)","v":"_____"},{"$f":"IF(ISBLANK(PFS_PFD_SelectionTool!K666),\"\",PFS_PFD_SelectionTool!K666)","v":""},{"$f":"VLOOKUP(D650,Tabelle1!A:B,2,FALSE)","v":{"$error":"#N/A"}},{"$f":"IF(ISBLANK(PFS_PFD_SelectionTool!N691),\"\",PFS_PFD_SelectionTool!N691)","v":""},{"$f":"IF(ISBLANK(PFS_PFD_SelectionTool!O691),\"\",PFS_PFD_SelectionTool!O691)","v":""}]
[{"$f":"IF(ISBLANK(PFS_PFD_SelectionTool!C667),\"\",PFS_PFD_SelectionTool!C667)","v":""},{"$f":"IF(ISBLANK(PFS_PFD_SelectionTool!D667),\"\",PFS_PFD_SelectionTool!D667)","v":""},{"$f":"IF(ISBLANK(PFS_PFD_SelectionTool!E667&\"_\"&PFS_PFD_SelectionTool!F667&\"_\"&PFS_PFD_SelectionTool!G667&\"_\"&PFS_PFD_SelectionTool!H667&\"_\"&PFS_PFD_SelectionTool!I667&\"_\"&PFS_PFD_SelectionTool!J667),\"\",PFS_PFD_SelectionTool!E667&\"_\"&PFS_PFD_SelectionTool!F667&\"_\"&PFS_PFD_SelectionTool!G667&\"_\"&PFS_PFD_SelectionTool!H667&\"_\"&PFS_PFD_SelectionTool!I667&\"_\"&PFS_PFD_SelectionTool!J667)","v":"_____"},{"$f":"IF(ISBLANK(PFS_PFD_SelectionTool!K667),\"\",PFS_PFD_SelectionTool!K667)","v":""},{"$f":"VLOOKUP(D651,Tabelle1!A:B,2,FALSE)","v":{"$error":"#N/A"}},{"$f":"IF(ISBLANK(PFS_PFD_SelectionTool!N692),\"\",PFS_PFD_SelectionTool!N692)","v":""},{"$f":"IF(ISBLANK(PFS_PFD_SelectionTool!O692),\"\",PFS_PFD_SelectionTool!O692)","v":""}]
[{"$f":"IF(ISBLANK(PFS_PFD_SelectionTool!C668),\"\",PFS_PFD_SelectionTool!C668)","v":""},{"$f":"IF(ISBLANK(PFS_PFD_SelectionTool!D668),\"\",PFS_PFD_SelectionTool!D668)","v":""},{"$f":"IF(ISBLANK(PFS_PFD_SelectionTool!E668&\"_\"&PFS_PFD_SelectionTool!F668&\"_\"&PFS_PFD_SelectionTool!G668&\"_\"&PFS_PFD_SelectionTool!H668&\"_\"&PFS_PFD_SelectionTool!I668&\"_\"&PFS_PFD_SelectionTool!J668),\"\",PFS_PFD_SelectionTool!E668&\"_\"&PFS_PFD_SelectionTool!F668&\"_\"&PFS_PFD_SelectionTool!G668&\"_\"&PFS_PFD_SelectionTool!H668&\"_\"&PFS_PFD_SelectionTool!I668&\"_\"&PFS_PFD_SelectionTool!J668)","v":"_____"},{"$f":"IF(ISBLANK(PFS_PFD_SelectionTool!K668),\"\",PFS_PFD_SelectionTool!K668)","v":""},{"$f":"VLOOKUP(D652,Tabelle1!A:B,2,FALSE)","v":{"$error":"#N/A"}},{"$f":"IF(ISBLANK(PFS_PFD_SelectionTool!N693),\"\",PFS_PFD_SelectionTool!N693)","v":""},{"$f":"IF(ISBLANK(PFS_PFD_SelectionTool!O693),\"\",PFS_PFD_SelectionTool!O693)","v":""}]
[{"$f":"IF(ISBLANK(PFS_PFD_SelectionTool!C669),\"\",PFS_PFD_SelectionTool!C669)","v":""},{"$f":"IF(ISBLANK(PFS_PFD_SelectionTool!D669),\"\",PFS_PFD_SelectionTool!D669)","v":""},{"$f":"IF(ISBLANK(PFS_PFD_SelectionTool!E669&\"_\"&PFS_PFD_SelectionTool!F669&\"_\"&PFS_PFD_SelectionTool!G669&\"_\"&PFS_PFD_SelectionTool!H669&\"_\"&PFS_PFD_SelectionTool!I669&\"_\"&PFS_PFD_SelectionTool!J669),\"\",PFS_PFD_SelectionTool!E669&\"_\"&PFS_PFD_SelectionTool!F669&\"_\"&PFS_PFD_SelectionTool!G669&\"_\"&PFS_PFD_SelectionTool!H669&\"_\"&PFS_PFD_SelectionTool!I669&\"_\"&PFS_PFD_SelectionTool!J669)","v":"_____"},{"$f":"IF(ISBLANK(PFS_PFD_SelectionTool!K669),\"\",PFS_PFD_SelectionTool!K669)","v":""},{"$f":"VLOOKUP(D653,Tabelle1!A:B,2,FALSE)","v":{"$error":"#N/A"}},{"$f":"IF(ISBLANK(PFS_PFD_SelectionTool!N694),\"\",PFS_PFD_SelectionTool!N694)","v":""},{"$f":"IF(ISBLANK(PFS_PFD_SelectionTool!O694),\"\",PFS_PFD_SelectionTool!O694)","v":""}]
[{"$f":"IF(ISBLANK(PFS_PFD_SelectionTool!C670),\"\",PFS_PFD_SelectionTool!C670)","v":""},{"$f":"IF(ISBLANK(PFS_PFD_SelectionTool!D670),\"\",PFS_PFD_SelectionTool!D670)","v":""},{"$f":"IF(ISBLANK(PFS_PFD_SelectionTool!E670&\"_\"&PFS_PFD_SelectionTool!F670&\"_\"&PFS_PFD_SelectionTool!G670&\"_\"&PFS_PFD_SelectionTool!H670&\"_\"&PFS_PFD_SelectionTool!I670&\"_\"&PFS_PFD_SelectionTool!J670),\"\",PFS_PFD_SelectionTool!E670&\"_\"&PFS_PFD_SelectionTool!F670&\"_\"&PFS_PFD_SelectionTool!G670&\"_\"&PFS_PFD_SelectionTool!H670&\"_\"&PFS_PFD_SelectionTool!I670&\"_\"&PFS_PFD_SelectionTool!J670)","v":"_____"},{"$f":"IF(ISBLANK(PFS_PFD_SelectionTool!K670),\"\",PFS_PFD_SelectionTool!K670)","v":""},{"$f":"VLOOKUP(D654,Tabelle1!A:B,2,FALSE)","v":{"$error":"#N/A"}},{"$f":"IF(ISBLANK(PFS_PFD_SelectionTool!N695),\"\",PFS_PFD_SelectionTool!N695)","v":""},{"$f":"IF(ISBLANK(PFS_PFD_SelectionTool!O695),\"\",PFS_PFD_SelectionTool!O695)","v":""}]
[{"$f":"IF(ISBLANK(PFS_PFD_SelectionTool!C671),\"\",PFS_PFD_SelectionTool!C671)","v":""},{"$f":"IF(ISBLANK(PFS_PFD_SelectionTool!D671),\"\",PFS_PFD_SelectionTool!D671)","v":""},{"$f":"IF(ISBLANK(PFS_PFD_SelectionTool!E671&\"_\"&PFS_PFD_SelectionTool!F671&\"_\"&PFS_PFD_SelectionTool!G671&\"_\"&PFS_PFD_SelectionTool!H671&\"_\"&PFS_PFD_SelectionTool!I671&\"_\"&PFS_PFD_SelectionTool!J671),\"\",PFS_PFD_SelectionTool!E671&\"_\"&PFS_PFD_SelectionTool!F671&\"_\"&PFS_PFD_SelectionTool!G671&\"_\"&PFS_PFD_SelectionTool!H671&\"_\"&PFS_PFD_SelectionTool!I671&\"_\"&PFS_PFD_SelectionTool!J671)","v":"_____"},{"$f":"IF(ISBLANK(PFS_PFD_SelectionTool!K671),\"\",PFS_PFD_SelectionTool!K671)","v":""},{"$f":"VLOOKUP(D655,Tabelle1!A:B,2,FALSE)","v":{"$error":"#N/A"}},{"$f":"IF(ISBLANK(PFS_PFD_SelectionTool!N696),\"\",PFS_PFD_SelectionTool!N696)","v":""},{"$f":"IF(ISBLANK(PFS_PFD_SelectionTool!O696),\"\",PFS_PFD_SelectionTool!O696)","v":""}]
[{"$f":"IF(ISBLANK(PFS_PFD_SelectionTool!C672),\"\",PFS_PFD_SelectionTool!C672)","v":""},{"$f":"IF(ISBLANK(PFS_PFD_SelectionTool!D672),\"\",PFS_PFD_SelectionTool!D672)","v":""},{"$f":"IF(ISBLANK(PFS_PFD_SelectionTool!E672&\"_\"&PFS_PFD_SelectionTool!F672&\"_\"&PFS_PFD_SelectionTool!G672&\"_\"&PFS_PFD_SelectionTool!H672&\"_\"&PFS_PFD_SelectionTool!I672&\"_\"&PFS_PFD_SelectionTool!J672),\"\",PFS_PFD_SelectionTool!E672&\"_\"&PFS_PFD_SelectionTool!F672&\"_\"&PFS_PFD_SelectionTool!G672&\"_\"&PFS_PFD_SelectionTool!H672&\"_\"&PFS_PFD_SelectionTool!I672&\"_\"&PFS_PFD_SelectionTool!J672)","v":"_____"},{"$f":"IF(ISBLANK(PFS_PFD_SelectionTool!K672),\"\",PFS_PFD_SelectionTool!K672)","v":""},{"$f":"VLOOKUP(D656,Tabelle1!A:B,2,FALSE)","v":{"$error":"#N/A"}},{"$f":"IF(ISBLANK(PFS_PFD_SelectionTool!N697),\"\",PFS_PFD_SelectionTool!N697)","v":""},{"$f":"IF(ISBLANK(PFS_PFD_SelectionTool!O697),\"\",PFS_PFD_SelectionTool!O697)","v":""}]
[{"$f":"IF(ISBLANK(PFS_PFD_SelectionTool!C673),\"\",PFS_PFD_SelectionTool!C673)","v":""},{"$f":"IF(ISBLANK(PFS_PFD_SelectionTool!D673),\"\",PFS_PFD_SelectionTool!D673)","v":""},{"$f":"IF(ISBLANK(PFS_PFD_SelectionTool!E673&\"_\"&PFS_PFD_SelectionTool!F673&\"_\"&PFS_PFD_SelectionTool!G673&\"_\"&PFS_PFD_SelectionTool!H673&\"_\"&PFS_PFD_SelectionTool!I673&\"_\"&PFS_PFD_SelectionTool!J673),\"\",PFS_PFD_SelectionTool!E673&\"_\"&PFS_PFD_SelectionTool!F673&\"_\"&PFS_PFD_SelectionTool!G673&\"_\"&PFS_PFD_SelectionTool!H673&\"_\"&PFS_PFD_SelectionTool!I673&\"_\"&PFS_PFD_SelectionTool!J673)","v":"_____"},{"$f":"IF(ISBLANK(PFS_PFD_SelectionTool!K673),\"\",PFS_PFD_SelectionTool!K673)","v":""},{"$f":"VLOOKUP(D657,Tabelle1!A:B,2,FALSE)","v":{"$error":"#N/A"}},{"$f":"IF(ISBLANK(PFS_PFD_SelectionTool!N698),\"\",PFS_PFD_SelectionTool!N698)","v":""},{"$f":"IF(ISBLANK(PFS_PFD_SelectionTool!O698),\"\",PFS_PFD_SelectionTool!O698)","v":""}]
[{"$f":"IF(ISBLANK(PFS_PFD_SelectionTool!C674),\"\",PFS_PFD_SelectionTool!C674)","v":""},{"$f":"IF(ISBLANK(PFS_PFD_SelectionTool!D674),\"\",PFS_PFD_SelectionTool!D674)","v":""},{"$f":"IF(ISBLANK(PFS_PFD_SelectionTool!E674&\"_\"&PFS_PFD_SelectionTool!F674&\"_\"&PFS_PFD_SelectionTool!G674&\"_\"&PFS_PFD_SelectionTool!H674&\"_\"&PFS_PFD_SelectionTool!I674&\"_\"&PFS_PFD_SelectionTool!J674),\"\",PFS_PFD_SelectionTool!E674&\"_\"&PFS_PFD_SelectionTool!F674&\"_\"&PFS_PFD_SelectionTool!G674&\"_\"&PFS_PFD_SelectionTool!H674&\"_\"&PFS_PFD_SelectionTool!I674&\"_\"&PFS_PFD_SelectionTool!J674)","v":"_____"},{"$f":"IF(ISBLANK(PFS_PFD_SelectionTool!K674),\"\",PFS_PFD_SelectionTool!K674)","v":""},{"$f":"VLOOKUP(D658,Tabelle1!A:B,2,FALSE)","v":{"$error":"#N/A"}},{"$f":"IF(ISBLANK(PFS_PFD_SelectionTool!N699),\"\",PFS_PFD_SelectionTool!N699)","v":""},{"$f":"IF(ISBLANK(PFS_PFD_SelectionTool!O699),\"\",PFS_PFD_SelectionTool!O699)","v":""}]
[{"$f":"IF(ISBLANK(PFS_PFD_SelectionTool!C675),\"\",PFS_PFD_SelectionTool!C675)","v":""},{"$f":"IF(ISBLANK(PFS_PFD_SelectionTool!D675),\"\",PFS_PFD_SelectionTool!D675)","v":""},{"$f":"IF(ISBLANK(PFS_PFD_SelectionTool!E675&\"_\"&PFS_PFD_SelectionTool!F675&\"_\"&PFS_PFD_SelectionTool!G675&\"_\"&PFS_PFD_SelectionTool!H675&\"_\"&PFS_PFD_SelectionTool!I675&\"_\"&PFS_PFD_SelectionTool!J675),\"\",PFS_PFD_SelectionTool!E675&\"_\"&PFS_PFD_SelectionTool!F675&\"_\"&PFS_PFD_SelectionTool!G675&\"_\"&PFS_PFD_SelectionTool!H675&\"_\"&PFS_PFD_SelectionTool!I675&\"_\"&PFS_PFD_SelectionTool!J675)","v":"_____"},{"$f":"IF(ISBLANK(PFS_PFD_SelectionTool!K675),\"\",PFS_PFD_SelectionTool!K675)","v":""},{"$f":"VLOOKUP(D659,Tabelle1!A:B,2,FALSE)","v":{"$error":"#N/A"}},{"$f":"IF(ISBLANK(PFS_PFD_SelectionTool!N700),\"\",PFS_PFD_SelectionTool!N700)","v":""},{"$f":"IF(ISBLANK(PFS_PFD_SelectionTool!O700),\"\",PFS_PFD_SelectionTool!O700)","v":""}]
[{"$f":"IF(ISBLANK(PFS_PFD_SelectionTool!C676),\"\",PFS_PFD_SelectionTool!C676)","v":""},{"$f":"IF(ISBLANK(PFS_PFD_SelectionTool!D676),\"\",PFS_PFD_SelectionTool!D676)","v":""},{"$f":"IF(ISBLANK(PFS_PFD_SelectionTool!E676&\"_\"&PFS_PFD_SelectionTool!F676&\"_\"&PFS_PFD_SelectionTool!G676&\"_\"&PFS_PFD_SelectionTool!H676&\"_\"&PFS_PFD_SelectionTool!I676&\"_\"&PFS_PFD_SelectionTool!J676),\"\",PFS_PFD_SelectionTool!E676&\"_\"&PFS_PFD_SelectionTool!F676&\"_\"&PFS_PFD_SelectionTool!G676&\"_\"&PFS_PFD_SelectionTool!H676&\"_\"&PFS_PFD_SelectionTool!I676&\"_\"&PFS_PFD_SelectionTool!J676)","v":"_____"},{"$f":"IF(ISBLANK(PFS_PFD_SelectionTool!K676),\"\",PFS_PFD_SelectionTool!K676)","v":""},{"$f":"VLOOKUP(D660,Tabelle1!A:B,2,FALSE)","v":{"$error":"#N/A"}},{"$f":"IF(ISBLANK(PFS_PFD_SelectionTool!N701),\"\",PFS_PFD_SelectionTool!N701)","v":""},{"$f":"IF(ISBLANK(PFS_PFD_SelectionTool!O701),\"\",PFS_PFD_SelectionTool!O701)","v":""}]
[{"$f":"IF(ISBLANK(PFS_PFD_SelectionTool!C677),\"\",PFS_PFD_SelectionTool!C677)","v":""},{"$f":"IF(ISBLANK(PFS_PFD_SelectionTool!D677),\"\",PFS_PFD_SelectionTool!D677)","v":""},{"$f":"IF(ISBLANK(PFS_PFD_SelectionTool!E677&\"_\"&PFS_PFD_SelectionTool!F677&\"_\"&PFS_PFD_SelectionTool!G677&\"_\"&PFS_PFD_SelectionTool!H677&\"_\"&PFS_PFD_SelectionTool!I677&\"_\"&PFS_PFD_SelectionTool!J677),\"\",PFS_PFD_SelectionTool!E677&\"_\"&PFS_PFD_SelectionTool!F677&\"_\"&PFS_PFD_SelectionTool!G677&\"_\"&PFS_PFD_SelectionTool!H677&\"_\"&PFS_PFD_SelectionTool!I677&\"_\"&PFS_PFD_SelectionTool!J677)","v":"_____"},{"$f":"IF(ISBLANK(PFS_PFD_SelectionTool!K677),\"\",PFS_PFD_SelectionTool!K677)","v":""},{"$f":"VLOOKUP(D661,Tabelle1!A:B,2,FALSE)","v":{"$error":"#N/A"}},{"$f":"IF(ISBLANK(PFS_PFD_SelectionTool!N702),\"\",PFS_PFD_SelectionTool!N702)","v":""},{"$f":"IF(ISBLANK(PFS_PFD_SelectionTool!O702),\"\",PFS_PFD_SelectionTool!O702)","v":""}]
[{"$f":"IF(ISBLANK(PFS_PFD_SelectionTool!C678),\"\",PFS_PFD_SelectionTool!C678)","v":""},{"$f":"IF(ISBLANK(PFS_PFD_SelectionTool!D678),\"\",PFS_PFD_SelectionTool!D678)","v":""},{"$f":"IF(ISBLANK(PFS_PFD_SelectionTool!E678&\"_\"&PFS_PFD_SelectionTool!F678&\"_\"&PFS_PFD_SelectionTool!G678&\"_\"&PFS_PFD_SelectionTool!H678&\"_\"&PFS_PFD_SelectionTool!I678&\"_\"&PFS_PFD_SelectionTool!J678),\"\",PFS_PFD_SelectionTool!E678&\"_\"&PFS_PFD_SelectionTool!F678&\"_\"&PFS_PFD_SelectionTool!G678&\"_\"&PFS_PFD_SelectionTool!H678&\"_\"&PFS_PFD_SelectionTool!I678&\"_\"&PFS_PFD_SelectionTool!J678)","v":"_____"},{"$f":"IF(ISBLANK(PFS_PFD_SelectionTool!K678),\"\",PFS_PFD_SelectionTool!K678)","v":""},{"$f":"VLOOKUP(D662,Tabelle1!A:B,2,FALSE)","v":{"$error":"#N/A"}},{"$f":"IF(ISBLANK(PFS_PFD_SelectionTool!N703),\"\",PFS_PFD_SelectionTool!N703)","v":""},{"$f":"IF(ISBLANK(PFS_PFD_SelectionTool!O703),\"\",PFS_PFD_SelectionTool!O703)","v":""}]
[{"$f":"IF(ISBLANK(PFS_PFD_SelectionTool!C679),\"\",PFS_PFD_SelectionTool!C679)","v":""},{"$f":"IF(ISBLANK(PFS_PFD_SelectionTool!D679),\"\",PFS_PFD_SelectionTool!D679)","v":""},{"$f":"IF(ISBLANK(PFS_PFD_SelectionTool!E679&\"_\"&PFS_PFD_SelectionTool!F679&\"_\"&PFS_PFD_SelectionTool!G679&\"_\"&PFS_PFD_SelectionTool!H679&\"_\"&PFS_PFD_SelectionTool!I679&\"_\"&PFS_PFD_SelectionTool!J679),\"\",PFS_PFD_SelectionTool!E679&\"_\"&PFS_PFD_SelectionTool!F679&\"_\"&PFS_PFD_SelectionTool!G679&\"_\"&PFS_PFD_SelectionTool!H679&\"_\"&PFS_PFD_SelectionTool!I679&\"_\"&PFS_PFD_SelectionTool!J679)","v":"_____"},{"$f":"IF(ISBLANK(PFS_PFD_SelectionTool!K679),\"\",PFS_PFD_SelectionTool!K679)","v":""},{"$f":"VLOOKUP(D663,Tabelle1!A:B,2,FALSE)","v":{"$error":"#N/A"}},{"$f":"IF(ISBLANK(PFS_PFD_SelectionTool!N704),\"\",PFS_PFD_SelectionTool!N704)","v":""},{"$f":"IF(ISBLANK(PFS_PFD_SelectionTool!O704),\"\",PFS_PFD_SelectionTool!O704)","v":""}]
[{"$f":"IF(ISBLANK(PFS_PFD_SelectionTool!C680),\"\",PFS_PFD_SelectionTool!C680)","v":""},{"$f":"IF(ISBLANK(PFS_PFD_SelectionTool!D680),\"\",PFS_PFD_SelectionTool!D680)","v":""},{"$f":"IF(ISBLANK(PFS_PFD_SelectionTool!E680&\"_\"&PFS_PFD_SelectionTool!F680&\"_\"&PFS_PFD_SelectionTool!G680&\"_\"&PFS_PFD_SelectionTool!H680&\"_\"&PFS_PFD_SelectionTool!I680&\"_\"&PFS_PFD_SelectionTool!J680),\"\",PFS_PFD_SelectionTool!E680&\"_\"&PFS_PFD_SelectionTool!F680&\"_\"&PFS_PFD_SelectionTool!G680&\"_\"&PFS_PFD_SelectionTool!H680&\"_\"&PFS_PFD_SelectionTool!I680&\"_\"&PFS_PFD_SelectionTool!J680)","v":"_____"},{"$f":"IF(ISBLANK(PFS_PFD_SelectionTool!K680),\"\",PFS_PFD_SelectionTool!K680)","v":""},{"$f":"VLOOKUP(D664,Tabelle1!A:B,2,FALSE)","v":{"$error":"#N/A"}},{"$f":"IF(ISBLANK(PFS_PFD_SelectionTool!N705),\"\",PFS_PFD_SelectionTool!N705)","v":""},{"$f":"IF(ISBLANK(PFS_PFD_SelectionTool!O705),\"\",PFS_PFD_SelectionTool!O705)","v":""}]
[{"$f":"IF(ISBLANK(PFS_PFD_SelectionTool!C681),\"\",PFS_PFD_SelectionTool!C681)","v":""},{"$f":"IF(ISBLANK(PFS_PFD_SelectionTool!D681),\"\",PFS_PFD_SelectionTool!D681)","v":""},{"$f":"IF(ISBLANK(PFS_PFD_SelectionTool!E681&\"_\"&PFS_PFD_SelectionTool!F681&\"_\"&PFS_PFD_SelectionTool!G681&\"_\"&PFS_PFD_SelectionTool!H681&\"_\"&PFS_PFD_SelectionTool!I681&\"_\"&PFS_PFD_SelectionTool!J681),\"\",PFS_PFD_SelectionTool!E681&\"_\"&PFS_PFD_SelectionTool!F681&\"_\"&PFS_PFD_SelectionTool!G681&\"_\"&PFS_PFD_SelectionTool!H681&\"_\"&PFS_PFD_SelectionTool!I681&\"_\"&PFS_PFD_SelectionTool!J681)","v":"_____"},{"$f":"IF(ISBLANK(PFS_PFD_SelectionTool!K681),\"\",PFS_PFD_SelectionTool!K681)","v":""},{"$f":"VLOOKUP(D665,Tabelle1!A:B,2,FALSE)","v":{"$error":"#N/A"}},{"$f":"IF(ISBLANK(PFS_PFD_SelectionTool!N706),\"\",PFS_PFD_SelectionTool!N706)","v":""},{"$f":"IF(ISBLANK(PFS_PFD_SelectionTool!O706),\"\",PFS_PFD_SelectionTool!O706)","v":""}]
[{"$f":"IF(ISBLANK(PFS_PFD_SelectionTool!C682),\"\",PFS_PFD_SelectionTool!C682)","v":""},{"$f":"IF(ISBLANK(PFS_PFD_SelectionTool!D682),\"\",PFS_PFD_SelectionTool!D682)","v":""},{"$f":"IF(ISBLANK(PFS_PFD_SelectionTool!E682&\"_\"&PFS_PFD_SelectionTool!F682&\"_\"&PFS_PFD_SelectionTool!G682&\"_\"&PFS_PFD_SelectionTool!H682&\"_\"&PFS_PFD_SelectionTool!I682&\"_\"&PFS_PFD_SelectionTool!J682),\"\",PFS_PFD_SelectionTool!E682&\"_\"&PFS_PFD_SelectionTool!F682&\"_\"&PFS_PFD_SelectionTool!G682&\"_\"&PFS_PFD_SelectionTool!H682&\"_\"&PFS_PFD_SelectionTool!I682&\"_\"&PFS_PFD_SelectionTool!J682)","v":"_____"},{"$f":"IF(ISBLANK(PFS_PFD_SelectionTool!K682),\"\",PFS_PFD_SelectionTool!K682)","v":""},{"$f":"VLOOKUP(D666,Tabelle1!A:B,2,FALSE)","v":{"$error":"#N/A"}},{"$f":"IF(ISBLANK(PFS_PFD_SelectionTool!N707),\"\",PFS_PFD_SelectionTool!N707)","v":""},{"$f":"IF(ISBLANK(PFS_PFD_SelectionTool!O707),\"\",PFS_PFD_SelectionTool!O707)","v":""}]
[{"$f":"IF(ISBLANK(PFS_PFD_SelectionTool!C683),\"\",PFS_PFD_SelectionTool!C683)","v":""},{"$f":"IF(ISBLANK(PFS_PFD_SelectionTool!D683),\"\",PFS_PFD_SelectionTool!D683)","v":""},{"$f":"IF(ISBLANK(PFS_PFD_SelectionTool!E683&\"_\"&PFS_PFD_SelectionTool!F683&\"_\"&PFS_PFD_SelectionTool!G683&\"_\"&PFS_PFD_SelectionTool!H683&\"_\"&PFS_PFD_SelectionTool!I683&\"_\"&PFS_PFD_SelectionTool!J683),\"\",PFS_PFD_SelectionTool!E683&\"_\"&PFS_PFD_SelectionTool!F683&\"_\"&PFS_PFD_SelectionTool!G683&\"_\"&PFS_PFD_SelectionTool!H683&\"_\"&PFS_PFD_SelectionTool!I683&\"_\"&PFS_PFD_SelectionTool!J683)","v":"_____"},{"$f":"IF(ISBLANK(PFS_PFD_SelectionTool!K683),\"\",PFS_PFD_SelectionTool!K683)","v":""},{"$f":"VLOOKUP(D667,Tabelle1!A:B,2,FALSE)","v":{"$error":"#N/A"}},{"$f":"IF(ISBLANK(PFS_PFD_SelectionTool!N708),\"\",PFS_PFD_SelectionTool!N708)","v":""},{"$f":"IF(ISBLANK(PFS_PFD_SelectionTool!O708),\"\",PFS_PFD_SelectionTool!O708)","v":""}]
[{"$f":"IF(ISBLANK(PFS_PFD_SelectionTool!C684),\"\",PFS_PFD_SelectionTool!C684)","v":""},{"$f":"IF(ISBLANK(PFS_PFD_SelectionTool!D684),\"\",PFS_PFD_SelectionTool!D684)","v":""},{"$f":"IF(ISBLANK(PFS_PFD_SelectionTool!E684&\"_\"&PFS_PFD_SelectionTool!F684&\"_\"&PFS_PFD_SelectionTool!G684&\"_\"&PFS_PFD_SelectionTool!H684&\"_\"&PFS_PFD_SelectionTool!I684&\"_\"&PFS_PFD_SelectionTool!J684),\"\",PFS_PFD_SelectionTool!E684&\"_\"&PFS_PFD_SelectionTool!F684&\"_\"&PFS_PFD_SelectionTool!G684&\"_\"&PFS_PFD_SelectionTool!H684&\"_\"&PFS_PFD_SelectionTool!I684&\"_\"&PFS_PFD_SelectionTool!J684)","v":"_____"},{"$f":"IF(ISBLANK(PFS_PFD_SelectionTool!K684),\"\",PFS_PFD_SelectionTool!K684)","v":""},{"$f":"VLOOKUP(D668,Tabelle1!A:B,2,FALSE)","v":{"$error":"#N/A"}},{"$f":"IF(ISBLANK(PFS_PFD_SelectionTool!N709),\"\",PFS_PFD_SelectionTool!N709)","v":""},{"$f":"IF(ISBLANK(PFS_PFD_SelectionTool!O709),\"\",PFS_PFD_SelectionTool!O709)","v":""}]
[{"$f":"IF(ISBLANK(PFS_PFD_SelectionTool!C685),\"\",PFS_PFD_SelectionTool!C685)","v":""},{"$f":"IF(ISBLANK(PFS_PFD_SelectionTool!D685),\"\",PFS_PFD_SelectionTool!D685)","v":""},{"$f":"IF(ISBLANK(PFS_PFD_SelectionTool!E685&\"_\"&PFS_PFD_SelectionTool!F685&\"_\"&PFS_PFD_SelectionTool!G685&\"_\"&PFS_PFD_SelectionTool!H685&\"_\"&PFS_PFD_SelectionTool!I685&\"_\"&PFS_PFD_SelectionTool!J685),\"\",PFS_PFD_SelectionTool!E685&\"_\"&PFS_PFD_SelectionTool!F685&\"_\"&PFS_PFD_SelectionTool!G685&\"_\"&PFS_PFD_SelectionTool!H685&\"_\"&PFS_PFD_SelectionTool!I685&\"_\"&PFS_PFD_SelectionTool!J685)","v":"_____"},{"$f":"IF(ISBLANK(PFS_PFD_SelectionTool!K685),\"\",PFS_PFD_SelectionTool!K685)","v":""},{"$f":"VLOOKUP(D669,Tabelle1!A:B,2,FALSE)","v":{"$error":"#N/A"}},{"$f":"IF(ISBLANK(PFS_PFD_SelectionTool!N710),\"\",PFS_PFD_SelectionTool!N710)","v":""},{"$f":"IF(ISBLANK(PFS_PFD_SelectionTool!O710),\"\",PFS_PFD_SelectionTool!O710)","v":""}]
[{"$f":"IF(ISBLANK(PFS_PFD_SelectionTool!C686),\"\",PFS_PFD_SelectionTool!C686)","v":""},{"$f":"IF(ISBLANK(PFS_PFD_SelectionTool!D686),\"\",PFS_PFD_SelectionTool!D686)","v":""},{"$f":"IF(ISBLANK(PFS_PFD_SelectionTool!E686&\"_\"&PFS_PFD_SelectionTool!F686&\"_\"&PFS_PFD_SelectionTool!G686&\"_\"&PFS_PFD_SelectionTool!H686&\"_\"&PFS_PFD_SelectionTool!I686&\"_\"&PFS_PFD_SelectionTool!J686),\"\",PFS_PFD_SelectionTool!E686&\"_\"&PFS_PFD_SelectionTool!F686&\"_\"&PFS_PFD_SelectionTool!G686&\"_\"&PFS_PFD_SelectionTool!H686&\"_\"&PFS_PFD_SelectionTool!I686&\"_\"&PFS_PFD_SelectionTool!J686)","v":"_____"},{"$f":"IF(ISBLANK(PFS_PFD_SelectionTool!K686),\"\",PFS_PFD_SelectionTool!K686)","v":""},{"$f":"VLOOKUP(D670,Tabelle1!A:B,2,FALSE)","v":{"$error":"#N/A"}},{"$f":"IF(ISBLANK(PFS_PFD_SelectionTool!N711),\"\",PFS_PFD_SelectionTool!N711)","v":""},{"$f":"IF(ISBLANK(PFS_PFD_SelectionTool!O711),\"\",PFS_PFD_SelectionTool!O711)","v":""}]
[{"$f":"IF(ISBLANK(PFS_PFD_SelectionTool!C687),\"\",PFS_PFD_SelectionTool!C687)","v":""},{"$f":"IF(ISBLANK(PFS_PFD_SelectionTool!D687),\"\",PFS_PFD_SelectionTool!D687)","v":""},{"$f":"IF(ISBLANK(PFS_PFD_SelectionTool!E687&\"_\"&PFS_PFD_SelectionTool!F687&\"_\"&PFS_PFD_SelectionTool!G687&\"_\"&PFS_PFD_SelectionTool!H687&\"_\"&PFS_PFD_SelectionTool!I687&\"_\"&PFS_PFD_SelectionTool!J687),\"\",PFS_PFD_SelectionTool!E687&\"_\"&PFS_PFD_SelectionTool!F687&\"_\"&PFS_PFD_SelectionTool!G687&\"_\"&PFS_PFD_SelectionTool!H687&\"_\"&PFS_PFD_SelectionTool!I687&\"_\"&PFS_PFD_SelectionTool!J687)","v":"_____"},{"$f":"IF(ISBLANK(PFS_PFD_SelectionTool!K687),\"\",PFS_PFD_SelectionTool!K687)","v":""},{"$f":"VLOOKUP(D671,Tabelle1!A:B,2,FALSE)","v":{"$error":"#N/A"}},{"$f":"IF(ISBLANK(PFS_PFD_SelectionTool!N712),\"\",PFS_PFD_SelectionTool!N712)","v":""},{"$f":"IF(ISBLANK(PFS_PFD_SelectionTool!O712),\"\",PFS_PFD_SelectionTool!O712)","v":""}]
[{"$f":"IF(ISBLANK(PFS_PFD_SelectionTool!C688),\"\",PFS_PFD_SelectionTool!C688)","v":""},{"$f":"IF(ISBLANK(PFS_PFD_SelectionTool!D688),\"\",PFS_PFD_SelectionTool!D688)","v":""},{"$f":"IF(ISBLANK(PFS_PFD_SelectionTool!E688&\"_\"&PFS_PFD_SelectionTool!F688&\"_\"&PFS_PFD_SelectionTool!G688&\"_\"&PFS_PFD_SelectionTool!H688&\"_\"&PFS_PFD_SelectionTool!I688&\"_\"&PFS_PFD_SelectionTool!J688),\"\",PFS_PFD_SelectionTool!E688&\"_\"&PFS_PFD_SelectionTool!F688&\"_\"&PFS_PFD_SelectionTool!G688&\"_\"&PFS_PFD_SelectionTool!H688&\"_\"&PFS_PFD_SelectionTool!I688&\"_\"&PFS_PFD_SelectionTool!J688)","v":"_____"},{"$f":"IF(ISBLANK(PFS_PFD_SelectionTool!K688),\"\",PFS_PFD_SelectionTool!K688)","v":""},{"$f":"VLOOKUP(D672,Tabelle1!A:B,2,FALSE)","v":{"$error":"#N/A"}},{"$f":"IF(ISBLANK(PFS_PFD_SelectionTool!N713),\"\",PFS_PFD_SelectionTool!N713)","v":""},{"$f":"IF(ISBLANK(PFS_PFD_SelectionTool!O713),\"\",PFS_PFD_SelectionTool!O713)","v":""}]
[{"$f":"IF(ISBLANK(PFS_PFD_SelectionTool!C689),\"\",PFS_PFD_SelectionTool!C689)","v":""},{"$f":"IF(ISBLANK(PFS_PFD_SelectionTool!D689),\"\",PFS_PFD_SelectionTool!D689)","v":""},{"$f":"IF(ISBLANK(PFS_PFD_SelectionTool!E689&\"_\"&PFS_PFD_SelectionTool!F689&\"_\"&PFS_PFD_SelectionTool!G689&\"_\"&PFS_PFD_SelectionTool!H689&\"_\"&PFS_PFD_SelectionTool!I689&\"_\"&PFS_PFD_SelectionTool!J689),\"\",PFS_PFD_SelectionTool!E689&\"_\"&PFS_PFD_SelectionTool!F689&\"_\"&PFS_PFD_SelectionTool!G689&\"_\"&PFS_PFD_SelectionTool!H689&\"_\"&PFS_PFD_SelectionTool!I689&\"_\"&PFS_PFD_SelectionTool!J689)","v":"_____"},{"$f":"IF(ISBLANK(PFS_PFD_SelectionTool!K689),\"\",PFS_PFD_SelectionTool!K689)","v":""},{"$f":"VLOOKUP(D673,Tabelle1!A:B,2,FALSE)","v":{"$error":"#N/A"}},{"$f":"IF(ISBLANK(PFS_PFD_SelectionTool!N714),\"\",PFS_PFD_SelectionTool!N714)","v":""},{"$f":"IF(ISBLANK(PFS_PFD_SelectionTool!O714),\"\",PFS_PFD_SelectionTool!O714)","v":""}]
[{"$f":"IF(ISBLANK(PFS_PFD_SelectionTool!C690),\"\",PFS_PFD_SelectionTool!C690)","v":""},{"$f":"IF(ISBLANK(PFS_PFD_SelectionTool!D690),\"\",PFS_PFD_SelectionTool!D690)","v":""},{"$f":"IF(ISBLANK(PFS_PFD_SelectionTool!E690&\"_\"&PFS_PFD_SelectionTool!F690&\"_\"&PFS_PFD_SelectionTool!G690&\"_\"&PFS_PFD_SelectionTool!H690&\"_\"&PFS_PFD_SelectionTool!I690&\"_\"&PFS_PFD_SelectionTool!J690),\"\",PFS_PFD_SelectionTool!E690&\"_\"&PFS_PFD_SelectionTool!F690&\"_\"&PFS_PFD_SelectionTool!G690&\"_\"&PFS_PFD_SelectionTool!H690&\"_\"&PFS_PFD_SelectionTool!I690&\"_\"&PFS_PFD_SelectionTool!J690)","v":"_____"},{"$f":"IF(ISBLANK(PFS_PFD_SelectionTool!K690),\"\",PFS_PFD_SelectionTool!K690)","v":""},{"$f":"VLOOKUP(D674,Tabelle1!A:B,2,FALSE)","v":{"$error":"#N/A"}},{"$f":"IF(ISBLANK(PFS_PFD_SelectionTool!N715),\"\",PFS_PFD_SelectionTool!N715)","v":""},{"$f":"IF(ISBLANK(PFS_PFD_SelectionTool!O715),\"\",PFS_PFD_SelectionTool!O715)","v":""}]
[{"$f":"IF(ISBLANK(PFS_PFD_SelectionTool!C691),\"\",PFS_PFD_SelectionTool!C691)","v":""},{"$f":"IF(ISBLANK(PFS_PFD_SelectionTool!D691),\"\",PFS_PFD_SelectionTool!D691)","v":""},{"$f":"IF(ISBLANK(PFS_PFD_SelectionTool!E691&\"_\"&PFS_PFD_SelectionTool!F691&\"_\"&PFS_PFD_SelectionTool!G691&\"_\"&PFS_PFD_SelectionTool!H691&\"_\"&PFS_PFD_SelectionTool!I691&\"_\"&PFS_PFD_SelectionTool!J691),\"\",PFS_PFD_SelectionTool!E691&\"_\"&PFS_PFD_SelectionTool!F691&\"_\"&PFS_PFD_SelectionTool!G691&\"_\"&PFS_PFD_SelectionTool!H691&\"_\"&PFS_PFD_SelectionTool!I691&\"_\"&PFS_PFD_SelectionTool!J691)","v":"_____"},{"$f":"IF(ISBLANK(PFS_PFD_SelectionTool!K691),\"\",PFS_PFD_SelectionTool!K691)","v":""},{"$f":"VLOOKUP(D675,Tabelle1!A:B,2,FALSE)","v":{"$error":"#N/A"}},{"$f":"IF(ISBLANK(PFS_PFD_SelectionTool!N716),\"\",PFS_PFD_SelectionTool!N716)","v":""},{"$f":"IF(ISBLANK(PFS_PFD_SelectionTool!O716),\"\",PFS_PFD_SelectionTool!O716)","v":""}]
[{"$f":"IF(ISBLANK(PFS_PFD_SelectionTool!C692),\"\",PFS_PFD_SelectionTool!C692)","v":""},{"$f":"IF(ISBLANK(PFS_PFD_SelectionTool!D692),\"\",PFS_PFD_SelectionTool!D692)","v":""},{"$f":"IF(ISBLANK(PFS_PFD_SelectionTool!E692&\"_\"&PFS_PFD_SelectionTool!F692&\"_\"&PFS_PFD_SelectionTool!G692&\"_\"&PFS_PFD_SelectionTool!H692&\"_\"&PFS_PFD_SelectionTool!I692&\"_\"&PFS_PFD_SelectionTool!J692),\"\",PFS_PFD_SelectionTool!E692&\"_\"&PFS_PFD_SelectionTool!F692&\"_\"&PFS_PFD_SelectionTool!G692&\"_\"&PFS_PFD_SelectionTool!H692&\"_\"&PFS_PFD_SelectionTool!I692&\"_\"&PFS_PFD_SelectionTool!J692)","v":"_____"},{"$f":"IF(ISBLANK(PFS_PFD_SelectionTool!K692),\"\",PFS_PFD_SelectionTool!K692)","v":""},{"$f":"VLOOKUP(D676,Tabelle1!A:B,2,FALSE)","v":{"$error":"#N/A"}},{"$f":"IF(ISBLANK(PFS_PFD_SelectionTool!N717),\"\",PFS_PFD_SelectionTool!N717)","v":""},{"$f":"IF(ISBLANK(PFS_PFD_SelectionTool!O717),\"\",PFS_PFD_SelectionTool!O717)","v":""}]
[{"$f":"IF(ISBLANK(PFS_PFD_SelectionTool!C693),\"\",PFS_PFD_SelectionTool!C693)","v":""},{"$f":"IF(ISBLANK(PFS_PFD_SelectionTool!D693),\"\",PFS_PFD_SelectionTool!D693)","v":""},{"$f":"IF(ISBLANK(PFS_PFD_SelectionTool!E693&\"_\"&PFS_PFD_SelectionTool!F693&\"_\"&PFS_PFD_SelectionTool!G693&\"_\"&PFS_PFD_SelectionTool!H693&\"_\"&PFS_PFD_SelectionTool!I693&\"_\"&PFS_PFD_SelectionTool!J693),\"\",PFS_PFD_SelectionTool!E693&\"_\"&PFS_PFD_SelectionTool!F693&\"_\"&PFS_PFD_SelectionTool!G693&\"_\"&PFS_PFD_SelectionTool!H693&\"_\"&PFS_PFD_SelectionTool!I693&\"_\"&PFS_PFD_SelectionTool!J693)","v":"_____"},{"$f":"IF(ISBLANK(PFS_PFD_SelectionTool!K693),\"\",PFS_PFD_SelectionTool!K693)","v":""},{"$f":"VLOOKUP(D677,Tabelle1!A:B,2,FALSE)","v":{"$error":"#N/A"}},{"$f":"IF(ISBLANK(PFS_PFD_SelectionTool!N718),\"\",PFS_PFD_SelectionTool!N718)","v":""},{"$f":"IF(ISBLANK(PFS_PFD_SelectionTool!O718),\"\",PFS_PFD_SelectionTool!O718)","v":""}]
[{"$f":"IF(ISBLANK(PFS_PFD_SelectionTool!C694),\"\",PFS_PFD_SelectionTool!C694)","v":""},{"$f":"IF(ISBLANK(PFS_PFD_SelectionTool!D694),\"\",PFS_PFD_SelectionTool!D694)","v":""},{"$f":"IF(ISBLANK(PFS_PFD_SelectionTool!E694&\"_\"&PFS_PFD_SelectionTool!F694&\"_\"&PFS_PFD_SelectionTool!G694&\"_\"&PFS_PFD_SelectionTool!H694&\"_\"&PFS_PFD_SelectionTool!I694&\"_\"&PFS_PFD_SelectionTool!J694),\"\",PFS_PFD_SelectionTool!E694&\"_\"&PFS_PFD_SelectionTool!F694&\"_\"&PFS_PFD_SelectionTool!G694&\"_\"&PFS_PFD_SelectionTool!H694&\"_\"&PFS_PFD_SelectionTool!I694&\"_\"&PFS_PFD_SelectionTool!J694)","v":"_____"},{"$f":"IF(ISBLANK(PFS_PFD_SelectionTool!K694),\"\",PFS_PFD_SelectionTool!K694)","v":""},{"$f":"VLOOKUP(D678,Tabelle1!A:B,2,FALSE)","v":{"$error":"#N/A"}},{"$f":"IF(ISBLANK(PFS_PFD_SelectionTool!N719),\"\",PFS_PFD_SelectionTool!N719)","v":""},{"$f":"IF(ISBLANK(PFS_PFD_SelectionTool!O719),\"\",PFS_PFD_SelectionTool!O719)","v":""}]
[{"$f":"IF(ISBLANK(PFS_PFD_SelectionTool!C695),\"\",PFS_PFD_SelectionTool!C695)","v":""},{"$f":"IF(ISBLANK(PFS_PFD_SelectionTool!D695),\"\",PFS_PFD_SelectionTool!D695)","v":""},{"$f":"IF(ISBLANK(PFS_PFD_SelectionTool!E695&\"_\"&PFS_PFD_SelectionTool!F695&\"_\"&PFS_PFD_SelectionTool!G695&\"_\"&PFS_PFD_SelectionTool!H695&\"_\"&PFS_PFD_SelectionTool!I695&\"_\"&PFS_PFD_SelectionTool!J695),\"\",PFS_PFD_SelectionTool!E695&\"_\"&PFS_PFD_SelectionTool!F695&\"_\"&PFS_PFD_SelectionTool!G695&\"_\"&PFS_PFD_SelectionTool!H695&\"_\"&PFS_PFD_SelectionTool!I695&\"_\"&PFS_PFD_SelectionTool!J695)","v":"_____"},{"$f":"IF(ISBLANK(PFS_PFD_SelectionTool!K695),\"\",PFS_PFD_SelectionTool!K695)","v":""},{"$f":"VLOOKUP(D679,Tabelle1!A:B,2,FALSE)","v":{"$error":"#N/A"}},{"$f":"IF(ISBLANK(PFS_PFD_SelectionTool!N720),\"\",PFS_PFD_SelectionTool!N720)","v":""},{"$f":"IF(ISBLANK(PFS_PFD_SelectionTool!O720),\"\",PFS_PFD_SelectionTool!O720)","v":""}]
[{"$f":"IF(ISBLANK(PFS_PFD_SelectionTool!C696),\"\",PFS_PFD_SelectionTool!C696)","v":""},{"$f":"IF(ISBLANK(PFS_PFD_SelectionTool!D696),\"\",PFS_PFD_SelectionTool!D696)","v":""},{"$f":"IF(ISBLANK(PFS_PFD_SelectionTool!E696&\"_\"&PFS_PFD_SelectionTool!F696&\"_\"&PFS_PFD_SelectionTool!G696&\"_\"&PFS_PFD_SelectionTool!H696&\"_\"&PFS_PFD_SelectionTool!I696&\"_\"&PFS_PFD_SelectionTool!J696),\"\",PFS_PFD_SelectionTool!E696&\"_\"&PFS_PFD_SelectionTool!F696&\"_\"&PFS_PFD_SelectionTool!G696&\"_\"&PFS_PFD_SelectionTool!H696&\"_\"&PFS_PFD_SelectionTool!I696&\"_\"&PFS_PFD_SelectionTool!J696)","v":"_____"},{"$f":"IF(ISBLANK(PFS_PFD_SelectionTool!K696),\"\",PFS_PFD_SelectionTool!K696)","v":""},{"$f":"VLOOKUP(D680,Tabelle1!A:B,2,FALSE)","v":{"$error":"#N/A"}},{"$f":"IF(ISBLANK(PFS_PFD_SelectionTool!N721),\"\",PFS_PFD_SelectionTool!N721)","v":""},{"$f":"IF(ISBLANK(PFS_PFD_SelectionTool!O721),\"\",PFS_PFD_SelectionTool!O721)","v":""}]
[{"$f":"IF(ISBLANK(PFS_PFD_SelectionTool!C697),\"\",PFS_PFD_SelectionTool!C697)","v":""},{"$f":"IF(ISBLANK(PFS_PFD_SelectionTool!D697),\"\",PFS_PFD_SelectionTool!D697)","v":""},{"$f":"IF(ISBLANK(PFS_PFD_SelectionTool!E697&\"_\"&PFS_PFD_SelectionTool!F697&\"_\"&PFS_PFD_SelectionTool!G697&\"_\"&PFS_PFD_SelectionTool!H697&\"_\"&PFS_PFD_SelectionTool!I697&\"_\"&PFS_PFD_SelectionTool!J697),\"\",PFS_PFD_SelectionTool!E697&\"_\"&PFS_PFD_SelectionTool!F697&\"_\"&PFS_PFD_SelectionTool!G697&\"_\"&PFS_PFD_SelectionTool!H697&\"_\"&PFS_PFD_SelectionTool!I697&\"_\"&PFS_PFD_SelectionTool!J697)","v":"_____"},{"$f":"IF(ISBLANK(PFS_PFD_SelectionTool!K697),\"\",PFS_PFD_SelectionTool!K697)","v":""},{"$f":"VLOOKUP(D681,Tabelle1!A:B,2,FALSE)","v":{"$error":"#N/A"}},{"$f":"IF(ISBLANK(PFS_PFD_SelectionTool!N722),\"\",PFS_PFD_SelectionTool!N722)","v":""},{"$f":"IF(ISBLANK(PFS_PFD_SelectionTool!O722),\"\",PFS_PFD_SelectionTool!O722)","v":""}]
[{"$f":"IF(ISBLANK(PFS_PFD_SelectionTool!C698),\"\",PFS_PFD_SelectionTool!C698)","v":""},{"$f":"IF(ISBLANK(PFS_PFD_SelectionTool!D698),\"\",PFS_PFD_SelectionTool!D698)","v":""},{"$f":"IF(ISBLANK(PFS_PFD_SelectionTool!E698&\"_\"&PFS_PFD_SelectionTool!F698&\"_\"&PFS_PFD_SelectionTool!G698&\"_\"&PFS_PFD_SelectionTool!H698&\"_\"&PFS_PFD_SelectionTool!I698&\"_\"&PFS_PFD_SelectionTool!J698),\"\",PFS_PFD_SelectionTool!E698&\"_\"&PFS_PFD_SelectionTool!F698&\"_\"&PFS_PFD_SelectionTool!G698&\"_\"&PFS_PFD_SelectionTool!H698&\"_\"&PFS_PFD_SelectionTool!I698&\"_\"&PFS_PFD_SelectionTool!J698)","v":"_____"},{"$f":"IF(ISBLANK(PFS_PFD_SelectionTool!K698),\"\",PFS_PFD_SelectionTool!K698)","v":""},{"$f":"VLOOKUP(D682,Tabelle1!A:B,2,FALSE)","v":{"$error":"#N/A"}},{"$f":"IF(ISBLANK(PFS_PFD_SelectionTool!N723),\"\",PFS_PFD_SelectionTool!N723)","v":""},{"$f":"IF(ISBLANK(PFS_PFD_SelectionTool!O723),\"\",PFS_PFD_SelectionTool!O723)","v":""}]
[{"$f":"IF(ISBLANK(PFS_PFD_SelectionTool!C699),\"\",PFS_PFD_SelectionTool!C699)","v":""},{"$f":"IF(ISBLANK(PFS_PFD_SelectionTool!D699),\"\",PFS_PFD_SelectionTool!D699)","v":""},{"$f":"IF(ISBLANK(PFS_PFD_SelectionTool!E699&\"_\"&PFS_PFD_SelectionTool!F699&\"_\"&PFS_PFD_SelectionTool!G699&\"_\"&PFS_PFD_SelectionTool!H699&\"_\"&PFS_PFD_SelectionTool!I699&\"_\"&PFS_PFD_SelectionTool!J699),\"\",PFS_PFD_SelectionTool!E699&\"_\"&PFS_PFD_SelectionTool!F699&\"_\"&PFS_PFD_SelectionTool!G699&\"_\"&PFS_PFD_SelectionTool!H699&\"_\"&PFS_PFD_SelectionTool!I699&\"_\"&PFS_PFD_SelectionTool!J699)","v":"_____"},{"$f":"IF(ISBLANK(PFS_PFD_SelectionTool!K699),\"\",PFS_PFD_SelectionTool!K699)","v":""},{"$f":"VLOOKUP(D683,Tabelle1!A:B,2,FALSE)","v":{"$error":"#N/A"}},{"$f":"IF(ISBLANK(PFS_PFD_SelectionTool!N724),\"\",PFS_PFD_SelectionTool!N724)","v":""},{"$f":"IF(ISBLANK(PFS_PFD_SelectionTool!O724),\"\",PFS_PFD_SelectionTool!O724)","v":""}]
[{"$f":"IF(ISBLANK(PFS_PFD_SelectionTool!C700),\"\",PFS_PFD_SelectionTool!C700)","v":""},{"$f":"IF(ISBLANK(PFS_PFD_SelectionTool!D700),\"\",PFS_PFD_SelectionTool!D700)","v":""},{"$f":"IF(ISBLANK(PFS_PFD_SelectionTool!E700&\"_\"&PFS_PFD_SelectionTool!F700&\"_\"&PFS_PFD_SelectionTool!G700&\"_\"&PFS_PFD_SelectionTool!H700&\"_\"&PFS_PFD_SelectionTool!I700&\"_\"&PFS_PFD_SelectionTool!J700),\"\",PFS_PFD_SelectionTool!E700&\"_\"&PFS_PFD_SelectionTool!F700&\"_\"&PFS_PFD_SelectionTool!G700&\"_\"&PFS_PFD_SelectionTool!H700&\"_\"&PFS_PFD_SelectionTool!I700&\"_\"&PFS_PFD_SelectionTool!J700)","v":"_____"},{"$f":"IF(ISBLANK(PFS_PFD_SelectionTool!K700),\"\",PFS_PFD_SelectionTool!K700)","v":""},{"$f":"VLOOKUP(D684,Tabelle1!A:B,2,FALSE)","v":{"$error":"#N/A"}},{"$f":"IF(ISBLANK(PFS_PFD_SelectionTool!N725),\"\",PFS_PFD_SelectionTool!N725)","v":""},{"$f":"IF(ISBLANK(PFS_PFD_SelectionTool!O725),\"\",PFS_PFD_SelectionTool!O725)","v":""}]
[{"$f":"IF(ISBLANK(PFS_PFD_SelectionTool!C701),\"\",PFS_PFD_SelectionTool!C701)","v":""},{"$f":"IF(ISBLANK(PFS_PFD_SelectionTool!D701),\"\",PFS_PFD_SelectionTool!D701)","v":""},{"$f":"IF(ISBLANK(PFS_PFD_SelectionTool!E701&\"_\"&PFS_PFD_SelectionTool!F701&\"_\"&PFS_PFD_SelectionTool!G701&\"_\"&PFS_PFD_SelectionTool!H701&\"_\"&PFS_PFD_SelectionTool!I701&\"_\"&PFS_PFD_SelectionTool!J701),\"\",PFS_PFD_SelectionTool!E701&\"_\"&PFS_PFD_SelectionTool!F701&\"_\"&PFS_PFD_SelectionTool!G701&\"_\"&PFS_PFD_SelectionTool!H701&\"_\"&PFS_PFD_SelectionTool!I701&\"_\"&PFS_PFD_SelectionTool!J701)","v":"_____"},{"$f":"IF(ISBLANK(PFS_PFD_SelectionTool!K701),\"\",PFS_PFD_SelectionTool!K701)","v":""},{"$f":"VLOOKUP(D685,Tabelle1!A:B,2,FALSE)","v":{"$error":"#N/A"}},{"$f":"IF(ISBLANK(PFS_PFD_SelectionTool!N726),\"\",PFS_PFD_SelectionTool!N726)","v":""},{"$f":"IF(ISBLANK(PFS_PFD_SelectionTool!O726),\"\",PFS_PFD_SelectionTool!O726)","v":""}]
[{"$f":"IF(ISBLANK(PFS_PFD_SelectionTool!C702),\"\",PFS_PFD_SelectionTool!C702)","v":""},{"$f":"IF(ISBLANK(PFS_PFD_SelectionTool!D702),\"\",PFS_PFD_SelectionTool!D702)","v":""},{"$f":"IF(ISBLANK(PFS_PFD_SelectionTool!E702&\"_\"&PFS_PFD_SelectionTool!F702&\"_\"&PFS_PFD_SelectionTool!G702&\"_\"&PFS_PFD_SelectionTool!H702&\"_\"&PFS_PFD_SelectionTool!I702&\"_\"&PFS_PFD_SelectionTool!J702),\"\",PFS_PFD_SelectionTool!E702&\"_\"&PFS_PFD_SelectionTool!F702&\"_\"&PFS_PFD_SelectionTool!G702&\"_\"&PFS_PFD_SelectionTool!H702&\"_\"&PFS_PFD_SelectionTool!I702&\"_\"&PFS_PFD_SelectionTool!J702)","v":"_____"},{"$f":"IF(ISBLANK(PFS_PFD_SelectionTool!K702),\"\",PFS_PFD_SelectionTool!K702)","v":""},{"$f":"VLOOKUP(D686,Tabelle1!A:B,2,FALSE)","v":{"$error":"#N/A"}},{"$f":"IF(ISBLANK(PFS_PFD_SelectionTool!N727),\"\",PFS_PFD_SelectionTool!N727)","v":""},{"$f":"IF(ISBLANK(PFS_PFD_SelectionTool!O727),\"\",PFS_PFD_SelectionTool!O727)","v":""}]
[{"$f":"IF(ISBLANK(PFS_PFD_SelectionTool!C703),\"\",PFS_PFD_SelectionTool!C703)","v":""},{"$f":"IF(ISBLANK(PFS_PFD_SelectionTool!D703),\"\",PFS_PFD_SelectionTool!D703)","v":""},{"$f":"IF(ISBLANK(PFS_PFD_SelectionTool!E703&\"_\"&PFS_PFD_SelectionTool!F703&\"_\"&PFS_PFD_SelectionTool!G703&\"_\"&PFS_PFD_SelectionTool!H703&\"_\"&PFS_PFD_SelectionTool!I703&\"_\"&PFS_PFD_SelectionTool!J703),\"\",PFS_PFD_SelectionTool!E703&\"_\"&PFS_PFD_SelectionTool!F703&\"_\"&PFS_PFD_SelectionTool!G703&\"_\"&PFS_PFD_SelectionTool!H703&\"_\"&PFS_PFD_SelectionTool!I703&\"_\"&PFS_PFD_SelectionTool!J703)","v":"_____"},{"$f":"IF(ISBLANK(PFS_PFD_SelectionTool!K703),\"\",PFS_PFD_SelectionTool!K703)","v":""},{"$f":"VLOOKUP(D687,Tabelle1!A:B,2,FALSE)","v":{"$error":"#N/A"}},{"$f":"IF(ISBLANK(PFS_PFD_SelectionTool!N728),\"\",PFS_PFD_SelectionTool!N728)","v":""},{"$f":"IF(ISBLANK(PFS_PFD_SelectionTool!O728),\"\",PFS_PFD_SelectionTool!O728)","v":""}]
[{"$f":"IF(ISBLANK(PFS_PFD_SelectionTool!C704),\"\",PFS_PFD_SelectionTool!C704)","v":""},{"$f":"IF(ISBLANK(PFS_PFD_SelectionTool!D704),\"\",PFS_PFD_SelectionTool!D704)","v":""},{"$f":"IF(ISBLANK(PFS_PFD_SelectionTool!E704&\"_\"&PFS_PFD_SelectionTool!F704&\"_\"&PFS_PFD_SelectionTool!G704&\"_\"&PFS_PFD_SelectionTool!H704&\"_\"&PFS_PFD_SelectionTool!I704&\"_\"&PFS_PFD_SelectionTool!J704),\"\",PFS_PFD_SelectionTool!E704&\"_\"&PFS_PFD_SelectionTool!F704&\"_\"&PFS_PFD_SelectionTool!G704&\"_\"&PFS_PFD_SelectionTool!H704&\"_\"&PFS_PFD_SelectionTool!I704&\"_\"&PFS_PFD_SelectionTool!J704)","v":"_____"},{"$f":"IF(ISBLANK(PFS_PFD_SelectionTool!K704),\"\",PFS_PFD_SelectionTool!K704)","v":""},{"$f":"VLOOKUP(D688,Tabelle1!A:B,2,FALSE)","v":{"$error":"#N/A"}},{"$f":"IF(ISBLANK(PFS_PFD_SelectionTool!N729),\"\",PFS_PFD_SelectionTool!N729)","v":""},{"$f":"IF(ISBLANK(PFS_PFD_SelectionTool!O729),\"\",PFS_PFD_SelectionTool!O729)","v":""}]
[{"$f":"IF(ISBLANK(PFS_PFD_SelectionTool!C705),\"\",PFS_PFD_SelectionTool!C705)","v":""},{"$f":"IF(ISBLANK(PFS_PFD_SelectionTool!D705),\"\",PFS_PFD_SelectionTool!D705)","v":""},{"$f":"IF(ISBLANK(PFS_PFD_SelectionTool!E705&\"_\"&PFS_PFD_SelectionTool!F705&\"_\"&PFS_PFD_SelectionTool!G705&\"_\"&PFS_PFD_SelectionTool!H705&\"_\"&PFS_PFD_SelectionTool!I705&\"_\"&PFS_PFD_SelectionTool!J705),\"\",PFS_PFD_SelectionTool!E705&\"_\"&PFS_PFD_SelectionTool!F705&\"_\"&PFS_PFD_SelectionTool!G705&\"_\"&PFS_PFD_SelectionTool!H705&\"_\"&PFS_PFD_SelectionTool!I705&\"_\"&PFS_PFD_SelectionTool!J705)","v":"_____"},{"$f":"IF(ISBLANK(PFS_PFD_SelectionTool!K705),\"\",PFS_PFD_SelectionTool!K705)","v":""},{"$f":"VLOOKUP(D689,Tabelle1!A:B,2,FALSE)","v":{"$error":"#N/A"}},{"$f":"IF(ISBLANK(PFS_PFD_SelectionTool!N730),\"\",PFS_PFD_SelectionTool!N730)","v":""},{"$f":"IF(ISBLANK(PFS_PFD_SelectionTool!O730),\"\",PFS_PFD_SelectionTool!O730)","v":""}]
[{"$f":"IF(ISBLANK(PFS_PFD_SelectionTool!C706),\"\",PFS_PFD_SelectionTool!C706)","v":""},{"$f":"IF(ISBLANK(PFS_PFD_SelectionTool!D706),\"\",PFS_PFD_SelectionTool!D706)","v":""},{"$f":"IF(ISBLANK(PFS_PFD_SelectionTool!E706&\"_\"&PFS_PFD_SelectionTool!F706&\"_\"&PFS_PFD_SelectionTool!G706&\"_\"&PFS_PFD_SelectionTool!H706&\"_\"&PFS_PFD_SelectionTool!I706&\"_\"&PFS_PFD_SelectionTool!J706),\"\",PFS_PFD_SelectionTool!E706&\"_\"&PFS_PFD_SelectionTool!F706&\"_\"&PFS_PFD_SelectionTool!G706&\"_\"&PFS_PFD_SelectionTool!H706&\"_\"&PFS_PFD_SelectionTool!I706&\"_\"&PFS_PFD_SelectionTool!J706)","v":"_____"},{"$f":"IF(ISBLANK(PFS_PFD_SelectionTool!K706),\"\",PFS_PFD_SelectionTool!K706)","v":""},{"$f":"VLOOKUP(D690,Tabelle1!A:B,2,FALSE)","v":{"$error":"#N/A"}},{"$f":"IF(ISBLANK(PFS_PFD_SelectionTool!N731),\"\",PFS_PFD_SelectionTool!N731)","v":""},{"$f":"IF(ISBLANK(PFS_PFD_SelectionTool!O731),\"\",PFS_PFD_SelectionTool!O731)","v":""}]
[{"$f":"IF(ISBLANK(PFS_PFD_SelectionTool!C707),\"\",PFS_PFD_SelectionTool!C707)","v":""},{"$f":"IF(ISBLANK(PFS_PFD_SelectionTool!D707),\"\",PFS_PFD_SelectionTool!D707)","v":""},{"$f":"IF(ISBLANK(PFS_PFD_SelectionTool!E707&\"_\"&PFS_PFD_SelectionTool!F707&\"_\"&PFS_PFD_SelectionTool!G707&\"_\"&PFS_PFD_SelectionTool!H707&\"_\"&PFS_PFD_SelectionTool!I707&\"_\"&PFS_PFD_SelectionTool!J707),\"\",PFS_PFD_SelectionTool!E707&\"_\"&PFS_PFD_SelectionTool!F707&\"_\"&PFS_PFD_SelectionTool!G707&\"_\"&PFS_PFD_SelectionTool!H707&\"_\"&PFS_PFD_SelectionTool!I707&\"_\"&PFS_PFD_SelectionTool!J707)","v":"_____"},{"$f":"IF(ISBLANK(PFS_PFD_SelectionTool!K707),\"\",PFS_PFD_SelectionTool!K707)","v":""},{"$f":"VLOOKUP(D691,Tabelle1!A:B,2,FALSE)","v":{"$error":"#N/A"}},{"$f":"IF(ISBLANK(PFS_PFD_SelectionTool!N732),\"\",PFS_PFD_SelectionTool!N732)","v":""},{"$f":"IF(ISBLANK(PFS_PFD_SelectionTool!O732),\"\",PFS_PFD_SelectionTool!O732)","v":""}]
[{"$f":"IF(ISBLANK(PFS_PFD_SelectionTool!C708),\"\",PFS_PFD_SelectionTool!C708)","v":""},{"$f":"IF(ISBLANK(PFS_PFD_SelectionTool!D708),\"\",PFS_PFD_SelectionTool!D708)","v":""},{"$f":"IF(ISBLANK(PFS_PFD_SelectionTool!E708&\"_\"&PFS_PFD_SelectionTool!F708&\"_\"&PFS_PFD_SelectionTool!G708&\"_\"&PFS_PFD_SelectionTool!H708&\"_\"&PFS_PFD_SelectionTool!I708&\"_\"&PFS_PFD_SelectionTool!J708),\"\",PFS_PFD_SelectionTool!E708&\"_\"&PFS_PFD_SelectionTool!F708&\"_\"&PFS_PFD_SelectionTool!G708&\"_\"&PFS_PFD_SelectionTool!H708&\"_\"&PFS_PFD_SelectionTool!I708&\"_\"&PFS_PFD_SelectionTool!J708)","v":"_____"},{"$f":"IF(ISBLANK(PFS_PFD_SelectionTool!K708),\"\",PFS_PFD_SelectionTool!K708)","v":""},{"$f":"VLOOKUP(D692,Tabelle1!A:B,2,FALSE)","v":{"$error":"#N/A"}},{"$f":"IF(ISBLANK(PFS_PFD_SelectionTool!N733),\"\",PFS_PFD_SelectionTool!N733)","v":""},{"$f":"IF(ISBLANK(PFS_PFD_SelectionTool!O733),\"\",PFS_PFD_SelectionTool!O733)","v":""}]
[{"$f":"IF(ISBLANK(PFS_PFD_SelectionTool!C709),\"\",PFS_PFD_SelectionTool!C709)","v":""},{"$f":"IF(ISBLANK(PFS_PFD_SelectionTool!D709),\"\",PFS_PFD_SelectionTool!D709)","v":""},{"$f":"IF(ISBLANK(PFS_PFD_SelectionTool!E709&\"_\"&PFS_PFD_SelectionTool!F709&\"_\"&PFS_PFD_SelectionTool!G709&\"_\"&PFS_PFD_SelectionTool!H709&\"_\"&PFS_PFD_SelectionTool!I709&\"_\"&PFS_PFD_SelectionTool!J709),\"\",PFS_PFD_SelectionTool!E709&\"_\"&PFS_PFD_SelectionTool!F709&\"_\"&PFS_PFD_SelectionTool!G709&\"_\"&PFS_PFD_SelectionTool!H709&\"_\"&PFS_PFD_SelectionTool!I709&\"_\"&PFS_PFD_SelectionTool!J709)","v":"_____"},{"$f":"IF(ISBLANK(PFS_PFD_SelectionTool!K709),\"\",PFS_PFD_SelectionTool!K709)","v":""},{"$f":"VLOOKUP(D693,Tabelle1!A:B,2,FALSE)","v":{"$error":"#N/A"}},{"$f":"IF(ISBLANK(PFS_PFD_SelectionTool!N734),\"\",PFS_PFD_SelectionTool!N734)","v":""},{"$f":"IF(ISBLANK(PFS_PFD_SelectionTool!O734),\"\",PFS_PFD_SelectionTool!O734)","v":""}]
[{"$f":"IF(ISBLANK(PFS_PFD_SelectionTool!C710),\"\",PFS_PFD_SelectionTool!C710)","v":""},{"$f":"IF(ISBLANK(PFS_PFD_SelectionTool!D710),\"\",PFS_PFD_SelectionTool!D710)","v":""},{"$f":"IF(ISBLANK(PFS_PFD_SelectionTool!E710&\"_\"&PFS_PFD_SelectionTool!F710&\"_\"&PFS_PFD_SelectionTool!G710&\"_\"&PFS_PFD_SelectionTool!H710&\"_\"&PFS_PFD_SelectionTool!I710&\"_\"&PFS_PFD_SelectionTool!J710),\"\",PFS_PFD_SelectionTool!E710&\"_\"&PFS_PFD_SelectionTool!F710&\"_\"&PFS_PFD_SelectionTool!G710&\"_\"&PFS_PFD_SelectionTool!H710&\"_\"&PFS_PFD_SelectionTool!I710&\"_\"&PFS_PFD_SelectionTool!J710)","v":"_____"},{"$f":"IF(ISBLANK(PFS_PFD_SelectionTool!K710),\"\",PFS_PFD_SelectionTool!K710)","v":""},{"$f":"VLOOKUP(D694,Tabelle1!A:B,2,FALSE)","v":{"$error":"#N/A"}},{"$f":"IF(ISBLANK(PFS_PFD_SelectionTool!N735),\"\",PFS_PFD_SelectionTool!N735)","v":""},{"$f":"IF(ISBLANK(PFS_PFD_SelectionTool!O735),\"\",PFS_PFD_SelectionTool!O735)","v":""}]
[{"$f":"IF(ISBLANK(PFS_PFD_SelectionTool!C711),\"\",PFS_PFD_SelectionTool!C711)","v":""},{"$f":"IF(ISBLANK(PFS_PFD_SelectionTool!D711),\"\",PFS_PFD_SelectionTool!D711)","v":""},{"$f":"IF(ISBLANK(PFS_PFD_SelectionTool!E711&\"_\"&PFS_PFD_SelectionTool!F711&\"_\"&PFS_PFD_SelectionTool!G711&\"_\"&PFS_PFD_SelectionTool!H711&\"_\"&PFS_PFD_SelectionTool!I711&\"_\"&PFS_PFD_SelectionTool!J711),\"\",PFS_PFD_SelectionTool!E711&\"_\"&PFS_PFD_SelectionTool!F711&\"_\"&PFS_PFD_SelectionTool!G711&\"_\"&PFS_PFD_SelectionTool!H711&\"_\"&PFS_PFD_SelectionTool!I711&\"_\"&PFS_PFD_SelectionTool!J711)","v":"_____"},{"$f":"IF(ISBLANK(PFS_PFD_SelectionTool!K711),\"\",PFS_PFD_SelectionTool!K711)","v":""},{"$f":"VLOOKUP(D695,Tabelle1!A:B,2,FALSE)","v":{"$error":"#N/A"}},{"$f":"IF(ISBLANK(PFS_PFD_SelectionTool!N736),\"\",PFS_PFD_SelectionTool!N736)","v":""},{"$f":"IF(ISBLANK(PFS_PFD_SelectionTool!O736),\"\",PFS_PFD_SelectionTool!O736)","v":""}]
[{"$f":"IF(ISBLANK(PFS_PFD_SelectionTool!C712),\"\",PFS_PFD_SelectionTool!C712)","v":""},{"$f":"IF(ISBLANK(PFS_PFD_SelectionTool!D712),\"\",PFS_PFD_SelectionTool!D712)","v":""},{"$f":"IF(ISBLANK(PFS_PFD_SelectionTool!E712&\"_\"&PFS_PFD_SelectionTool!F712&\"_\"&PFS_PFD_SelectionTool!G712&\"_\"&PFS_PFD_SelectionTool!H712&\"_\"&PFS_PFD_SelectionTool!I712&\"_\"&PFS_PFD_SelectionTool!J712),\"\",PFS_PFD_SelectionTool!E712&\"_\"&PFS_PFD_SelectionTool!F712&\"_\"&PFS_PFD_SelectionTool!G712&\"_\"&PFS_PFD_SelectionTool!H712&\"_\"&PFS_PFD_SelectionTool!I712&\"_\"&PFS_PFD_SelectionTool!J712)","v":"_____"},{"$f":"IF(ISBLANK(PFS_PFD_SelectionTool!K712),\"\",PFS_PFD_SelectionTool!K712)","v":""},{"$f":"VLOOKUP(D696,Tabelle1!A:B,2,FALSE)","v":{"$error":"#N/A"}},{"$f":"IF(ISBLANK(PFS_PFD_SelectionTool!N737),\"\",PFS_PFD_SelectionTool!N737)","v":""},{"$f":"IF(ISBLANK(PFS_PFD_SelectionTool!O737),\"\",PFS_PFD_SelectionTool!O737)","v":""}]
[{"$f":"IF(ISBLANK(PFS_PFD_SelectionTool!C713),\"\",PFS_PFD_SelectionTool!C713)","v":""},{"$f":"IF(ISBLANK(PFS_PFD_SelectionTool!D713),\"\",PFS_PFD_SelectionTool!D713)","v":""},{"$f":"IF(ISBLANK(PFS_PFD_SelectionTool!E713&\"_\"&PFS_PFD_SelectionTool!F713&\"_\"&PFS_PFD_SelectionTool!G713&\"_\"&PFS_PFD_SelectionTool!H713&\"_\"&PFS_PFD_SelectionTool!I713&\"_\"&PFS_PFD_SelectionTool!J713),\"\",PFS_PFD_SelectionTool!E713&\"_\"&PFS_PFD_SelectionTool!F713&\"_\"&PFS_PFD_SelectionTool!G713&\"_\"&PFS_PFD_SelectionTool!H713&\"_\"&PFS_PFD_SelectionTool!I713&\"_\"&PFS_PFD_SelectionTool!J713)","v":"_____"},{"$f":"IF(ISBLANK(PFS_PFD_SelectionTool!K713),\"\",PFS_PFD_SelectionTool!K713)","v":""},{"$f":"VLOOKUP(D697,Tabelle1!A:B,2,FALSE)","v":{"$error":"#N/A"}},{"$f":"IF(ISBLANK(PFS_PFD_SelectionTool!N738),\"\",PFS_PFD_SelectionTool!N738)","v":""},{"$f":"IF(ISBLANK(PFS_PFD_SelectionTool!O738),\"\",PFS_PFD_SelectionTool!O738)","v":""}]
[{"$f":"IF(ISBLANK(PFS_PFD_SelectionTool!C714),\"\",PFS_PFD_SelectionTool!C714)","v":""},{"$f":"IF(ISBLANK(PFS_PFD_SelectionTool!D714),\"\",PFS_PFD_SelectionTool!D714)","v":""},{"$f":"IF(ISBLANK(PFS_PFD_SelectionTool!E714&\"_\"&PFS_PFD_SelectionTool!F714&\"_\"&PFS_PFD_SelectionTool!G714&\"_\"&PFS_PFD_SelectionTool!H714&\"_\"&PFS_PFD_SelectionTool!I714&\"_\"&PFS_PFD_SelectionTool!J714),\"\",PFS_PFD_SelectionTool!E714&\"_\"&PFS_PFD_SelectionTool!F714&\"_\"&PFS_PFD_SelectionTool!G714&\"_\"&PFS_PFD_SelectionTool!H714&\"_\"&PFS_PFD_SelectionTool!I714&\"_\"&PFS_PFD_SelectionTool!J714)","v":"_____"},{"$f":"IF(ISBLANK(PFS_PFD_SelectionTool!K714),\"\",PFS_PFD_SelectionTool!K714)","v":""},{"$f":"VLOOKUP(D698,Tabelle1!A:B,2,FALSE)","v":{"$error":"#N/A"}},{"$f":"IF(ISBLANK(PFS_PFD_SelectionTool!N739),\"\",PFS_PFD_SelectionTool!N739)","v":""},{"$f":"IF(ISBLANK(PFS_PFD_SelectionTool!O739),\"\",PFS_PFD_SelectionTool!O739)","v":""}]
[{"$f":"IF(ISBLANK(PFS_PFD_SelectionTool!C715),\"\",PFS_PFD_SelectionTool!C715)","v":""},{"$f":"IF(ISBLANK(PFS_PFD_SelectionTool!D715),\"\",PFS_PFD_SelectionTool!D715)","v":""},{"$f":"IF(ISBLANK(PFS_PFD_SelectionTool!E715&\"_\"&PFS_PFD_SelectionTool!F715&\"_\"&PFS_PFD_SelectionTool!G715&\"_\"&PFS_PFD_SelectionTool!H715&\"_\"&PFS_PFD_SelectionTool!I715&\"_\"&PFS_PFD_SelectionTool!J715),\"\",PFS_PFD_SelectionTool!E715&\"_\"&PFS_PFD_SelectionTool!F715&\"_\"&PFS_PFD_SelectionTool!G715&\"_\"&PFS_PFD_SelectionTool!H715&\"_\"&PFS_PFD_SelectionTool!I715&\"_\"&PFS_PFD_SelectionTool!J715)","v":"_____"},{"$f":"IF(ISBLANK(PFS_PFD_SelectionTool!K715),\"\",PFS_PFD_SelectionTool!K715)","v":""},{"$f":"VLOOKUP(D699,Tabelle1!A:B,2,FALSE)","v":{"$error":"#N/A"}},{"$f":"IF(ISBLANK(PFS_PFD_SelectionTool!N740),\"\",PFS_PFD_SelectionTool!N740)","v":""},{"$f":"IF(ISBLANK(PFS_PFD_SelectionTool!O740),\"\",PFS_PFD_SelectionTool!O740)","v":""}]
[{"$f":"IF(ISBLANK(PFS_PFD_SelectionTool!C716),\"\",PFS_PFD_SelectionTool!C716)","v":""},{"$f":"IF(ISBLANK(PFS_PFD_SelectionTool!D716),\"\",PFS_PFD_SelectionTool!D716)","v":""},{"$f":"IF(ISBLANK(PFS_PFD_SelectionTool!E716&\"_\"&PFS_PFD_SelectionTool!F716&\"_\"&PFS_PFD_SelectionTool!G716&\"_\"&PFS_PFD_SelectionTool!H716&\"_\"&PFS_PFD_SelectionTool!I716&\"_\"&PFS_PFD_SelectionTool!J716),\"\",PFS_PFD_SelectionTool!E716&\"_\"&PFS_PFD_SelectionTool!F716&\"_\"&PFS_PFD_SelectionTool!G716&\"_\"&PFS_PFD_SelectionTool!H716&\"_\"&PFS_PFD_SelectionTool!I716&\"_\"&PFS_PFD_SelectionTool!J716)","v":"_____"},{"$f":"IF(ISBLANK(PFS_PFD_SelectionTool!K716),\"\",PFS_PFD_SelectionTool!K716)","v":""},{"$f":"VLOOKUP(D700,Tabelle1!A:B,2,FALSE)","v":{"$error":"#N/A"}},{"$f":"IF(ISBLANK(PFS_PFD_SelectionTool!N741),\"\",PFS_PFD_SelectionTool!N741)","v":""},{"$f":"IF(ISBLANK(PFS_PFD_SelectionTool!O741),\"\",PFS_PFD_SelectionTool!O741)","v":""}]
[{"$f":"IF(ISBLANK(PFS_PFD_SelectionTool!C717),\"\",PFS_PFD_SelectionTool!C717)","v":""},{"$f":"IF(ISBLANK(PFS_PFD_SelectionTool!D717),\"\",PFS_PFD_SelectionTool!D717)","v":""},{"$f":"IF(ISBLANK(PFS_PFD_SelectionTool!E717&\"_\"&PFS_PFD_SelectionTool!F717&\"_\"&PFS_PFD_SelectionTool!G717&\"_\"&PFS_PFD_SelectionTool!H717&\"_\"&PFS_PFD_SelectionTool!I717&\"_\"&PFS_PFD_SelectionTool!J717),\"\",PFS_PFD_SelectionTool!E717&\"_\"&PFS_PFD_SelectionTool!F717&\"_\"&PFS_PFD_SelectionTool!G717&\"_\"&PFS_PFD_SelectionTool!H717&\"_\"&PFS_PFD_SelectionTool!I717&\"_\"&PFS_PFD_SelectionTool!J717)","v":"_____"},{"$f":"IF(ISBLANK(PFS_PFD_SelectionTool!K717),\"\",PFS_PFD_SelectionTool!K717)","v":""},{"$f":"VLOOKUP(D701,Tabelle1!A:B,2,FALSE)","v":{"$error":"#N/A"}},{"$f":"IF(ISBLANK(PFS_PFD_SelectionTool!N742),\"\",PFS_PFD_SelectionTool!N742)","v":""},{"$f":"IF(ISBLANK(PFS_PFD_SelectionTool!O742),\"\",PFS_PFD_SelectionTool!O742)","v":""}]
[{"$f":"IF(ISBLANK(PFS_PFD_SelectionTool!C718),\"\",PFS_PFD_SelectionTool!C718)","v":""},{"$f":"IF(ISBLANK(PFS_PFD_SelectionTool!D718),\"\",PFS_PFD_SelectionTool!D718)","v":""},{"$f":"IF(ISBLANK(PFS_PFD_SelectionTool!E718&\"_\"&PFS_PFD_SelectionTool!F718&\"_\"&PFS_PFD_SelectionTool!G718&\"_\"&PFS_PFD_SelectionTool!H718&\"_\"&PFS_PFD_SelectionTool!I718&\"_\"&PFS_PFD_SelectionTool!J718),\"\",PFS_PFD_SelectionTool!E718&\"_\"&PFS_PFD_SelectionTool!F718&\"_\"&PFS_PFD_SelectionTool!G718&\"_\"&PFS_PFD_SelectionTool!H718&\"_\"&PFS_PFD_SelectionTool!I718&\"_\"&PFS_PFD_SelectionTool!J718)","v":"_____"},{"$f":"IF(ISBLANK(PFS_PFD_SelectionTool!K718),\"\",PFS_PFD_SelectionTool!K718)","v":""},{"$f":"VLOOKUP(D702,Tabelle1!A:B,2,FALSE)","v":{"$error":"#N/A"}},{"$f":"IF(ISBLANK(PFS_PFD_SelectionTool!N743),\"\",PFS_PFD_SelectionTool!N743)","v":""},{"$f":"IF(ISBLANK(PFS_PFD_SelectionTool!O743),\"\",PFS_PFD_SelectionTool!O743)","v":""}]
[{"$f":"IF(ISBLANK(PFS_PFD_SelectionTool!C719),\"\",PFS_PFD_SelectionTool!C719)","v":""},{"$f":"IF(ISBLANK(PFS_PFD_SelectionTool!D719),\"\",PFS_PFD_SelectionTool!D719)","v":""},{"$f":"IF(ISBLANK(PFS_PFD_SelectionTool!E719&\"_\"&PFS_PFD_SelectionTool!F719&\"_\"&PFS_PFD_SelectionTool!G719&\"_\"&PFS_PFD_SelectionTool!H719&\"_\"&PFS_PFD_SelectionTool!I719&\"_\"&PFS_PFD_SelectionTool!J719),\"\",PFS_PFD_SelectionTool!E719&\"_\"&PFS_PFD_SelectionTool!F719&\"_\"&PFS_PFD_SelectionTool!G719&\"_\"&PFS_PFD_SelectionTool!H719&\"_\"&PFS_PFD_SelectionTool!I719&\"_\"&PFS_PFD_SelectionTool!J719)","v":"_____"},{"$f":"IF(ISBLANK(PFS_PFD_SelectionTool!K719),\"\",PFS_PFD_SelectionTool!K719)","v":""},{"$f":"VLOOKUP(D703,Tabelle1!A:B,2,FALSE)","v":{"$error":"#N/A"}},{"$f":"IF(ISBLANK(PFS_PFD_SelectionTool!N744),\"\",PFS_PFD_SelectionTool!N744)","v":""},{"$f":"IF(ISBLANK(PFS_PFD_SelectionTool!O744),\"\",PFS_PFD_SelectionTool!O744)","v":""}]
[{"$f":"IF(ISBLANK(PFS_PFD_SelectionTool!C720),\"\",PFS_PFD_SelectionTool!C720)","v":""},{"$f":"IF(ISBLANK(PFS_PFD_SelectionTool!D720),\"\",PFS_PFD_SelectionTool!D720)","v":""},{"$f":"IF(ISBLANK(PFS_PFD_SelectionTool!E720&\"_\"&PFS_PFD_SelectionTool!F720&\"_\"&PFS_PFD_SelectionTool!G720&\"_\"&PFS_PFD_SelectionTool!H720&\"_\"&PFS_PFD_SelectionTool!I720&\"_\"&PFS_PFD_SelectionTool!J720),\"\",PFS_PFD_SelectionTool!E720&\"_\"&PFS_PFD_SelectionTool!F720&\"_\"&PFS_PFD_SelectionTool!G720&\"_\"&PFS_PFD_SelectionTool!H720&\"_\"&PFS_PFD_SelectionTool!I720&\"_\"&PFS_PFD_SelectionTool!J720)","v":"_____"},{"$f":"IF(ISBLANK(PFS_PFD_SelectionTool!K720),\"\",PFS_PFD_SelectionTool!K720)","v":""},{"$f":"VLOOKUP(D704,Tabelle1!A:B,2,FALSE)","v":{"$error":"#N/A"}},{"$f":"IF(ISBLANK(PFS_PFD_SelectionTool!N745),\"\",PFS_PFD_SelectionTool!N745)","v":""},{"$f":"IF(ISBLANK(PFS_PFD_SelectionTool!O745),\"\",PFS_PFD_SelectionTool!O745)","v":""}]
[{"$f":"IF(ISBLANK(PFS_PFD_SelectionTool!C721),\"\",PFS_PFD_SelectionTool!C721)","v":""},{"$f":"IF(ISBLANK(PFS_PFD_SelectionTool!D721),\"\",PFS_PFD_SelectionTool!D721)","v":""},{"$f":"IF(ISBLANK(PFS_PFD_SelectionTool!E721&\"_\"&PFS_PFD_SelectionTool!F721&\"_\"&PFS_PFD_SelectionTool!G721&\"_\"&PFS_PFD_SelectionTool!H721&\"_\"&PFS_PFD_SelectionTool!I721&\"_\"&PFS_PFD_SelectionTool!J721),\"\",PFS_PFD_SelectionTool!E721&\"_\"&PFS_PFD_SelectionTool!F721&\"_\"&PFS_PFD_SelectionTool!G721&\"_\"&PFS_PFD_SelectionTool!H721&\"_\"&PFS_PFD_SelectionTool!I721&\"_\"&PFS_PFD_SelectionTool!J721)","v":"_____"},{"$f":"IF(ISBLANK(PFS_PFD_SelectionTool!K721),\"\",PFS_PFD_SelectionTool!K721)","v":""},{"$f":"VLOOKUP(D705,Tabelle1!A:B,2,FALSE)","v":{"$error":"#N/A"}},{"$f":"IF(ISBLANK(PFS_PFD_SelectionTool!N746),\"\",PFS_PFD_SelectionTool!N746)","v":""},{"$f":"IF(ISBLANK(PFS_PFD_SelectionTool!O746),\"\",PFS_PFD_SelectionTool!O746)","v":""}]
[{"$f":"IF(ISBLANK(PFS_PFD_SelectionTool!C722),\"\",PFS_PFD_SelectionTool!C722)","v":""},{"$f":"IF(ISBLANK(PFS_PFD_SelectionTool!D722),\"\",PFS_PFD_SelectionTool!D722)","v":""},{"$f":"IF(ISBLANK(PFS_PFD_SelectionTool!E722&\"_\"&PFS_PFD_SelectionTool!F722&\"_\"&PFS_PFD_SelectionTool!G722&\"_\"&PFS_PFD_SelectionTool!H722&\"_\"&PFS_PFD_SelectionTool!I722&\"_\"&PFS_PFD_SelectionTool!J722),\"\",PFS_PFD_SelectionTool!E722&\"_\"&PFS_PFD_SelectionTool!F722&\"_\"&PFS_PFD_SelectionTool!G722&\"_\"&PFS_PFD_SelectionTool!H722&\"_\"&PFS_PFD_SelectionTool!I722&\"_\"&PFS_PFD_SelectionTool!J722)","v":"_____"},{"$f":"IF(ISBLANK(PFS_PFD_SelectionTool!K722),\"\",PFS_PFD_SelectionTool!K722)","v":""},{"$f":"VLOOKUP(D706,Tabelle1!A:B,2,FALSE)","v":{"$error":"#N/A"}},{"$f":"IF(ISBLANK(PFS_PFD_SelectionTool!N747),\"\",PFS_PFD_SelectionTool!N747)","v":""},{"$f":"IF(ISBLANK(PFS_PFD_SelectionTool!O747),\"\",PFS_PFD_SelectionTool!O747)","v":""}]
[{"$f":"IF(ISBLANK(PFS_PFD_SelectionTool!C723),\"\",PFS_PFD_SelectionTool!C723)","v":""},{"$f":"IF(ISBLANK(PFS_PFD_SelectionTool!D723),\"\",PFS_PFD_SelectionTool!D723)","v":""},{"$f":"IF(ISBLANK(PFS_PFD_SelectionTool!E723&\"_\"&PFS_PFD_SelectionTool!F723&\"_\"&PFS_PFD_SelectionTool!G723&\"_\"&PFS_PFD_SelectionTool!H723&\"_\"&PFS_PFD_SelectionTool!I723&\"_\"&PFS_PFD_SelectionTool!J723),\"\",PFS_PFD_SelectionTool!E723&\"_\"&PFS_PFD_SelectionTool!F723&\"_\"&PFS_PFD_SelectionTool!G723&\"_\"&PFS_PFD_SelectionTool!H723&\"_\"&PFS_PFD_SelectionTool!I723&\"_\"&PFS_PFD_SelectionTool!J723)","v":"_____"},{"$f":"IF(ISBLANK(PFS_PFD_SelectionTool!K723),\"\",PFS_PFD_SelectionTool!K723)","v":""},{"$f":"VLOOKUP(D707,Tabelle1!A:B,2,FALSE)","v":{"$error":"#N/A"}},{"$f":"IF(ISBLANK(PFS_PFD_SelectionTool!N748),\"\",PFS_PFD_SelectionTool!N748)","v":""},{"$f":"IF(ISBLANK(PFS_PFD_SelectionTool!O748),\"\",PFS_PFD_SelectionTool!O748)","v":""}]
[{"$f":"IF(ISBLANK(PFS_PFD_SelectionTool!C724),\"\",PFS_PFD_SelectionTool!C724)","v":""},{"$f":"IF(ISBLANK(PFS_PFD_SelectionTool!D724),\"\",PFS_PFD_SelectionTool!D724)","v":""},{"$f":"IF(ISBLANK(PFS_PFD_SelectionTool!E724&\"_\"&PFS_PFD_SelectionTool!F724&\"_\"&PFS_PFD_SelectionTool!G724&\"_\"&PFS_PFD_SelectionTool!H724&\"_\"&PFS_PFD_SelectionTool!I724&\"_\"&PFS_PFD_SelectionTool!J724),\"\",PFS_PFD_SelectionTool!E724&\"_\"&PFS_PFD_SelectionTool!F724&\"_\"&PFS_PFD_SelectionTool!G724&\"_\"&PFS_PFD_SelectionTool!H724&\"_\"&PFS_PFD_SelectionTool!I724&\"_\"&PFS_PFD_SelectionTool!J724)","v":"_____"},{"$f":"IF(ISBLANK(PFS_PFD_SelectionTool!K724),\"\",PFS_PFD_SelectionTool!K724)","v":""},{"$f":"VLOOKUP(D708,Tabelle1!A:B,2,FALSE)","v":{"$error":"#N/A"}},{"$f":"IF(ISBLANK(PFS_PFD_SelectionTool!N749),\"\",PFS_PFD_SelectionTool!N749)","v":""},{"$f":"IF(ISBLANK(PFS_PFD_SelectionTool!O749),\"\",PFS_PFD_SelectionTool!O749)","v":""}]
[{"$f":"IF(ISBLANK(PFS_PFD_SelectionTool!C725),\"\",PFS_PFD_SelectionTool!C725)","v":""},{"$f":"IF(ISBLANK(PFS_PFD_SelectionTool!D725),\"\",PFS_PFD_SelectionTool!D725)","v":""},{"$f":"IF(ISBLANK(PFS_PFD_SelectionTool!E725&\"_\"&PFS_PFD_SelectionTool!F725&\"_\"&PFS_PFD_SelectionTool!G725&\"_\"&PFS_PFD_SelectionTool!H725&\"_\"&PFS_PFD_SelectionTool!I725&\"_\"&PFS_PFD_SelectionTool!J725),\"\",PFS_PFD_SelectionTool!E725&\"_\"&PFS_PFD_SelectionTool!F725&\"_\"&PFS_PFD_SelectionTool!G725&\"_\"&PFS_PFD_SelectionTool!H725&\"_\"&PFS_PFD_SelectionTool!I725&\"_\"&PFS_PFD_SelectionTool!J725)","v":"_____"},{"$f":"IF(ISBLANK(PFS_PFD_SelectionTool!K725),\"\",PFS_PFD_SelectionTool!K725)","v":""},{"$f":"VLOOKUP(D709,Tabelle1!A:B,2,FALSE)","v":{"$error":"#N/A"}},{"$f":"IF(ISBLANK(PFS_PFD_SelectionTool!N750),\"\",PFS_PFD_SelectionTool!N750)","v":""},{"$f":"IF(ISBLANK(PFS_PFD_SelectionTool!O750),\"\",PFS_PFD_SelectionTool!O750)","v":""}]
[{"$f":"IF(ISBLANK(PFS_PFD_SelectionTool!C726),\"\",PFS_PFD_SelectionTool!C726)","v":""},{"$f":"IF(ISBLANK(PFS_PFD_SelectionTool!D726),\"\",PFS_PFD_SelectionTool!D726)","v":""},{"$f":"IF(ISBLANK(PFS_PFD_SelectionTool!E726&\"_\"&PFS_PFD_SelectionTool!F726&\"_\"&PFS_PFD_SelectionTool!G726&\"_\"&PFS_PFD_SelectionTool!H726&\"_\"&PFS_PFD_SelectionTool!I726&\"_\"&PFS_PFD_SelectionTool!J726),\"\",PFS_PFD_SelectionTool!E726&\"_\"&PFS_PFD_SelectionTool!F726&\"_\"&PFS_PFD_SelectionTool!G726&\"_\"&PFS_PFD_SelectionTool!H726&\"_\"&PFS_PFD_SelectionTool!I726&\"_\"&PFS_PFD_SelectionTool!J726)","v":"_____"},{"$f":"IF(ISBLANK(PFS_PFD_SelectionTool!K726),\"\",PFS_PFD_SelectionTool!K726)","v":""},{"$f":"VLOOKUP(D710,Tabelle1!A:B,2,FALSE)","v":{"$error":"#N/A"}},{"$f":"IF(ISBLANK(PFS_PFD_SelectionTool!N751),\"\",PFS_PFD_SelectionTool!N751)","v":""},{"$f":"IF(ISBLANK(PFS_PFD_SelectionTool!O751),\"\",PFS_PFD_SelectionTool!O751)","v":""}]
[{"$f":"IF(ISBLANK(PFS_PFD_SelectionTool!C727),\"\",PFS_PFD_SelectionTool!C727)","v":""},{"$f":"IF(ISBLANK(PFS_PFD_SelectionTool!D727),\"\",PFS_PFD_SelectionTool!D727)","v":""},{"$f":"IF(ISBLANK(PFS_PFD_SelectionTool!E727&\"_\"&PFS_PFD_SelectionTool!F727&\"_\"&PFS_PFD_SelectionTool!G727&\"_\"&PFS_PFD_SelectionTool!H727&\"_\"&PFS_PFD_SelectionTool!I727&\"_\"&PFS_PFD_SelectionTool!J727),\"\",PFS_PFD_SelectionTool!E727&\"_\"&PFS_PFD_SelectionTool!F727&\"_\"&PFS_PFD_SelectionTool!G727&\"_\"&PFS_PFD_SelectionTool!H727&\"_\"&PFS_PFD_SelectionTool!I727&\"_\"&PFS_PFD_SelectionTool!J727)","v":"_____"},{"$f":"IF(ISBLANK(PFS_PFD_SelectionTool!K727),\"\",PFS_PFD_SelectionTool!K727)","v":""},{"$f":"VLOOKUP(D711,Tabelle1!A:B,2,FALSE)","v":{"$error":"#N/A"}},{"$f":"IF(ISBLANK(PFS_PFD_SelectionTool!N752),\"\",PFS_PFD_SelectionTool!N752)","v":""},{"$f":"IF(ISBLANK(PFS_PFD_SelectionTool!O752),\"\",PFS_PFD_SelectionTool!O752)","v":""}]
[{"$f":"IF(ISBLANK(PFS_PFD_SelectionTool!C728),\"\",PFS_PFD_SelectionTool!C728)","v":""},{"$f":"IF(ISBLANK(PFS_PFD_SelectionTool!D728),\"\",PFS_PFD_SelectionTool!D728)","v":""},{"$f":"IF(ISBLANK(PFS_PFD_SelectionTool!E728&\"_\"&PFS_PFD_SelectionTool!F728&\"_\"&PFS_PFD_SelectionTool!G728&\"_\"&PFS_PFD_SelectionTool!H728&\"_\"&PFS_PFD_SelectionTool!I728&\"_\"&PFS_PFD_SelectionTool!J728),\"\",PFS_PFD_SelectionTool!E728&\"_\"&PFS_PFD_SelectionTool!F728&\"_\"&PFS_PFD_SelectionTool!G728&\"_\"&PFS_PFD_SelectionTool!H728&\"_\"&PFS_PFD_SelectionTool!I728&\"_\"&PFS_PFD_SelectionTool!J728)","v":"_____"},{"$f":"IF(ISBLANK(PFS_PFD_SelectionTool!K728),\"\",PFS_PFD_SelectionTool!K728)","v":""},{"$f":"VLOOKUP(D712,Tabelle1!A:B,2,FALSE)","v":{"$error":"#N/A"}},{"$f":"IF(ISBLANK(PFS_PFD_SelectionTool!N753),\"\",PFS_PFD_SelectionTool!N753)","v":""},{"$f":"IF(ISBLANK(PFS_PFD_SelectionTool!O753),\"\",PFS_PFD_SelectionTool!O753)","v":""}]
[{"$f":"IF(ISBLANK(PFS_PFD_SelectionTool!C729),\"\",PFS_PFD_SelectionTool!C729)","v":""},{"$f":"IF(ISBLANK(PFS_PFD_SelectionTool!D729),\"\",PFS_PFD_SelectionTool!D729)","v":""},{"$f":"IF(ISBLANK(PFS_PFD_SelectionTool!E729&\"_\"&PFS_PFD_SelectionTool!F729&\"_\"&PFS_PFD_SelectionTool!G729&\"_\"&PFS_PFD_SelectionTool!H729&\"_\"&PFS_PFD_SelectionTool!I729&\"_\"&PFS_PFD_SelectionTool!J729),\"\",PFS_PFD_SelectionTool!E729&\"_\"&PFS_PFD_SelectionTool!F729&\"_\"&PFS_PFD_SelectionTool!G729&\"_\"&PFS_PFD_SelectionTool!H729&\"_\"&PFS_PFD_SelectionTool!I729&\"_\"&PFS_PFD_SelectionTool!J729)","v":"_____"},{"$f":"IF(ISBLANK(PFS_PFD_SelectionTool!K729),\"\",PFS_PFD_SelectionTool!K729)","v":""},{"$f":"VLOOKUP(D713,Tabelle1!A:B,2,FALSE)","v":{"$error":"#N/A"}},{"$f":"IF(ISBLANK(PFS_PFD_SelectionTool!N754),\"\",PFS_PFD_SelectionTool!N754)","v":""},{"$f":"IF(ISBLANK(PFS_PFD_SelectionTool!O754),\"\",PFS_PFD_SelectionTool!O754)","v":""}]
[{"$f":"IF(ISBLANK(PFS_PFD_SelectionTool!C730),\"\",PFS_PFD_SelectionTool!C730)","v":""},{"$f":"IF(ISBLANK(PFS_PFD_SelectionTool!D730),\"\",PFS_PFD_SelectionTool!D730)","v":""},{"$f":"IF(ISBLANK(PFS_PFD_SelectionTool!E730&\"_\"&PFS_PFD_SelectionTool!F730&\"_\"&PFS_PFD_SelectionTool!G730&\"_\"&PFS_PFD_SelectionTool!H730&\"_\"&PFS_PFD_SelectionTool!I730&\"_\"&PFS_PFD_SelectionTool!J730),\"\",PFS_PFD_SelectionTool!E730&\"_\"&PFS_PFD_SelectionTool!F730&\"_\"&PFS_PFD_SelectionTool!G730&\"_\"&PFS_PFD_SelectionTool!H730&\"_\"&PFS_PFD_SelectionTool!I730&\"_\"&PFS_PFD_SelectionTool!J730)","v":"_____"},{"$f":"IF(ISBLANK(PFS_PFD_SelectionTool!K730),\"\",PFS_PFD_SelectionTool!K730)","v":""},{"$f":"VLOOKUP(D714,Tabelle1!A:B,2,FALSE)","v":{"$error":"#N/A"}},{"$f":"IF(ISBLANK(PFS_PFD_SelectionTool!N755),\"\",PFS_PFD_SelectionTool!N755)","v":""},{"$f":"IF(ISBLANK(PFS_PFD_SelectionTool!O755),\"\",PFS_PFD_SelectionTool!O755)","v":""}]
[{"$f":"IF(ISBLANK(PFS_PFD_SelectionTool!C731),\"\",PFS_PFD_SelectionTool!C731)","v":""},{"$f":"IF(ISBLANK(PFS_PFD_SelectionTool!D731),\"\",PFS_PFD_SelectionTool!D731)","v":""},{"$f":"IF(ISBLANK(PFS_PFD_SelectionTool!E731&\"_\"&PFS_PFD_SelectionTool!F731&\"_\"&PFS_PFD_SelectionTool!G731&\"_\"&PFS_PFD_SelectionTool!H731&\"_\"&PFS_PFD_SelectionTool!I731&\"_\"&PFS_PFD_SelectionTool!J731),\"\",PFS_PFD_SelectionTool!E731&\"_\"&PFS_PFD_SelectionTool!F731&\"_\"&PFS_PFD_SelectionTool!G731&\"_\"&PFS_PFD_SelectionTool!H731&\"_\"&PFS_PFD_SelectionTool!I731&\"_\"&PFS_PFD_SelectionTool!J731)","v":"_____"},{"$f":"IF(ISBLANK(PFS_PFD_SelectionTool!K731),\"\",PFS_PFD_SelectionTool!K731)","v":""},{"$f":"VLOOKUP(D715,Tabelle1!A:B,2,FALSE)","v":{"$error":"#N/A"}},{"$f":"IF(ISBLANK(PFS_PFD_SelectionTool!N756),\"\",PFS_PFD_SelectionTool!N756)","v":""},{"$f":"IF(ISBLANK(PFS_PFD_SelectionTool!O756),\"\",PFS_PFD_SelectionTool!O756)","v":""}]
[{"$f":"IF(ISBLANK(PFS_PFD_SelectionTool!C732),\"\",PFS_PFD_SelectionTool!C732)","v":""},{"$f":"IF(ISBLANK(PFS_PFD_SelectionTool!D732),\"\",PFS_PFD_SelectionTool!D732)","v":""},{"$f":"IF(ISBLANK(PFS_PFD_SelectionTool!E732&\"_\"&PFS_PFD_SelectionTool!F732&\"_\"&PFS_PFD_SelectionTool!G732&\"_\"&PFS_PFD_SelectionTool!H732&\"_\"&PFS_PFD_SelectionTool!I732&\"_\"&PFS_PFD_SelectionTool!J732),\"\",PFS_PFD_SelectionTool!E732&\"_\"&PFS_PFD_SelectionTool!F732&\"_\"&PFS_PFD_SelectionTool!G732&\"_\"&PFS_PFD_SelectionTool!H732&\"_\"&PFS_PFD_SelectionTool!I732&\"_\"&PFS_PFD_SelectionTool!J732)","v":"_____"},{"$f":"IF(ISBLANK(PFS_PFD_SelectionTool!K732),\"\",PFS_PFD_SelectionTool!K732)","v":""},{"$f":"VLOOKUP(D716,Tabelle1!A:B,2,FALSE)","v":{"$error":"#N/A"}},{"$f":"IF(ISBLANK(PFS_PFD_SelectionTool!N757),\"\",PFS_PFD_SelectionTool!N757)","v":""},{"$f":"IF(ISBLANK(PFS_PFD_SelectionTool!O757),\"\",PFS_PFD_SelectionTool!O757)","v":""}]
[{"$f":"IF(ISBLANK(PFS_PFD_SelectionTool!C733),\"\",PFS_PFD_SelectionTool!C733)","v":""},{"$f":"IF(ISBLANK(PFS_PFD_SelectionTool!D733),\"\",PFS_PFD_SelectionTool!D733)","v":""},{"$f":"IF(ISBLANK(PFS_PFD_SelectionTool!E733&\"_\"&PFS_PFD_SelectionTool!F733&\"_\"&PFS_PFD_SelectionTool!G733&\"_\"&PFS_PFD_SelectionTool!H733&\"_\"&PFS_PFD_SelectionTool!I733&\"_\"&PFS_PFD_SelectionTool!J733),\"\",PFS_PFD_SelectionTool!E733&\"_\"&PFS_PFD_SelectionTool!F733&\"_\"&PFS_PFD_SelectionTool!G733&\"_\"&PFS_PFD_SelectionTool!H733&\"_\"&PFS_PFD_SelectionTool!I733&\"_\"&PFS_PFD_SelectionTool!J733)","v":"_____"},{"$f":"IF(ISBLANK(PFS_PFD_SelectionTool!K733),\"\",PFS_PFD_SelectionTool!K733)","v":""},{"$f":"VLOOKUP(D717,Tabelle1!A:B,2,FALSE)","v":{"$error":"#N/A"}},{"$f":"IF(ISBLANK(PFS_PFD_SelectionTool!N758),\"\",PFS_PFD_SelectionTool!N758)","v":""},{"$f":"IF(ISBLANK(PFS_PFD_SelectionTool!O758),\"\",PFS_PFD_SelectionTool!O758)","v":""}]
[{"$f":"IF(ISBLANK(PFS_PFD_SelectionTool!C734),\"\",PFS_PFD_SelectionTool!C734)","v":""},{"$f":"IF(ISBLANK(PFS_PFD_SelectionTool!D734),\"\",PFS_PFD_SelectionTool!D734)","v":""},{"$f":"IF(ISBLANK(PFS_PFD_SelectionTool!E734&\"_\"&PFS_PFD_SelectionTool!F734&\"_\"&PFS_PFD_SelectionTool!G734&\"_\"&PFS_PFD_SelectionTool!H734&\"_\"&PFS_PFD_SelectionTool!I734&\"_\"&PFS_PFD_SelectionTool!J734),\"\",PFS_PFD_SelectionTool!E734&\"_\"&PFS_PFD_SelectionTool!F734&\"_\"&PFS_PFD_SelectionTool!G734&\"_\"&PFS_PFD_SelectionTool!H734&\"_\"&PFS_PFD_SelectionTool!I734&\"_\"&PFS_PFD_SelectionTool!J734)","v":"_____"},{"$f":"IF(ISBLANK(PFS_PFD_SelectionTool!K734),\"\",PFS_PFD_SelectionTool!K734)","v":""},{"$f":"VLOOKUP(D718,Tabelle1!A:B,2,FALSE)","v":{"$error":"#N/A"}},{"$f":"IF(ISBLANK(PFS_PFD_SelectionTool!N759),\"\",PFS_PFD_SelectionTool!N759)","v":""},{"$f":"IF(ISBLANK(PFS_PFD_SelectionTool!O759),\"\",PFS_PFD_SelectionTool!O759)","v":""}]
[{"$f":"IF(ISBLANK(PFS_PFD_SelectionTool!C735),\"\",PFS_PFD_SelectionTool!C735)","v":""},{"$f":"IF(ISBLANK(PFS_PFD_SelectionTool!D735),\"\",PFS_PFD_SelectionTool!D735)","v":""},{"$f":"IF(ISBLANK(PFS_PFD_SelectionTool!E735&\"_\"&PFS_PFD_SelectionTool!F735&\"_\"&PFS_PFD_SelectionTool!G735&\"_\"&PFS_PFD_SelectionTool!H735&\"_\"&PFS_PFD_SelectionTool!I735&\"_\"&PFS_PFD_SelectionTool!J735),\"\",PFS_PFD_SelectionTool!E735&\"_\"&PFS_PFD_SelectionTool!F735&\"_\"&PFS_PFD_SelectionTool!G735&\"_\"&PFS_PFD_SelectionTool!H735&\"_\"&PFS_PFD_SelectionTool!I735&\"_\"&PFS_PFD_SelectionTool!J735)","v":"_____"},{"$f":"IF(ISBLANK(PFS_PFD_SelectionTool!K735),\"\",PFS_PFD_SelectionTool!K735)","v":""},{"$f":"VLOOKUP(D719,Tabelle1!A:B,2,FALSE)","v":{"$error":"#N/A"}},{"$f":"IF(ISBLANK(PFS_PFD_SelectionTool!N760),\"\",PFS_PFD_SelectionTool!N760)","v":""},{"$f":"IF(ISBLANK(PFS_PFD_SelectionTool!O760),\"\",PFS_PFD_SelectionTool!O760)","v":""}]
[{"$f":"IF(ISBLANK(PFS_PFD_SelectionTool!C736),\"\",PFS_PFD_SelectionTool!C736)","v":""},{"$f":"IF(ISBLANK(PFS_PFD_SelectionTool!D736),\"\",PFS_PFD_SelectionTool!D736)","v":""},{"$f":"IF(ISBLANK(PFS_PFD_SelectionTool!E736&\"_\"&PFS_PFD_SelectionTool!F736&\"_\"&PFS_PFD_SelectionTool!G736&\"_\"&PFS_PFD_SelectionTool!H736&\"_\"&PFS_PFD_SelectionTool!I736&\"_\"&PFS_PFD_SelectionTool!J736),\"\",PFS_PFD_SelectionTool!E736&\"_\"&PFS_PFD_SelectionTool!F736&\"_\"&PFS_PFD_SelectionTool!G736&\"_\"&PFS_PFD_SelectionTool!H736&\"_\"&PFS_PFD_SelectionTool!I736&\"_\"&PFS_PFD_SelectionTool!J736)","v":"_____"},{"$f":"IF(ISBLANK(PFS_PFD_SelectionTool!K736),\"\",PFS_PFD_SelectionTool!K736)","v":""},{"$f":"VLOOKUP(D720,Tabelle1!A:B,2,FALSE)","v":{"$error":"#N/A"}},{"$f":"IF(ISBLANK(PFS_PFD_SelectionTool!N761),\"\",PFS_PFD_SelectionTool!N761)","v":""},{"$f":"IF(ISBLANK(PFS_PFD_SelectionTool!O761),\"\",PFS_PFD_SelectionTool!O761)","v":""}]
[{"$f":"IF(ISBLANK(PFS_PFD_SelectionTool!C737),\"\",PFS_PFD_SelectionTool!C737)","v":""},{"$f":"IF(ISBLANK(PFS_PFD_SelectionTool!D737),\"\",PFS_PFD_SelectionTool!D737)","v":""},{"$f":"IF(ISBLANK(PFS_PFD_SelectionTool!E737&\"_\"&PFS_PFD_SelectionTool!F737&\"_\"&PFS_PFD_SelectionTool!G737&\"_\"&PFS_PFD_SelectionTool!H737&\"_\"&PFS_PFD_SelectionTool!I737&\"_\"&PFS_PFD_SelectionTool!J737),\"\",PFS_PFD_SelectionTool!E737&\"_\"&PFS_PFD_SelectionTool!F737&\"_\"&PFS_PFD_SelectionTool!G737&\"_\"&PFS_PFD_SelectionTool!H737&\"_\"&PFS_PFD_SelectionTool!I737&\"_\"&PFS_PFD_SelectionTool!J737)","v":"_____"},{"$f":"IF(ISBLANK(PFS_PFD_SelectionTool!K737),\"\",PFS_PFD_SelectionTool!K737)","v":""},{"$f":"VLOOKUP(D721,Tabelle1!A:B,2,FALSE)","v":{"$error":"#N/A"}},{"$f":"IF(ISBLANK(PFS_PFD_SelectionTool!N762),\"\",PFS_PFD_SelectionTool!N762)","v":""},{"$f":"IF(ISBLANK(PFS_PFD_SelectionTool!O762),\"\",PFS_PFD_SelectionTool!O762)","v":""}]
[{"$f":"IF(ISBLANK(PFS_PFD_SelectionTool!C738),\"\",PFS_PFD_SelectionTool!C738)","v":""},{"$f":"IF(ISBLANK(PFS_PFD_SelectionTool!D738),\"\",PFS_PFD_SelectionTool!D738)","v":""},{"$f":"IF(ISBLANK(PFS_PFD_SelectionTool!E738&\"_\"&PFS_PFD_SelectionTool!F738&\"_\"&PFS_PFD_SelectionTool!G738&\"_\"&PFS_PFD_SelectionTool!H738&\"_\"&PFS_PFD_SelectionTool!I738&\"_\"&PFS_PFD_SelectionTool!J738),\"\",PFS_PFD_SelectionTool!E738&\"_\"&PFS_PFD_SelectionTool!F738&\"_\"&PFS_PFD_SelectionTool!G738&\"_\"&PFS_PFD_SelectionTool!H738&\"_\"&PFS_PFD_SelectionTool!I738&\"_\"&PFS_PFD_SelectionTool!J738)","v":"_____"},{"$f":"IF(ISBLANK(PFS_PFD_SelectionTool!K738),\"\",PFS_PFD_SelectionTool!K738)","v":""},{"$f":"VLOOKUP(D722,Tabelle1!A:B,2,FALSE)","v":{"$error":"#N/A"}},{"$f":"IF(ISBLANK(PFS_PFD_SelectionTool!N763),\"\",PFS_PFD_SelectionTool!N763)","v":""},{"$f":"IF(ISBLANK(PFS_PFD_SelectionTool!O763),\"\",PFS_PFD_SelectionTool!O763)","v":""}]
[{"$f":"IF(ISBLANK(PFS_PFD_SelectionTool!C739),\"\",PFS_PFD_SelectionTool!C739)","v":""},{"$f":"IF(ISBLANK(PFS_PFD_SelectionTool!D739),\"\",PFS_PFD_SelectionTool!D739)","v":""},{"$f":"IF(ISBLANK(PFS_PFD_SelectionTool!E739&\"_\"&PFS_PFD_SelectionTool!F739&\"_\"&PFS_PFD_SelectionTool!G739&\"_\"&PFS_PFD_SelectionTool!H739&\"_\"&PFS_PFD_SelectionTool!I739&\"_\"&PFS_PFD_SelectionTool!J739),\"\",PFS_PFD_SelectionTool!E739&\"_\"&PFS_PFD_SelectionTool!F739&\"_\"&PFS_PFD_SelectionTool!G739&\"_\"&PFS_PFD_SelectionTool!H739&\"_\"&PFS_PFD_SelectionTool!I739&\"_\"&PFS_PFD_SelectionTool!J739)","v":"_____"},{"$f":"IF(ISBLANK(PFS_PFD_SelectionTool!K739),\"\",PFS_PFD_SelectionTool!K739)","v":""},{"$f":"VLOOKUP(D723,Tabelle1!A:B,2,FALSE)","v":{"$error":"#N/A"}},{"$f":"IF(ISBLANK(PFS_PFD_SelectionTool!N764),\"\",PFS_PFD_SelectionTool!N764)","v":""},{"$f":"IF(ISBLANK(PFS_PFD_SelectionTool!O764),\"\",PFS_PFD_SelectionTool!O764)","v":""}]
[{"$f":"IF(ISBLANK(PFS_PFD_SelectionTool!C740),\"\",PFS_PFD_SelectionTool!C740)","v":""},{"$f":"IF(ISBLANK(PFS_PFD_SelectionTool!D740),\"\",PFS_PFD_SelectionTool!D740)","v":""},{"$f":"IF(ISBLANK(PFS_PFD_SelectionTool!E740&\"_\"&PFS_PFD_SelectionTool!F740&\"_\"&PFS_PFD_SelectionTool!G740&\"_\"&PFS_PFD_SelectionTool!H740&\"_\"&PFS_PFD_SelectionTool!I740&\"_\"&PFS_PFD_SelectionTool!J740),\"\",PFS_PFD_SelectionTool!E740&\"_\"&PFS_PFD_SelectionTool!F740&\"_\"&PFS_PFD_SelectionTool!G740&\"_\"&PFS_PFD_SelectionTool!H740&\"_\"&PFS_PFD_SelectionTool!I740&\"_\"&PFS_PFD_SelectionTool!J740)","v":"_____"},{"$f":"IF(ISBLANK(PFS_PFD_SelectionTool!K740),\"\",PFS_PFD_SelectionTool!K740)","v":""},{"$f":"VLOOKUP(D724,Tabelle1!A:B,2,FALSE)","v":{"$error":"#N/A"}},{"$f":"IF(ISBLANK(PFS_PFD_SelectionTool!N765),\"\",PFS_PFD_SelectionTool!N765)","v":""},{"$f":"IF(ISBLANK(PFS_PFD_SelectionTool!O765),\"\",PFS_PFD_SelectionTool!O765)","v":""}]
[{"$f":"IF(ISBLANK(PFS_PFD_SelectionTool!C741),\"\",PFS_PFD_SelectionTool!C741)","v":""},{"$f":"IF(ISBLANK(PFS_PFD_SelectionTool!D741),\"\",PFS_PFD_SelectionTool!D741)","v":""},{"$f":"IF(ISBLANK(PFS_PFD_SelectionTool!E741&\"_\"&PFS_PFD_SelectionTool!F741&\"_\"&PFS_PFD_SelectionTool!G741&\"_\"&PFS_PFD_SelectionTool!H741&\"_\"&PFS_PFD_SelectionTool!I741&\"_\"&PFS_PFD_SelectionTool!J741),\"\",PFS_PFD_SelectionTool!E741&\"_\"&PFS_PFD_SelectionTool!F741&\"_\"&PFS_PFD_SelectionTool!G741&\"_\"&PFS_PFD_SelectionTool!H741&\"_\"&PFS_PFD_SelectionTool!I741&\"_\"&PFS_PFD_SelectionTool!J741)","v":"_____"},{"$f":"IF(ISBLANK(PFS_PFD_SelectionTool!K741),\"\",PFS_PFD_SelectionTool!K741)","v":""},{"$f":"VLOOKUP(D725,Tabelle1!A:B,2,FALSE)","v":{"$error":"#N/A"}},{"$f":"IF(ISBLANK(PFS_PFD_SelectionTool!N766),\"\",PFS_PFD_SelectionTool!N766)","v":""},{"$f":"IF(ISBLANK(PFS_PFD_SelectionTool!O766),\"\",PFS_PFD_SelectionTool!O766)","v":""}]
[{"$f":"IF(ISBLANK(PFS_PFD_SelectionTool!C742),\"\",PFS_PFD_SelectionTool!C742)","v":""},{"$f":"IF(ISBLANK(PFS_PFD_SelectionTool!D742),\"\",PFS_PFD_SelectionTool!D742)","v":""},{"$f":"IF(ISBLANK(PFS_PFD_SelectionTool!E742&\"_\"&PFS_PFD_SelectionTool!F742&\"_\"&PFS_PFD_SelectionTool!G742&\"_\"&PFS_PFD_SelectionTool!H742&\"_\"&PFS_PFD_SelectionTool!I742&\"_\"&PFS_PFD_SelectionTool!J742),\"\",PFS_PFD_SelectionTool!E742&\"_\"&PFS_PFD_SelectionTool!F742&\"_\"&PFS_PFD_SelectionTool!G742&\"_\"&PFS_PFD_SelectionTool!H742&\"_\"&PFS_PFD_SelectionTool!I742&\"_\"&PFS_PFD_SelectionTool!J742)","v":"_____"},{"$f":"IF(ISBLANK(PFS_PFD_SelectionTool!K742),\"\",PFS_PFD_SelectionTool!K742)","v":""},{"$f":"VLOOKUP(D726,Tabelle1!A:B,2,FALSE)","v":{"$error":"#N/A"}},{"$f":"IF(ISBLANK(PFS_PFD_SelectionTool!N767),\"\",PFS_PFD_SelectionTool!N767)","v":""},{"$f":"IF(ISBLANK(PFS_PFD_SelectionTool!O767),\"\",PFS_PFD_SelectionTool!O767)","v":""}]
[{"$f":"IF(ISBLANK(PFS_PFD_SelectionTool!C743),\"\",PFS_PFD_SelectionTool!C743)","v":""},{"$f":"IF(ISBLANK(PFS_PFD_SelectionTool!D743),\"\",PFS_PFD_SelectionTool!D743)","v":""},{"$f":"IF(ISBLANK(PFS_PFD_SelectionTool!E743&\"_\"&PFS_PFD_SelectionTool!F743&\"_\"&PFS_PFD_SelectionTool!G743&\"_\"&PFS_PFD_SelectionTool!H743&\"_\"&PFS_PFD_SelectionTool!I743&\"_\"&PFS_PFD_SelectionTool!J743),\"\",PFS_PFD_SelectionTool!E743&\"_\"&PFS_PFD_SelectionTool!F743&\"_\"&PFS_PFD_SelectionTool!G743&\"_\"&PFS_PFD_SelectionTool!H743&\"_\"&PFS_PFD_SelectionTool!I743&\"_\"&PFS_PFD_SelectionTool!J743)","v":"_____"},{"$f":"IF(ISBLANK(PFS_PFD_SelectionTool!K743),\"\",PFS_PFD_SelectionTool!K743)","v":""},{"$f":"VLOOKUP(D727,Tabelle1!A:B,2,FALSE)","v":{"$error":"#N/A"}},{"$f":"IF(ISBLANK(PFS_PFD_SelectionTool!N768),\"\",PFS_PFD_SelectionTool!N768)","v":""},{"$f":"IF(ISBLANK(PFS_PFD_SelectionTool!O768),\"\",PFS_PFD_SelectionTool!O768)","v":""}]
[{"$f":"IF(ISBLANK(PFS_PFD_SelectionTool!C744),\"\",PFS_PFD_SelectionTool!C744)","v":""},{"$f":"IF(ISBLANK(PFS_PFD_SelectionTool!D744),\"\",PFS_PFD_SelectionTool!D744)","v":""},{"$f":"IF(ISBLANK(PFS_PFD_SelectionTool!E744&\"_\"&PFS_PFD_SelectionTool!F744&\"_\"&PFS_PFD_SelectionTool!G744&\"_\"&PFS_PFD_SelectionTool!H744&\"_\"&PFS_PFD_SelectionTool!I744&\"_\"&PFS_PFD_SelectionTool!J744),\"\",PFS_PFD_SelectionTool!E744&\"_\"&PFS_PFD_SelectionTool!F744&\"_\"&PFS_PFD_SelectionTool!G744&\"_\"&PFS_PFD_SelectionTool!H744&\"_\"&PFS_PFD_SelectionTool!I744&\"_\"&PFS_PFD_SelectionTool!J744)","v":"_____"},{"$f":"IF(ISBLANK(PFS_PFD_SelectionTool!K744),\"\",PFS_PFD_SelectionTool!K744)","v":""},{"$f":"VLOOKUP(D728,Tabelle1!A:B,2,FALSE)","v":{"$error":"#N/A"}},{"$f":"IF(ISBLANK(PFS_PFD_SelectionTool!N769),\"\",PFS_PFD_SelectionTool!N769)","v":""},{"$f":"IF(ISBLANK(PFS_PFD_SelectionTool!O769),\"\",PFS_PFD_SelectionTool!O769)","v":""}]
[{"$f":"IF(ISBLANK(PFS_PFD_SelectionTool!C745),\"\",PFS_PFD_SelectionTool!C745)","v":""},{"$f":"IF(ISBLANK(PFS_PFD_SelectionTool!D745),\"\",PFS_PFD_SelectionTool!D745)","v":""},{"$f":"IF(ISBLANK(PFS_PFD_SelectionTool!E745&\"_\"&PFS_PFD_SelectionTool!F745&\"_\"&PFS_PFD_SelectionTool!G745&\"_\"&PFS_PFD_SelectionTool!H745&\"_\"&PFS_PFD_SelectionTool!I745&\"_\"&PFS_PFD_SelectionTool!J745),\"\",PFS_PFD_SelectionTool!E745&\"_\"&PFS_PFD_SelectionTool!F745&\"_\"&PFS_PFD_SelectionTool!G745&\"_\"&PFS_PFD_SelectionTool!H745&\"_\"&PFS_PFD_SelectionTool!I745&\"_\"&PFS_PFD_SelectionTool!J745)","v":"_____"},{"$f":"IF(ISBLANK(PFS_PFD_SelectionTool!K745),\"\",PFS_PFD_SelectionTool!K745)","v":""},{"$f":"VLOOKUP(D729,Tabelle1!A:B,2,FALSE)","v":{"$error":"#N/A"}},{"$f":"IF(ISBLANK(PFS_PFD_SelectionTool!N770),\"\",PFS_PFD_SelectionTool!N770)","v":""},{"$f":"IF(ISBLANK(PFS_PFD_SelectionTool!O770),\"\",PFS_PFD_SelectionTool!O770)","v":""}]
[{"$f":"IF(ISBLANK(PFS_PFD_SelectionTool!C746),\"\",PFS_PFD_SelectionTool!C746)","v":""},{"$f":"IF(ISBLANK(PFS_PFD_SelectionTool!D746),\"\",PFS_PFD_SelectionTool!D746)","v":""},{"$f":"IF(ISBLANK(PFS_PFD_SelectionTool!E746&\"_\"&PFS_PFD_SelectionTool!F746&\"_\"&PFS_PFD_SelectionTool!G746&\"_\"&PFS_PFD_SelectionTool!H746&\"_\"&PFS_PFD_SelectionTool!I746&\"_\"&PFS_PFD_SelectionTool!J746),\"\",PFS_PFD_SelectionTool!E746&\"_\"&PFS_PFD_SelectionTool!F746&\"_\"&PFS_PFD_SelectionTool!G746&\"_\"&PFS_PFD_SelectionTool!H746&\"_\"&PFS_PFD_SelectionTool!I746&\"_\"&PFS_PFD_SelectionTool!J746)","v":"_____"},{"$f":"IF(ISBLANK(PFS_PFD_SelectionTool!K746),\"\",PFS_PFD_SelectionTool!K746)","v":""},{"$f":"VLOOKUP(D730,Tabelle1!A:B,2,FALSE)","v":{"$error":"#N/A"}},{"$f":"IF(ISBLANK(PFS_PFD_SelectionTool!N771),\"\",PFS_PFD_SelectionTool!N771)","v":""},{"$f":"IF(ISBLANK(PFS_PFD_SelectionTool!O771),\"\",PFS_PFD_SelectionTool!O771)","v":""}]
[{"$f":"IF(ISBLANK(PFS_PFD_SelectionTool!C747),\"\",PFS_PFD_SelectionTool!C747)","v":""},{"$f":"IF(ISBLANK(PFS_PFD_SelectionTool!D747),\"\",PFS_PFD_SelectionTool!D747)","v":""},{"$f":"IF(ISBLANK(PFS_PFD_SelectionTool!E747&\"_\"&PFS_PFD_SelectionTool!F747&\"_\"&PFS_PFD_SelectionTool!G747&\"_\"&PFS_PFD_SelectionTool!H747&\"_\"&PFS_PFD_SelectionTool!I747&\"_\"&PFS_PFD_SelectionTool!J747),\"\",PFS_PFD_SelectionTool!E747&\"_\"&PFS_PFD_SelectionTool!F747&\"_\"&PFS_PFD_SelectionTool!G747&\"_\"&PFS_PFD_SelectionTool!H747&\"_\"&PFS_PFD_SelectionTool!I747&\"_\"&PFS_PFD_SelectionTool!J747)","v":"_____"},{"$f":"IF(ISBLANK(PFS_PFD_SelectionTool!K747),\"\",PFS_PFD_SelectionTool!K747)","v":""},{"$f":"VLOOKUP(D731,Tabelle1!A:B,2,FALSE)","v":{"$error":"#N/A"}},{"$f":"IF(ISBLANK(PFS_PFD_SelectionTool!N772),\"\",PFS_PFD_SelectionTool!N772)","v":""},{"$f":"IF(ISBLANK(PFS_PFD_SelectionTool!O772),\"\",PFS_PFD_SelectionTool!O772)","v":""}]
[{"$f":"IF(ISBLANK(PFS_PFD_SelectionTool!C748),\"\",PFS_PFD_SelectionTool!C748)","v":""},{"$f":"IF(ISBLANK(PFS_PFD_SelectionTool!D748),\"\",PFS_PFD_SelectionTool!D748)","v":""},{"$f":"IF(ISBLANK(PFS_PFD_SelectionTool!E748&\"_\"&PFS_PFD_SelectionTool!F748&\"_\"&PFS_PFD_SelectionTool!G748&\"_\"&PFS_PFD_SelectionTool!H748&\"_\"&PFS_PFD_SelectionTool!I748&\"_\"&PFS_PFD_SelectionTool!J748),\"\",PFS_PFD_SelectionTool!E748&\"_\"&PFS_PFD_SelectionTool!F748&\"_\"&PFS_PFD_SelectionTool!G748&\"_\"&PFS_PFD_SelectionTool!H748&\"_\"&PFS_PFD_SelectionTool!I748&\"_\"&PFS_PFD_SelectionTool!J748)","v":"_____"},{"$f":"IF(ISBLANK(PFS_PFD_SelectionTool!K748),\"\",PFS_PFD_SelectionTool!K748)","v":""},{"$f":"VLOOKUP(D732,Tabelle1!A:B,2,FALSE)","v":{"$error":"#N/A"}},{"$f":"IF(ISBLANK(PFS_PFD_SelectionTool!N773),\"\",PFS_PFD_SelectionTool!N773)","v":""},{"$f":"IF(ISBLANK(PFS_PFD_SelectionTool!O773),\"\",PFS_PFD_SelectionTool!O773)","v":""}]
[{"$f":"IF(ISBLANK(PFS_PFD_SelectionTool!C749),\"\",PFS_PFD_SelectionTool!C749)","v":""},{"$f":"IF(ISBLANK(PFS_PFD_SelectionTool!D749),\"\",PFS_PFD_SelectionTool!D749)","v":""},{"$f":"IF(ISBLANK(PFS_PFD_SelectionTool!E749&\"_\"&PFS_PFD_SelectionTool!F749&\"_\"&PFS_PFD_SelectionTool!G749&\"_\"&PFS_PFD_SelectionTool!H749&\"_\"&PFS_PFD_SelectionTool!I749&\"_\"&PFS_PFD_SelectionTool!J749),\"\",PFS_PFD_SelectionTool!E749&\"_\"&PFS_PFD_SelectionTool!F749&\"_\"&PFS_PFD_SelectionTool!G749&\"_\"&PFS_PFD_SelectionTool!H749&\"_\"&PFS_PFD_SelectionTool!I749&\"_\"&PFS_PFD_SelectionTool!J749)","v":"_____"},{"$f":"IF(ISBLANK(PFS_PFD_SelectionTool!K749),\"\",PFS_PFD_SelectionTool!K749)","v":""},{"$f":"VLOOKUP(D733,Tabelle1!A:B,2,FALSE)","v":{"$error":"#N/A"}},{"$f":"IF(ISBLANK(PFS_PFD_SelectionTool!N774),\"\",PFS_PFD_SelectionTool!N774)","v":""},{"$f":"IF(ISBLANK(PFS_PFD_SelectionTool!O774),\"\",PFS_PFD_SelectionTool!O774)","v":""}]
[{"$f":"IF(ISBLANK(PFS_PFD_SelectionTool!C750),\"\",PFS_PFD_SelectionTool!C750)","v":""},{"$f":"IF(ISBLANK(PFS_PFD_SelectionTool!D750),\"\",PFS_PFD_SelectionTool!D750)","v":""},{"$f":"IF(ISBLANK(PFS_PFD_SelectionTool!E750&\"_\"&PFS_PFD_SelectionTool!F750&\"_\"&PFS_PFD_SelectionTool!G750&\"_\"&PFS_PFD_SelectionTool!H750&\"_\"&PFS_PFD_SelectionTool!I750&\"_\"&PFS_PFD_SelectionTool!J750),\"\",PFS_PFD_SelectionTool!E750&\"_\"&PFS_PFD_SelectionTool!F750&\"_\"&PFS_PFD_SelectionTool!G750&\"_\"&PFS_PFD_SelectionTool!H750&\"_\"&PFS_PFD_SelectionTool!I750&\"_\"&PFS_PFD_SelectionTool!J750)","v":"_____"},{"$f":"IF(ISBLANK(PFS_PFD_SelectionTool!K750),\"\",PFS_PFD_SelectionTool!K750)","v":""},{"$f":"VLOOKUP(D734,Tabelle1!A:B,2,FALSE)","v":{"$error":"#N/A"}},{"$f":"IF(ISBLANK(PFS_PFD_SelectionTool!N775),\"\",PFS_PFD_SelectionTool!N775)","v":""},{"$f":"IF(ISBLANK(PFS_PFD_SelectionTool!O775),\"\",PFS_PFD_SelectionTool!O775)","v":""}]
[{"$f":"IF(ISBLANK(PFS_PFD_SelectionTool!C751),\"\",PFS_PFD_SelectionTool!C751)","v":""},{"$f":"IF(ISBLANK(PFS_PFD_SelectionTool!D751),\"\",PFS_PFD_SelectionTool!D751)","v":""},{"$f":"IF(ISBLANK(PFS_PFD_SelectionTool!E751&\"_\"&PFS_PFD_SelectionTool!F751&\"_\"&PFS_PFD_SelectionTool!G751&\"_\"&PFS_PFD_SelectionTool!H751&\"_\"&PFS_PFD_SelectionTool!I751&\"_\"&PFS_PFD_SelectionTool!J751),\"\",PFS_PFD_SelectionTool!E751&\"_\"&PFS_PFD_SelectionTool!F751&\"_\"&PFS_PFD_SelectionTool!G751&\"_\"&PFS_PFD_SelectionTool!H751&\"_\"&PFS_PFD_SelectionTool!I751&\"_\"&PFS_PFD_SelectionTool!J751)","v":"_____"},{"$f":"IF(ISBLANK(PFS_PFD_SelectionTool!K751),\"\",PFS_PFD_SelectionTool!K751)","v":""},{"$f":"VLOOKUP(D735,Tabelle1!A:B,2,FALSE)","v":{"$error":"#N/A"}},{"$f":"IF(ISBLANK(PFS_PFD_SelectionTool!N776),\"\",PFS_PFD_SelectionTool!N776)","v":""},{"$f":"IF(ISBLANK(PFS_PFD_SelectionTool!O776),\"\",PFS_PFD_SelectionTool!O776)","v":""}]
[{"$f":"IF(ISBLANK(PFS_PFD_SelectionTool!C752),\"\",PFS_PFD_SelectionTool!C752)","v":""},{"$f":"IF(ISBLANK(PFS_PFD_SelectionTool!D752),\"\",PFS_PFD_SelectionTool!D752)","v":""},{"$f":"IF(ISBLANK(PFS_PFD_SelectionTool!E752&\"_\"&PFS_PFD_SelectionTool!F752&\"_\"&PFS_PFD_SelectionTool!G752&\"_\"&PFS_PFD_SelectionTool!H752&\"_\"&PFS_PFD_SelectionTool!I752&\"_\"&PFS_PFD_SelectionTool!J752),\"\",PFS_PFD_SelectionTool!E752&\"_\"&PFS_PFD_SelectionTool!F752&\"_\"&PFS_PFD_SelectionTool!G752&\"_\"&PFS_PFD_SelectionTool!H752&\"_\"&PFS_PFD_SelectionTool!I752&\"_\"&PFS_PFD_SelectionTool!J752)","v":"_____"},{"$f":"IF(ISBLANK(PFS_PFD_SelectionTool!K752),\"\",PFS_PFD_SelectionTool!K752)","v":""},{"$f":"VLOOKUP(D736,Tabelle1!A:B,2,FALSE)","v":{"$error":"#N/A"}},{"$f":"IF(ISBLANK(PFS_PFD_SelectionTool!N777),\"\",PFS_PFD_SelectionTool!N777)","v":""},{"$f":"IF(ISBLANK(PFS_PFD_SelectionTool!O777),\"\",PFS_PFD_SelectionTool!O777)","v":""}]
[{"$f":"IF(ISBLANK(PFS_PFD_SelectionTool!C753),\"\",PFS_PFD_SelectionTool!C753)","v":""},{"$f":"IF(ISBLANK(PFS_PFD_SelectionTool!D753),\"\",PFS_PFD_SelectionTool!D753)","v":""},{"$f":"IF(ISBLANK(PFS_PFD_SelectionTool!E753&\"_\"&PFS_PFD_SelectionTool!F753&\"_\"&PFS_PFD_SelectionTool!G753&\"_\"&PFS_PFD_SelectionTool!H753&\"_\"&PFS_PFD_SelectionTool!I753&\"_\"&PFS_PFD_SelectionTool!J753),\"\",PFS_PFD_SelectionTool!E753&\"_\"&PFS_PFD_SelectionTool!F753&\"_\"&PFS_PFD_SelectionTool!G753&\"_\"&PFS_PFD_SelectionTool!H753&\"_\"&PFS_PFD_SelectionTool!I753&\"_\"&PFS_PFD_SelectionTool!J753)","v":"_____"},{"$f":"IF(ISBLANK(PFS_PFD_SelectionTool!K753),\"\",PFS_PFD_SelectionTool!K753)","v":""},{"$f":"VLOOKUP(D737,Tabelle1!A:B,2,FALSE)","v":{"$error":"#N/A"}},{"$f":"IF(ISBLANK(PFS_PFD_SelectionTool!N778),\"\",PFS_PFD_SelectionTool!N778)","v":""},{"$f":"IF(ISBLANK(PFS_PFD_SelectionTool!O778),\"\",PFS_PFD_SelectionTool!O778)","v":""}]
[{"$f":"IF(ISBLANK(PFS_PFD_SelectionTool!C754),\"\",PFS_PFD_SelectionTool!C754)","v":""},{"$f":"IF(ISBLANK(PFS_PFD_SelectionTool!D754),\"\",PFS_PFD_SelectionTool!D754)","v":""},{"$f":"IF(ISBLANK(PFS_PFD_SelectionTool!E754&\"_\"&PFS_PFD_SelectionTool!F754&\"_\"&PFS_PFD_SelectionTool!G754&\"_\"&PFS_PFD_SelectionTool!H754&\"_\"&PFS_PFD_SelectionTool!I754&\"_\"&PFS_PFD_SelectionTool!J754),\"\",PFS_PFD_SelectionTool!E754&\"_\"&PFS_PFD_SelectionTool!F754&\"_\"&PFS_PFD_SelectionTool!G754&\"_\"&PFS_PFD_SelectionTool!H754&\"_\"&PFS_PFD_SelectionTool!I754&\"_\"&PFS_PFD_SelectionTool!J754)","v":"_____"},{"$f":"IF(ISBLANK(PFS_PFD_SelectionTool!K754),\"\",PFS_PFD_SelectionTool!K754)","v":""},{"$f":"VLOOKUP(D738,Tabelle1!A:B,2,FALSE)","v":{"$error":"#N/A"}},{"$f":"IF(ISBLANK(PFS_PFD_SelectionTool!N779),\"\",PFS_PFD_SelectionTool!N779)","v":""},{"$f":"IF(ISBLANK(PFS_PFD_SelectionTool!O779),\"\",PFS_PFD_SelectionTool!O779)","v":""}]
[{"$f":"IF(ISBLANK(PFS_PFD_SelectionTool!C755),\"\",PFS_PFD_SelectionTool!C755)","v":""},{"$f":"IF(ISBLANK(PFS_PFD_SelectionTool!D755),\"\",PFS_PFD_SelectionTool!D755)","v":""},{"$f":"IF(ISBLANK(PFS_PFD_SelectionTool!E755&\"_\"&PFS_PFD_SelectionTool!F755&\"_\"&PFS_PFD_SelectionTool!G755&\"_\"&PFS_PFD_SelectionTool!H755&\"_\"&PFS_PFD_SelectionTool!I755&\"_\"&PFS_PFD_SelectionTool!J755),\"\",PFS_PFD_SelectionTool!E755&\"_\"&PFS_PFD_SelectionTool!F755&\"_\"&PFS_PFD_SelectionTool!G755&\"_\"&PFS_PFD_SelectionTool!H755&\"_\"&PFS_PFD_SelectionTool!I755&\"_\"&PFS_PFD_SelectionTool!J755)","v":"_____"},{"$f":"IF(ISBLANK(PFS_PFD_SelectionTool!K755),\"\",PFS_PFD_SelectionTool!K755)","v":""},{"$f":"VLOOKUP(D739,Tabelle1!A:B,2,FALSE)","v":{"$error":"#N/A"}},{"$f":"IF(ISBLANK(PFS_PFD_SelectionTool!N780),\"\",PFS_PFD_SelectionTool!N780)","v":""},{"$f":"IF(ISBLANK(PFS_PFD_SelectionTool!O780),\"\",PFS_PFD_SelectionTool!O780)","v":""}]
[{"$f":"IF(ISBLANK(PFS_PFD_SelectionTool!C756),\"\",PFS_PFD_SelectionTool!C756)","v":""},{"$f":"IF(ISBLANK(PFS_PFD_SelectionTool!D756),\"\",PFS_PFD_SelectionTool!D756)","v":""},{"$f":"IF(ISBLANK(PFS_PFD_SelectionTool!E756&\"_\"&PFS_PFD_SelectionTool!F756&\"_\"&PFS_PFD_SelectionTool!G756&\"_\"&PFS_PFD_SelectionTool!H756&\"_\"&PFS_PFD_SelectionTool!I756&\"_\"&PFS_PFD_SelectionTool!J756),\"\",PFS_PFD_SelectionTool!E756&\"_\"&PFS_PFD_SelectionTool!F756&\"_\"&PFS_PFD_SelectionTool!G756&\"_\"&PFS_PFD_SelectionTool!H756&\"_\"&PFS_PFD_SelectionTool!I756&\"_\"&PFS_PFD_SelectionTool!J756)","v":"_____"},{"$f":"IF(ISBLANK(PFS_PFD_SelectionTool!K756),\"\",PFS_PFD_SelectionTool!K756)","v":""},{"$f":"VLOOKUP(D740,Tabelle1!A:B,2,FALSE)","v":{"$error":"#N/A"}},{"$f":"IF(ISBLANK(PFS_PFD_SelectionTool!N781),\"\",PFS_PFD_SelectionTool!N781)","v":""},{"$f":"IF(ISBLANK(PFS_PFD_SelectionTool!O781),\"\",PFS_PFD_SelectionTool!O781)","v":""}]
[{"$f":"IF(ISBLANK(PFS_PFD_SelectionTool!C757),\"\",PFS_PFD_SelectionTool!C757)","v":""},{"$f":"IF(ISBLANK(PFS_PFD_SelectionTool!D757),\"\",PFS_PFD_SelectionTool!D757)","v":""},{"$f":"IF(ISBLANK(PFS_PFD_SelectionTool!E757&\"_\"&PFS_PFD_SelectionTool!F757&\"_\"&PFS_PFD_SelectionTool!G757&\"_\"&PFS_PFD_SelectionTool!H757&\"_\"&PFS_PFD_SelectionTool!I757&\"_\"&PFS_PFD_SelectionTool!J757),\"\",PFS_PFD_SelectionTool!E757&\"_\"&PFS_PFD_SelectionTool!F757&\"_\"&PFS_PFD_SelectionTool!G757&\"_\"&PFS_PFD_SelectionTool!H757&\"_\"&PFS_PFD_SelectionTool!I757&\"_\"&PFS_PFD_SelectionTool!J757)","v":"_____"},{"$f":"IF(ISBLANK(PFS_PFD_SelectionTool!K757),\"\",PFS_PFD_SelectionTool!K757)","v":""},{"$f":"VLOOKUP(D741,Tabelle1!A:B,2,FALSE)","v":{"$error":"#N/A"}},{"$f":"IF(ISBLANK(PFS_PFD_SelectionTool!N782),\"\",PFS_PFD_SelectionTool!N782)","v":""},{"$f":"IF(ISBLANK(PFS_PFD_SelectionTool!O782),\"\",PFS_PFD_SelectionTool!O782)","v":""}]
[{"$f":"IF(ISBLANK(PFS_PFD_SelectionTool!C758),\"\",PFS_PFD_SelectionTool!C758)","v":""},{"$f":"IF(ISBLANK(PFS_PFD_SelectionTool!D758),\"\",PFS_PFD_SelectionTool!D758)","v":""},{"$f":"IF(ISBLANK(PFS_PFD_SelectionTool!E758&\"_\"&PFS_PFD_SelectionTool!F758&\"_\"&PFS_PFD_SelectionTool!G758&\"_\"&PFS_PFD_SelectionTool!H758&\"_\"&PFS_PFD_SelectionTool!I758&\"_\"&PFS_PFD_SelectionTool!J758),\"\",PFS_PFD_SelectionTool!E758&\"_\"&PFS_PFD_SelectionTool!F758&\"_\"&PFS_PFD_SelectionTool!G758&\"_\"&PFS_PFD_SelectionTool!H758&\"_\"&PFS_PFD_SelectionTool!I758&\"_\"&PFS_PFD_SelectionTool!J758)","v":"_____"},{"$f":"IF(ISBLANK(PFS_PFD_SelectionTool!K758),\"\",PFS_PFD_SelectionTool!K758)","v":""},{"$f":"VLOOKUP(D742,Tabelle1!A:B,2,FALSE)","v":{"$error":"#N/A"}},{"$f":"IF(ISBLANK(PFS_PFD_SelectionTool!N783),\"\",PFS_PFD_SelectionTool!N783)","v":""},{"$f":"IF(ISBLANK(PFS_PFD_SelectionTool!O783),\"\",PFS_PFD_SelectionTool!O783)","v":""}]
[{"$f":"IF(ISBLANK(PFS_PFD_SelectionTool!C759),\"\",PFS_PFD_SelectionTool!C759)","v":""},{"$f":"IF(ISBLANK(PFS_PFD_SelectionTool!D759),\"\",PFS_PFD_SelectionTool!D759)","v":""},{"$f":"IF(ISBLANK(PFS_PFD_SelectionTool!E759&\"_\"&PFS_PFD_SelectionTool!F759&\"_\"&PFS_PFD_SelectionTool!G759&\"_\"&PFS_PFD_SelectionTool!H759&\"_\"&PFS_PFD_SelectionTool!I759&\"_\"&PFS_PFD_SelectionTool!J759),\"\",PFS_PFD_SelectionTool!E759&\"_\"&PFS_PFD_SelectionTool!F759&\"_\"&PFS_PFD_SelectionTool!G759&\"_\"&PFS_PFD_SelectionTool!H759&\"_\"&PFS_PFD_SelectionTool!I759&\"_\"&PFS_PFD_SelectionTool!J759)","v":"_____"},{"$f":"IF(ISBLANK(PFS_PFD_SelectionTool!K759),\"\",PFS_PFD_SelectionTool!K759)","v":""},{"$f":"VLOOKUP(D743,Tabelle1!A:B,2,FALSE)","v":{"$error":"#N/A"}},{"$f":"IF(ISBLANK(PFS_PFD_SelectionTool!N784),\"\",PFS_PFD_SelectionTool!N784)","v":""},{"$f":"IF(ISBLANK(PFS_PFD_SelectionTool!O784),\"\",PFS_PFD_SelectionTool!O784)","v":""}]
[{"$f":"IF(ISBLANK(PFS_PFD_SelectionTool!C760),\"\",PFS_PFD_SelectionTool!C760)","v":""},{"$f":"IF(ISBLANK(PFS_PFD_SelectionTool!D760),\"\",PFS_PFD_SelectionTool!D760)","v":""},{"$f":"IF(ISBLANK(PFS_PFD_SelectionTool!E760&\"_\"&PFS_PFD_SelectionTool!F760&\"_\"&PFS_PFD_SelectionTool!G760&\"_\"&PFS_PFD_SelectionTool!H760&\"_\"&PFS_PFD_SelectionTool!I760&\"_\"&PFS_PFD_SelectionTool!J760),\"\",PFS_PFD_SelectionTool!E760&\"_\"&PFS_PFD_SelectionTool!F760&\"_\"&PFS_PFD_SelectionTool!G760&\"_\"&PFS_PFD_SelectionTool!H760&\"_\"&PFS_PFD_SelectionTool!I760&\"_\"&PFS_PFD_SelectionTool!J760)","v":"_____"},{"$f":"IF(ISBLANK(PFS_PFD_SelectionTool!K760),\"\",PFS_PFD_SelectionTool!K760)","v":""},{"$f":"VLOOKUP(D744,Tabelle1!A:B,2,FALSE)","v":{"$error":"#N/A"}},{"$f":"IF(ISBLANK(PFS_PFD_SelectionTool!N785),\"\",PFS_PFD_SelectionTool!N785)","v":""},{"$f":"IF(ISBLANK(PFS_PFD_SelectionTool!O785),\"\",PFS_PFD_SelectionTool!O785)","v":""}]
[{"$f":"IF(ISBLANK(PFS_PFD_SelectionTool!C761),\"\",PFS_PFD_SelectionTool!C761)","v":""},{"$f":"IF(ISBLANK(PFS_PFD_SelectionTool!D761),\"\",PFS_PFD_SelectionTool!D761)","v":""},{"$f":"IF(ISBLANK(PFS_PFD_SelectionTool!E761&\"_\"&PFS_PFD_SelectionTool!F761&\"_\"&PFS_PFD_SelectionTool!G761&\"_\"&PFS_PFD_SelectionTool!H761&\"_\"&PFS_PFD_SelectionTool!I761&\"_\"&PFS_PFD_SelectionTool!J761),\"\",PFS_PFD_SelectionTool!E761&\"_\"&PFS_PFD_SelectionTool!F761&\"_\"&PFS_PFD_SelectionTool!G761&\"_\"&PFS_PFD_SelectionTool!H761&\"_\"&PFS_PFD_SelectionTool!I761&\"_\"&PFS_PFD_SelectionTool!J761)","v":"_____"},{"$f":"IF(ISBLANK(PFS_PFD_SelectionTool!K761),\"\",PFS_PFD_SelectionTool!K761)","v":""},{"$f":"VLOOKUP(D745,Tabelle1!A:B,2,FALSE)","v":{"$error":"#N/A"}},{"$f":"IF(ISBLANK(PFS_PFD_SelectionTool!N786),\"\",PFS_PFD_SelectionTool!N786)","v":""},{"$f":"IF(ISBLANK(PFS_PFD_SelectionTool!O786),\"\",PFS_PFD_SelectionTool!O786)","v":""}]
[{"$f":"IF(ISBLANK(PFS_PFD_SelectionTool!C762),\"\",PFS_PFD_SelectionTool!C762)","v":""},{"$f":"IF(ISBLANK(PFS_PFD_SelectionTool!D762),\"\",PFS_PFD_SelectionTool!D762)","v":""},{"$f":"IF(ISBLANK(PFS_PFD_SelectionTool!E762&\"_\"&PFS_PFD_SelectionTool!F762&\"_\"&PFS_PFD_SelectionTool!G762&\"_\"&PFS_PFD_SelectionTool!H762&\"_\"&PFS_PFD_SelectionTool!I762&\"_\"&PFS_PFD_SelectionTool!J762),\"\",PFS_PFD_SelectionTool!E762&\"_\"&PFS_PFD_SelectionTool!F762&\"_\"&PFS_PFD_SelectionTool!G762&\"_\"&PFS_PFD_SelectionTool!H762&\"_\"&PFS_PFD_SelectionTool!I762&\"_\"&PFS_PFD_SelectionTool!J762)","v":"_____"},{"$f":"IF(ISBLANK(PFS_PFD_SelectionTool!K762),\"\",PFS_PFD_SelectionTool!K762)","v":""},{"$f":"VLOOKUP(D746,Tabelle1!A:B,2,FALSE)","v":{"$error":"#N/A"}},{"$f":"IF(ISBLANK(PFS_PFD_SelectionTool!N787),\"\",PFS_PFD_SelectionTool!N787)","v":""},{"$f":"IF(ISBLANK(PFS_PFD_SelectionTool!O787),\"\",PFS_PFD_SelectionTool!O787)","v":""}]
[{"$f":"IF(ISBLANK(PFS_PFD_SelectionTool!C763),\"\",PFS_PFD_SelectionTool!C763)","v":""},{"$f":"IF(ISBLANK(PFS_PFD_SelectionTool!D763),\"\",PFS_PFD_SelectionTool!D763)","v":""},{"$f":"IF(ISBLANK(PFS_PFD_SelectionTool!E763&\"_\"&PFS_PFD_SelectionTool!F763&\"_\"&PFS_PFD_SelectionTool!G763&\"_\"&PFS_PFD_SelectionTool!H763&\"_\"&PFS_PFD_SelectionTool!I763&\"_\"&PFS_PFD_SelectionTool!J763),\"\",PFS_PFD_SelectionTool!E763&\"_\"&PFS_PFD_SelectionTool!F763&\"_\"&PFS_PFD_SelectionTool!G763&\"_\"&PFS_PFD_SelectionTool!H763&\"_\"&PFS_PFD_SelectionTool!I763&\"_\"&PFS_PFD_SelectionTool!J763)","v":"_____"},{"$f":"IF(ISBLANK(PFS_PFD_SelectionTool!K763),\"\",PFS_PFD_SelectionTool!K763)","v":""},{"$f":"VLOOKUP(D747,Tabelle1!A:B,2,FALSE)","v":{"$error":"#N/A"}},{"$f":"IF(ISBLANK(PFS_PFD_SelectionTool!N788),\"\",PFS_PFD_SelectionTool!N788)","v":""},{"$f":"IF(ISBLANK(PFS_PFD_SelectionTool!O788),\"\",PFS_PFD_SelectionTool!O788)","v":""}]
[{"$f":"IF(ISBLANK(PFS_PFD_SelectionTool!C764),\"\",PFS_PFD_SelectionTool!C764)","v":""},{"$f":"IF(ISBLANK(PFS_PFD_SelectionTool!D764),\"\",PFS_PFD_SelectionTool!D764)","v":""},{"$f":"IF(ISBLANK(PFS_PFD_SelectionTool!E764&\"_\"&PFS_PFD_SelectionTool!F764&\"_\"&PFS_PFD_SelectionTool!G764&\"_\"&PFS_PFD_SelectionTool!H764&\"_\"&PFS_PFD_SelectionTool!I764&\"_\"&PFS_PFD_SelectionTool!J764),\"\",PFS_PFD_SelectionTool!E764&\"_\"&PFS_PFD_SelectionTool!F764&\"_\"&PFS_PFD_SelectionTool!G764&\"_\"&PFS_PFD_SelectionTool!H764&\"_\"&PFS_PFD_SelectionTool!I764&\"_\"&PFS_PFD_SelectionTool!J764)","v":"_____"},{"$f":"IF(ISBLANK(PFS_PFD_SelectionTool!K764),\"\",PFS_PFD_SelectionTool!K764)","v":""},{"$f":"VLOOKUP(D748,Tabelle1!A:B,2,FALSE)","v":{"$error":"#N/A"}},{"$f":"IF(ISBLANK(PFS_PFD_SelectionTool!N789),\"\",PFS_PFD_SelectionTool!N789)","v":""},{"$f":"IF(ISBLANK(PFS_PFD_SelectionTool!O789),\"\",PFS_PFD_SelectionTool!O789)","v":""}]
[{"$f":"IF(ISBLANK(PFS_PFD_SelectionTool!C765),\"\",PFS_PFD_SelectionTool!C765)","v":""},{"$f":"IF(ISBLANK(PFS_PFD_SelectionTool!D765),\"\",PFS_PFD_SelectionTool!D765)","v":""},{"$f":"IF(ISBLANK(PFS_PFD_SelectionTool!E765&\"_\"&PFS_PFD_SelectionTool!F765&\"_\"&PFS_PFD_SelectionTool!G765&\"_\"&PFS_PFD_SelectionTool!H765&\"_\"&PFS_PFD_SelectionTool!I765&\"_\"&PFS_PFD_SelectionTool!J765),\"\",PFS_PFD_SelectionTool!E765&\"_\"&PFS_PFD_SelectionTool!F765&\"_\"&PFS_PFD_SelectionTool!G765&\"_\"&PFS_PFD_SelectionTool!H765&\"_\"&PFS_PFD_SelectionTool!I765&\"_\"&PFS_PFD_SelectionTool!J765)","v":"_____"},{"$f":"IF(ISBLANK(PFS_PFD_SelectionTool!K765),\"\",PFS_PFD_SelectionTool!K765)","v":""},{"$f":"VLOOKUP(D749,Tabelle1!A:B,2,FALSE)","v":{"$error":"#N/A"}},{"$f":"IF(ISBLANK(PFS_PFD_SelectionTool!N790),\"\",PFS_PFD_SelectionTool!N790)","v":""},{"$f":"IF(ISBLANK(PFS_PFD_SelectionTool!O790),\"\",PFS_PFD_SelectionTool!O790)","v":""}]
[{"$f":"IF(ISBLANK(PFS_PFD_SelectionTool!C766),\"\",PFS_PFD_SelectionTool!C766)","v":""},{"$f":"IF(ISBLANK(PFS_PFD_SelectionTool!D766),\"\",PFS_PFD_SelectionTool!D766)","v":""},{"$f":"IF(ISBLANK(PFS_PFD_SelectionTool!E766&\"_\"&PFS_PFD_SelectionTool!F766&\"_\"&PFS_PFD_SelectionTool!G766&\"_\"&PFS_PFD_SelectionTool!H766&\"_\"&PFS_PFD_SelectionTool!I766&\"_\"&PFS_PFD_SelectionTool!J766),\"\",PFS_PFD_SelectionTool!E766&\"_\"&PFS_PFD_SelectionTool!F766&\"_\"&PFS_PFD_SelectionTool!G766&\"_\"&PFS_PFD_SelectionTool!H766&\"_\"&PFS_PFD_SelectionTool!I766&\"_\"&PFS_PFD_SelectionTool!J766)","v":"_____"},{"$f":"IF(ISBLANK(PFS_PFD_SelectionTool!K766),\"\",PFS_PFD_SelectionTool!K766)","v":""},{"$f":"VLOOKUP(D750,Tabelle1!A:B,2,FALSE)","v":{"$error":"#N/A"}},{"$f":"IF(ISBLANK(PFS_PFD_SelectionTool!N791),\"\",PFS_PFD_SelectionTool!N791)","v":""},{"$f":"IF(ISBLANK(PFS_PFD_SelectionTool!O791),\"\",PFS_PFD_SelectionTool!O791)","v":""}]
[{"$f":"IF(ISBLANK(PFS_PFD_SelectionTool!C767),\"\",PFS_PFD_SelectionTool!C767)","v":""},{"$f":"IF(ISBLANK(PFS_PFD_SelectionTool!D767),\"\",PFS_PFD_SelectionTool!D767)","v":""},{"$f":"IF(ISBLANK(PFS_PFD_SelectionTool!E767&\"_\"&PFS_PFD_SelectionTool!F767&\"_\"&PFS_PFD_SelectionTool!G767&\"_\"&PFS_PFD_SelectionTool!H767&\"_\"&PFS_PFD_SelectionTool!I767&\"_\"&PFS_PFD_SelectionTool!J767),\"\",PFS_PFD_SelectionTool!E767&\"_\"&PFS_PFD_SelectionTool!F767&\"_\"&PFS_PFD_SelectionTool!G767&\"_\"&PFS_PFD_SelectionTool!H767&\"_\"&PFS_PFD_SelectionTool!I767&\"_\"&PFS_PFD_SelectionTool!J767)","v":"_____"},{"$f":"IF(ISBLANK(PFS_PFD_SelectionTool!K767),\"\",PFS_PFD_SelectionTool!K767)","v":""},{"$f":"VLOOKUP(D751,Tabelle1!A:B,2,FALSE)","v":{"$error":"#N/A"}},{"$f":"IF(ISBLANK(PFS_PFD_SelectionTool!N792),\"\",PFS_PFD_SelectionTool!N792)","v":""},{"$f":"IF(ISBLANK(PFS_PFD_SelectionTool!O792),\"\",PFS_PFD_SelectionTool!O792)","v":""}]
[{"$f":"IF(ISBLANK(PFS_PFD_SelectionTool!C768),\"\",PFS_PFD_SelectionTool!C768)","v":""},{"$f":"IF(ISBLANK(PFS_PFD_SelectionTool!D768),\"\",PFS_PFD_SelectionTool!D768)","v":""},{"$f":"IF(ISBLANK(PFS_PFD_SelectionTool!E768&\"_\"&PFS_PFD_SelectionTool!F768&\"_\"&PFS_PFD_SelectionTool!G768&\"_\"&PFS_PFD_SelectionTool!H768&\"_\"&PFS_PFD_SelectionTool!I768&\"_\"&PFS_PFD_SelectionTool!J768),\"\",PFS_PFD_SelectionTool!E768&\"_\"&PFS_PFD_SelectionTool!F768&\"_\"&PFS_PFD_SelectionTool!G768&\"_\"&PFS_PFD_SelectionTool!H768&\"_\"&PFS_PFD_SelectionTool!I768&\"_\"&PFS_PFD_SelectionTool!J768)","v":"_____"},{"$f":"IF(ISBLANK(PFS_PFD_SelectionTool!K768),\"\",PFS_PFD_SelectionTool!K768)","v":""},{"$f":"VLOOKUP(D752,Tabelle1!A:B,2,FALSE)","v":{"$error":"#N/A"}},{"$f":"IF(ISBLANK(PFS_PFD_SelectionTool!N793),\"\",PFS_PFD_SelectionTool!N793)","v":""},{"$f":"IF(ISBLANK(PFS_PFD_SelectionTool!O793),\"\",PFS_PFD_SelectionTool!O793)","v":""}]
[{"$f":"IF(ISBLANK(PFS_PFD_SelectionTool!C769),\"\",PFS_PFD_SelectionTool!C769)","v":""},{"$f":"IF(ISBLANK(PFS_PFD_SelectionTool!D769),\"\",PFS_PFD_SelectionTool!D769)","v":""},{"$f":"IF(ISBLANK(PFS_PFD_SelectionTool!E769&\"_\"&PFS_PFD_SelectionTool!F769&\"_\"&PFS_PFD_SelectionTool!G769&\"_\"&PFS_PFD_SelectionTool!H769&\"_\"&PFS_PFD_SelectionTool!I769&\"_\"&PFS_PFD_SelectionTool!J769),\"\",PFS_PFD_SelectionTool!E769&\"_\"&PFS_PFD_SelectionTool!F769&\"_\"&PFS_PFD_SelectionTool!G769&\"_\"&PFS_PFD_SelectionTool!H769&\"_\"&PFS_PFD_SelectionTool!I769&\"_\"&PFS_PFD_SelectionTool!J769)","v":"_____"},{"$f":"IF(ISBLANK(PFS_PFD_SelectionTool!K769),\"\",PFS_PFD_SelectionTool!K769)","v":""},{"$f":"VLOOKUP(D753,Tabelle1!A:B,2,FALSE)","v":{"$error":"#N/A"}},{"$f":"IF(ISBLANK(PFS_PFD_SelectionTool!N794),\"\",PFS_PFD_SelectionTool!N794)","v":""},{"$f":"IF(ISBLANK(PFS_PFD_SelectionTool!O794),\"\",PFS_PFD_SelectionTool!O794)","v":""}]
[{"$f":"IF(ISBLANK(PFS_PFD_SelectionTool!C770),\"\",PFS_PFD_SelectionTool!C770)","v":""},{"$f":"IF(ISBLANK(PFS_PFD_SelectionTool!D770),\"\",PFS_PFD_SelectionTool!D770)","v":""},{"$f":"IF(ISBLANK(PFS_PFD_SelectionTool!E770&\"_\"&PFS_PFD_SelectionTool!F770&\"_\"&PFS_PFD_SelectionTool!G770&\"_\"&PFS_PFD_SelectionTool!H770&\"_\"&PFS_PFD_SelectionTool!I770&\"_\"&PFS_PFD_SelectionTool!J770),\"\",PFS_PFD_SelectionTool!E770&\"_\"&PFS_PFD_SelectionTool!F770&\"_\"&PFS_PFD_SelectionTool!G770&\"_\"&PFS_PFD_SelectionTool!H770&\"_\"&PFS_PFD_SelectionTool!I770&\"_\"&PFS_PFD_SelectionTool!J770)","v":"_____"},{"$f":"IF(ISBLANK(PFS_PFD_SelectionTool!K770),\"\",PFS_PFD_SelectionTool!K770)","v":""},{"$f":"VLOOKUP(D754,Tabelle1!A:B,2,FALSE)","v":{"$error":"#N/A"}},{"$f":"IF(ISBLANK(PFS_PFD_SelectionTool!N795),\"\",PFS_PFD_SelectionTool!N795)","v":""},{"$f":"IF(ISBLANK(PFS_PFD_SelectionTool!O795),\"\",PFS_PFD_SelectionTool!O795)","v":""}]
[{"$f":"IF(ISBLANK(PFS_PFD_SelectionTool!C771),\"\",PFS_PFD_SelectionTool!C771)","v":""},{"$f":"IF(ISBLANK(PFS_PFD_SelectionTool!D771),\"\",PFS_PFD_SelectionTool!D771)","v":""},{"$f":"IF(ISBLANK(PFS_PFD_SelectionTool!E771&\"_\"&PFS_PFD_SelectionTool!F771&\"_\"&PFS_PFD_SelectionTool!G771&\"_\"&PFS_PFD_SelectionTool!H771&\"_\"&PFS_PFD_SelectionTool!I771&\"_\"&PFS_PFD_SelectionTool!J771),\"\",PFS_PFD_SelectionTool!E771&\"_\"&PFS_PFD_SelectionTool!F771&\"_\"&PFS_PFD_SelectionTool!G771&\"_\"&PFS_PFD_SelectionTool!H771&\"_\"&PFS_PFD_SelectionTool!I771&\"_\"&PFS_PFD_SelectionTool!J771)","v":"_____"},{"$f":"IF(ISBLANK(PFS_PFD_SelectionTool!K771),\"\",PFS_PFD_SelectionTool!K771)","v":""},{"$f":"VLOOKUP(D755,Tabelle1!A:B,2,FALSE)","v":{"$error":"#N/A"}},{"$f":"IF(ISBLANK(PFS_PFD_SelectionTool!N796),\"\",PFS_PFD_SelectionTool!N796)","v":""},{"$f":"IF(ISBLANK(PFS_PFD_SelectionTool!O796),\"\",PFS_PFD_SelectionTool!O796)","v":""}]
[{"$f":"IF(ISBLANK(PFS_PFD_SelectionTool!C772),\"\",PFS_PFD_SelectionTool!C772)","v":""},{"$f":"IF(ISBLANK(PFS_PFD_SelectionTool!D772),\"\",PFS_PFD_SelectionTool!D772)","v":""},{"$f":"IF(ISBLANK(PFS_PFD_SelectionTool!E772&\"_\"&PFS_PFD_SelectionTool!F772&\"_\"&PFS_PFD_SelectionTool!G772&\"_\"&PFS_PFD_SelectionTool!H772&\"_\"&PFS_PFD_SelectionTool!I772&\"_\"&PFS_PFD_SelectionTool!J772),\"\",PFS_PFD_SelectionTool!E772&\"_\"&PFS_PFD_SelectionTool!F772&\"_\"&PFS_PFD_SelectionTool!G772&\"_\"&PFS_PFD_SelectionTool!H772&\"_\"&PFS_PFD_SelectionTool!I772&\"_\"&PFS_PFD_SelectionTool!J772)","v":"_____"},{"$f":"IF(ISBLANK(PFS_PFD_SelectionTool!K772),\"\",PFS_PFD_SelectionTool!K772)","v":""},{"$f":"VLOOKUP(D756,Tabelle1!A:B,2,FALSE)","v":{"$error":"#N/A"}},{"$f":"IF(ISBLANK(PFS_PFD_SelectionTool!N797),\"\",PFS_PFD_SelectionTool!N797)","v":""},{"$f":"IF(ISBLANK(PFS_PFD_SelectionTool!O797),\"\",PFS_PFD_SelectionTool!O797)","v":""}]
[{"$f":"IF(ISBLANK(PFS_PFD_SelectionTool!C773),\"\",PFS_PFD_SelectionTool!C773)","v":""},{"$f":"IF(ISBLANK(PFS_PFD_SelectionTool!D773),\"\",PFS_PFD_SelectionTool!D773)","v":""},{"$f":"IF(ISBLANK(PFS_PFD_SelectionTool!E773&\"_\"&PFS_PFD_SelectionTool!F773&\"_\"&PFS_PFD_SelectionTool!G773&\"_\"&PFS_PFD_SelectionTool!H773&\"_\"&PFS_PFD_SelectionTool!I773&\"_\"&PFS_PFD_SelectionTool!J773),\"\",PFS_PFD_SelectionTool!E773&\"_\"&PFS_PFD_SelectionTool!F773&\"_\"&PFS_PFD_SelectionTool!G773&\"_\"&PFS_PFD_SelectionTool!H773&\"_\"&PFS_PFD_SelectionTool!I773&\"_\"&PFS_PFD_SelectionTool!J773)","v":"_____"},{"$f":"IF(ISBLANK(PFS_PFD_SelectionTool!K773),\"\",PFS_PFD_SelectionTool!K773)","v":""},{"$f":"VLOOKUP(D757,Tabelle1!A:B,2,FALSE)","v":{"$error":"#N/A"}},{"$f":"IF(ISBLANK(PFS_PFD_SelectionTool!N798),\"\",PFS_PFD_SelectionTool!N798)","v":""},{"$f":"IF(ISBLANK(PFS_PFD_SelectionTool!O798),\"\",PFS_PFD_SelectionTool!O798)","v":""}]
[{"$f":"IF(ISBLANK(PFS_PFD_SelectionTool!C774),\"\",PFS_PFD_SelectionTool!C774)","v":""},{"$f":"IF(ISBLANK(PFS_PFD_SelectionTool!D774),\"\",PFS_PFD_SelectionTool!D774)","v":""},{"$f":"IF(ISBLANK(PFS_PFD_SelectionTool!E774&\"_\"&PFS_PFD_SelectionTool!F774&\"_\"&PFS_PFD_SelectionTool!G774&\"_\"&PFS_PFD_SelectionTool!H774&\"_\"&PFS_PFD_SelectionTool!I774&\"_\"&PFS_PFD_SelectionTool!J774),\"\",PFS_PFD_SelectionTool!E774&\"_\"&PFS_PFD_SelectionTool!F774&\"_\"&PFS_PFD_SelectionTool!G774&\"_\"&PFS_PFD_SelectionTool!H774&\"_\"&PFS_PFD_SelectionTool!I774&\"_\"&PFS_PFD_SelectionTool!J774)","v":"_____"},{"$f":"IF(ISBLANK(PFS_PFD_SelectionTool!K774),\"\",PFS_PFD_SelectionTool!K774)","v":""},{"$f":"VLOOKUP(D758,Tabelle1!A:B,2,FALSE)","v":{"$error":"#N/A"}},{"$f":"IF(ISBLANK(PFS_PFD_SelectionTool!N799),\"\",PFS_PFD_SelectionTool!N799)","v":""},{"$f":"IF(ISBLANK(PFS_PFD_SelectionTool!O799),\"\",PFS_PFD_SelectionTool!O799)","v":""}]
[{"$f":"IF(ISBLANK(PFS_PFD_SelectionTool!C775),\"\",PFS_PFD_SelectionTool!C775)","v":""},{"$f":"IF(ISBLANK(PFS_PFD_SelectionTool!D775),\"\",PFS_PFD_SelectionTool!D775)","v":""},{"$f":"IF(ISBLANK(PFS_PFD_SelectionTool!E775&\"_\"&PFS_PFD_SelectionTool!F775&\"_\"&PFS_PFD_SelectionTool!G775&\"_\"&PFS_PFD_SelectionTool!H775&\"_\"&PFS_PFD_SelectionTool!I775&\"_\"&PFS_PFD_SelectionTool!J775),\"\",PFS_PFD_SelectionTool!E775&\"_\"&PFS_PFD_SelectionTool!F775&\"_\"&PFS_PFD_SelectionTool!G775&\"_\"&PFS_PFD_SelectionTool!H775&\"_\"&PFS_PFD_SelectionTool!I775&\"_\"&PFS_PFD_SelectionTool!J775)","v":"_____"},{"$f":"IF(ISBLANK(PFS_PFD_SelectionTool!K775),\"\",PFS_PFD_SelectionTool!K775)","v":""},{"$f":"VLOOKUP(D759,Tabelle1!A:B,2,FALSE)","v":{"$error":"#N/A"}},{"$f":"IF(ISBLANK(PFS_PFD_SelectionTool!N800),\"\",PFS_PFD_SelectionTool!N800)","v":""},{"$f":"IF(ISBLANK(PFS_PFD_SelectionTool!O800),\"\",PFS_PFD_SelectionTool!O800)","v":""}]
[{"$f":"IF(ISBLANK(PFS_PFD_SelectionTool!C776),\"\",PFS_PFD_SelectionTool!C776)","v":""},{"$f":"IF(ISBLANK(PFS_PFD_SelectionTool!D776),\"\",PFS_PFD_SelectionTool!D776)","v":""},{"$f":"IF(ISBLANK(PFS_PFD_SelectionTool!E776&\"_\"&PFS_PFD_SelectionTool!F776&\"_\"&PFS_PFD_SelectionTool!G776&\"_\"&PFS_PFD_SelectionTool!H776&\"_\"&PFS_PFD_SelectionTool!I776&\"_\"&PFS_PFD_SelectionTool!J776),\"\",PFS_PFD_SelectionTool!E776&\"_\"&PFS_PFD_SelectionTool!F776&\"_\"&PFS_PFD_SelectionTool!G776&\"_\"&PFS_PFD_SelectionTool!H776&\"_\"&PFS_PFD_SelectionTool!I776&\"_\"&PFS_PFD_SelectionTool!J776)","v":"_____"},{"$f":"IF(ISBLANK(PFS_PFD_SelectionTool!K776),\"\",PFS_PFD_SelectionTool!K776)","v":""},{"$f":"VLOOKUP(D760,Tabelle1!A:B,2,FALSE)","v":{"$error":"#N/A"}},{"$f":"IF(ISBLANK(PFS_PFD_SelectionTool!N801),\"\",PFS_PFD_SelectionTool!N801)","v":""},{"$f":"IF(ISBLANK(PFS_PFD_SelectionTool!O801),\"\",PFS_PFD_SelectionTool!O801)","v":""}]
[{"$f":"IF(ISBLANK(PFS_PFD_SelectionTool!C777),\"\",PFS_PFD_SelectionTool!C777)","v":""},{"$f":"IF(ISBLANK(PFS_PFD_SelectionTool!D777),\"\",PFS_PFD_SelectionTool!D777)","v":""},{"$f":"IF(ISBLANK(PFS_PFD_SelectionTool!E777&\"_\"&PFS_PFD_SelectionTool!F777&\"_\"&PFS_PFD_SelectionTool!G777&\"_\"&PFS_PFD_SelectionTool!H777&\"_\"&PFS_PFD_SelectionTool!I777&\"_\"&PFS_PFD_SelectionTool!J777),\"\",PFS_PFD_SelectionTool!E777&\"_\"&PFS_PFD_SelectionTool!F777&\"_\"&PFS_PFD_SelectionTool!G777&\"_\"&PFS_PFD_SelectionTool!H777&\"_\"&PFS_PFD_SelectionTool!I777&\"_\"&PFS_PFD_SelectionTool!J777)","v":"_____"},{"$f":"IF(ISBLANK(PFS_PFD_SelectionTool!K777),\"\",PFS_PFD_SelectionTool!K777)","v":""},{"$f":"VLOOKUP(D761,Tabelle1!A:B,2,FALSE)","v":{"$error":"#N/A"}},{"$f":"IF(ISBLANK(PFS_PFD_SelectionTool!N802),\"\",PFS_PFD_SelectionTool!N802)","v":""},{"$f":"IF(ISBLANK(PFS_PFD_SelectionTool!O802),\"\",PFS_PFD_SelectionTool!O802)","v":""}]
[{"$f":"IF(ISBLANK(PFS_PFD_SelectionTool!C778),\"\",PFS_PFD_SelectionTool!C778)","v":""},{"$f":"IF(ISBLANK(PFS_PFD_SelectionTool!D778),\"\",PFS_PFD_SelectionTool!D778)","v":""},{"$f":"IF(ISBLANK(PFS_PFD_SelectionTool!E778&\"_\"&PFS_PFD_SelectionTool!F778&\"_\"&PFS_PFD_SelectionTool!G778&\"_\"&PFS_PFD_SelectionTool!H778&\"_\"&PFS_PFD_SelectionTool!I778&\"_\"&PFS_PFD_SelectionTool!J778),\"\",PFS_PFD_SelectionTool!E778&\"_\"&PFS_PFD_SelectionTool!F778&\"_\"&PFS_PFD_SelectionTool!G778&\"_\"&PFS_PFD_SelectionTool!H778&\"_\"&PFS_PFD_SelectionTool!I778&\"_\"&PFS_PFD_SelectionTool!J778)","v":"_____"},{"$f":"IF(ISBLANK(PFS_PFD_SelectionTool!K778),\"\",PFS_PFD_SelectionTool!K778)","v":""},{"$f":"VLOOKUP(D762,Tabelle1!A:B,2,FALSE)","v":{"$error":"#N/A"}},{"$f":"IF(ISBLANK(PFS_PFD_SelectionTool!N803),\"\",PFS_PFD_SelectionTool!N803)","v":""},{"$f":"IF(ISBLANK(PFS_PFD_SelectionTool!O803),\"\",PFS_PFD_SelectionTool!O803)","v":""}]
[{"$f":"IF(ISBLANK(PFS_PFD_SelectionTool!C779),\"\",PFS_PFD_SelectionTool!C779)","v":""},{"$f":"IF(ISBLANK(PFS_PFD_SelectionTool!D779),\"\",PFS_PFD_SelectionTool!D779)","v":""},{"$f":"IF(ISBLANK(PFS_PFD_SelectionTool!E779&\"_\"&PFS_PFD_SelectionTool!F779&\"_\"&PFS_PFD_SelectionTool!G779&\"_\"&PFS_PFD_SelectionTool!H779&\"_\"&PFS_PFD_SelectionTool!I779&\"_\"&PFS_PFD_SelectionTool!J779),\"\",PFS_PFD_SelectionTool!E779&\"_\"&PFS_PFD_SelectionTool!F779&\"_\"&PFS_PFD_SelectionTool!G779&\"_\"&PFS_PFD_SelectionTool!H779&\"_\"&PFS_PFD_SelectionTool!I779&\"_\"&PFS_PFD_SelectionTool!J779)","v":"_____"},{"$f":"IF(ISBLANK(PFS_PFD_SelectionTool!K779),\"\",PFS_PFD_SelectionTool!K779)","v":""},{"$f":"VLOOKUP(D763,Tabelle1!A:B,2,FALSE)","v":{"$error":"#N/A"}},{"$f":"IF(ISBLANK(PFS_PFD_SelectionTool!N804),\"\",PFS_PFD_SelectionTool!N804)","v":""},{"$f":"IF(ISBLANK(PFS_PFD_SelectionTool!O804),\"\",PFS_PFD_SelectionTool!O804)","v":""}]
[{"$f":"IF(ISBLANK(PFS_PFD_SelectionTool!C780),\"\",PFS_PFD_SelectionTool!C780)","v":""},{"$f":"IF(ISBLANK(PFS_PFD_SelectionTool!D780),\"\",PFS_PFD_SelectionTool!D780)","v":""},{"$f":"IF(ISBLANK(PFS_PFD_SelectionTool!E780&\"_\"&PFS_PFD_SelectionTool!F780&\"_\"&PFS_PFD_SelectionTool!G780&\"_\"&PFS_PFD_SelectionTool!H780&\"_\"&PFS_PFD_SelectionTool!I780&\"_\"&PFS_PFD_SelectionTool!J780),\"\",PFS_PFD_SelectionTool!E780&\"_\"&PFS_PFD_SelectionTool!F780&\"_\"&PFS_PFD_SelectionTool!G780&\"_\"&PFS_PFD_SelectionTool!H780&\"_\"&PFS_PFD_SelectionTool!I780&\"_\"&PFS_PFD_SelectionTool!J780)","v":"_____"},{"$f":"IF(ISBLANK(PFS_PFD_SelectionTool!K780),\"\",PFS_PFD_SelectionTool!K780)","v":""},{"$f":"VLOOKUP(D764,Tabelle1!A:B,2,FALSE)","v":{"$error":"#N/A"}},{"$f":"IF(ISBLANK(PFS_PFD_SelectionTool!N805),\"\",PFS_PFD_SelectionTool!N805)","v":""},{"$f":"IF(ISBLANK(PFS_PFD_SelectionTool!O805),\"\",PFS_PFD_SelectionTool!O805)","v":""}]
[{"$f":"IF(ISBLANK(PFS_PFD_SelectionTool!C781),\"\",PFS_PFD_SelectionTool!C781)","v":""},{"$f":"IF(ISBLANK(PFS_PFD_SelectionTool!D781),\"\",PFS_PFD_SelectionTool!D781)","v":""},{"$f":"IF(ISBLANK(PFS_PFD_SelectionTool!E781&\"_\"&PFS_PFD_SelectionTool!F781&\"_\"&PFS_PFD_SelectionTool!G781&\"_\"&PFS_PFD_SelectionTool!H781&\"_\"&PFS_PFD_SelectionTool!I781&\"_\"&PFS_PFD_SelectionTool!J781),\"\",PFS_PFD_SelectionTool!E781&\"_\"&PFS_PFD_SelectionTool!F781&\"_\"&PFS_PFD_SelectionTool!G781&\"_\"&PFS_PFD_SelectionTool!H781&\"_\"&PFS_PFD_SelectionTool!I781&\"_\"&PFS_PFD_SelectionTool!J781)","v":"_____"},{"$f":"IF(ISBLANK(PFS_PFD_SelectionTool!K781),\"\",PFS_PFD_SelectionTool!K781)","v":""},{"$f":"VLOOKUP(D765,Tabelle1!A:B,2,FALSE)","v":{"$error":"#N/A"}},{"$f":"IF(ISBLANK(PFS_PFD_SelectionTool!N806),\"\",PFS_PFD_SelectionTool!N806)","v":""},{"$f":"IF(ISBLANK(PFS_PFD_SelectionTool!O806),\"\",PFS_PFD_SelectionTool!O806)","v":""}]
[{"$f":"IF(ISBLANK(PFS_PFD_SelectionTool!C782),\"\",PFS_PFD_SelectionTool!C782)","v":""},{"$f":"IF(ISBLANK(PFS_PFD_SelectionTool!D782),\"\",PFS_PFD_SelectionTool!D782)","v":""},{"$f":"IF(ISBLANK(PFS_PFD_SelectionTool!E782&\"_\"&PFS_PFD_SelectionTool!F782&\"_\"&PFS_PFD_SelectionTool!G782&\"_\"&PFS_PFD_SelectionTool!H782&\"_\"&PFS_PFD_SelectionTool!I782&\"_\"&PFS_PFD_SelectionTool!J782),\"\",PFS_PFD_SelectionTool!E782&\"_\"&PFS_PFD_SelectionTool!F782&\"_\"&PFS_PFD_SelectionTool!G782&\"_\"&PFS_PFD_SelectionTool!H782&\"_\"&PFS_PFD_SelectionTool!I782&\"_\"&PFS_PFD_SelectionTool!J782)","v":"_____"},{"$f":"IF(ISBLANK(PFS_PFD_SelectionTool!K782),\"\",PFS_PFD_SelectionTool!K782)","v":""},{"$f":"VLOOKUP(D766,Tabelle1!A:B,2,FALSE)","v":{"$error":"#N/A"}},{"$f":"IF(ISBLANK(PFS_PFD_SelectionTool!N807),\"\",PFS_PFD_SelectionTool!N807)","v":""},{"$f":"IF(ISBLANK(PFS_PFD_SelectionTool!O807),\"\",PFS_PFD_SelectionTool!O807)","v":""}]
[{"$f":"IF(ISBLANK(PFS_PFD_SelectionTool!C783),\"\",PFS_PFD_SelectionTool!C783)","v":""},{"$f":"IF(ISBLANK(PFS_PFD_SelectionTool!D783),\"\",PFS_PFD_SelectionTool!D783)","v":""},{"$f":"IF(ISBLANK(PFS_PFD_SelectionTool!E783&\"_\"&PFS_PFD_SelectionTool!F783&\"_\"&PFS_PFD_SelectionTool!G783&\"_\"&PFS_PFD_SelectionTool!H783&\"_\"&PFS_PFD_SelectionTool!I783&\"_\"&PFS_PFD_SelectionTool!J783),\"\",PFS_PFD_SelectionTool!E783&\"_\"&PFS_PFD_SelectionTool!F783&\"_\"&PFS_PFD_SelectionTool!G783&\"_\"&PFS_PFD_SelectionTool!H783&\"_\"&PFS_PFD_SelectionTool!I783&\"_\"&PFS_PFD_SelectionTool!J783)","v":"_____"},{"$f":"IF(ISBLANK(PFS_PFD_SelectionTool!K783),\"\",PFS_PFD_SelectionTool!K783)","v":""},{"$f":"VLOOKUP(D767,Tabelle1!A:B,2,FALSE)","v":{"$error":"#N/A"}},{"$f":"IF(ISBLANK(PFS_PFD_SelectionTool!N808),\"\",PFS_PFD_SelectionTool!N808)","v":""},{"$f":"IF(ISBLANK(PFS_PFD_SelectionTool!O808),\"\",PFS_PFD_SelectionTool!O808)","v":""}]
[{"$f":"IF(ISBLANK(PFS_PFD_SelectionTool!C784),\"\",PFS_PFD_SelectionTool!C784)","v":""},{"$f":"IF(ISBLANK(PFS_PFD_SelectionTool!D784),\"\",PFS_PFD_SelectionTool!D784)","v":""},{"$f":"IF(ISBLANK(PFS_PFD_SelectionTool!E784&\"_\"&PFS_PFD_SelectionTool!F784&\"_\"&PFS_PFD_SelectionTool!G784&\"_\"&PFS_PFD_SelectionTool!H784&\"_\"&PFS_PFD_SelectionTool!I784&\"_\"&PFS_PFD_SelectionTool!J784),\"\",PFS_PFD_SelectionTool!E784&\"_\"&PFS_PFD_SelectionTool!F784&\"_\"&PFS_PFD_SelectionTool!G784&\"_\"&PFS_PFD_SelectionTool!H784&\"_\"&PFS_PFD_SelectionTool!I784&\"_\"&PFS_PFD_SelectionTool!J784)","v":"_____"},{"$f":"IF(ISBLANK(PFS_PFD_SelectionTool!K784),\"\",PFS_PFD_SelectionTool!K784)","v":""},{"$f":"VLOOKUP(D768,Tabelle1!A:B,2,FALSE)","v":{"$error":"#N/A"}},{"$f":"IF(ISBLANK(PFS_PFD_SelectionTool!N809),\"\",PFS_PFD_SelectionTool!N809)","v":""},{"$f":"IF(ISBLANK(PFS_PFD_SelectionTool!O809),\"\",PFS_PFD_SelectionTool!O809)","v":""}]
[{"$f":"IF(ISBLANK(PFS_PFD_SelectionTool!C785),\"\",PFS_PFD_SelectionTool!C785)","v":""},{"$f":"IF(ISBLANK(PFS_PFD_SelectionTool!D785),\"\",PFS_PFD_SelectionTool!D785)","v":""},{"$f":"IF(ISBLANK(PFS_PFD_SelectionTool!E785&\"_\"&PFS_PFD_SelectionTool!F785&\"_\"&PFS_PFD_SelectionTool!G785&\"_\"&PFS_PFD_SelectionTool!H785&\"_\"&PFS_PFD_SelectionTool!I785&\"_\"&PFS_PFD_SelectionTool!J785),\"\",PFS_PFD_SelectionTool!E785&\"_\"&PFS_PFD_SelectionTool!F785&\"_\"&PFS_PFD_SelectionTool!G785&\"_\"&PFS_PFD_SelectionTool!H785&\"_\"&PFS_PFD_SelectionTool!I785&\"_\"&PFS_PFD_SelectionTool!J785)","v":"_____"},{"$f":"IF(ISBLANK(PFS_PFD_SelectionTool!K785),\"\",PFS_PFD_SelectionTool!K785)","v":""},{"$f":"VLOOKUP(D769,Tabelle1!A:B,2,FALSE)","v":{"$error":"#N/A"}},{"$f":"IF(ISBLANK(PFS_PFD_SelectionTool!N810),\"\",PFS_PFD_SelectionTool!N810)","v":""},{"$f":"IF(ISBLANK(PFS_PFD_SelectionTool!O810),\"\",PFS_PFD_SelectionTool!O810)","v":""}]
[{"$f":"IF(ISBLANK(PFS_PFD_SelectionTool!C786),\"\",PFS_PFD_SelectionTool!C786)","v":""},{"$f":"IF(ISBLANK(PFS_PFD_SelectionTool!D786),\"\",PFS_PFD_SelectionTool!D786)","v":""},{"$f":"IF(ISBLANK(PFS_PFD_SelectionTool!E786&\"_\"&PFS_PFD_SelectionTool!F786&\"_\"&PFS_PFD_SelectionTool!G786&\"_\"&PFS_PFD_SelectionTool!H786&\"_\"&PFS_PFD_SelectionTool!I786&\"_\"&PFS_PFD_SelectionTool!J786),\"\",PFS_PFD_SelectionTool!E786&\"_\"&PFS_PFD_SelectionTool!F786&\"_\"&PFS_PFD_SelectionTool!G786&\"_\"&PFS_PFD_SelectionTool!H786&\"_\"&PFS_PFD_SelectionTool!I786&\"_\"&PFS_PFD_SelectionTool!J786)","v":"_____"},{"$f":"IF(ISBLANK(PFS_PFD_SelectionTool!K786),\"\",PFS_PFD_SelectionTool!K786)","v":""},{"$f":"VLOOKUP(D770,Tabelle1!A:B,2,FALSE)","v":{"$error":"#N/A"}},{"$f":"IF(ISBLANK(PFS_PFD_SelectionTool!N811),\"\",PFS_PFD_SelectionTool!N811)","v":""},{"$f":"IF(ISBLANK(PFS_PFD_SelectionTool!O811),\"\",PFS_PFD_SelectionTool!O811)","v":""}]
[{"$f":"IF(ISBLANK(PFS_PFD_SelectionTool!C787),\"\",PFS_PFD_SelectionTool!C787)","v":""},{"$f":"IF(ISBLANK(PFS_PFD_SelectionTool!D787),\"\",PFS_PFD_SelectionTool!D787)","v":""},{"$f":"IF(ISBLANK(PFS_PFD_SelectionTool!E787&\"_\"&PFS_PFD_SelectionTool!F787&\"_\"&PFS_PFD_SelectionTool!G787&\"_\"&PFS_PFD_SelectionTool!H787&\"_\"&PFS_PFD_SelectionTool!I787&\"_\"&PFS_PFD_SelectionTool!J787),\"\",PFS_PFD_SelectionTool!E787&\"_\"&PFS_PFD_SelectionTool!F787&\"_\"&PFS_PFD_SelectionTool!G787&\"_\"&PFS_PFD_SelectionTool!H787&\"_\"&PFS_PFD_SelectionTool!I787&\"_\"&PFS_PFD_SelectionTool!J787)","v":"_____"},{"$f":"IF(ISBLANK(PFS_PFD_SelectionTool!K787),\"\",PFS_PFD_SelectionTool!K787)","v":""},{"$f":"VLOOKUP(D771,Tabelle1!A:B,2,FALSE)","v":{"$error":"#N/A"}},{"$f":"IF(ISBLANK(PFS_PFD_SelectionTool!N812),\"\",PFS_PFD_SelectionTool!N812)","v":""},{"$f":"IF(ISBLANK(PFS_PFD_SelectionTool!O812),\"\",PFS_PFD_SelectionTool!O812)","v":""}]
[{"$f":"IF(ISBLANK(PFS_PFD_SelectionTool!C788),\"\",PFS_PFD_SelectionTool!C788)","v":""},{"$f":"IF(ISBLANK(PFS_PFD_SelectionTool!D788),\"\",PFS_PFD_SelectionTool!D788)","v":""},{"$f":"IF(ISBLANK(PFS_PFD_SelectionTool!E788&\"_\"&PFS_PFD_SelectionTool!F788&\"_\"&PFS_PFD_SelectionTool!G788&\"_\"&PFS_PFD_SelectionTool!H788&\"_\"&PFS_PFD_SelectionTool!I788&\"_\"&PFS_PFD_SelectionTool!J788),\"\",PFS_PFD_SelectionTool!E788&\"_\"&PFS_PFD_SelectionTool!F788&\"_\"&PFS_PFD_SelectionTool!G788&\"_\"&PFS_PFD_SelectionTool!H788&\"_\"&PFS_PFD_SelectionTool!I788&\"_\"&PFS_PFD_SelectionTool!J788)","v":"_____"},{"$f":"IF(ISBLANK(PFS_PFD_SelectionTool!K788),\"\",PFS_PFD_SelectionTool!K788)","v":""},{"$f":"VLOOKUP(D772,Tabelle1!A:B,2,FALSE)","v":{"$error":"#N/A"}},{"$f":"IF(ISBLANK(PFS_PFD_SelectionTool!N813),\"\",PFS_PFD_SelectionTool!N813)","v":""},{"$f":"IF(ISBLANK(PFS_PFD_SelectionTool!O813),\"\",PFS_PFD_SelectionTool!O813)","v":""}]
[{"$f":"IF(ISBLANK(PFS_PFD_SelectionTool!C789),\"\",PFS_PFD_SelectionTool!C789)","v":""},{"$f":"IF(ISBLANK(PFS_PFD_SelectionTool!D789),\"\",PFS_PFD_SelectionTool!D789)","v":""},{"$f":"IF(ISBLANK(PFS_PFD_SelectionTool!E789&\"_\"&PFS_PFD_SelectionTool!F789&\"_\"&PFS_PFD_SelectionTool!G789&\"_\"&PFS_PFD_SelectionTool!H789&\"_\"&PFS_PFD_SelectionTool!I789&\"_\"&PFS_PFD_SelectionTool!J789),\"\",PFS_PFD_SelectionTool!E789&\"_\"&PFS_PFD_SelectionTool!F789&\"_\"&PFS_PFD_SelectionTool!G789&\"_\"&PFS_PFD_SelectionTool!H789&\"_\"&PFS_PFD_SelectionTool!I789&\"_\"&PFS_PFD_SelectionTool!J789)","v":"_____"},{"$f":"IF(ISBLANK(PFS_PFD_SelectionTool!K789),\"\",PFS_PFD_SelectionTool!K789)","v":""},{"$f":"VLOOKUP(D773,Tabelle1!A:B,2,FALSE)","v":{"$error":"#N/A"}},{"$f":"IF(ISBLANK(PFS_PFD_SelectionTool!N814),\"\",PFS_PFD_SelectionTool!N814)","v":""},{"$f":"IF(ISBLANK(PFS_PFD_SelectionTool!O814),\"\",PFS_PFD_SelectionTool!O814)","v":""}]
[{"$f":"IF(ISBLANK(PFS_PFD_SelectionTool!C790),\"\",PFS_PFD_SelectionTool!C790)","v":""},{"$f":"IF(ISBLANK(PFS_PFD_SelectionTool!D790),\"\",PFS_PFD_SelectionTool!D790)","v":""},{"$f":"IF(ISBLANK(PFS_PFD_SelectionTool!E790&\"_\"&PFS_PFD_SelectionTool!F790&\"_\"&PFS_PFD_SelectionTool!G790&\"_\"&PFS_PFD_SelectionTool!H790&\"_\"&PFS_PFD_SelectionTool!I790&\"_\"&PFS_PFD_SelectionTool!J790),\"\",PFS_PFD_SelectionTool!E790&\"_\"&PFS_PFD_SelectionTool!F790&\"_\"&PFS_PFD_SelectionTool!G790&\"_\"&PFS_PFD_SelectionTool!H790&\"_\"&PFS_PFD_SelectionTool!I790&\"_\"&PFS_PFD_SelectionTool!J790)","v":"_____"},{"$f":"IF(ISBLANK(PFS_PFD_SelectionTool!K790),\"\",PFS_PFD_SelectionTool!K790)","v":""},{"$f":"VLOOKUP(D774,Tabelle1!A:B,2,FALSE)","v":{"$error":"#N/A"}},{"$f":"IF(ISBLANK(PFS_PFD_SelectionTool!N815),\"\",PFS_PFD_SelectionTool!N815)","v":""},{"$f":"IF(ISBLANK(PFS_PFD_SelectionTool!O815),\"\",PFS_PFD_SelectionTool!O815)","v":""}]
[{"$f":"IF(ISBLANK(PFS_PFD_SelectionTool!C791),\"\",PFS_PFD_SelectionTool!C791)","v":""},{"$f":"IF(ISBLANK(PFS_PFD_SelectionTool!D791),\"\",PFS_PFD_SelectionTool!D791)","v":""},{"$f":"IF(ISBLANK(PFS_PFD_SelectionTool!E791&\"_\"&PFS_PFD_SelectionTool!F791&\"_\"&PFS_PFD_SelectionTool!G791&\"_\"&PFS_PFD_SelectionTool!H791&\"_\"&PFS_PFD_SelectionTool!I791&\"_\"&PFS_PFD_SelectionTool!J791),\"\",PFS_PFD_SelectionTool!E791&\"_\"&PFS_PFD_SelectionTool!F791&\"_\"&PFS_PFD_SelectionTool!G791&\"_\"&PFS_PFD_SelectionTool!H791&\"_\"&PFS_PFD_SelectionTool!I791&\"_\"&PFS_PFD_SelectionTool!J791)","v":"_____"},{"$f":"IF(ISBLANK(PFS_PFD_SelectionTool!K791),\"\",PFS_PFD_SelectionTool!K791)","v":""},{"$f":"VLOOKUP(D775,Tabelle1!A:B,2,FALSE)","v":{"$error":"#N/A"}},{"$f":"IF(ISBLANK(PFS_PFD_SelectionTool!N816),\"\",PFS_PFD_SelectionTool!N816)","v":""},{"$f":"IF(ISBLANK(PFS_PFD_SelectionTool!O816),\"\",PFS_PFD_SelectionTool!O816)","v":""}]
[{"$f":"IF(ISBLANK(PFS_PFD_SelectionTool!C792),\"\",PFS_PFD_SelectionTool!C792)","v":""},{"$f":"IF(ISBLANK(PFS_PFD_SelectionTool!D792),\"\",PFS_PFD_SelectionTool!D792)","v":""},{"$f":"IF(ISBLANK(PFS_PFD_SelectionTool!E792&\"_\"&PFS_PFD_SelectionTool!F792&\"_\"&PFS_PFD_SelectionTool!G792&\"_\"&PFS_PFD_SelectionTool!H792&\"_\"&PFS_PFD_SelectionTool!I792&\"_\"&PFS_PFD_SelectionTool!J792),\"\",PFS_PFD_SelectionTool!E792&\"_\"&PFS_PFD_SelectionTool!F792&\"_\"&PFS_PFD_SelectionTool!G792&\"_\"&PFS_PFD_SelectionTool!H792&\"_\"&PFS_PFD_SelectionTool!I792&\"_\"&PFS_PFD_SelectionTool!J792)","v":"_____"},{"$f":"IF(ISBLANK(PFS_PFD_SelectionTool!K792),\"\",PFS_PFD_SelectionTool!K792)","v":""},{"$f":"VLOOKUP(D776,Tabelle1!A:B,2,FALSE)","v":{"$error":"#N/A"}},{"$f":"IF(ISBLANK(PFS_PFD_SelectionTool!N817),\"\",PFS_PFD_SelectionTool!N817)","v":""},{"$f":"IF(ISBLANK(PFS_PFD_SelectionTool!O817),\"\",PFS_PFD_SelectionTool!O817)","v":""}]
[{"$f":"IF(ISBLANK(PFS_PFD_SelectionTool!C793),\"\",PFS_PFD_SelectionTool!C793)","v":""},{"$f":"IF(ISBLANK(PFS_PFD_SelectionTool!D793),\"\",PFS_PFD_SelectionTool!D793)","v":""},{"$f":"IF(ISBLANK(PFS_PFD_SelectionTool!E793&\"_\"&PFS_PFD_SelectionTool!F793&\"_\"&PFS_PFD_SelectionTool!G793&\"_\"&PFS_PFD_SelectionTool!H793&\"_\"&PFS_PFD_SelectionTool!I793&\"_\"&PFS_PFD_SelectionTool!J793),\"\",PFS_PFD_SelectionTool!E793&\"_\"&PFS_PFD_SelectionTool!F793&\"_\"&PFS_PFD_SelectionTool!G793&\"_\"&PFS_PFD_SelectionTool!H793&\"_\"&PFS_PFD_SelectionTool!I793&\"_\"&PFS_PFD_SelectionTool!J793)","v":"_____"},{"$f":"IF(ISBLANK(PFS_PFD_SelectionTool!K793),\"\",PFS_PFD_SelectionTool!K793)","v":""},{"$f":"VLOOKUP(D777,Tabelle1!A:B,2,FALSE)","v":{"$error":"#N/A"}},{"$f":"IF(ISBLANK(PFS_PFD_SelectionTool!N818),\"\",PFS_PFD_SelectionTool!N818)","v":""},{"$f":"IF(ISBLANK(PFS_PFD_SelectionTool!O818),\"\",PFS_PFD_SelectionTool!O818)","v":""}]
[{"$f":"IF(ISBLANK(PFS_PFD_SelectionTool!C794),\"\",PFS_PFD_SelectionTool!C794)","v":""},{"$f":"IF(ISBLANK(PFS_PFD_SelectionTool!D794),\"\",PFS_PFD_SelectionTool!D794)","v":""},{"$f":"IF(ISBLANK(PFS_PFD_SelectionTool!E794&\"_\"&PFS_PFD_SelectionTool!F794&\"_\"&PFS_PFD_SelectionTool!G794&\"_\"&PFS_PFD_SelectionTool!H794&\"_\"&PFS_PFD_SelectionTool!I794&\"_\"&PFS_PFD_SelectionTool!J794),\"\",PFS_PFD_SelectionTool!E794&\"_\"&PFS_PFD_SelectionTool!F794&\"_\"&PFS_PFD_SelectionTool!G794&\"_\"&PFS_PFD_SelectionTool!H794&\"_\"&PFS_PFD_SelectionTool!I794&\"_\"&PFS_PFD_SelectionTool!J794)","v":"_____"},{"$f":"IF(ISBLANK(PFS_PFD_SelectionTool!K794),\"\",PFS_PFD_SelectionTool!K794)","v":""},{"$f":"VLOOKUP(D778,Tabelle1!A:B,2,FALSE)","v":{"$error":"#N/A"}},{"$f":"IF(ISBLANK(PFS_PFD_SelectionTool!N819),\"\",PFS_PFD_SelectionTool!N819)","v":""},{"$f":"IF(ISBLANK(PFS_PFD_SelectionTool!O819),\"\",PFS_PFD_SelectionTool!O819)","v":""}]
[{"$f":"IF(ISBLANK(PFS_PFD_SelectionTool!C795),\"\",PFS_PFD_SelectionTool!C795)","v":""},{"$f":"IF(ISBLANK(PFS_PFD_SelectionTool!D795),\"\",PFS_PFD_SelectionTool!D795)","v":""},{"$f":"IF(ISBLANK(PFS_PFD_SelectionTool!E795&\"_\"&PFS_PFD_SelectionTool!F795&\"_\"&PFS_PFD_SelectionTool!G795&\"_\"&PFS_PFD_SelectionTool!H795&\"_\"&PFS_PFD_SelectionTool!I795&\"_\"&PFS_PFD_SelectionTool!J795),\"\",PFS_PFD_SelectionTool!E795&\"_\"&PFS_PFD_SelectionTool!F795&\"_\"&PFS_PFD_SelectionTool!G795&\"_\"&PFS_PFD_SelectionTool!H795&\"_\"&PFS_PFD_SelectionTool!I795&\"_\"&PFS_PFD_SelectionTool!J795)","v":"_____"},{"$f":"IF(ISBLANK(PFS_PFD_SelectionTool!K795),\"\",PFS_PFD_SelectionTool!K795)","v":""},{"$f":"VLOOKUP(D779,Tabelle1!A:B,2,FALSE)","v":{"$error":"#N/A"}},{"$f":"IF(ISBLANK(PFS_PFD_SelectionTool!N820),\"\",PFS_PFD_SelectionTool!N820)","v":""},{"$f":"IF(ISBLANK(PFS_PFD_SelectionTool!O820),\"\",PFS_PFD_SelectionTool!O820)","v":""}]
[{"$f":"IF(ISBLANK(PFS_PFD_SelectionTool!C796),\"\",PFS_PFD_SelectionTool!C796)","v":""},{"$f":"IF(ISBLANK(PFS_PFD_SelectionTool!D796),\"\",PFS_PFD_SelectionTool!D796)","v":""},{"$f":"IF(ISBLANK(PFS_PFD_SelectionTool!E796&\"_\"&PFS_PFD_SelectionTool!F796&\"_\"&PFS_PFD_SelectionTool!G796&\"_\"&PFS_PFD_SelectionTool!H796&\"_\"&PFS_PFD_SelectionTool!I796&\"_\"&PFS_PFD_SelectionTool!J796),\"\",PFS_PFD_SelectionTool!E796&\"_\"&PFS_PFD_SelectionTool!F796&\"_\"&PFS_PFD_SelectionTool!G796&\"_\"&PFS_PFD_SelectionTool!H796&\"_\"&PFS_PFD_SelectionTool!I796&\"_\"&PFS_PFD_SelectionTool!J796)","v":"_____"},{"$f":"IF(ISBLANK(PFS_PFD_SelectionTool!K796),\"\",PFS_PFD_SelectionTool!K796)","v":""},{"$f":"VLOOKUP(D780,Tabelle1!A:B,2,FALSE)","v":{"$error":"#N/A"}},{"$f":"IF(ISBLANK(PFS_PFD_SelectionTool!N821),\"\",PFS_PFD_SelectionTool!N821)","v":""},{"$f":"IF(ISBLANK(PFS_PFD_SelectionTool!O821),\"\",PFS_PFD_SelectionTool!O821)","v":""}]
[{"$f":"IF(ISBLANK(PFS_PFD_SelectionTool!C797),\"\",PFS_PFD_SelectionTool!C797)","v":""},{"$f":"IF(ISBLANK(PFS_PFD_SelectionTool!D797),\"\",PFS_PFD_SelectionTool!D797)","v":""},{"$f":"IF(ISBLANK(PFS_PFD_SelectionTool!E797&\"_\"&PFS_PFD_SelectionTool!F797&\"_\"&PFS_PFD_SelectionTool!G797&\"_\"&PFS_PFD_SelectionTool!H797&\"_\"&PFS_PFD_SelectionTool!I797&\"_\"&PFS_PFD_SelectionTool!J797),\"\",PFS_PFD_SelectionTool!E797&\"_\"&PFS_PFD_SelectionTool!F797&\"_\"&PFS_PFD_SelectionTool!G797&\"_\"&PFS_PFD_SelectionTool!H797&\"_\"&PFS_PFD_SelectionTool!I797&\"_\"&PFS_PFD_SelectionTool!J797)","v":"_____"},{"$f":"IF(ISBLANK(PFS_PFD_SelectionTool!K797),\"\",PFS_PFD_SelectionTool!K797)","v":""},{"$f":"VLOOKUP(D781,Tabelle1!A:B,2,FALSE)","v":{"$error":"#N/A"}},{"$f":"IF(ISBLANK(PFS_PFD_SelectionTool!N822),\"\",PFS_PFD_SelectionTool!N822)","v":""},{"$f":"IF(ISBLANK(PFS_PFD_SelectionTool!O822),\"\",PFS_PFD_SelectionTool!O822)","v":""}]
[{"$f":"IF(ISBLANK(PFS_PFD_SelectionTool!C798),\"\",PFS_PFD_SelectionTool!C798)","v":""},{"$f":"IF(ISBLANK(PFS_PFD_SelectionTool!D798),\"\",PFS_PFD_SelectionTool!D798)","v":""},{"$f":"IF(ISBLANK(PFS_PFD_SelectionTool!E798&\"_\"&PFS_PFD_SelectionTool!F798&\"_\"&PFS_PFD_SelectionTool!G798&\"_\"&PFS_PFD_SelectionTool!H798&\"_\"&PFS_PFD_SelectionTool!I798&\"_\"&PFS_PFD_SelectionTool!J798),\"\",PFS_PFD_SelectionTool!E798&\"_\"&PFS_PFD_SelectionTool!F798&\"_\"&PFS_PFD_SelectionTool!G798&\"_\"&PFS_PFD_SelectionTool!H798&\"_\"&PFS_PFD_SelectionTool!I798&\"_\"&PFS_PFD_SelectionTool!J798)","v":"_____"},{"$f":"IF(ISBLANK(PFS_PFD_SelectionTool!K798),\"\",PFS_PFD_SelectionTool!K798)","v":""},{"$f":"VLOOKUP(D782,Tabelle1!A:B,2,FALSE)","v":{"$error":"#N/A"}},{"$f":"IF(ISBLANK(PFS_PFD_SelectionTool!N823),\"\",PFS_PFD_SelectionTool!N823)","v":""},{"$f":"IF(ISBLANK(PFS_PFD_SelectionTool!O823),\"\",PFS_PFD_SelectionTool!O823)","v":""}]
[{"$f":"IF(ISBLANK(PFS_PFD_SelectionTool!C799),\"\",PFS_PFD_SelectionTool!C799)","v":""},{"$f":"IF(ISBLANK(PFS_PFD_SelectionTool!D799),\"\",PFS_PFD_SelectionTool!D799)","v":""},{"$f":"IF(ISBLANK(PFS_PFD_SelectionTool!E799&\"_\"&PFS_PFD_SelectionTool!F799&\"_\"&PFS_PFD_SelectionTool!G799&\"_\"&PFS_PFD_SelectionTool!H799&\"_\"&PFS_PFD_SelectionTool!I799&\"_\"&PFS_PFD_SelectionTool!J799),\"\",PFS_PFD_SelectionTool!E799&\"_\"&PFS_PFD_SelectionTool!F799&\"_\"&PFS_PFD_SelectionTool!G799&\"_\"&PFS_PFD_SelectionTool!H799&\"_\"&PFS_PFD_SelectionTool!I799&\"_\"&PFS_PFD_SelectionTool!J799)","v":"_____"},{"$f":"IF(ISBLANK(PFS_PFD_SelectionTool!K799),\"\",PFS_PFD_SelectionTool!K799)","v":""},{"$f":"VLOOKUP(D783,Tabelle1!A:B,2,FALSE)","v":{"$error":"#N/A"}},{"$f":"IF(ISBLANK(PFS_PFD_SelectionTool!N824),\"\",PFS_PFD_SelectionTool!N824)","v":""},{"$f":"IF(ISBLANK(PFS_PFD_SelectionTool!O824),\"\",PFS_PFD_SelectionTool!O824)","v":""}]
[{"$f":"IF(ISBLANK(PFS_PFD_SelectionTool!C800),\"\",PFS_PFD_SelectionTool!C800)","v":""},{"$f":"IF(ISBLANK(PFS_PFD_SelectionTool!D800),\"\",PFS_PFD_SelectionTool!D800)","v":""},{"$f":"IF(ISBLANK(PFS_PFD_SelectionTool!E800&\"_\"&PFS_PFD_SelectionTool!F800&\"_\"&PFS_PFD_SelectionTool!G800&\"_\"&PFS_PFD_SelectionTool!H800&\"_\"&PFS_PFD_SelectionTool!I800&\"_\"&PFS_PFD_SelectionTool!J800),\"\",PFS_PFD_SelectionTool!E800&\"_\"&PFS_PFD_SelectionTool!F800&\"_\"&PFS_PFD_SelectionTool!G800&\"_\"&PFS_PFD_SelectionTool!H800&\"_\"&PFS_PFD_SelectionTool!I800&\"_\"&PFS_PFD_SelectionTool!J800)","v":"_____"},{"$f":"IF(ISBLANK(PFS_PFD_SelectionTool!K800),\"\",PFS_PFD_SelectionTool!K800)","v":""},{"$f":"VLOOKUP(D784,Tabelle1!A:B,2,FALSE)","v":{"$error":"#N/A"}},{"$f":"IF(ISBLANK(PFS_PFD_SelectionTool!N825),\"\",PFS_PFD_SelectionTool!N825)","v":""},{"$f":"IF(ISBLANK(PFS_PFD_SelectionTool!O825),\"\",PFS_PFD_SelectionTool!O825)","v":""}]
[{"$f":"IF(ISBLANK(PFS_PFD_SelectionTool!C801),\"\",PFS_PFD_SelectionTool!C801)","v":""},{"$f":"IF(ISBLANK(PFS_PFD_SelectionTool!D801),\"\",PFS_PFD_SelectionTool!D801)","v":""},{"$f":"IF(ISBLANK(PFS_PFD_SelectionTool!E801&\"_\"&PFS_PFD_SelectionTool!F801&\"_\"&PFS_PFD_SelectionTool!G801&\"_\"&PFS_PFD_SelectionTool!H801&\"_\"&PFS_PFD_SelectionTool!I801&\"_\"&PFS_PFD_SelectionTool!J801),\"\",PFS_PFD_SelectionTool!E801&\"_\"&PFS_PFD_SelectionTool!F801&\"_\"&PFS_PFD_SelectionTool!G801&\"_\"&PFS_PFD_SelectionTool!H801&\"_\"&PFS_PFD_SelectionTool!I801&\"_\"&PFS_PFD_SelectionTool!J801)","v":"_____"},{"$f":"IF(ISBLANK(PFS_PFD_SelectionTool!K801),\"\",PFS_PFD_SelectionTool!K801)","v":""},{"$f":"VLOOKUP(D785,Tabelle1!A:B,2,FALSE)","v":{"$error":"#N/A"}},{"$f":"IF(ISBLANK(PFS_PFD_SelectionTool!N826),\"\",PFS_PFD_SelectionTool!N826)","v":""},{"$f":"IF(ISBLANK(PFS_PFD_SelectionTool!O826),\"\",PFS_PFD_SelectionTool!O826)","v":""}]
[{"$f":"IF(ISBLANK(PFS_PFD_SelectionTool!C802),\"\",PFS_PFD_SelectionTool!C802)","v":""},{"$f":"IF(ISBLANK(PFS_PFD_SelectionTool!D802),\"\",PFS_PFD_SelectionTool!D802)","v":""},{"$f":"IF(ISBLANK(PFS_PFD_SelectionTool!E802&\"_\"&PFS_PFD_SelectionTool!F802&\"_\"&PFS_PFD_SelectionTool!G802&\"_\"&PFS_PFD_SelectionTool!H802&\"_\"&PFS_PFD_SelectionTool!I802&\"_\"&PFS_PFD_SelectionTool!J802),\"\",PFS_PFD_SelectionTool!E802&\"_\"&PFS_PFD_SelectionTool!F802&\"_\"&PFS_PFD_SelectionTool!G802&\"_\"&PFS_PFD_SelectionTool!H802&\"_\"&PFS_PFD_SelectionTool!I802&\"_\"&PFS_PFD_SelectionTool!J802)","v":"_____"},{"$f":"IF(ISBLANK(PFS_PFD_SelectionTool!K802),\"\",PFS_PFD_SelectionTool!K802)","v":""},{"$f":"VLOOKUP(D786,Tabelle1!A:B,2,FALSE)","v":{"$error":"#N/A"}},{"$f":"IF(ISBLANK(PFS_PFD_SelectionTool!N827),\"\",PFS_PFD_SelectionTool!N827)","v":""},{"$f":"IF(ISBLANK(PFS_PFD_SelectionTool!O827),\"\",PFS_PFD_SelectionTool!O827)","v":""}]
[{"$f":"IF(ISBLANK(PFS_PFD_SelectionTool!C803),\"\",PFS_PFD_SelectionTool!C803)","v":""},{"$f":"IF(ISBLANK(PFS_PFD_SelectionTool!D803),\"\",PFS_PFD_SelectionTool!D803)","v":""},{"$f":"IF(ISBLANK(PFS_PFD_SelectionTool!E803&\"_\"&PFS_PFD_SelectionTool!F803&\"_\"&PFS_PFD_SelectionTool!G803&\"_\"&PFS_PFD_SelectionTool!H803&\"_\"&PFS_PFD_SelectionTool!I803&\"_\"&PFS_PFD_SelectionTool!J803),\"\",PFS_PFD_SelectionTool!E803&\"_\"&PFS_PFD_SelectionTool!F803&\"_\"&PFS_PFD_SelectionTool!G803&\"_\"&PFS_PFD_SelectionTool!H803&\"_\"&PFS_PFD_SelectionTool!I803&\"_\"&PFS_PFD_SelectionTool!J803)","v":"_____"},{"$f":"IF(ISBLANK(PFS_PFD_SelectionTool!K803),\"\",PFS_PFD_SelectionTool!K803)","v":""},{"$f":"VLOOKUP(D787,Tabelle1!A:B,2,FALSE)","v":{"$error":"#N/A"}},{"$f":"IF(ISBLANK(PFS_PFD_SelectionTool!N828),\"\",PFS_PFD_SelectionTool!N828)","v":""},{"$f":"IF(ISBLANK(PFS_PFD_SelectionTool!O828),\"\",PFS_PFD_SelectionTool!O828)","v":""}]
[{"$f":"IF(ISBLANK(PFS_PFD_SelectionTool!C804),\"\",PFS_PFD_SelectionTool!C804)","v":""},{"$f":"IF(ISBLANK(PFS_PFD_SelectionTool!D804),\"\",PFS_PFD_SelectionTool!D804)","v":""},{"$f":"IF(ISBLANK(PFS_PFD_SelectionTool!E804&\"_\"&PFS_PFD_SelectionTool!F804&\"_\"&PFS_PFD_SelectionTool!G804&\"_\"&PFS_PFD_SelectionTool!H804&\"_\"&PFS_PFD_SelectionTool!I804&\"_\"&PFS_PFD_SelectionTool!J804),\"\",PFS_PFD_SelectionTool!E804&\"_\"&PFS_PFD_SelectionTool!F804&\"_\"&PFS_PFD_SelectionTool!G804&\"_\"&PFS_PFD_SelectionTool!H804&\"_\"&PFS_PFD_SelectionTool!I804&\"_\"&PFS_PFD_SelectionTool!J804)","v":"_____"},{"$f":"IF(ISBLANK(PFS_PFD_SelectionTool!K804),\"\",PFS_PFD_SelectionTool!K804)","v":""},{"$f":"VLOOKUP(D788,Tabelle1!A:B,2,FALSE)","v":{"$error":"#N/A"}},{"$f":"IF(ISBLANK(PFS_PFD_SelectionTool!N829),\"\",PFS_PFD_SelectionTool!N829)","v":""},{"$f":"IF(ISBLANK(PFS_PFD_SelectionTool!O829),\"\",PFS_PFD_SelectionTool!O829)","v":""}]
[{"$f":"IF(ISBLANK(PFS_PFD_SelectionTool!C805),\"\",PFS_PFD_SelectionTool!C805)","v":""},{"$f":"IF(ISBLANK(PFS_PFD_SelectionTool!D805),\"\",PFS_PFD_SelectionTool!D805)","v":""},{"$f":"IF(ISBLANK(PFS_PFD_SelectionTool!E805&\"_\"&PFS_PFD_SelectionTool!F805&\"_\"&PFS_PFD_SelectionTool!G805&\"_\"&PFS_PFD_SelectionTool!H805&\"_\"&PFS_PFD_SelectionTool!I805&\"_\"&PFS_PFD_SelectionTool!J805),\"\",PFS_PFD_SelectionTool!E805&\"_\"&PFS_PFD_SelectionTool!F805&\"_\"&PFS_PFD_SelectionTool!G805&\"_\"&PFS_PFD_SelectionTool!H805&\"_\"&PFS_PFD_SelectionTool!I805&\"_\"&PFS_PFD_SelectionTool!J805)","v":"_____"},{"$f":"IF(ISBLANK(PFS_PFD_SelectionTool!K805),\"\",PFS_PFD_SelectionTool!K805)","v":""},{"$f":"VLOOKUP(D789,Tabelle1!A:B,2,FALSE)","v":{"$error":"#N/A"}},{"$f":"IF(ISBLANK(PFS_PFD_SelectionTool!N830),\"\",PFS_PFD_SelectionTool!N830)","v":""},{"$f":"IF(ISBLANK(PFS_PFD_SelectionTool!O830),\"\",PFS_PFD_SelectionTool!O830)","v":""}]
[{"$f":"IF(ISBLANK(PFS_PFD_SelectionTool!C806),\"\",PFS_PFD_SelectionTool!C806)","v":""},{"$f":"IF(ISBLANK(PFS_PFD_SelectionTool!D806),\"\",PFS_PFD_SelectionTool!D806)","v":""},{"$f":"IF(ISBLANK(PFS_PFD_SelectionTool!E806&\"_\"&PFS_PFD_SelectionTool!F806&\"_\"&PFS_PFD_SelectionTool!G806&\"_\"&PFS_PFD_SelectionTool!H806&\"_\"&PFS_PFD_SelectionTool!I806&\"_\"&PFS_PFD_SelectionTool!J806),\"\",PFS_PFD_SelectionTool!E806&\"_\"&PFS_PFD_SelectionTool!F806&\"_\"&PFS_PFD_SelectionTool!G806&\"_\"&PFS_PFD_SelectionTool!H806&\"_\"&PFS_PFD_SelectionTool!I806&\"_\"&PFS_PFD_SelectionTool!J806)","v":"_____"},{"$f":"IF(ISBLANK(PFS_PFD_SelectionTool!K806),\"\",PFS_PFD_SelectionTool!K806)","v":""},{"$f":"VLOOKUP(D790,Tabelle1!A:B,2,FALSE)","v":{"$error":"#N/A"}},{"$f":"IF(ISBLANK(PFS_PFD_SelectionTool!N831),\"\",PFS_PFD_SelectionTool!N831)","v":""},{"$f":"IF(ISBLANK(PFS_PFD_SelectionTool!O831),\"\",PFS_PFD_SelectionTool!O831)","v":""}]
[{"$f":"IF(ISBLANK(PFS_PFD_SelectionTool!C807),\"\",PFS_PFD_SelectionTool!C807)","v":""},{"$f":"IF(ISBLANK(PFS_PFD_SelectionTool!D807),\"\",PFS_PFD_SelectionTool!D807)","v":""},{"$f":"IF(ISBLANK(PFS_PFD_SelectionTool!E807&\"_\"&PFS_PFD_SelectionTool!F807&\"_\"&PFS_PFD_SelectionTool!G807&\"_\"&PFS_PFD_SelectionTool!H807&\"_\"&PFS_PFD_SelectionTool!I807&\"_\"&PFS_PFD_SelectionTool!J807),\"\",PFS_PFD_SelectionTool!E807&\"_\"&PFS_PFD_SelectionTool!F807&\"_\"&PFS_PFD_SelectionTool!G807&\"_\"&PFS_PFD_SelectionTool!H807&\"_\"&PFS_PFD_SelectionTool!I807&\"_\"&PFS_PFD_SelectionTool!J807)","v":"_____"},{"$f":"IF(ISBLANK(PFS_PFD_SelectionTool!K807),\"\",PFS_PFD_SelectionTool!K807)","v":""},{"$f":"VLOOKUP(D791,Tabelle1!A:B,2,FALSE)","v":{"$error":"#N/A"}},{"$f":"IF(ISBLANK(PFS_PFD_SelectionTool!N832),\"\",PFS_PFD_SelectionTool!N832)","v":""},{"$f":"IF(ISBLANK(PFS_PFD_SelectionTool!O832),\"\",PFS_PFD_SelectionTool!O832)","v":""}]
[{"$f":"IF(ISBLANK(PFS_PFD_SelectionTool!C808),\"\",PFS_PFD_SelectionTool!C808)","v":""},{"$f":"IF(ISBLANK(PFS_PFD_SelectionTool!D808),\"\",PFS_PFD_SelectionTool!D808)","v":""},{"$f":"IF(ISBLANK(PFS_PFD_SelectionTool!E808&\"_\"&PFS_PFD_SelectionTool!F808&\"_\"&PFS_PFD_SelectionTool!G808&\"_\"&PFS_PFD_SelectionTool!H808&\"_\"&PFS_PFD_SelectionTool!I808&\"_\"&PFS_PFD_SelectionTool!J808),\"\",PFS_PFD_SelectionTool!E808&\"_\"&PFS_PFD_SelectionTool!F808&\"_\"&PFS_PFD_SelectionTool!G808&\"_\"&PFS_PFD_SelectionTool!H808&\"_\"&PFS_PFD_SelectionTool!I808&\"_\"&PFS_PFD_SelectionTool!J808)","v":"_____"},{"$f":"IF(ISBLANK(PFS_PFD_SelectionTool!K808),\"\",PFS_PFD_SelectionTool!K808)","v":""},{"$f":"VLOOKUP(D792,Tabelle1!A:B,2,FALSE)","v":{"$error":"#N/A"}},{"$f":"IF(ISBLANK(PFS_PFD_SelectionTool!N833),\"\",PFS_PFD_SelectionTool!N833)","v":""},{"$f":"IF(ISBLANK(PFS_PFD_SelectionTool!O833),\"\",PFS_PFD_SelectionTool!O833)","v":""}]
[{"$f":"IF(ISBLANK(PFS_PFD_SelectionTool!C809),\"\",PFS_PFD_SelectionTool!C809)","v":""},{"$f":"IF(ISBLANK(PFS_PFD_SelectionTool!D809),\"\",PFS_PFD_SelectionTool!D809)","v":""},{"$f":"IF(ISBLANK(PFS_PFD_SelectionTool!E809&\"_\"&PFS_PFD_SelectionTool!F809&\"_\"&PFS_PFD_SelectionTool!G809&\"_\"&PFS_PFD_SelectionTool!H809&\"_\"&PFS_PFD_SelectionTool!I809&\"_\"&PFS_PFD_SelectionTool!J809),\"\",PFS_PFD_SelectionTool!E809&\"_\"&PFS_PFD_SelectionTool!F809&\"_\"&PFS_PFD_SelectionTool!G809&\"_\"&PFS_PFD_SelectionTool!H809&\"_\"&PFS_PFD_SelectionTool!I809&\"_\"&PFS_PFD_SelectionTool!J809)","v":"_____"},{"$f":"IF(ISBLANK(PFS_PFD_SelectionTool!K809),\"\",PFS_PFD_SelectionTool!K809)","v":""},{"$f":"VLOOKUP(D793,Tabelle1!A:B,2,FALSE)","v":{"$error":"#N/A"}},{"$f":"IF(ISBLANK(PFS_PFD_SelectionTool!N834),\"\",PFS_PFD_SelectionTool!N834)","v":""},{"$f":"IF(ISBLANK(PFS_PFD_SelectionTool!O834),\"\",PFS_PFD_SelectionTool!O834)","v":""}]
[{"$f":"IF(ISBLANK(PFS_PFD_SelectionTool!C810),\"\",PFS_PFD_SelectionTool!C810)","v":""},{"$f":"IF(ISBLANK(PFS_PFD_SelectionTool!D810),\"\",PFS_PFD_SelectionTool!D810)","v":""},{"$f":"IF(ISBLANK(PFS_PFD_SelectionTool!E810&\"_\"&PFS_PFD_SelectionTool!F810&\"_\"&PFS_PFD_SelectionTool!G810&\"_\"&PFS_PFD_SelectionTool!H810&\"_\"&PFS_PFD_SelectionTool!I810&\"_\"&PFS_PFD_SelectionTool!J810),\"\",PFS_PFD_SelectionTool!E810&\"_\"&PFS_PFD_SelectionTool!F810&\"_\"&PFS_PFD_SelectionTool!G810&\"_\"&PFS_PFD_SelectionTool!H810&\"_\"&PFS_PFD_SelectionTool!I810&\"_\"&PFS_PFD_SelectionTool!J810)","v":"_____"},{"$f":"IF(ISBLANK(PFS_PFD_SelectionTool!K810),\"\",PFS_PFD_SelectionTool!K810)","v":""},{"$f":"VLOOKUP(D794,Tabelle1!A:B,2,FALSE)","v":{"$error":"#N/A"}},{"$f":"IF(ISBLANK(PFS_PFD_SelectionTool!N835),\"\",PFS_PFD_SelectionTool!N835)","v":""},{"$f":"IF(ISBLANK(PFS_PFD_SelectionTool!O835),\"\",PFS_PFD_SelectionTool!O835)","v":""}]
[{"$f":"IF(ISBLANK(PFS_PFD_SelectionTool!C811),\"\",PFS_PFD_SelectionTool!C811)","v":""},{"$f":"IF(ISBLANK(PFS_PFD_SelectionTool!D811),\"\",PFS_PFD_SelectionTool!D811)","v":""},{"$f":"IF(ISBLANK(PFS_PFD_SelectionTool!E811&\"_\"&PFS_PFD_SelectionTool!F811&\"_\"&PFS_PFD_SelectionTool!G811&\"_\"&PFS_PFD_SelectionTool!H811&\"_\"&PFS_PFD_SelectionTool!I811&\"_\"&PFS_PFD_SelectionTool!J811),\"\",PFS_PFD_SelectionTool!E811&\"_\"&PFS_PFD_SelectionTool!F811&\"_\"&PFS_PFD_SelectionTool!G811&\"_\"&PFS_PFD_SelectionTool!H811&\"_\"&PFS_PFD_SelectionTool!I811&\"_\"&PFS_PFD_SelectionTool!J811)","v":"_____"},{"$f":"IF(ISBLANK(PFS_PFD_SelectionTool!K811),\"\",PFS_PFD_SelectionTool!K811)","v":""},{"$f":"VLOOKUP(D795,Tabelle1!A:B,2,FALSE)","v":{"$error":"#N/A"}},{"$f":"IF(ISBLANK(PFS_PFD_SelectionTool!N836),\"\",PFS_PFD_SelectionTool!N836)","v":""},{"$f":"IF(ISBLANK(PFS_PFD_SelectionTool!O836),\"\",PFS_PFD_SelectionTool!O836)","v":""}]
[{"$f":"IF(ISBLANK(PFS_PFD_SelectionTool!C812),\"\",PFS_PFD_SelectionTool!C812)","v":""},{"$f":"IF(ISBLANK(PFS_PFD_SelectionTool!D812),\"\",PFS_PFD_SelectionTool!D812)","v":""},{"$f":"IF(ISBLANK(PFS_PFD_SelectionTool!E812&\"_\"&PFS_PFD_SelectionTool!F812&\"_\"&PFS_PFD_SelectionTool!G812&\"_\"&PFS_PFD_SelectionTool!H812&\"_\"&PFS_PFD_SelectionTool!I812&\"_\"&PFS_PFD_SelectionTool!J812),\"\",PFS_PFD_SelectionTool!E812&\"_\"&PFS_PFD_SelectionTool!F812&\"_\"&PFS_PFD_SelectionTool!G812&\"_\"&PFS_PFD_SelectionTool!H812&\"_\"&PFS_PFD_SelectionTool!I812&\"_\"&PFS_PFD_SelectionTool!J812)","v":"_____"},{"$f":"IF(ISBLANK(PFS_PFD_SelectionTool!K812),\"\",PFS_PFD_SelectionTool!K812)","v":""},{"$f":"VLOOKUP(D796,Tabelle1!A:B,2,FALSE)","v":{"$error":"#N/A"}},{"$f":"IF(ISBLANK(PFS_PFD_SelectionTool!N837),\"\",PFS_PFD_SelectionTool!N837)","v":""},{"$f":"IF(ISBLANK(PFS_PFD_SelectionTool!O837),\"\",PFS_PFD_SelectionTool!O837)","v":""}]
[{"$f":"IF(ISBLANK(PFS_PFD_SelectionTool!C813),\"\",PFS_PFD_SelectionTool!C813)","v":""},{"$f":"IF(ISBLANK(PFS_PFD_SelectionTool!D813),\"\",PFS_PFD_SelectionTool!D813)","v":""},{"$f":"IF(ISBLANK(PFS_PFD_SelectionTool!E813&\"_\"&PFS_PFD_SelectionTool!F813&\"_\"&PFS_PFD_SelectionTool!G813&\"_\"&PFS_PFD_SelectionTool!H813&\"_\"&PFS_PFD_SelectionTool!I813&\"_\"&PFS_PFD_SelectionTool!J813),\"\",PFS_PFD_SelectionTool!E813&\"_\"&PFS_PFD_SelectionTool!F813&\"_\"&PFS_PFD_SelectionTool!G813&\"_\"&PFS_PFD_SelectionTool!H813&\"_\"&PFS_PFD_SelectionTool!I813&\"_\"&PFS_PFD_SelectionTool!J813)","v":"_____"},{"$f":"IF(ISBLANK(PFS_PFD_SelectionTool!K813),\"\",PFS_PFD_SelectionTool!K813)","v":""},{"$f":"VLOOKUP(D797,Tabelle1!A:B,2,FALSE)","v":{"$error":"#N/A"}},{"$f":"IF(ISBLANK(PFS_PFD_SelectionTool!N838),\"\",PFS_PFD_SelectionTool!N838)","v":""},{"$f":"IF(ISBLANK(PFS_PFD_SelectionTool!O838),\"\",PFS_PFD_SelectionTool!O838)","v":""}]
[{"$f":"IF(ISBLANK(PFS_PFD_SelectionTool!C814),\"\",PFS_PFD_SelectionTool!C814)","v":""},{"$f":"IF(ISBLANK(PFS_PFD_SelectionTool!D814),\"\",PFS_PFD_SelectionTool!D814)","v":""},{"$f":"IF(ISBLANK(PFS_PFD_SelectionTool!E814&\"_\"&PFS_PFD_SelectionTool!F814&\"_\"&PFS_PFD_SelectionTool!G814&\"_\"&PFS_PFD_SelectionTool!H814&\"_\"&PFS_PFD_SelectionTool!I814&\"_\"&PFS_PFD_SelectionTool!J814),\"\",PFS_PFD_SelectionTool!E814&\"_\"&PFS_PFD_SelectionTool!F814&\"_\"&PFS_PFD_SelectionTool!G814&\"_\"&PFS_PFD_SelectionTool!H814&\"_\"&PFS_PFD_SelectionTool!I814&\"_\"&PFS_PFD_SelectionTool!J814)","v":"_____"},{"$f":"IF(ISBLANK(PFS_PFD_SelectionTool!K814),\"\",PFS_PFD_SelectionTool!K814)","v":""},{"$f":"VLOOKUP(D798,Tabelle1!A:B,2,FALSE)","v":{"$error":"#N/A"}},{"$f":"IF(ISBLANK(PFS_PFD_SelectionTool!N839),\"\",PFS_PFD_SelectionTool!N839)","v":""},{"$f":"IF(ISBLANK(PFS_PFD_SelectionTool!O839),\"\",PFS_PFD_SelectionTool!O839)","v":""}]
[{"$f":"IF(ISBLANK(PFS_PFD_SelectionTool!C815),\"\",PFS_PFD_SelectionTool!C815)","v":""},{"$f":"IF(ISBLANK(PFS_PFD_SelectionTool!D815),\"\",PFS_PFD_SelectionTool!D815)","v":""},{"$f":"IF(ISBLANK(PFS_PFD_SelectionTool!E815&\"_\"&PFS_PFD_SelectionTool!F815&\"_\"&PFS_PFD_SelectionTool!G815&\"_\"&PFS_PFD_SelectionTool!H815&\"_\"&PFS_PFD_SelectionTool!I815&\"_\"&PFS_PFD_SelectionTool!J815),\"\",PFS_PFD_SelectionTool!E815&\"_\"&PFS_PFD_SelectionTool!F815&\"_\"&PFS_PFD_SelectionTool!G815&\"_\"&PFS_PFD_SelectionTool!H815&\"_\"&PFS_PFD_SelectionTool!I815&\"_\"&PFS_PFD_SelectionTool!J815)","v":"_____"},{"$f":"IF(ISBLANK(PFS_PFD_SelectionTool!K815),\"\",PFS_PFD_SelectionTool!K815)","v":""},{"$f":"VLOOKUP(D799,Tabelle1!A:B,2,FALSE)","v":{"$error":"#N/A"}},{"$f":"IF(ISBLANK(PFS_PFD_SelectionTool!N840),\"\",PFS_PFD_SelectionTool!N840)","v":""},{"$f":"IF(ISBLANK(PFS_PFD_SelectionTool!O840),\"\",PFS_PFD_SelectionTool!O840)","v":""}]
[{"$f":"IF(ISBLANK(PFS_PFD_SelectionTool!C816),\"\",PFS_PFD_SelectionTool!C816)","v":""},{"$f":"IF(ISBLANK(PFS_PFD_SelectionTool!D816),\"\",PFS_PFD_SelectionTool!D816)","v":""},{"$f":"IF(ISBLANK(PFS_PFD_SelectionTool!E816&\"_\"&PFS_PFD_SelectionTool!F816&\"_\"&PFS_PFD_SelectionTool!G816&\"_\"&PFS_PFD_SelectionTool!H816&\"_\"&PFS_PFD_SelectionTool!I816&\"_\"&PFS_PFD_SelectionTool!J816),\"\",PFS_PFD_SelectionTool!E816&\"_\"&PFS_PFD_SelectionTool!F816&\"_\"&PFS_PFD_SelectionTool!G816&\"_\"&PFS_PFD_SelectionTool!H816&\"_\"&PFS_PFD_SelectionTool!I816&\"_\"&PFS_PFD_SelectionTool!J816)","v":"_____"},{"$f":"IF(ISBLANK(PFS_PFD_SelectionTool!K816),\"\",PFS_PFD_SelectionTool!K816)","v":""},{"$f":"VLOOKUP(D800,Tabelle1!A:B,2,FALSE)","v":{"$error":"#N/A"}},{"$f":"IF(ISBLANK(PFS_PFD_SelectionTool!N841),\"\",PFS_PFD_SelectionTool!N841)","v":""},{"$f":"IF(ISBLANK(PFS_PFD_SelectionTool!O841),\"\",PFS_PFD_SelectionTool!O841)","v":""}]
[{"$f":"IF(ISBLANK(PFS_PFD_SelectionTool!C817),\"\",PFS_PFD_SelectionTool!C817)","v":""},{"$f":"IF(ISBLANK(PFS_PFD_SelectionTool!D817),\"\",PFS_PFD_SelectionTool!D817)","v":""},{"$f":"IF(ISBLANK(PFS_PFD_SelectionTool!E817&\"_\"&PFS_PFD_SelectionTool!F817&\"_\"&PFS_PFD_SelectionTool!G817&\"_\"&PFS_PFD_SelectionTool!H817&\"_\"&PFS_PFD_SelectionTool!I817&\"_\"&PFS_PFD_SelectionTool!J817),\"\",PFS_PFD_SelectionTool!E817&\"_\"&PFS_PFD_SelectionTool!F817&\"_\"&PFS_PFD_SelectionTool!G817&\"_\"&PFS_PFD_SelectionTool!H817&\"_\"&PFS_PFD_SelectionTool!I817&\"_\"&PFS_PFD_SelectionTool!J817)","v":"_____"},{"$f":"IF(ISBLANK(PFS_PFD_SelectionTool!K817),\"\",PFS_PFD_SelectionTool!K817)","v":""},{"$f":"VLOOKUP(D801,Tabelle1!A:B,2,FALSE)","v":{"$error":"#N/A"}},{"$f":"IF(ISBLANK(PFS_PFD_SelectionTool!N842),\"\",PFS_PFD_SelectionTool!N842)","v":""},{"$f":"IF(ISBLANK(PFS_PFD_SelectionTool!O842),\"\",PFS_PFD_SelectionTool!O842)","v":""}]
[{"$f":"IF(ISBLANK(PFS_PFD_SelectionTool!C818),\"\",PFS_PFD_SelectionTool!C818)","v":""},{"$f":"IF(ISBLANK(PFS_PFD_SelectionTool!D818),\"\",PFS_PFD_SelectionTool!D818)","v":""},{"$f":"IF(ISBLANK(PFS_PFD_SelectionTool!E818&\"_\"&PFS_PFD_SelectionTool!F818&\"_\"&PFS_PFD_SelectionTool!G818&\"_\"&PFS_PFD_SelectionTool!H818&\"_\"&PFS_PFD_SelectionTool!I818&\"_\"&PFS_PFD_SelectionTool!J818),\"\",PFS_PFD_SelectionTool!E818&\"_\"&PFS_PFD_SelectionTool!F818&\"_\"&PFS_PFD_SelectionTool!G818&\"_\"&PFS_PFD_SelectionTool!H818&\"_\"&PFS_PFD_SelectionTool!I818&\"_\"&PFS_PFD_SelectionTool!J818)","v":"_____"},{"$f":"IF(ISBLANK(PFS_PFD_SelectionTool!K818),\"\",PFS_PFD_SelectionTool!K818)","v":""},{"$f":"VLOOKUP(D802,Tabelle1!A:B,2,FALSE)","v":{"$error":"#N/A"}},{"$f":"IF(ISBLANK(PFS_PFD_SelectionTool!N843),\"\",PFS_PFD_SelectionTool!N843)","v":""},{"$f":"IF(ISBLANK(PFS_PFD_SelectionTool!O843),\"\",PFS_PFD_SelectionTool!O843)","v":""}]
[{"$f":"IF(ISBLANK(PFS_PFD_SelectionTool!C819),\"\",PFS_PFD_SelectionTool!C819)","v":""},{"$f":"IF(ISBLANK(PFS_PFD_SelectionTool!D819),\"\",PFS_PFD_SelectionTool!D819)","v":""},{"$f":"IF(ISBLANK(PFS_PFD_SelectionTool!E819&\"_\"&PFS_PFD_SelectionTool!F819&\"_\"&PFS_PFD_SelectionTool!G819&\"_\"&PFS_PFD_SelectionTool!H819&\"_\"&PFS_PFD_SelectionTool!I819&\"_\"&PFS_PFD_SelectionTool!J819),\"\",PFS_PFD_SelectionTool!E819&\"_\"&PFS_PFD_SelectionTool!F819&\"_\"&PFS_PFD_SelectionTool!G819&\"_\"&PFS_PFD_SelectionTool!H819&\"_\"&PFS_PFD_SelectionTool!I819&\"_\"&PFS_PFD_SelectionTool!J819)","v":"_____"},{"$f":"IF(ISBLANK(PFS_PFD_SelectionTool!K819),\"\",PFS_PFD_SelectionTool!K819)","v":""},{"$f":"VLOOKUP(D803,Tabelle1!A:B,2,FALSE)","v":{"$error":"#N/A"}},{"$f":"IF(ISBLANK(PFS_PFD_SelectionTool!N844),\"\",PFS_PFD_SelectionTool!N844)","v":""},{"$f":"IF(ISBLANK(PFS_PFD_SelectionTool!O844),\"\",PFS_PFD_SelectionTool!O844)","v":""}]
[{"$f":"IF(ISBLANK(PFS_PFD_SelectionTool!C820),\"\",PFS_PFD_SelectionTool!C820)","v":""},{"$f":"IF(ISBLANK(PFS_PFD_SelectionTool!D820),\"\",PFS_PFD_SelectionTool!D820)","v":""},{"$f":"IF(ISBLANK(PFS_PFD_SelectionTool!E820&\"_\"&PFS_PFD_SelectionTool!F820&\"_\"&PFS_PFD_SelectionTool!G820&\"_\"&PFS_PFD_SelectionTool!H820&\"_\"&PFS_PFD_SelectionTool!I820&\"_\"&PFS_PFD_SelectionTool!J820),\"\",PFS_PFD_SelectionTool!E820&\"_\"&PFS_PFD_SelectionTool!F820&\"_\"&PFS_PFD_SelectionTool!G820&\"_\"&PFS_PFD_SelectionTool!H820&\"_\"&PFS_PFD_SelectionTool!I820&\"_\"&PFS_PFD_SelectionTool!J820)","v":"_____"},{"$f":"IF(ISBLANK(PFS_PFD_SelectionTool!K820),\"\",PFS_PFD_SelectionTool!K820)","v":""},{"$f":"VLOOKUP(D804,Tabelle1!A:B,2,FALSE)","v":{"$error":"#N/A"}},{"$f":"IF(ISBLANK(PFS_PFD_SelectionTool!N845),\"\",PFS_PFD_SelectionTool!N845)","v":""},{"$f":"IF(ISBLANK(PFS_PFD_SelectionTool!O845),\"\",PFS_PFD_SelectionTool!O845)","v":""}]
[{"$f":"IF(ISBLANK(PFS_PFD_SelectionTool!C821),\"\",PFS_PFD_SelectionTool!C821)","v":""},{"$f":"IF(ISBLANK(PFS_PFD_SelectionTool!D821),\"\",PFS_PFD_SelectionTool!D821)","v":""},{"$f":"IF(ISBLANK(PFS_PFD_SelectionTool!E821&\"_\"&PFS_PFD_SelectionTool!F821&\"_\"&PFS_PFD_SelectionTool!G821&\"_\"&PFS_PFD_SelectionTool!H821&\"_\"&PFS_PFD_SelectionTool!I821&\"_\"&PFS_PFD_SelectionTool!J821),\"\",PFS_PFD_SelectionTool!E821&\"_\"&PFS_PFD_SelectionTool!F821&\"_\"&PFS_PFD_SelectionTool!G821&\"_\"&PFS_PFD_SelectionTool!H821&\"_\"&PFS_PFD_SelectionTool!I821&\"_\"&PFS_PFD_SelectionTool!J821)","v":"_____"},{"$f":"IF(ISBLANK(PFS_PFD_SelectionTool!K821),\"\",PFS_PFD_SelectionTool!K821)","v":""},{"$f":"VLOOKUP(D805,Tabelle1!A:B,2,FALSE)","v":{"$error":"#N/A"}},{"$f":"IF(ISBLANK(PFS_PFD_SelectionTool!N846),\"\",PFS_PFD_SelectionTool!N846)","v":""},{"$f":"IF(ISBLANK(PFS_PFD_SelectionTool!O846),\"\",PFS_PFD_SelectionTool!O846)","v":""}]
[{"$f":"IF(ISBLANK(PFS_PFD_SelectionTool!C822),\"\",PFS_PFD_SelectionTool!C822)","v":""},{"$f":"IF(ISBLANK(PFS_PFD_SelectionTool!D822),\"\",PFS_PFD_SelectionTool!D822)","v":""},{"$f":"IF(ISBLANK(PFS_PFD_SelectionTool!E822&\"_\"&PFS_PFD_SelectionTool!F822&\"_\"&PFS_PFD_SelectionTool!G822&\"_\"&PFS_PFD_SelectionTool!H822&\"_\"&PFS_PFD_SelectionTool!I822&\"_\"&PFS_PFD_SelectionTool!J822),\"\",PFS_PFD_SelectionTool!E822&\"_\"&PFS_PFD_SelectionTool!F822&\"_\"&PFS_PFD_SelectionTool!G822&\"_\"&PFS_PFD_SelectionTool!H822&\"_\"&PFS_PFD_SelectionTool!I822&\"_\"&PFS_PFD_SelectionTool!J822)","v":"_____"},{"$f":"IF(ISBLANK(PFS_PFD_SelectionTool!K822),\"\",PFS_PFD_SelectionTool!K822)","v":""},{"$f":"VLOOKUP(D806,Tabelle1!A:B,2,FALSE)","v":{"$error":"#N/A"}},{"$f":"IF(ISBLANK(PFS_PFD_SelectionTool!N847),\"\",PFS_PFD_SelectionTool!N847)","v":""},{"$f":"IF(ISBLANK(PFS_PFD_SelectionTool!O847),\"\",PFS_PFD_SelectionTool!O847)","v":""}]
[{"$f":"IF(ISBLANK(PFS_PFD_SelectionTool!C823),\"\",PFS_PFD_SelectionTool!C823)","v":""},{"$f":"IF(ISBLANK(PFS_PFD_SelectionTool!D823),\"\",PFS_PFD_SelectionTool!D823)","v":""},{"$f":"IF(ISBLANK(PFS_PFD_SelectionTool!E823&\"_\"&PFS_PFD_SelectionTool!F823&\"_\"&PFS_PFD_SelectionTool!G823&\"_\"&PFS_PFD_SelectionTool!H823&\"_\"&PFS_PFD_SelectionTool!I823&\"_\"&PFS_PFD_SelectionTool!J823),\"\",PFS_PFD_SelectionTool!E823&\"_\"&PFS_PFD_SelectionTool!F823&\"_\"&PFS_PFD_SelectionTool!G823&\"_\"&PFS_PFD_SelectionTool!H823&\"_\"&PFS_PFD_SelectionTool!I823&\"_\"&PFS_PFD_SelectionTool!J823)","v":"_____"},{"$f":"IF(ISBLANK(PFS_PFD_SelectionTool!K823),\"\",PFS_PFD_SelectionTool!K823)","v":""},{"$f":"VLOOKUP(D807,Tabelle1!A:B,2,FALSE)","v":{"$error":"#N/A"}},{"$f":"IF(ISBLANK(PFS_PFD_SelectionTool!N848),\"\",PFS_PFD_SelectionTool!N848)","v":""},{"$f":"IF(ISBLANK(PFS_PFD_SelectionTool!O848),\"\",PFS_PFD_SelectionTool!O848)","v":""}]
[{"$f":"IF(ISBLANK(PFS_PFD_SelectionTool!C824),\"\",PFS_PFD_SelectionTool!C824)","v":""},{"$f":"IF(ISBLANK(PFS_PFD_SelectionTool!D824),\"\",PFS_PFD_SelectionTool!D824)","v":""},{"$f":"IF(ISBLANK(PFS_PFD_SelectionTool!E824&\"_\"&PFS_PFD_SelectionTool!F824&\"_\"&PFS_PFD_SelectionTool!G824&\"_\"&PFS_PFD_SelectionTool!H824&\"_\"&PFS_PFD_SelectionTool!I824&\"_\"&PFS_PFD_SelectionTool!J824),\"\",PFS_PFD_SelectionTool!E824&\"_\"&PFS_PFD_SelectionTool!F824&\"_\"&PFS_PFD_SelectionTool!G824&\"_\"&PFS_PFD_SelectionTool!H824&\"_\"&PFS_PFD_SelectionTool!I824&\"_\"&PFS_PFD_SelectionTool!J824)","v":"_____"},{"$f":"IF(ISBLANK(PFS_PFD_SelectionTool!K824),\"\",PFS_PFD_SelectionTool!K824)","v":""},{"$f":"VLOOKUP(D808,Tabelle1!A:B,2,FALSE)","v":{"$error":"#N/A"}},{"$f":"IF(ISBLANK(PFS_PFD_SelectionTool!N849),\"\",PFS_PFD_SelectionTool!N849)","v":""},{"$f":"IF(ISBLANK(PFS_PFD_SelectionTool!O849),\"\",PFS_PFD_SelectionTool!O849)","v":""}]
[{"$f":"IF(ISBLANK(PFS_PFD_SelectionTool!C825),\"\",PFS_PFD_SelectionTool!C825)","v":""},{"$f":"IF(ISBLANK(PFS_PFD_SelectionTool!D825),\"\",PFS_PFD_SelectionTool!D825)","v":""},{"$f":"IF(ISBLANK(PFS_PFD_SelectionTool!E825&\"_\"&PFS_PFD_SelectionTool!F825&\"_\"&PFS_PFD_SelectionTool!G825&\"_\"&PFS_PFD_SelectionTool!H825&\"_\"&PFS_PFD_SelectionTool!I825&\"_\"&PFS_PFD_SelectionTool!J825),\"\",PFS_PFD_SelectionTool!E825&\"_\"&PFS_PFD_SelectionTool!F825&\"_\"&PFS_PFD_SelectionTool!G825&\"_\"&PFS_PFD_SelectionTool!H825&\"_\"&PFS_PFD_SelectionTool!I825&\"_\"&PFS_PFD_SelectionTool!J825)","v":"_____"},{"$f":"IF(ISBLANK(PFS_PFD_SelectionTool!K825),\"\",PFS_PFD_SelectionTool!K825)","v":""},{"$f":"VLOOKUP(D809,Tabelle1!A:B,2,FALSE)","v":{"$error":"#N/A"}},{"$f":"IF(ISBLANK(PFS_PFD_SelectionTool!N850),\"\",PFS_PFD_SelectionTool!N850)","v":""},{"$f":"IF(ISBLANK(PFS_PFD_SelectionTool!O850),\"\",PFS_PFD_SelectionTool!O850)","v":""}]
[{"$f":"IF(ISBLANK(PFS_PFD_SelectionTool!C826),\"\",PFS_PFD_SelectionTool!C826)","v":""},{"$f":"IF(ISBLANK(PFS_PFD_SelectionTool!D826),\"\",PFS_PFD_SelectionTool!D826)","v":""},{"$f":"IF(ISBLANK(PFS_PFD_SelectionTool!E826&\"_\"&PFS_PFD_SelectionTool!F826&\"_\"&PFS_PFD_SelectionTool!G826&\"_\"&PFS_PFD_SelectionTool!H826&\"_\"&PFS_PFD_SelectionTool!I826&\"_\"&PFS_PFD_SelectionTool!J826),\"\",PFS_PFD_SelectionTool!E826&\"_\"&PFS_PFD_SelectionTool!F826&\"_\"&PFS_PFD_SelectionTool!G826&\"_\"&PFS_PFD_SelectionTool!H826&\"_\"&PFS_PFD_SelectionTool!I826&\"_\"&PFS_PFD_SelectionTool!J826)","v":"_____"},{"$f":"IF(ISBLANK(PFS_PFD_SelectionTool!K826),\"\",PFS_PFD_SelectionTool!K826)","v":""},{"$f":"VLOOKUP(D810,Tabelle1!A:B,2,FALSE)","v":{"$error":"#N/A"}},{"$f":"IF(ISBLANK(PFS_PFD_SelectionTool!N851),\"\",PFS_PFD_SelectionTool!N851)","v":""},{"$f":"IF(ISBLANK(PFS_PFD_SelectionTool!O851),\"\",PFS_PFD_SelectionTool!O851)","v":""}]
[{"$f":"IF(ISBLANK(PFS_PFD_SelectionTool!C827),\"\",PFS_PFD_SelectionTool!C827)","v":""},{"$f":"IF(ISBLANK(PFS_PFD_SelectionTool!D827),\"\",PFS_PFD_SelectionTool!D827)","v":""},{"$f":"IF(ISBLANK(PFS_PFD_SelectionTool!E827&\"_\"&PFS_PFD_SelectionTool!F827&\"_\"&PFS_PFD_SelectionTool!G827&\"_\"&PFS_PFD_SelectionTool!H827&\"_\"&PFS_PFD_SelectionTool!I827&\"_\"&PFS_PFD_SelectionTool!J827),\"\",PFS_PFD_SelectionTool!E827&\"_\"&PFS_PFD_SelectionTool!F827&\"_\"&PFS_PFD_SelectionTool!G827&\"_\"&PFS_PFD_SelectionTool!H827&\"_\"&PFS_PFD_SelectionTool!I827&\"_\"&PFS_PFD_SelectionTool!J827)","v":"_____"},{"$f":"IF(ISBLANK(PFS_PFD_SelectionTool!K827),\"\",PFS_PFD_SelectionTool!K827)","v":""},{"$f":"VLOOKUP(D811,Tabelle1!A:B,2,FALSE)","v":{"$error":"#N/A"}},{"$f":"IF(ISBLANK(PFS_PFD_SelectionTool!N852),\"\",PFS_PFD_SelectionTool!N852)","v":""},{"$f":"IF(ISBLANK(PFS_PFD_SelectionTool!O852),\"\",PFS_PFD_SelectionTool!O852)","v":""}]
[{"$f":"IF(ISBLANK(PFS_PFD_SelectionTool!C828),\"\",PFS_PFD_SelectionTool!C828)","v":""},{"$f":"IF(ISBLANK(PFS_PFD_SelectionTool!D828),\"\",PFS_PFD_SelectionTool!D828)","v":""},{"$f":"IF(ISBLANK(PFS_PFD_SelectionTool!E828&\"_\"&PFS_PFD_SelectionTool!F828&\"_\"&PFS_PFD_SelectionTool!G828&\"_\"&PFS_PFD_SelectionTool!H828&\"_\"&PFS_PFD_SelectionTool!I828&\"_\"&PFS_PFD_SelectionTool!J828),\"\",PFS_PFD_SelectionTool!E828&\"_\"&PFS_PFD_SelectionTool!F828&\"_\"&PFS_PFD_SelectionTool!G828&\"_\"&PFS_PFD_SelectionTool!H828&\"_\"&PFS_PFD_SelectionTool!I828&\"_\"&PFS_PFD_SelectionTool!J828)","v":"_____"},{"$f":"IF(ISBLANK(PFS_PFD_SelectionTool!K828),\"\",PFS_PFD_SelectionTool!K828)","v":""},{"$f":"VLOOKUP(D812,Tabelle1!A:B,2,FALSE)","v":{"$error":"#N/A"}},{"$f":"IF(ISBLANK(PFS_PFD_SelectionTool!N853),\"\",PFS_PFD_SelectionTool!N853)","v":""},{"$f":"IF(ISBLANK(PFS_PFD_SelectionTool!O853),\"\",PFS_PFD_SelectionTool!O853)","v":""}]
[{"$f":"IF(ISBLANK(PFS_PFD_SelectionTool!C829),\"\",PFS_PFD_SelectionTool!C829)","v":""},{"$f":"IF(ISBLANK(PFS_PFD_SelectionTool!D829),\"\",PFS_PFD_SelectionTool!D829)","v":""},{"$f":"IF(ISBLANK(PFS_PFD_SelectionTool!E829&\"_\"&PFS_PFD_SelectionTool!F829&\"_\"&PFS_PFD_SelectionTool!G829&\"_\"&PFS_PFD_SelectionTool!H829&\"_\"&PFS_PFD_SelectionTool!I829&\"_\"&PFS_PFD_SelectionTool!J829),\"\",PFS_PFD_SelectionTool!E829&\"_\"&PFS_PFD_SelectionTool!F829&\"_\"&PFS_PFD_SelectionTool!G829&\"_\"&PFS_PFD_SelectionTool!H829&\"_\"&PFS_PFD_SelectionTool!I829&\"_\"&PFS_PFD_SelectionTool!J829)","v":"_____"},{"$f":"IF(ISBLANK(PFS_PFD_SelectionTool!K829),\"\",PFS_PFD_SelectionTool!K829)","v":""},{"$f":"VLOOKUP(D813,Tabelle1!A:B,2,FALSE)","v":{"$error":"#N/A"}},{"$f":"IF(ISBLANK(PFS_PFD_SelectionTool!N854),\"\",PFS_PFD_SelectionTool!N854)","v":""},{"$f":"IF(ISBLANK(PFS_PFD_SelectionTool!O854),\"\",PFS_PFD_SelectionTool!O854)","v":""}]
[{"$f":"IF(ISBLANK(PFS_PFD_SelectionTool!C830),\"\",PFS_PFD_SelectionTool!C830)","v":""},{"$f":"IF(ISBLANK(PFS_PFD_SelectionTool!D830),\"\",PFS_PFD_SelectionTool!D830)","v":""},{"$f":"IF(ISBLANK(PFS_PFD_SelectionTool!E830&\"_\"&PFS_PFD_SelectionTool!F830&\"_\"&PFS_PFD_SelectionTool!G830&\"_\"&PFS_PFD_SelectionTool!H830&\"_\"&PFS_PFD_SelectionTool!I830&\"_\"&PFS_PFD_SelectionTool!J830),\"\",PFS_PFD_SelectionTool!E830&\"_\"&PFS_PFD_SelectionTool!F830&\"_\"&PFS_PFD_SelectionTool!G830&\"_\"&PFS_PFD_SelectionTool!H830&\"_\"&PFS_PFD_SelectionTool!I830&\"_\"&PFS_PFD_SelectionTool!J830)","v":"_____"},{"$f":"IF(ISBLANK(PFS_PFD_SelectionTool!K830),\"\",PFS_PFD_SelectionTool!K830)","v":""},{"$f":"VLOOKUP(D814,Tabelle1!A:B,2,FALSE)","v":{"$error":"#N/A"}},{"$f":"IF(ISBLANK(PFS_PFD_SelectionTool!N855),\"\",PFS_PFD_SelectionTool!N855)","v":""},{"$f":"IF(ISBLANK(PFS_PFD_SelectionTool!O855),\"\",PFS_PFD_SelectionTool!O855)","v":""}]
[{"$f":"IF(ISBLANK(PFS_PFD_SelectionTool!C831),\"\",PFS_PFD_SelectionTool!C831)","v":""},{"$f":"IF(ISBLANK(PFS_PFD_SelectionTool!D831),\"\",PFS_PFD_SelectionTool!D831)","v":""},{"$f":"IF(ISBLANK(PFS_PFD_SelectionTool!E831&\"_\"&PFS_PFD_SelectionTool!F831&\"_\"&PFS_PFD_SelectionTool!G831&\"_\"&PFS_PFD_SelectionTool!H831&\"_\"&PFS_PFD_SelectionTool!I831&\"_\"&PFS_PFD_SelectionTool!J831),\"\",PFS_PFD_SelectionTool!E831&\"_\"&PFS_PFD_SelectionTool!F831&\"_\"&PFS_PFD_SelectionTool!G831&\"_\"&PFS_PFD_SelectionTool!H831&\"_\"&PFS_PFD_SelectionTool!I831&\"_\"&PFS_PFD_SelectionTool!J831)","v":"_____"},{"$f":"IF(ISBLANK(PFS_PFD_SelectionTool!K831),\"\",PFS_PFD_SelectionTool!K831)","v":""},{"$f":"VLOOKUP(D815,Tabelle1!A:B,2,FALSE)","v":{"$error":"#N/A"}},{"$f":"IF(ISBLANK(PFS_PFD_SelectionTool!N856),\"\",PFS_PFD_SelectionTool!N856)","v":""},{"$f":"IF(ISBLANK(PFS_PFD_SelectionTool!O856),\"\",PFS_PFD_SelectionTool!O856)","v":""}]
[{"$f":"IF(ISBLANK(PFS_PFD_SelectionTool!C832),\"\",PFS_PFD_SelectionTool!C832)","v":""},{"$f":"IF(ISBLANK(PFS_PFD_SelectionTool!D832),\"\",PFS_PFD_SelectionTool!D832)","v":""},{"$f":"IF(ISBLANK(PFS_PFD_SelectionTool!E832&\"_\"&PFS_PFD_SelectionTool!F832&\"_\"&PFS_PFD_SelectionTool!G832&\"_\"&PFS_PFD_SelectionTool!H832&\"_\"&PFS_PFD_SelectionTool!I832&\"_\"&PFS_PFD_SelectionTool!J832),\"\",PFS_PFD_SelectionTool!E832&\"_\"&PFS_PFD_SelectionTool!F832&\"_\"&PFS_PFD_SelectionTool!G832&\"_\"&PFS_PFD_SelectionTool!H832&\"_\"&PFS_PFD_SelectionTool!I832&\"_\"&PFS_PFD_SelectionTool!J832)","v":"_____"},{"$f":"IF(ISBLANK(PFS_PFD_SelectionTool!K832),\"\",PFS_PFD_SelectionTool!K832)","v":""},{"$f":"VLOOKUP(D816,Tabelle1!A:B,2,FALSE)","v":{"$error":"#N/A"}},{"$f":"IF(ISBLANK(PFS_PFD_SelectionTool!N857),\"\",PFS_PFD_SelectionTool!N857)","v":""},{"$f":"IF(ISBLANK(PFS_PFD_SelectionTool!O857),\"\",PFS_PFD_SelectionTool!O857)","v":""}]
[{"$f":"IF(ISBLANK(PFS_PFD_SelectionTool!C833),\"\",PFS_PFD_SelectionTool!C833)","v":""},{"$f":"IF(ISBLANK(PFS_PFD_SelectionTool!D833),\"\",PFS_PFD_SelectionTool!D833)","v":""},{"$f":"IF(ISBLANK(PFS_PFD_SelectionTool!E833&\"_\"&PFS_PFD_SelectionTool!F833&\"_\"&PFS_PFD_SelectionTool!G833&\"_\"&PFS_PFD_SelectionTool!H833&\"_\"&PFS_PFD_SelectionTool!I833&\"_\"&PFS_PFD_SelectionTool!J833),\"\",PFS_PFD_SelectionTool!E833&\"_\"&PFS_PFD_SelectionTool!F833&\"_\"&PFS_PFD_SelectionTool!G833&\"_\"&PFS_PFD_SelectionTool!H833&\"_\"&PFS_PFD_SelectionTool!I833&\"_\"&PFS_PFD_SelectionTool!J833)","v":"_____"},{"$f":"IF(ISBLANK(PFS_PFD_SelectionTool!K833),\"\",PFS_PFD_SelectionTool!K833)","v":""},{"$f":"VLOOKUP(D817,Tabelle1!A:B,2,FALSE)","v":{"$error":"#N/A"}},{"$f":"IF(ISBLANK(PFS_PFD_SelectionTool!N858),\"\",PFS_PFD_SelectionTool!N858)","v":""},{"$f":"IF(ISBLANK(PFS_PFD_SelectionTool!O858),\"\",PFS_PFD_SelectionTool!O858)","v":""}]
[{"$f":"IF(ISBLANK(PFS_PFD_SelectionTool!C834),\"\",PFS_PFD_SelectionTool!C834)","v":""},{"$f":"IF(ISBLANK(PFS_PFD_SelectionTool!D834),\"\",PFS_PFD_SelectionTool!D834)","v":""},{"$f":"IF(ISBLANK(PFS_PFD_SelectionTool!E834&\"_\"&PFS_PFD_SelectionTool!F834&\"_\"&PFS_PFD_SelectionTool!G834&\"_\"&PFS_PFD_SelectionTool!H834&\"_\"&PFS_PFD_SelectionTool!I834&\"_\"&PFS_PFD_SelectionTool!J834),\"\",PFS_PFD_SelectionTool!E834&\"_\"&PFS_PFD_SelectionTool!F834&\"_\"&PFS_PFD_SelectionTool!G834&\"_\"&PFS_PFD_SelectionTool!H834&\"_\"&PFS_PFD_SelectionTool!I834&\"_\"&PFS_PFD_SelectionTool!J834)","v":"_____"},{"$f":"IF(ISBLANK(PFS_PFD_SelectionTool!K834),\"\",PFS_PFD_SelectionTool!K834)","v":""},{"$f":"VLOOKUP(D818,Tabelle1!A:B,2,FALSE)","v":{"$error":"#N/A"}},{"$f":"IF(ISBLANK(PFS_PFD_SelectionTool!N859),\"\",PFS_PFD_SelectionTool!N859)","v":""},{"$f":"IF(ISBLANK(PFS_PFD_SelectionTool!O859),\"\",PFS_PFD_SelectionTool!O859)","v":""}]
[{"$f":"IF(ISBLANK(PFS_PFD_SelectionTool!C835),\"\",PFS_PFD_SelectionTool!C835)","v":""},{"$f":"IF(ISBLANK(PFS_PFD_SelectionTool!D835),\"\",PFS_PFD_SelectionTool!D835)","v":""},{"$f":"IF(ISBLANK(PFS_PFD_SelectionTool!E835&\"_\"&PFS_PFD_SelectionTool!F835&\"_\"&PFS_PFD_SelectionTool!G835&\"_\"&PFS_PFD_SelectionTool!H835&\"_\"&PFS_PFD_SelectionTool!I835&\"_\"&PFS_PFD_SelectionTool!J835),\"\",PFS_PFD_SelectionTool!E835&\"_\"&PFS_PFD_SelectionTool!F835&\"_\"&PFS_PFD_SelectionTool!G835&\"_\"&PFS_PFD_SelectionTool!H835&\"_\"&PFS_PFD_SelectionTool!I835&\"_\"&PFS_PFD_SelectionTool!J835)","v":"_____"},{"$f":"IF(ISBLANK(PFS_PFD_SelectionTool!K835),\"\",PFS_PFD_SelectionTool!K835)","v":""},{"$f":"VLOOKUP(D819,Tabelle1!A:B,2,FALSE)","v":{"$error":"#N/A"}},{"$f":"IF(ISBLANK(PFS_PFD_SelectionTool!N860),\"\",PFS_PFD_SelectionTool!N860)","v":""},{"$f":"IF(ISBLANK(PFS_PFD_SelectionTool!O860),\"\",PFS_PFD_SelectionTool!O860)","v":""}]
[{"$f":"IF(ISBLANK(PFS_PFD_SelectionTool!C836),\"\",PFS_PFD_SelectionTool!C836)","v":""},{"$f":"IF(ISBLANK(PFS_PFD_SelectionTool!D836),\"\",PFS_PFD_SelectionTool!D836)","v":""},{"$f":"IF(ISBLANK(PFS_PFD_SelectionTool!E836&\"_\"&PFS_PFD_SelectionTool!F836&\"_\"&PFS_PFD_SelectionTool!G836&\"_\"&PFS_PFD_SelectionTool!H836&\"_\"&PFS_PFD_SelectionTool!I836&\"_\"&PFS_PFD_SelectionTool!J836),\"\",PFS_PFD_SelectionTool!E836&\"_\"&PFS_PFD_SelectionTool!F836&\"_\"&PFS_PFD_SelectionTool!G836&\"_\"&PFS_PFD_SelectionTool!H836&\"_\"&PFS_PFD_SelectionTool!I836&\"_\"&PFS_PFD_SelectionTool!J836)","v":"_____"},{"$f":"IF(ISBLANK(PFS_PFD_SelectionTool!K836),\"\",PFS_PFD_SelectionTool!K836)","v":""},{"$f":"VLOOKUP(D820,Tabelle1!A:B,2,FALSE)","v":{"$error":"#N/A"}},{"$f":"IF(ISBLANK(PFS_PFD_SelectionTool!N861),\"\",PFS_PFD_SelectionTool!N861)","v":""},{"$f":"IF(ISBLANK(PFS_PFD_SelectionTool!O861),\"\",PFS_PFD_SelectionTool!O861)","v":""}]
[{"$f":"IF(ISBLANK(PFS_PFD_SelectionTool!C837),\"\",PFS_PFD_SelectionTool!C837)","v":""},{"$f":"IF(ISBLANK(PFS_PFD_SelectionTool!D837),\"\",PFS_PFD_SelectionTool!D837)","v":""},{"$f":"IF(ISBLANK(PFS_PFD_SelectionTool!E837&\"_\"&PFS_PFD_SelectionTool!F837&\"_\"&PFS_PFD_SelectionTool!G837&\"_\"&PFS_PFD_SelectionTool!H837&\"_\"&PFS_PFD_SelectionTool!I837&\"_\"&PFS_PFD_SelectionTool!J837),\"\",PFS_PFD_SelectionTool!E837&\"_\"&PFS_PFD_SelectionTool!F837&\"_\"&PFS_PFD_SelectionTool!G837&\"_\"&PFS_PFD_SelectionTool!H837&\"_\"&PFS_PFD_SelectionTool!I837&\"_\"&PFS_PFD_SelectionTool!J837)","v":"_____"},{"$f":"IF(ISBLANK(PFS_PFD_SelectionTool!K837),\"\",PFS_PFD_SelectionTool!K837)","v":""},{"$f":"VLOOKUP(D821,Tabelle1!A:B,2,FALSE)","v":{"$error":"#N/A"}},{"$f":"IF(ISBLANK(PFS_PFD_SelectionTool!N862),\"\",PFS_PFD_SelectionTool!N862)","v":""},{"$f":"IF(ISBLANK(PFS_PFD_SelectionTool!O862),\"\",PFS_PFD_SelectionTool!O862)","v":""}]
[{"$f":"IF(ISBLANK(PFS_PFD_SelectionTool!C838),\"\",PFS_PFD_SelectionTool!C838)","v":""},{"$f":"IF(ISBLANK(PFS_PFD_SelectionTool!D838),\"\",PFS_PFD_SelectionTool!D838)","v":""},{"$f":"IF(ISBLANK(PFS_PFD_SelectionTool!E838&\"_\"&PFS_PFD_SelectionTool!F838&\"_\"&PFS_PFD_SelectionTool!G838&\"_\"&PFS_PFD_SelectionTool!H838&\"_\"&PFS_PFD_SelectionTool!I838&\"_\"&PFS_PFD_SelectionTool!J838),\"\",PFS_PFD_SelectionTool!E838&\"_\"&PFS_PFD_SelectionTool!F838&\"_\"&PFS_PFD_SelectionTool!G838&\"_\"&PFS_PFD_SelectionTool!H838&\"_\"&PFS_PFD_SelectionTool!I838&\"_\"&PFS_PFD_SelectionTool!J838)","v":"_____"},{"$f":"IF(ISBLANK(PFS_PFD_SelectionTool!K838),\"\",PFS_PFD_SelectionTool!K838)","v":""},{"$f":"VLOOKUP(D822,Tabelle1!A:B,2,FALSE)","v":{"$error":"#N/A"}},{"$f":"IF(ISBLANK(PFS_PFD_SelectionTool!N863),\"\",PFS_PFD_SelectionTool!N863)","v":""},{"$f":"IF(ISBLANK(PFS_PFD_SelectionTool!O863),\"\",PFS_PFD_SelectionTool!O863)","v":""}]
[{"$f":"IF(ISBLANK(PFS_PFD_SelectionTool!C839),\"\",PFS_PFD_SelectionTool!C839)","v":""},{"$f":"IF(ISBLANK(PFS_PFD_SelectionTool!D839),\"\",PFS_PFD_SelectionTool!D839)","v":""},{"$f":"IF(ISBLANK(PFS_PFD_SelectionTool!E839&\"_\"&PFS_PFD_SelectionTool!F839&\"_\"&PFS_PFD_SelectionTool!G839&\"_\"&PFS_PFD_SelectionTool!H839&\"_\"&PFS_PFD_SelectionTool!I839&\"_\"&PFS_PFD_SelectionTool!J839),\"\",PFS_PFD_SelectionTool!E839&\"_\"&PFS_PFD_SelectionTool!F839&\"_\"&PFS_PFD_SelectionTool!G839&\"_\"&PFS_PFD_SelectionTool!H839&\"_\"&PFS_PFD_SelectionTool!I839&\"_\"&PFS_PFD_SelectionTool!J839)","v":"_____"},{"$f":"IF(ISBLANK(PFS_PFD_SelectionTool!K839),\"\",PFS_PFD_SelectionTool!K839)","v":""},{"$f":"VLOOKUP(D823,Tabelle1!A:B,2,FALSE)","v":{"$error":"#N/A"}},{"$f":"IF(ISBLANK(PFS_PFD_SelectionTool!N864),\"\",PFS_PFD_SelectionTool!N864)","v":""},{"$f":"IF(ISBLANK(PFS_PFD_SelectionTool!O864),\"\",PFS_PFD_SelectionTool!O864)","v":""}]
[{"$f":"IF(ISBLANK(PFS_PFD_SelectionTool!C840),\"\",PFS_PFD_SelectionTool!C840)","v":""},{"$f":"IF(ISBLANK(PFS_PFD_SelectionTool!D840),\"\",PFS_PFD_SelectionTool!D840)","v":""},{"$f":"IF(ISBLANK(PFS_PFD_SelectionTool!E840&\"_\"&PFS_PFD_SelectionTool!F840&\"_\"&PFS_PFD_SelectionTool!G840&\"_\"&PFS_PFD_SelectionTool!H840&\"_\"&PFS_PFD_SelectionTool!I840&\"_\"&PFS_PFD_SelectionTool!J840),\"\",PFS_PFD_SelectionTool!E840&\"_\"&PFS_PFD_SelectionTool!F840&\"_\"&PFS_PFD_SelectionTool!G840&\"_\"&PFS_PFD_SelectionTool!H840&\"_\"&PFS_PFD_SelectionTool!I840&\"_\"&PFS_PFD_SelectionTool!J840)","v":"_____"},{"$f":"IF(ISBLANK(PFS_PFD_SelectionTool!K840),\"\",PFS_PFD_SelectionTool!K840)","v":""},{"$f":"VLOOKUP(D824,Tabelle1!A:B,2,FALSE)","v":{"$error":"#N/A"}},{"$f":"IF(ISBLANK(PFS_PFD_SelectionTool!N865),\"\",PFS_PFD_SelectionTool!N865)","v":""},{"$f":"IF(ISBLANK(PFS_PFD_SelectionTool!O865),\"\",PFS_PFD_SelectionTool!O865)","v":""}]
[{"$f":"IF(ISBLANK(PFS_PFD_SelectionTool!C841),\"\",PFS_PFD_SelectionTool!C841)","v":""},{"$f":"IF(ISBLANK(PFS_PFD_SelectionTool!D841),\"\",PFS_PFD_SelectionTool!D841)","v":""},{"$f":"IF(ISBLANK(PFS_PFD_SelectionTool!E841&\"_\"&PFS_PFD_SelectionTool!F841&\"_\"&PFS_PFD_SelectionTool!G841&\"_\"&PFS_PFD_SelectionTool!H841&\"_\"&PFS_PFD_SelectionTool!I841&\"_\"&PFS_PFD_SelectionTool!J841),\"\",PFS_PFD_SelectionTool!E841&\"_\"&PFS_PFD_SelectionTool!F841&\"_\"&PFS_PFD_SelectionTool!G841&\"_\"&PFS_PFD_SelectionTool!H841&\"_\"&PFS_PFD_SelectionTool!I841&\"_\"&PFS_PFD_SelectionTool!J841)","v":"_____"},{"$f":"IF(ISBLANK(PFS_PFD_SelectionTool!K841),\"\",PFS_PFD_SelectionTool!K841)","v":""},{"$f":"VLOOKUP(D825,Tabelle1!A:B,2,FALSE)","v":{"$error":"#N/A"}},{"$f":"IF(ISBLANK(PFS_PFD_SelectionTool!N866),\"\",PFS_PFD_SelectionTool!N866)","v":""},{"$f":"IF(ISBLANK(PFS_PFD_SelectionTool!O866),\"\",PFS_PFD_SelectionTool!O866)","v":""}]
[{"$f":"IF(ISBLANK(PFS_PFD_SelectionTool!C842),\"\",PFS_PFD_SelectionTool!C842)","v":""},{"$f":"IF(ISBLANK(PFS_PFD_SelectionTool!D842),\"\",PFS_PFD_SelectionTool!D842)","v":""},{"$f":"IF(ISBLANK(PFS_PFD_SelectionTool!E842&\"_\"&PFS_PFD_SelectionTool!F842&\"_\"&PFS_PFD_SelectionTool!G842&\"_\"&PFS_PFD_SelectionTool!H842&\"_\"&PFS_PFD_SelectionTool!I842&\"_\"&PFS_PFD_SelectionTool!J842),\"\",PFS_PFD_SelectionTool!E842&\"_\"&PFS_PFD_SelectionTool!F842&\"_\"&PFS_PFD_SelectionTool!G842&\"_\"&PFS_PFD_SelectionTool!H842&\"_\"&PFS_PFD_SelectionTool!I842&\"_\"&PFS_PFD_SelectionTool!J842)","v":"_____"},{"$f":"IF(ISBLANK(PFS_PFD_SelectionTool!K842),\"\",PFS_PFD_SelectionTool!K842)","v":""},{"$f":"VLOOKUP(D826,Tabelle1!A:B,2,FALSE)","v":{"$error":"#N/A"}},{"$f":"IF(ISBLANK(PFS_PFD_SelectionTool!N867),\"\",PFS_PFD_SelectionTool!N867)","v":""},{"$f":"IF(ISBLANK(PFS_PFD_SelectionTool!O867),\"\",PFS_PFD_SelectionTool!O867)","v":""}]
[{"$f":"IF(ISBLANK(PFS_PFD_SelectionTool!C843),\"\",PFS_PFD_SelectionTool!C843)","v":""},{"$f":"IF(ISBLANK(PFS_PFD_SelectionTool!D843),\"\",PFS_PFD_SelectionTool!D843)","v":""},{"$f":"IF(ISBLANK(PFS_PFD_SelectionTool!E843&\"_\"&PFS_PFD_SelectionTool!F843&\"_\"&PFS_PFD_SelectionTool!G843&\"_\"&PFS_PFD_SelectionTool!H843&\"_\"&PFS_PFD_SelectionTool!I843&\"_\"&PFS_PFD_SelectionTool!J843),\"\",PFS_PFD_SelectionTool!E843&\"_\"&PFS_PFD_SelectionTool!F843&\"_\"&PFS_PFD_SelectionTool!G843&\"_\"&PFS_PFD_SelectionTool!H843&\"_\"&PFS_PFD_SelectionTool!I843&\"_\"&PFS_PFD_SelectionTool!J843)","v":"_____"},{"$f":"IF(ISBLANK(PFS_PFD_SelectionTool!K843),\"\",PFS_PFD_SelectionTool!K843)","v":""},{"$f":"VLOOKUP(D827,Tabelle1!A:B,2,FALSE)","v":{"$error":"#N/A"}},{"$f":"IF(ISBLANK(PFS_PFD_SelectionTool!N868),\"\",PFS_PFD_SelectionTool!N868)","v":""},{"$f":"IF(ISBLANK(PFS_PFD_SelectionTool!O868),\"\",PFS_PFD_SelectionTool!O868)","v":""}]
[{"$f":"IF(ISBLANK(PFS_PFD_SelectionTool!C844),\"\",PFS_PFD_SelectionTool!C844)","v":""},{"$f":"IF(ISBLANK(PFS_PFD_SelectionTool!D844),\"\",PFS_PFD_SelectionTool!D844)","v":""},{"$f":"IF(ISBLANK(PFS_PFD_SelectionTool!E844&\"_\"&PFS_PFD_SelectionTool!F844&\"_\"&PFS_PFD_SelectionTool!G844&\"_\"&PFS_PFD_SelectionTool!H844&\"_\"&PFS_PFD_SelectionTool!I844&\"_\"&PFS_PFD_SelectionTool!J844),\"\",PFS_PFD_SelectionTool!E844&\"_\"&PFS_PFD_SelectionTool!F844&\"_\"&PFS_PFD_SelectionTool!G844&\"_\"&PFS_PFD_SelectionTool!H844&\"_\"&PFS_PFD_SelectionTool!I844&\"_\"&PFS_PFD_SelectionTool!J844)","v":"_____"},{"$f":"IF(ISBLANK(PFS_PFD_SelectionTool!K844),\"\",PFS_PFD_SelectionTool!K844)","v":""},{"$f":"VLOOKUP(D828,Tabelle1!A:B,2,FALSE)","v":{"$error":"#N/A"}},{"$f":"IF(ISBLANK(PFS_PFD_SelectionTool!N869),\"\",PFS_PFD_SelectionTool!N869)","v":""},{"$f":"IF(ISBLANK(PFS_PFD_SelectionTool!O869),\"\",PFS_PFD_SelectionTool!O869)","v":""}]
[{"$f":"IF(ISBLANK(PFS_PFD_SelectionTool!C845),\"\",PFS_PFD_SelectionTool!C845)","v":""},{"$f":"IF(ISBLANK(PFS_PFD_SelectionTool!D845),\"\",PFS_PFD_SelectionTool!D845)","v":""},{"$f":"IF(ISBLANK(PFS_PFD_SelectionTool!E845&\"_\"&PFS_PFD_SelectionTool!F845&\"_\"&PFS_PFD_SelectionTool!G845&\"_\"&PFS_PFD_SelectionTool!H845&\"_\"&PFS_PFD_SelectionTool!I845&\"_\"&PFS_PFD_SelectionTool!J845),\"\",PFS_PFD_SelectionTool!E845&\"_\"&PFS_PFD_SelectionTool!F845&\"_\"&PFS_PFD_SelectionTool!G845&\"_\"&PFS_PFD_SelectionTool!H845&\"_\"&PFS_PFD_SelectionTool!I845&\"_\"&PFS_PFD_SelectionTool!J845)","v":"_____"},{"$f":"IF(ISBLANK(PFS_PFD_SelectionTool!K845),\"\",PFS_PFD_SelectionTool!K845)","v":""},{"$f":"VLOOKUP(D829,Tabelle1!A:B,2,FALSE)","v":{"$error":"#N/A"}},{"$f":"IF(ISBLANK(PFS_PFD_SelectionTool!N870),\"\",PFS_PFD_SelectionTool!N870)","v":""},{"$f":"IF(ISBLANK(PFS_PFD_SelectionTool!O870),\"\",PFS_PFD_SelectionTool!O870)","v":""}]
[{"$f":"IF(ISBLANK(PFS_PFD_SelectionTool!C846),\"\",PFS_PFD_SelectionTool!C846)","v":""},{"$f":"IF(ISBLANK(PFS_PFD_SelectionTool!D846),\"\",PFS_PFD_SelectionTool!D846)","v":""},{"$f":"IF(ISBLANK(PFS_PFD_SelectionTool!E846&\"_\"&PFS_PFD_SelectionTool!F846&\"_\"&PFS_PFD_SelectionTool!G846&\"_\"&PFS_PFD_SelectionTool!H846&\"_\"&PFS_PFD_SelectionTool!I846&\"_\"&PFS_PFD_SelectionTool!J846),\"\",PFS_PFD_SelectionTool!E846&\"_\"&PFS_PFD_SelectionTool!F846&\"_\"&PFS_PFD_SelectionTool!G846&\"_\"&PFS_PFD_SelectionTool!H846&\"_\"&PFS_PFD_SelectionTool!I846&\"_\"&PFS_PFD_SelectionTool!J846)","v":"_____"},{"$f":"IF(ISBLANK(PFS_PFD_SelectionTool!K846),\"\",PFS_PFD_SelectionTool!K846)","v":""},{"$f":"VLOOKUP(D830,Tabelle1!A:B,2,FALSE)","v":{"$error":"#N/A"}},{"$f":"IF(ISBLANK(PFS_PFD_SelectionTool!N871),\"\",PFS_PFD_SelectionTool!N871)","v":""},{"$f":"IF(ISBLANK(PFS_PFD_SelectionTool!O871),\"\",PFS_PFD_SelectionTool!O871)","v":""}]
[{"$f":"IF(ISBLANK(PFS_PFD_SelectionTool!C847),\"\",PFS_PFD_SelectionTool!C847)","v":""},{"$f":"IF(ISBLANK(PFS_PFD_SelectionTool!D847),\"\",PFS_PFD_SelectionTool!D847)","v":""},{"$f":"IF(ISBLANK(PFS_PFD_SelectionTool!E847&\"_\"&PFS_PFD_SelectionTool!F847&\"_\"&PFS_PFD_SelectionTool!G847&\"_\"&PFS_PFD_SelectionTool!H847&\"_\"&PFS_PFD_SelectionTool!I847&\"_\"&PFS_PFD_SelectionTool!J847),\"\",PFS_PFD_SelectionTool!E847&\"_\"&PFS_PFD_SelectionTool!F847&\"_\"&PFS_PFD_SelectionTool!G847&\"_\"&PFS_PFD_SelectionTool!H847&\"_\"&PFS_PFD_SelectionTool!I847&\"_\"&PFS_PFD_SelectionTool!J847)","v":"_____"},{"$f":"IF(ISBLANK(PFS_PFD_SelectionTool!K847),\"\",PFS_PFD_SelectionTool!K847)","v":""},{"$f":"VLOOKUP(D831,Tabelle1!A:B,2,FALSE)","v":{"$error":"#N/A"}},{"$f":"IF(ISBLANK(PFS_PFD_SelectionTool!N872),\"\",PFS_PFD_SelectionTool!N872)","v":""},{"$f":"IF(ISBLANK(PFS_PFD_SelectionTool!O872),\"\",PFS_PFD_SelectionTool!O872)","v":""}]
[{"$f":"IF(ISBLANK(PFS_PFD_SelectionTool!C848),\"\",PFS_PFD_SelectionTool!C848)","v":""},{"$f":"IF(ISBLANK(PFS_PFD_SelectionTool!D848),\"\",PFS_PFD_SelectionTool!D848)","v":""},{"$f":"IF(ISBLANK(PFS_PFD_SelectionTool!E848&\"_\"&PFS_PFD_SelectionTool!F848&\"_\"&PFS_PFD_SelectionTool!G848&\"_\"&PFS_PFD_SelectionTool!H848&\"_\"&PFS_PFD_SelectionTool!I848&\"_\"&PFS_PFD_SelectionTool!J848),\"\",PFS_PFD_SelectionTool!E848&\"_\"&PFS_PFD_SelectionTool!F848&\"_\"&PFS_PFD_SelectionTool!G848&\"_\"&PFS_PFD_SelectionTool!H848&\"_\"&PFS_PFD_SelectionTool!I848&\"_\"&PFS_PFD_SelectionTool!J848)","v":"_____"},{"$f":"IF(ISBLANK(PFS_PFD_SelectionTool!K848),\"\",PFS_PFD_SelectionTool!K848)","v":""},{"$f":"VLOOKUP(D832,Tabelle1!A:B,2,FALSE)","v":{"$error":"#N/A"}},{"$f":"IF(ISBLANK(PFS_PFD_SelectionTool!N873),\"\",PFS_PFD_SelectionTool!N873)","v":""},{"$f":"IF(ISBLANK(PFS_PFD_SelectionTool!O873),\"\",PFS_PFD_SelectionTool!O873)","v":""}]
[{"$f":"IF(ISBLANK(PFS_PFD_SelectionTool!C849),\"\",PFS_PFD_SelectionTool!C849)","v":""},{"$f":"IF(ISBLANK(PFS_PFD_SelectionTool!D849),\"\",PFS_PFD_SelectionTool!D849)","v":""},{"$f":"IF(ISBLANK(PFS_PFD_SelectionTool!E849&\"_\"&PFS_PFD_SelectionTool!F849&\"_\"&PFS_PFD_SelectionTool!G849&\"_\"&PFS_PFD_SelectionTool!H849&\"_\"&PFS_PFD_SelectionTool!I849&\"_\"&PFS_PFD_SelectionTool!J849),\"\",PFS_PFD_SelectionTool!E849&\"_\"&PFS_PFD_SelectionTool!F849&\"_\"&PFS_PFD_SelectionTool!G849&\"_\"&PFS_PFD_SelectionTool!H849&\"_\"&PFS_PFD_SelectionTool!I849&\"_\"&PFS_PFD_SelectionTool!J849)","v":"_____"},{"$f":"IF(ISBLANK(PFS_PFD_SelectionTool!K849),\"\",PFS_PFD_SelectionTool!K849)","v":""},{"$f":"VLOOKUP(D833,Tabelle1!A:B,2,FALSE)","v":{"$error":"#N/A"}},{"$f":"IF(ISBLANK(PFS_PFD_SelectionTool!N874),\"\",PFS_PFD_SelectionTool!N874)","v":""},{"$f":"IF(ISBLANK(PFS_PFD_SelectionTool!O874),\"\",PFS_PFD_SelectionTool!O874)","v":""}]
[{"$f":"IF(ISBLANK(PFS_PFD_SelectionTool!C850),\"\",PFS_PFD_SelectionTool!C850)","v":""},{"$f":"IF(ISBLANK(PFS_PFD_SelectionTool!D850),\"\",PFS_PFD_SelectionTool!D850)","v":""},{"$f":"IF(ISBLANK(PFS_PFD_SelectionTool!E850&\"_\"&PFS_PFD_SelectionTool!F850&\"_\"&PFS_PFD_SelectionTool!G850&\"_\"&PFS_PFD_SelectionTool!H850&\"_\"&PFS_PFD_SelectionTool!I850&\"_\"&PFS_PFD_SelectionTool!J850),\"\",PFS_PFD_SelectionTool!E850&\"_\"&PFS_PFD_SelectionTool!F850&\"_\"&PFS_PFD_SelectionTool!G850&\"_\"&PFS_PFD_SelectionTool!H850&\"_\"&PFS_PFD_SelectionTool!I850&\"_\"&PFS_PFD_SelectionTool!J850)","v":"_____"},{"$f":"IF(ISBLANK(PFS_PFD_SelectionTool!K850),\"\",PFS_PFD_SelectionTool!K850)","v":""},{"$f":"VLOOKUP(D834,Tabelle1!A:B,2,FALSE)","v":{"$error":"#N/A"}},{"$f":"IF(ISBLANK(PFS_PFD_SelectionTool!N875),\"\",PFS_PFD_SelectionTool!N875)","v":""},{"$f":"IF(ISBLANK(PFS_PFD_SelectionTool!O875),\"\",PFS_PFD_SelectionTool!O875)","v":""}]
[{"$f":"IF(ISBLANK(PFS_PFD_SelectionTool!C851),\"\",PFS_PFD_SelectionTool!C851)","v":""},{"$f":"IF(ISBLANK(PFS_PFD_SelectionTool!D851),\"\",PFS_PFD_SelectionTool!D851)","v":""},{"$f":"IF(ISBLANK(PFS_PFD_SelectionTool!E851&\"_\"&PFS_PFD_SelectionTool!F851&\"_\"&PFS_PFD_SelectionTool!G851&\"_\"&PFS_PFD_SelectionTool!H851&\"_\"&PFS_PFD_SelectionTool!I851&\"_\"&PFS_PFD_SelectionTool!J851),\"\",PFS_PFD_SelectionTool!E851&\"_\"&PFS_PFD_SelectionTool!F851&\"_\"&PFS_PFD_SelectionTool!G851&\"_\"&PFS_PFD_SelectionTool!H851&\"_\"&PFS_PFD_SelectionTool!I851&\"_\"&PFS_PFD_SelectionTool!J851)","v":"_____"},{"$f":"IF(ISBLANK(PFS_PFD_SelectionTool!K851),\"\",PFS_PFD_SelectionTool!K851)","v":""},{"$f":"VLOOKUP(D835,Tabelle1!A:B,2,FALSE)","v":{"$error":"#N/A"}},{"$f":"IF(ISBLANK(PFS_PFD_SelectionTool!N876),\"\",PFS_PFD_SelectionTool!N876)","v":""},{"$f":"IF(ISBLANK(PFS_PFD_SelectionTool!O876),\"\",PFS_PFD_SelectionTool!O876)","v":""}]
[{"$f":"IF(ISBLANK(PFS_PFD_SelectionTool!C852),\"\",PFS_PFD_SelectionTool!C852)","v":""},{"$f":"IF(ISBLANK(PFS_PFD_SelectionTool!D852),\"\",PFS_PFD_SelectionTool!D852)","v":""},{"$f":"IF(ISBLANK(PFS_PFD_SelectionTool!E852&\"_\"&PFS_PFD_SelectionTool!F852&\"_\"&PFS_PFD_SelectionTool!G852&\"_\"&PFS_PFD_SelectionTool!H852&\"_\"&PFS_PFD_SelectionTool!I852&\"_\"&PFS_PFD_SelectionTool!J852),\"\",PFS_PFD_SelectionTool!E852&\"_\"&PFS_PFD_SelectionTool!F852&\"_\"&PFS_PFD_SelectionTool!G852&\"_\"&PFS_PFD_SelectionTool!H852&\"_\"&PFS_PFD_SelectionTool!I852&\"_\"&PFS_PFD_SelectionTool!J852)","v":"_____"},{"$f":"IF(ISBLANK(PFS_PFD_SelectionTool!K852),\"\",PFS_PFD_SelectionTool!K852)","v":""},{"$f":"VLOOKUP(D836,Tabelle1!A:B,2,FALSE)","v":{"$error":"#N/A"}},{"$f":"IF(ISBLANK(PFS_PFD_SelectionTool!N877),\"\",PFS_PFD_SelectionTool!N877)","v":""},{"$f":"IF(ISBLANK(PFS_PFD_SelectionTool!O877),\"\",PFS_PFD_SelectionTool!O877)","v":""}]
[{"$f":"IF(ISBLANK(PFS_PFD_SelectionTool!C853),\"\",PFS_PFD_SelectionTool!C853)","v":""},{"$f":"IF(ISBLANK(PFS_PFD_SelectionTool!D853),\"\",PFS_PFD_SelectionTool!D853)","v":""},{"$f":"IF(ISBLANK(PFS_PFD_SelectionTool!E853&\"_\"&PFS_PFD_SelectionTool!F853&\"_\"&PFS_PFD_SelectionTool!G853&\"_\"&PFS_PFD_SelectionTool!H853&\"_\"&PFS_PFD_SelectionTool!I853&\"_\"&PFS_PFD_SelectionTool!J853),\"\",PFS_PFD_SelectionTool!E853&\"_\"&PFS_PFD_SelectionTool!F853&\"_\"&PFS_PFD_SelectionTool!G853&\"_\"&PFS_PFD_SelectionTool!H853&\"_\"&PFS_PFD_SelectionTool!I853&\"_\"&PFS_PFD_SelectionTool!J853)","v":"_____"},{"$f":"IF(ISBLANK(PFS_PFD_SelectionTool!K853),\"\",PFS_PFD_SelectionTool!K853)","v":""},{"$f":"VLOOKUP(D837,Tabelle1!A:B,2,FALSE)","v":{"$error":"#N/A"}},{"$f":"IF(ISBLANK(PFS_PFD_SelectionTool!N878),\"\",PFS_PFD_SelectionTool!N878)","v":""},{"$f":"IF(ISBLANK(PFS_PFD_SelectionTool!O878),\"\",PFS_PFD_SelectionTool!O878)","v":""}]
[{"$f":"IF(ISBLANK(PFS_PFD_SelectionTool!C854),\"\",PFS_PFD_SelectionTool!C854)","v":""},{"$f":"IF(ISBLANK(PFS_PFD_SelectionTool!D854),\"\",PFS_PFD_SelectionTool!D854)","v":""},{"$f":"IF(ISBLANK(PFS_PFD_SelectionTool!E854&\"_\"&PFS_PFD_SelectionTool!F854&\"_\"&PFS_PFD_SelectionTool!G854&\"_\"&PFS_PFD_SelectionTool!H854&\"_\"&PFS_PFD_SelectionTool!I854&\"_\"&PFS_PFD_SelectionTool!J854),\"\",PFS_PFD_SelectionTool!E854&\"_\"&PFS_PFD_SelectionTool!F854&\"_\"&PFS_PFD_SelectionTool!G854&\"_\"&PFS_PFD_SelectionTool!H854&\"_\"&PFS_PFD_SelectionTool!I854&\"_\"&PFS_PFD_SelectionTool!J854)","v":"_____"},{"$f":"IF(ISBLANK(PFS_PFD_SelectionTool!K854),\"\",PFS_PFD_SelectionTool!K854)","v":""},{"$f":"VLOOKUP(D838,Tabelle1!A:B,2,FALSE)","v":{"$error":"#N/A"}},{"$f":"IF(ISBLANK(PFS_PFD_SelectionTool!N879),\"\",PFS_PFD_SelectionTool!N879)","v":""},{"$f":"IF(ISBLANK(PFS_PFD_SelectionTool!O879),\"\",PFS_PFD_SelectionTool!O879)","v":""}]
[{"$f":"IF(ISBLANK(PFS_PFD_SelectionTool!C855),\"\",PFS_PFD_SelectionTool!C855)","v":""},{"$f":"IF(ISBLANK(PFS_PFD_SelectionTool!D855),\"\",PFS_PFD_SelectionTool!D855)","v":""},{"$f":"IF(ISBLANK(PFS_PFD_SelectionTool!E855&\"_\"&PFS_PFD_SelectionTool!F855&\"_\"&PFS_PFD_SelectionTool!G855&\"_\"&PFS_PFD_SelectionTool!H855&\"_\"&PFS_PFD_SelectionTool!I855&\"_\"&PFS_PFD_SelectionTool!J855),\"\",PFS_PFD_SelectionTool!E855&\"_\"&PFS_PFD_SelectionTool!F855&\"_\"&PFS_PFD_SelectionTool!G855&\"_\"&PFS_PFD_SelectionTool!H855&\"_\"&PFS_PFD_SelectionTool!I855&\"_\"&PFS_PFD_SelectionTool!J855)","v":"_____"},{"$f":"IF(ISBLANK(PFS_PFD_SelectionTool!K855),\"\",PFS_PFD_SelectionTool!K855)","v":""},{"$f":"VLOOKUP(D839,Tabelle1!A:B,2,FALSE)","v":{"$error":"#N/A"}},{"$f":"IF(ISBLANK(PFS_PFD_SelectionTool!N880),\"\",PFS_PFD_SelectionTool!N880)","v":""},{"$f":"IF(ISBLANK(PFS_PFD_SelectionTool!O880),\"\",PFS_PFD_SelectionTool!O880)","v":""}]
[{"$f":"IF(ISBLANK(PFS_PFD_SelectionTool!C856),\"\",PFS_PFD_SelectionTool!C856)","v":""},{"$f":"IF(ISBLANK(PFS_PFD_SelectionTool!D856),\"\",PFS_PFD_SelectionTool!D856)","v":""},{"$f":"IF(ISBLANK(PFS_PFD_SelectionTool!E856&\"_\"&PFS_PFD_SelectionTool!F856&\"_\"&PFS_PFD_SelectionTool!G856&\"_\"&PFS_PFD_SelectionTool!H856&\"_\"&PFS_PFD_SelectionTool!I856&\"_\"&PFS_PFD_SelectionTool!J856),\"\",PFS_PFD_SelectionTool!E856&\"_\"&PFS_PFD_SelectionTool!F856&\"_\"&PFS_PFD_SelectionTool!G856&\"_\"&PFS_PFD_SelectionTool!H856&\"_\"&PFS_PFD_SelectionTool!I856&\"_\"&PFS_PFD_SelectionTool!J856)","v":"_____"},{"$f":"IF(ISBLANK(PFS_PFD_SelectionTool!K856),\"\",PFS_PFD_SelectionTool!K856)","v":""},{"$f":"VLOOKUP(D840,Tabelle1!A:B,2,FALSE)","v":{"$error":"#N/A"}},{"$f":"IF(ISBLANK(PFS_PFD_SelectionTool!N881),\"\",PFS_PFD_SelectionTool!N881)","v":""},{"$f":"IF(ISBLANK(PFS_PFD_SelectionTool!O881),\"\",PFS_PFD_SelectionTool!O881)","v":""}]
[{"$f":"IF(ISBLANK(PFS_PFD_SelectionTool!C857),\"\",PFS_PFD_SelectionTool!C857)","v":""},{"$f":"IF(ISBLANK(PFS_PFD_SelectionTool!D857),\"\",PFS_PFD_SelectionTool!D857)","v":""},{"$f":"IF(ISBLANK(PFS_PFD_SelectionTool!E857&\"_\"&PFS_PFD_SelectionTool!F857&\"_\"&PFS_PFD_SelectionTool!G857&\"_\"&PFS_PFD_SelectionTool!H857&\"_\"&PFS_PFD_SelectionTool!I857&\"_\"&PFS_PFD_SelectionTool!J857),\"\",PFS_PFD_SelectionTool!E857&\"_\"&PFS_PFD_SelectionTool!F857&\"_\"&PFS_PFD_SelectionTool!G857&\"_\"&PFS_PFD_SelectionTool!H857&\"_\"&PFS_PFD_SelectionTool!I857&\"_\"&PFS_PFD_SelectionTool!J857)","v":"_____"},{"$f":"IF(ISBLANK(PFS_PFD_SelectionTool!K857),\"\",PFS_PFD_SelectionTool!K857)","v":""},{"$f":"VLOOKUP(D841,Tabelle1!A:B,2,FALSE)","v":{"$error":"#N/A"}},{"$f":"IF(ISBLANK(PFS_PFD_SelectionTool!N882),\"\",PFS_PFD_SelectionTool!N882)","v":""},{"$f":"IF(ISBLANK(PFS_PFD_SelectionTool!O882),\"\",PFS_PFD_SelectionTool!O882)","v":""}]
[{"$f":"IF(ISBLANK(PFS_PFD_SelectionTool!C858),\"\",PFS_PFD_SelectionTool!C858)","v":""},{"$f":"IF(ISBLANK(PFS_PFD_SelectionTool!D858),\"\",PFS_PFD_SelectionTool!D858)","v":""},{"$f":"IF(ISBLANK(PFS_PFD_SelectionTool!E858&\"_\"&PFS_PFD_SelectionTool!F858&\"_\"&PFS_PFD_SelectionTool!G858&\"_\"&PFS_PFD_SelectionTool!H858&\"_\"&PFS_PFD_SelectionTool!I858&\"_\"&PFS_PFD_SelectionTool!J858),\"\",PFS_PFD_SelectionTool!E858&\"_\"&PFS_PFD_SelectionTool!F858&\"_\"&PFS_PFD_SelectionTool!G858&\"_\"&PFS_PFD_SelectionTool!H858&\"_\"&PFS_PFD_SelectionTool!I858&\"_\"&PFS_PFD_SelectionTool!J858)","v":"_____"},{"$f":"IF(ISBLANK(PFS_PFD_SelectionTool!K858),\"\",PFS_PFD_SelectionTool!K858)","v":""},{"$f":"VLOOKUP(D842,Tabelle1!A:B,2,FALSE)","v":{"$error":"#N/A"}},{"$f":"IF(ISBLANK(PFS_PFD_SelectionTool!N883),\"\",PFS_PFD_SelectionTool!N883)","v":""},{"$f":"IF(ISBLANK(PFS_PFD_SelectionTool!O883),\"\",PFS_PFD_SelectionTool!O883)","v":""}]
[{"$f":"IF(ISBLANK(PFS_PFD_SelectionTool!C859),\"\",PFS_PFD_SelectionTool!C859)","v":""},{"$f":"IF(ISBLANK(PFS_PFD_SelectionTool!D859),\"\",PFS_PFD_SelectionTool!D859)","v":""},{"$f":"IF(ISBLANK(PFS_PFD_SelectionTool!E859&\"_\"&PFS_PFD_SelectionTool!F859&\"_\"&PFS_PFD_SelectionTool!G859&\"_\"&PFS_PFD_SelectionTool!H859&\"_\"&PFS_PFD_SelectionTool!I859&\"_\"&PFS_PFD_SelectionTool!J859),\"\",PFS_PFD_SelectionTool!E859&\"_\"&PFS_PFD_SelectionTool!F859&\"_\"&PFS_PFD_SelectionTool!G859&\"_\"&PFS_PFD_SelectionTool!H859&\"_\"&PFS_PFD_SelectionTool!I859&\"_\"&PFS_PFD_SelectionTool!J859)","v":"_____"},{"$f":"IF(ISBLANK(PFS_PFD_SelectionTool!K859),\"\",PFS_PFD_SelectionTool!K859)","v":""},{"$f":"VLOOKUP(D843,Tabelle1!A:B,2,FALSE)","v":{"$error":"#N/A"}},{"$f":"IF(ISBLANK(PFS_PFD_SelectionTool!N884),\"\",PFS_PFD_SelectionTool!N884)","v":""},{"$f":"IF(ISBLANK(PFS_PFD_SelectionTool!O884),\"\",PFS_PFD_SelectionTool!O884)","v":""}]
[{"$f":"IF(ISBLANK(PFS_PFD_SelectionTool!C860),\"\",PFS_PFD_SelectionTool!C860)","v":""},{"$f":"IF(ISBLANK(PFS_PFD_SelectionTool!D860),\"\",PFS_PFD_SelectionTool!D860)","v":""},{"$f":"IF(ISBLANK(PFS_PFD_SelectionTool!E860&\"_\"&PFS_PFD_SelectionTool!F860&\"_\"&PFS_PFD_SelectionTool!G860&\"_\"&PFS_PFD_SelectionTool!H860&\"_\"&PFS_PFD_SelectionTool!I860&\"_\"&PFS_PFD_SelectionTool!J860),\"\",PFS_PFD_SelectionTool!E860&\"_\"&PFS_PFD_SelectionTool!F860&\"_\"&PFS_PFD_SelectionTool!G860&\"_\"&PFS_PFD_SelectionTool!H860&\"_\"&PFS_PFD_SelectionTool!I860&\"_\"&PFS_PFD_SelectionTool!J860)","v":"_____"},{"$f":"IF(ISBLANK(PFS_PFD_SelectionTool!K860),\"\",PFS_PFD_SelectionTool!K860)","v":""},{"$f":"VLOOKUP(D844,Tabelle1!A:B,2,FALSE)","v":{"$error":"#N/A"}},{"$f":"IF(ISBLANK(PFS_PFD_SelectionTool!N885),\"\",PFS_PFD_SelectionTool!N885)","v":""},{"$f":"IF(ISBLANK(PFS_PFD_SelectionTool!O885),\"\",PFS_PFD_SelectionTool!O885)","v":""}]
[{"$f":"IF(ISBLANK(PFS_PFD_SelectionTool!C861),\"\",PFS_PFD_SelectionTool!C861)","v":""},{"$f":"IF(ISBLANK(PFS_PFD_SelectionTool!D861),\"\",PFS_PFD_SelectionTool!D861)","v":""},{"$f":"IF(ISBLANK(PFS_PFD_SelectionTool!E861&\"_\"&PFS_PFD_SelectionTool!F861&\"_\"&PFS_PFD_SelectionTool!G861&\"_\"&PFS_PFD_SelectionTool!H861&\"_\"&PFS_PFD_SelectionTool!I861&\"_\"&PFS_PFD_SelectionTool!J861),\"\",PFS_PFD_SelectionTool!E861&\"_\"&PFS_PFD_SelectionTool!F861&\"_\"&PFS_PFD_SelectionTool!G861&\"_\"&PFS_PFD_SelectionTool!H861&\"_\"&PFS_PFD_SelectionTool!I861&\"_\"&PFS_PFD_SelectionTool!J861)","v":"_____"},{"$f":"IF(ISBLANK(PFS_PFD_SelectionTool!K861),\"\",PFS_PFD_SelectionTool!K861)","v":""},{"$f":"VLOOKUP(D845,Tabelle1!A:B,2,FALSE)","v":{"$error":"#N/A"}},{"$f":"IF(ISBLANK(PFS_PFD_SelectionTool!N886),\"\",PFS_PFD_SelectionTool!N886)","v":""},{"$f":"IF(ISBLANK(PFS_PFD_SelectionTool!O886),\"\",PFS_PFD_SelectionTool!O886)","v":""}]
[{"$f":"IF(ISBLANK(PFS_PFD_SelectionTool!C862),\"\",PFS_PFD_SelectionTool!C862)","v":""},{"$f":"IF(ISBLANK(PFS_PFD_SelectionTool!D862),\"\",PFS_PFD_SelectionTool!D862)","v":""},{"$f":"IF(ISBLANK(PFS_PFD_SelectionTool!E862&\"_\"&PFS_PFD_SelectionTool!F862&\"_\"&PFS_PFD_SelectionTool!G862&\"_\"&PFS_PFD_SelectionTool!H862&\"_\"&PFS_PFD_SelectionTool!I862&\"_\"&PFS_PFD_SelectionTool!J862),\"\",PFS_PFD_SelectionTool!E862&\"_\"&PFS_PFD_SelectionTool!F862&\"_\"&PFS_PFD_SelectionTool!G862&\"_\"&PFS_PFD_SelectionTool!H862&\"_\"&PFS_PFD_SelectionTool!I862&\"_\"&PFS_PFD_SelectionTool!J862)","v":"_____"},{"$f":"IF(ISBLANK(PFS_PFD_SelectionTool!K862),\"\",PFS_PFD_SelectionTool!K862)","v":""},{"$f":"VLOOKUP(D846,Tabelle1!A:B,2,FALSE)","v":{"$error":"#N/A"}},{"$f":"IF(ISBLANK(PFS_PFD_SelectionTool!N887),\"\",PFS_PFD_SelectionTool!N887)","v":""},{"$f":"IF(ISBLANK(PFS_PFD_SelectionTool!O887),\"\",PFS_PFD_SelectionTool!O887)","v":""}]
[{"$f":"IF(ISBLANK(PFS_PFD_SelectionTool!C863),\"\",PFS_PFD_SelectionTool!C863)","v":""},{"$f":"IF(ISBLANK(PFS_PFD_SelectionTool!D863),\"\",PFS_PFD_SelectionTool!D863)","v":""},{"$f":"IF(ISBLANK(PFS_PFD_SelectionTool!E863&\"_\"&PFS_PFD_SelectionTool!F863&\"_\"&PFS_PFD_SelectionTool!G863&\"_\"&PFS_PFD_SelectionTool!H863&\"_\"&PFS_PFD_SelectionTool!I863&\"_\"&PFS_PFD_SelectionTool!J863),\"\",PFS_PFD_SelectionTool!E863&\"_\"&PFS_PFD_SelectionTool!F863&\"_\"&PFS_PFD_SelectionTool!G863&\"_\"&PFS_PFD_SelectionTool!H863&\"_\"&PFS_PFD_SelectionTool!I863&\"_\"&PFS_PFD_SelectionTool!J863)","v":"_____"},{"$f":"IF(ISBLANK(PFS_PFD_SelectionTool!K863),\"\",PFS_PFD_SelectionTool!K863)","v":""},{"$f":"VLOOKUP(D847,Tabelle1!A:B,2,FALSE)","v":{"$error":"#N/A"}},{"$f":"IF(ISBLANK(PFS_PFD_SelectionTool!N888),\"\",PFS_PFD_SelectionTool!N888)","v":""},{"$f":"IF(ISBLANK(PFS_PFD_SelectionTool!O888),\"\",PFS_PFD_SelectionTool!O888)","v":""}]
[{"$f":"IF(ISBLANK(PFS_PFD_SelectionTool!C864),\"\",PFS_PFD_SelectionTool!C864)","v":""},{"$f":"IF(ISBLANK(PFS_PFD_SelectionTool!D864),\"\",PFS_PFD_SelectionTool!D864)","v":""},{"$f":"IF(ISBLANK(PFS_PFD_SelectionTool!E864&\"_\"&PFS_PFD_SelectionTool!F864&\"_\"&PFS_PFD_SelectionTool!G864&\"_\"&PFS_PFD_SelectionTool!H864&\"_\"&PFS_PFD_SelectionTool!I864&\"_\"&PFS_PFD_SelectionTool!J864),\"\",PFS_PFD_SelectionTool!E864&\"_\"&PFS_PFD_SelectionTool!F864&\"_\"&PFS_PFD_SelectionTool!G864&\"_\"&PFS_PFD_SelectionTool!H864&\"_\"&PFS_PFD_SelectionTool!I864&\"_\"&PFS_PFD_SelectionTool!J864)","v":"_____"},{"$f":"IF(ISBLANK(PFS_PFD_SelectionTool!K864),\"\",PFS_PFD_SelectionTool!K864)","v":""},{"$f":"VLOOKUP(D848,Tabelle1!A:B,2,FALSE)","v":{"$error":"#N/A"}},{"$f":"IF(ISBLANK(PFS_PFD_SelectionTool!N889),\"\",PFS_PFD_SelectionTool!N889)","v":""},{"$f":"IF(ISBLANK(PFS_PFD_SelectionTool!O889),\"\",PFS_PFD_SelectionTool!O889)","v":""}]
[{"$f":"IF(ISBLANK(PFS_PFD_SelectionTool!C865),\"\",PFS_PFD_SelectionTool!C865)","v":""},{"$f":"IF(ISBLANK(PFS_PFD_SelectionTool!D865),\"\",PFS_PFD_SelectionTool!D865)","v":""},{"$f":"IF(ISBLANK(PFS_PFD_SelectionTool!E865&\"_\"&PFS_PFD_SelectionTool!F865&\"_\"&PFS_PFD_SelectionTool!G865&\"_\"&PFS_PFD_SelectionTool!H865&\"_\"&PFS_PFD_SelectionTool!I865&\"_\"&PFS_PFD_SelectionTool!J865),\"\",PFS_PFD_SelectionTool!E865&\"_\"&PFS_PFD_SelectionTool!F865&\"_\"&PFS_PFD_SelectionTool!G865&\"_\"&PFS_PFD_SelectionTool!H865&\"_\"&PFS_PFD_SelectionTool!I865&\"_\"&PFS_PFD_SelectionTool!J865)","v":"_____"},{"$f":"IF(ISBLANK(PFS_PFD_SelectionTool!K865),\"\",PFS_PFD_SelectionTool!K865)","v":""},{"$f":"VLOOKUP(D849,Tabelle1!A:B,2,FALSE)","v":{"$error":"#N/A"}},{"$f":"IF(ISBLANK(PFS_PFD_SelectionTool!N890),\"\",PFS_PFD_SelectionTool!N890)","v":""},{"$f":"IF(ISBLANK(PFS_PFD_SelectionTool!O890),\"\",PFS_PFD_SelectionTool!O890)","v":""}]
[{"$f":"IF(ISBLANK(PFS_PFD_SelectionTool!C866),\"\",PFS_PFD_SelectionTool!C866)","v":""},{"$f":"IF(ISBLANK(PFS_PFD_SelectionTool!D866),\"\",PFS_PFD_SelectionTool!D866)","v":""},{"$f":"IF(ISBLANK(PFS_PFD_SelectionTool!E866&\"_\"&PFS_PFD_SelectionTool!F866&\"_\"&PFS_PFD_SelectionTool!G866&\"_\"&PFS_PFD_SelectionTool!H866&\"_\"&PFS_PFD_SelectionTool!I866&\"_\"&PFS_PFD_SelectionTool!J866),\"\",PFS_PFD_SelectionTool!E866&\"_\"&PFS_PFD_SelectionTool!F866&\"_\"&PFS_PFD_SelectionTool!G866&\"_\"&PFS_PFD_SelectionTool!H866&\"_\"&PFS_PFD_SelectionTool!I866&\"_\"&PFS_PFD_SelectionTool!J866)","v":"_____"},{"$f":"IF(ISBLANK(PFS_PFD_SelectionTool!K866),\"\",PFS_PFD_SelectionTool!K866)","v":""},{"$f":"VLOOKUP(D850,Tabelle1!A:B,2,FALSE)","v":{"$error":"#N/A"}},{"$f":"IF(ISBLANK(PFS_PFD_SelectionTool!N891),\"\",PFS_PFD_SelectionTool!N891)","v":""},{"$f":"IF(ISBLANK(PFS_PFD_SelectionTool!O891),\"\",PFS_PFD_SelectionTool!O891)","v":""}]
[{"$f":"IF(ISBLANK(PFS_PFD_SelectionTool!C867),\"\",PFS_PFD_SelectionTool!C867)","v":""},{"$f":"IF(ISBLANK(PFS_PFD_SelectionTool!D867),\"\",PFS_PFD_SelectionTool!D867)","v":""},{"$f":"IF(ISBLANK(PFS_PFD_SelectionTool!E867&\"_\"&PFS_PFD_SelectionTool!F867&\"_\"&PFS_PFD_SelectionTool!G867&\"_\"&PFS_PFD_SelectionTool!H867&\"_\"&PFS_PFD_SelectionTool!I867&\"_\"&PFS_PFD_SelectionTool!J867),\"\",PFS_PFD_SelectionTool!E867&\"_\"&PFS_PFD_SelectionTool!F867&\"_\"&PFS_PFD_SelectionTool!G867&\"_\"&PFS_PFD_SelectionTool!H867&\"_\"&PFS_PFD_SelectionTool!I867&\"_\"&PFS_PFD_SelectionTool!J867)","v":"_____"},{"$f":"IF(ISBLANK(PFS_PFD_SelectionTool!K867),\"\",PFS_PFD_SelectionTool!K867)","v":""},{"$f":"VLOOKUP(D851,Tabelle1!A:B,2,FALSE)","v":{"$error":"#N/A"}},{"$f":"IF(ISBLANK(PFS_PFD_SelectionTool!N892),\"\",PFS_PFD_SelectionTool!N892)","v":""},{"$f":"IF(ISBLANK(PFS_PFD_SelectionTool!O892),\"\",PFS_PFD_SelectionTool!O892)","v":""}]
[{"$f":"IF(ISBLANK(PFS_PFD_SelectionTool!C868),\"\",PFS_PFD_SelectionTool!C868)","v":""},{"$f":"IF(ISBLANK(PFS_PFD_SelectionTool!D868),\"\",PFS_PFD_SelectionTool!D868)","v":""},{"$f":"IF(ISBLANK(PFS_PFD_SelectionTool!E868&\"_\"&PFS_PFD_SelectionTool!F868&\"_\"&PFS_PFD_SelectionTool!G868&\"_\"&PFS_PFD_SelectionTool!H868&\"_\"&PFS_PFD_SelectionTool!I868&\"_\"&PFS_PFD_SelectionTool!J868),\"\",PFS_PFD_SelectionTool!E868&\"_\"&PFS_PFD_SelectionTool!F868&\"_\"&PFS_PFD_SelectionTool!G868&\"_\"&PFS_PFD_SelectionTool!H868&\"_\"&PFS_PFD_SelectionTool!I868&\"_\"&PFS_PFD_SelectionTool!J868)","v":"_____"},{"$f":"IF(ISBLANK(PFS_PFD_SelectionTool!K868),\"\",PFS_PFD_SelectionTool!K868)","v":""},{"$f":"VLOOKUP(D852,Tabelle1!A:B,2,FALSE)","v":{"$error":"#N/A"}},{"$f":"IF(ISBLANK(PFS_PFD_SelectionTool!N893),\"\",PFS_PFD_SelectionTool!N893)","v":""},{"$f":"IF(ISBLANK(PFS_PFD_SelectionTool!O893),\"\",PFS_PFD_SelectionTool!O893)","v":""}]
[{"$f":"IF(ISBLANK(PFS_PFD_SelectionTool!C869),\"\",PFS_PFD_SelectionTool!C869)","v":""},{"$f":"IF(ISBLANK(PFS_PFD_SelectionTool!D869),\"\",PFS_PFD_SelectionTool!D869)","v":""},{"$f":"IF(ISBLANK(PFS_PFD_SelectionTool!E869&\"_\"&PFS_PFD_SelectionTool!F869&\"_\"&PFS_PFD_SelectionTool!G869&\"_\"&PFS_PFD_SelectionTool!H869&\"_\"&PFS_PFD_SelectionTool!I869&\"_\"&PFS_PFD_SelectionTool!J869),\"\",PFS_PFD_SelectionTool!E869&\"_\"&PFS_PFD_SelectionTool!F869&\"_\"&PFS_PFD_SelectionTool!G869&\"_\"&PFS_PFD_SelectionTool!H869&\"_\"&PFS_PFD_SelectionTool!I869&\"_\"&PFS_PFD_SelectionTool!J869)","v":"_____"},{"$f":"IF(ISBLANK(PFS_PFD_SelectionTool!K869),\"\",PFS_PFD_SelectionTool!K869)","v":""},{"$f":"VLOOKUP(D853,Tabelle1!A:B,2,FALSE)","v":{"$error":"#N/A"}},{"$f":"IF(ISBLANK(PFS_PFD_SelectionTool!N894),\"\",PFS_PFD_SelectionTool!N894)","v":""},{"$f":"IF(ISBLANK(PFS_PFD_SelectionTool!O894),\"\",PFS_PFD_SelectionTool!O894)","v":""}]
[{"$f":"IF(ISBLANK(PFS_PFD_SelectionTool!C870),\"\",PFS_PFD_SelectionTool!C870)","v":""},{"$f":"IF(ISBLANK(PFS_PFD_SelectionTool!D870),\"\",PFS_PFD_SelectionTool!D870)","v":""},{"$f":"IF(ISBLANK(PFS_PFD_SelectionTool!E870&\"_\"&PFS_PFD_SelectionTool!F870&\"_\"&PFS_PFD_SelectionTool!G870&\"_\"&PFS_PFD_SelectionTool!H870&\"_\"&PFS_PFD_SelectionTool!I870&\"_\"&PFS_PFD_SelectionTool!J870),\"\",PFS_PFD_SelectionTool!E870&\"_\"&PFS_PFD_SelectionTool!F870&\"_\"&PFS_PFD_SelectionTool!G870&\"_\"&PFS_PFD_SelectionTool!H870&\"_\"&PFS_PFD_SelectionTool!I870&\"_\"&PFS_PFD_SelectionTool!J870)","v":"_____"},{"$f":"IF(ISBLANK(PFS_PFD_SelectionTool!K870),\"\",PFS_PFD_SelectionTool!K870)","v":""},{"$f":"VLOOKUP(D854,Tabelle1!A:B,2,FALSE)","v":{"$error":"#N/A"}},{"$f":"IF(ISBLANK(PFS_PFD_SelectionTool!N895),\"\",PFS_PFD_SelectionTool!N895)","v":""},{"$f":"IF(ISBLANK(PFS_PFD_SelectionTool!O895),\"\",PFS_PFD_SelectionTool!O895)","v":""}]
[{"$f":"IF(ISBLANK(PFS_PFD_SelectionTool!C871),\"\",PFS_PFD_SelectionTool!C871)","v":""},{"$f":"IF(ISBLANK(PFS_PFD_SelectionTool!D871),\"\",PFS_PFD_SelectionTool!D871)","v":""},{"$f":"IF(ISBLANK(PFS_PFD_SelectionTool!E871&\"_\"&PFS_PFD_SelectionTool!F871&\"_\"&PFS_PFD_SelectionTool!G871&\"_\"&PFS_PFD_SelectionTool!H871&\"_\"&PFS_PFD_SelectionTool!I871&\"_\"&PFS_PFD_SelectionTool!J871),\"\",PFS_PFD_SelectionTool!E871&\"_\"&PFS_PFD_SelectionTool!F871&\"_\"&PFS_PFD_SelectionTool!G871&\"_\"&PFS_PFD_SelectionTool!H871&\"_\"&PFS_PFD_SelectionTool!I871&\"_\"&PFS_PFD_SelectionTool!J871)","v":"_____"},{"$f":"IF(ISBLANK(PFS_PFD_SelectionTool!K871),\"\",PFS_PFD_SelectionTool!K871)","v":""},{"$f":"VLOOKUP(D855,Tabelle1!A:B,2,FALSE)","v":{"$error":"#N/A"}},{"$f":"IF(ISBLANK(PFS_PFD_SelectionTool!N896),\"\",PFS_PFD_SelectionTool!N896)","v":""},{"$f":"IF(ISBLANK(PFS_PFD_SelectionTool!O896),\"\",PFS_PFD_SelectionTool!O896)","v":""}]
[{"$f":"IF(ISBLANK(PFS_PFD_SelectionTool!C872),\"\",PFS_PFD_SelectionTool!C872)","v":""},{"$f":"IF(ISBLANK(PFS_PFD_SelectionTool!D872),\"\",PFS_PFD_SelectionTool!D872)","v":""},{"$f":"IF(ISBLANK(PFS_PFD_SelectionTool!E872&\"_\"&PFS_PFD_SelectionTool!F872&\"_\"&PFS_PFD_SelectionTool!G872&\"_\"&PFS_PFD_SelectionTool!H872&\"_\"&PFS_PFD_SelectionTool!I872&\"_\"&PFS_PFD_SelectionTool!J872),\"\",PFS_PFD_SelectionTool!E872&\"_\"&PFS_PFD_SelectionTool!F872&\"_\"&PFS_PFD_SelectionTool!G872&\"_\"&PFS_PFD_SelectionTool!H872&\"_\"&PFS_PFD_SelectionTool!I872&\"_\"&PFS_PFD_SelectionTool!J872)","v":"_____"},{"$f":"IF(ISBLANK(PFS_PFD_SelectionTool!K872),\"\",PFS_PFD_SelectionTool!K872)","v":""},{"$f":"VLOOKUP(D856,Tabelle1!A:B,2,FALSE)","v":{"$error":"#N/A"}},{"$f":"IF(ISBLANK(PFS_PFD_SelectionTool!N897),\"\",PFS_PFD_SelectionTool!N897)","v":""},{"$f":"IF(ISBLANK(PFS_PFD_SelectionTool!O897),\"\",PFS_PFD_SelectionTool!O897)","v":""}]
[{"$f":"IF(ISBLANK(PFS_PFD_SelectionTool!C873),\"\",PFS_PFD_SelectionTool!C873)","v":""},{"$f":"IF(ISBLANK(PFS_PFD_SelectionTool!D873),\"\",PFS_PFD_SelectionTool!D873)","v":""},{"$f":"IF(ISBLANK(PFS_PFD_SelectionTool!E873&\"_\"&PFS_PFD_SelectionTool!F873&\"_\"&PFS_PFD_SelectionTool!G873&\"_\"&PFS_PFD_SelectionTool!H873&\"_\"&PFS_PFD_SelectionTool!I873&\"_\"&PFS_PFD_SelectionTool!J873),\"\",PFS_PFD_SelectionTool!E873&\"_\"&PFS_PFD_SelectionTool!F873&\"_\"&PFS_PFD_SelectionTool!G873&\"_\"&PFS_PFD_SelectionTool!H873&\"_\"&PFS_PFD_SelectionTool!I873&\"_\"&PFS_PFD_SelectionTool!J873)","v":"_____"},{"$f":"IF(ISBLANK(PFS_PFD_SelectionTool!K873),\"\",PFS_PFD_SelectionTool!K873)","v":""},{"$f":"VLOOKUP(D857,Tabelle1!A:B,2,FALSE)","v":{"$error":"#N/A"}},{"$f":"IF(ISBLANK(PFS_PFD_SelectionTool!N898),\"\",PFS_PFD_SelectionTool!N898)","v":""},{"$f":"IF(ISBLANK(PFS_PFD_SelectionTool!O898),\"\",PFS_PFD_SelectionTool!O898)","v":""}]
[{"$f":"IF(ISBLANK(PFS_PFD_SelectionTool!C874),\"\",PFS_PFD_SelectionTool!C874)","v":""},{"$f":"IF(ISBLANK(PFS_PFD_SelectionTool!D874),\"\",PFS_PFD_SelectionTool!D874)","v":""},{"$f":"IF(ISBLANK(PFS_PFD_SelectionTool!E874&\"_\"&PFS_PFD_SelectionTool!F874&\"_\"&PFS_PFD_SelectionTool!G874&\"_\"&PFS_PFD_SelectionTool!H874&\"_\"&PFS_PFD_SelectionTool!I874&\"_\"&PFS_PFD_SelectionTool!J874),\"\",PFS_PFD_SelectionTool!E874&\"_\"&PFS_PFD_SelectionTool!F874&\"_\"&PFS_PFD_SelectionTool!G874&\"_\"&PFS_PFD_SelectionTool!H874&\"_\"&PFS_PFD_SelectionTool!I874&\"_\"&PFS_PFD_SelectionTool!J874)","v":"_____"},{"$f":"IF(ISBLANK(PFS_PFD_SelectionTool!K874),\"\",PFS_PFD_SelectionTool!K874)","v":""},{"$f":"VLOOKUP(D858,Tabelle1!A:B,2,FALSE)","v":{"$error":"#N/A"}},{"$f":"IF(ISBLANK(PFS_PFD_SelectionTool!N899),\"\",PFS_PFD_SelectionTool!N899)","v":""},{"$f":"IF(ISBLANK(PFS_PFD_SelectionTool!O899),\"\",PFS_PFD_SelectionTool!O899)","v":""}]
[{"$f":"IF(ISBLANK(PFS_PFD_SelectionTool!C875),\"\",PFS_PFD_SelectionTool!C875)","v":""},{"$f":"IF(ISBLANK(PFS_PFD_SelectionTool!D875),\"\",PFS_PFD_SelectionTool!D875)","v":""},{"$f":"IF(ISBLANK(PFS_PFD_SelectionTool!E875&\"_\"&PFS_PFD_SelectionTool!F875&\"_\"&PFS_PFD_SelectionTool!G875&\"_\"&PFS_PFD_SelectionTool!H875&\"_\"&PFS_PFD_SelectionTool!I875&\"_\"&PFS_PFD_SelectionTool!J875),\"\",PFS_PFD_SelectionTool!E875&\"_\"&PFS_PFD_SelectionTool!F875&\"_\"&PFS_PFD_SelectionTool!G875&\"_\"&PFS_PFD_SelectionTool!H875&\"_\"&PFS_PFD_SelectionTool!I875&\"_\"&PFS_PFD_SelectionTool!J875)","v":"_____"},{"$f":"IF(ISBLANK(PFS_PFD_SelectionTool!K875),\"\",PFS_PFD_SelectionTool!K875)","v":""},{"$f":"VLOOKUP(D859,Tabelle1!A:B,2,FALSE)","v":{"$error":"#N/A"}},{"$f":"IF(ISBLANK(PFS_PFD_SelectionTool!N900),\"\",PFS_PFD_SelectionTool!N900)","v":""},{"$f":"IF(ISBLANK(PFS_PFD_SelectionTool!O900),\"\",PFS_PFD_SelectionTool!O900)","v":""}]
[{"$f":"IF(ISBLANK(PFS_PFD_SelectionTool!C876),\"\",PFS_PFD_SelectionTool!C876)","v":""},{"$f":"IF(ISBLANK(PFS_PFD_SelectionTool!D876),\"\",PFS_PFD_SelectionTool!D876)","v":""},{"$f":"IF(ISBLANK(PFS_PFD_SelectionTool!E876&\"_\"&PFS_PFD_SelectionTool!F876&\"_\"&PFS_PFD_SelectionTool!G876&\"_\"&PFS_PFD_SelectionTool!H876&\"_\"&PFS_PFD_SelectionTool!I876&\"_\"&PFS_PFD_SelectionTool!J876),\"\",PFS_PFD_SelectionTool!E876&\"_\"&PFS_PFD_SelectionTool!F876&\"_\"&PFS_PFD_SelectionTool!G876&\"_\"&PFS_PFD_SelectionTool!H876&\"_\"&PFS_PFD_SelectionTool!I876&\"_\"&PFS_PFD_SelectionTool!J876)","v":"_____"},{"$f":"IF(ISBLANK(PFS_PFD_SelectionTool!K876),\"\",PFS_PFD_SelectionTool!K876)","v":""},{"$f":"VLOOKUP(D860,Tabelle1!A:B,2,FALSE)","v":{"$error":"#N/A"}},{"$f":"IF(ISBLANK(PFS_PFD_SelectionTool!N901),\"\",PFS_PFD_SelectionTool!N901)","v":""},{"$f":"IF(ISBLANK(PFS_PFD_SelectionTool!O901),\"\",PFS_PFD_SelectionTool!O901)","v":""}]
[{"$f":"IF(ISBLANK(PFS_PFD_SelectionTool!C877),\"\",PFS_PFD_SelectionTool!C877)","v":""},{"$f":"IF(ISBLANK(PFS_PFD_SelectionTool!D877),\"\",PFS_PFD_SelectionTool!D877)","v":""},{"$f":"IF(ISBLANK(PFS_PFD_SelectionTool!E877&\"_\"&PFS_PFD_SelectionTool!F877&\"_\"&PFS_PFD_SelectionTool!G877&\"_\"&PFS_PFD_SelectionTool!H877&\"_\"&PFS_PFD_SelectionTool!I877&\"_\"&PFS_PFD_SelectionTool!J877),\"\",PFS_PFD_SelectionTool!E877&\"_\"&PFS_PFD_SelectionTool!F877&\"_\"&PFS_PFD_SelectionTool!G877&\"_\"&PFS_PFD_SelectionTool!H877&\"_\"&PFS_PFD_SelectionTool!I877&\"_\"&PFS_PFD_SelectionTool!J877)","v":"_____"},{"$f":"IF(ISBLANK(PFS_PFD_SelectionTool!K877),\"\",PFS_PFD_SelectionTool!K877)","v":""},{"$f":"VLOOKUP(D861,Tabelle1!A:B,2,FALSE)","v":{"$error":"#N/A"}},{"$f":"IF(ISBLANK(PFS_PFD_SelectionTool!N902),\"\",PFS_PFD_SelectionTool!N902)","v":""},{"$f":"IF(ISBLANK(PFS_PFD_SelectionTool!O902),\"\",PFS_PFD_SelectionTool!O902)","v":""}]
[{"$f":"IF(ISBLANK(PFS_PFD_SelectionTool!C878),\"\",PFS_PFD_SelectionTool!C878)","v":""},{"$f":"IF(ISBLANK(PFS_PFD_SelectionTool!D878),\"\",PFS_PFD_SelectionTool!D878)","v":""},{"$f":"IF(ISBLANK(PFS_PFD_SelectionTool!E878&\"_\"&PFS_PFD_SelectionTool!F878&\"_\"&PFS_PFD_SelectionTool!G878&\"_\"&PFS_PFD_SelectionTool!H878&\"_\"&PFS_PFD_SelectionTool!I878&\"_\"&PFS_PFD_SelectionTool!J878),\"\",PFS_PFD_SelectionTool!E878&\"_\"&PFS_PFD_SelectionTool!F878&\"_\"&PFS_PFD_SelectionTool!G878&\"_\"&PFS_PFD_SelectionTool!H878&\"_\"&PFS_PFD_SelectionTool!I878&\"_\"&PFS_PFD_SelectionTool!J878)","v":"_____"},{"$f":"IF(ISBLANK(PFS_PFD_SelectionTool!K878),\"\",PFS_PFD_SelectionTool!K878)","v":""},{"$f":"VLOOKUP(D862,Tabelle1!A:B,2,FALSE)","v":{"$error":"#N/A"}},{"$f":"IF(ISBLANK(PFS_PFD_SelectionTool!N903),\"\",PFS_PFD_SelectionTool!N903)","v":""},{"$f":"IF(ISBLANK(PFS_PFD_SelectionTool!O903),\"\",PFS_PFD_SelectionTool!O903)","v":""}]
[{"$f":"IF(ISBLANK(PFS_PFD_SelectionTool!C879),\"\",PFS_PFD_SelectionTool!C879)","v":""},{"$f":"IF(ISBLANK(PFS_PFD_SelectionTool!D879),\"\",PFS_PFD_SelectionTool!D879)","v":""},{"$f":"IF(ISBLANK(PFS_PFD_SelectionTool!E879&\"_\"&PFS_PFD_SelectionTool!F879&\"_\"&PFS_PFD_SelectionTool!G879&\"_\"&PFS_PFD_SelectionTool!H879&\"_\"&PFS_PFD_SelectionTool!I879&\"_\"&PFS_PFD_SelectionTool!J879),\"\",PFS_PFD_SelectionTool!E879&\"_\"&PFS_PFD_SelectionTool!F879&\"_\"&PFS_PFD_SelectionTool!G879&\"_\"&PFS_PFD_SelectionTool!H879&\"_\"&PFS_PFD_SelectionTool!I879&\"_\"&PFS_PFD_SelectionTool!J879)","v":"_____"},{"$f":"IF(ISBLANK(PFS_PFD_SelectionTool!K879),\"\",PFS_PFD_SelectionTool!K879)","v":""},{"$f":"VLOOKUP(D863,Tabelle1!A:B,2,FALSE)","v":{"$error":"#N/A"}},{"$f":"IF(ISBLANK(PFS_PFD_SelectionTool!N904),\"\",PFS_PFD_SelectionTool!N904)","v":""},{"$f":"IF(ISBLANK(PFS_PFD_SelectionTool!O904),\"\",PFS_PFD_SelectionTool!O904)","v":""}]
[{"$f":"IF(ISBLANK(PFS_PFD_SelectionTool!C880),\"\",PFS_PFD_SelectionTool!C880)","v":""},{"$f":"IF(ISBLANK(PFS_PFD_SelectionTool!D880),\"\",PFS_PFD_SelectionTool!D880)","v":""},{"$f":"IF(ISBLANK(PFS_PFD_SelectionTool!E880&\"_\"&PFS_PFD_SelectionTool!F880&\"_\"&PFS_PFD_SelectionTool!G880&\"_\"&PFS_PFD_SelectionTool!H880&\"_\"&PFS_PFD_SelectionTool!I880&\"_\"&PFS_PFD_SelectionTool!J880),\"\",PFS_PFD_SelectionTool!E880&\"_\"&PFS_PFD_SelectionTool!F880&\"_\"&PFS_PFD_SelectionTool!G880&\"_\"&PFS_PFD_SelectionTool!H880&\"_\"&PFS_PFD_SelectionTool!I880&\"_\"&PFS_PFD_SelectionTool!J880)","v":"_____"},{"$f":"IF(ISBLANK(PFS_PFD_SelectionTool!K880),\"\",PFS_PFD_SelectionTool!K880)","v":""},{"$f":"VLOOKUP(D864,Tabelle1!A:B,2,FALSE)","v":{"$error":"#N/A"}},{"$f":"IF(ISBLANK(PFS_PFD_SelectionTool!N905),\"\",PFS_PFD_SelectionTool!N905)","v":""},{"$f":"IF(ISBLANK(PFS_PFD_SelectionTool!O905),\"\",PFS_PFD_SelectionTool!O905)","v":""}]
[{"$f":"IF(ISBLANK(PFS_PFD_SelectionTool!C881),\"\",PFS_PFD_SelectionTool!C881)","v":""},{"$f":"IF(ISBLANK(PFS_PFD_SelectionTool!D881),\"\",PFS_PFD_SelectionTool!D881)","v":""},{"$f":"IF(ISBLANK(PFS_PFD_SelectionTool!E881&\"_\"&PFS_PFD_SelectionTool!F881&\"_\"&PFS_PFD_SelectionTool!G881&\"_\"&PFS_PFD_SelectionTool!H881&\"_\"&PFS_PFD_SelectionTool!I881&\"_\"&PFS_PFD_SelectionTool!J881),\"\",PFS_PFD_SelectionTool!E881&\"_\"&PFS_PFD_SelectionTool!F881&\"_\"&PFS_PFD_SelectionTool!G881&\"_\"&PFS_PFD_SelectionTool!H881&\"_\"&PFS_PFD_SelectionTool!I881&\"_\"&PFS_PFD_SelectionTool!J881)","v":"_____"},{"$f":"IF(ISBLANK(PFS_PFD_SelectionTool!K881),\"\",PFS_PFD_SelectionTool!K881)","v":""},{"$f":"VLOOKUP(D865,Tabelle1!A:B,2,FALSE)","v":{"$error":"#N/A"}},{"$f":"IF(ISBLANK(PFS_PFD_SelectionTool!N906),\"\",PFS_PFD_SelectionTool!N906)","v":""},{"$f":"IF(ISBLANK(PFS_PFD_SelectionTool!O906),\"\",PFS_PFD_SelectionTool!O906)","v":""}]
[{"$f":"IF(ISBLANK(PFS_PFD_SelectionTool!C882),\"\",PFS_PFD_SelectionTool!C882)","v":""},{"$f":"IF(ISBLANK(PFS_PFD_SelectionTool!D882),\"\",PFS_PFD_SelectionTool!D882)","v":""},{"$f":"IF(ISBLANK(PFS_PFD_SelectionTool!E882&\"_\"&PFS_PFD_SelectionTool!F882&\"_\"&PFS_PFD_SelectionTool!G882&\"_\"&PFS_PFD_SelectionTool!H882&\"_\"&PFS_PFD_SelectionTool!I882&\"_\"&PFS_PFD_SelectionTool!J882),\"\",PFS_PFD_SelectionTool!E882&\"_\"&PFS_PFD_SelectionTool!F882&\"_\"&PFS_PFD_SelectionTool!G882&\"_\"&PFS_PFD_SelectionTool!H882&\"_\"&PFS_PFD_SelectionTool!I882&\"_\"&PFS_PFD_SelectionTool!J882)","v":"_____"},{"$f":"IF(ISBLANK(PFS_PFD_SelectionTool!K882),\"\",PFS_PFD_SelectionTool!K882)","v":""},{"$f":"VLOOKUP(D866,Tabelle1!A:B,2,FALSE)","v":{"$error":"#N/A"}},{"$f":"IF(ISBLANK(PFS_PFD_SelectionTool!N907),\"\",PFS_PFD_SelectionTool!N907)","v":""},{"$f":"IF(ISBLANK(PFS_PFD_SelectionTool!O907),\"\",PFS_PFD_SelectionTool!O907)","v":""}]
[{"$f":"IF(ISBLANK(PFS_PFD_SelectionTool!C883),\"\",PFS_PFD_SelectionTool!C883)","v":""},{"$f":"IF(ISBLANK(PFS_PFD_SelectionTool!D883),\"\",PFS_PFD_SelectionTool!D883)","v":""},{"$f":"IF(ISBLANK(PFS_PFD_SelectionTool!E883&\"_\"&PFS_PFD_SelectionTool!F883&\"_\"&PFS_PFD_SelectionTool!G883&\"_\"&PFS_PFD_SelectionTool!H883&\"_\"&PFS_PFD_SelectionTool!I883&\"_\"&PFS_PFD_SelectionTool!J883),\"\",PFS_PFD_SelectionTool!E883&\"_\"&PFS_PFD_SelectionTool!F883&\"_\"&PFS_PFD_SelectionTool!G883&\"_\"&PFS_PFD_SelectionTool!H883&\"_\"&PFS_PFD_SelectionTool!I883&\"_\"&PFS_PFD_SelectionTool!J883)","v":"_____"},{"$f":"IF(ISBLANK(PFS_PFD_SelectionTool!K883),\"\",PFS_PFD_SelectionTool!K883)","v":""},{"$f":"VLOOKUP(D867,Tabelle1!A:B,2,FALSE)","v":{"$error":"#N/A"}},{"$f":"IF(ISBLANK(PFS_PFD_SelectionTool!N908),\"\",PFS_PFD_SelectionTool!N908)","v":""},{"$f":"IF(ISBLANK(PFS_PFD_SelectionTool!O908),\"\",PFS_PFD_SelectionTool!O908)","v":""}]
[{"$f":"IF(ISBLANK(PFS_PFD_SelectionTool!C884),\"\",PFS_PFD_SelectionTool!C884)","v":""},{"$f":"IF(ISBLANK(PFS_PFD_SelectionTool!D884),\"\",PFS_PFD_SelectionTool!D884)","v":""},{"$f":"IF(ISBLANK(PFS_PFD_SelectionTool!E884&\"_\"&PFS_PFD_SelectionTool!F884&\"_\"&PFS_PFD_SelectionTool!G884&\"_\"&PFS_PFD_SelectionTool!H884&\"_\"&PFS_PFD_SelectionTool!I884&\"_\"&PFS_PFD_SelectionTool!J884),\"\",PFS_PFD_SelectionTool!E884&\"_\"&PFS_PFD_SelectionTool!F884&\"_\"&PFS_PFD_SelectionTool!G884&\"_\"&PFS_PFD_SelectionTool!H884&\"_\"&PFS_PFD_SelectionTool!I884&\"_\"&PFS_PFD_SelectionTool!J884)","v":"_____"},{"$f":"IF(ISBLANK(PFS_PFD_SelectionTool!K884),\"\",PFS_PFD_SelectionTool!K884)","v":""},{"$f":"VLOOKUP(D868,Tabelle1!A:B,2,FALSE)","v":{"$error":"#N/A"}},{"$f":"IF(ISBLANK(PFS_PFD_SelectionTool!N909),\"\",PFS_PFD_SelectionTool!N909)","v":""},{"$f":"IF(ISBLANK(PFS_PFD_SelectionTool!O909),\"\",PFS_PFD_SelectionTool!O909)","v":""}]
[{"$f":"IF(ISBLANK(PFS_PFD_SelectionTool!C885),\"\",PFS_PFD_SelectionTool!C885)","v":""},{"$f":"IF(ISBLANK(PFS_PFD_SelectionTool!D885),\"\",PFS_PFD_SelectionTool!D885)","v":""},{"$f":"IF(ISBLANK(PFS_PFD_SelectionTool!E885&\"_\"&PFS_PFD_SelectionTool!F885&\"_\"&PFS_PFD_SelectionTool!G885&\"_\"&PFS_PFD_SelectionTool!H885&\"_\"&PFS_PFD_SelectionTool!I885&\"_\"&PFS_PFD_SelectionTool!J885),\"\",PFS_PFD_SelectionTool!E885&\"_\"&PFS_PFD_SelectionTool!F885&\"_\"&PFS_PFD_SelectionTool!G885&\"_\"&PFS_PFD_SelectionTool!H885&\"_\"&PFS_PFD_SelectionTool!I885&\"_\"&PFS_PFD_SelectionTool!J885)","v":"_____"},{"$f":"IF(ISBLANK(PFS_PFD_SelectionTool!K885),\"\",PFS_PFD_SelectionTool!K885)","v":""},{"$f":"VLOOKUP(D869,Tabelle1!A:B,2,FALSE)","v":{"$error":"#N/A"}},{"$f":"IF(ISBLANK(PFS_PFD_SelectionTool!N910),\"\",PFS_PFD_SelectionTool!N910)","v":""},{"$f":"IF(ISBLANK(PFS_PFD_SelectionTool!O910),\"\",PFS_PFD_SelectionTool!O910)","v":""}]
[{"$f":"IF(ISBLANK(PFS_PFD_SelectionTool!C886),\"\",PFS_PFD_SelectionTool!C886)","v":""},{"$f":"IF(ISBLANK(PFS_PFD_SelectionTool!D886),\"\",PFS_PFD_SelectionTool!D886)","v":""},{"$f":"IF(ISBLANK(PFS_PFD_SelectionTool!E886&\"_\"&PFS_PFD_SelectionTool!F886&\"_\"&PFS_PFD_SelectionTool!G886&\"_\"&PFS_PFD_SelectionTool!H886&\"_\"&PFS_PFD_SelectionTool!I886&\"_\"&PFS_PFD_SelectionTool!J886),\"\",PFS_PFD_SelectionTool!E886&\"_\"&PFS_PFD_SelectionTool!F886&\"_\"&PFS_PFD_SelectionTool!G886&\"_\"&PFS_PFD_SelectionTool!H886&\"_\"&PFS_PFD_SelectionTool!I886&\"_\"&PFS_PFD_SelectionTool!J886)","v":"_____"},{"$f":"IF(ISBLANK(PFS_PFD_SelectionTool!K886),\"\",PFS_PFD_SelectionTool!K886)","v":""},{"$f":"VLOOKUP(D870,Tabelle1!A:B,2,FALSE)","v":{"$error":"#N/A"}},{"$f":"IF(ISBLANK(PFS_PFD_SelectionTool!N911),\"\",PFS_PFD_SelectionTool!N911)","v":""},{"$f":"IF(ISBLANK(PFS_PFD_SelectionTool!O911),\"\",PFS_PFD_SelectionTool!O911)","v":""}]
[{"$f":"IF(ISBLANK(PFS_PFD_SelectionTool!C887),\"\",PFS_PFD_SelectionTool!C887)","v":""},{"$f":"IF(ISBLANK(PFS_PFD_SelectionTool!D887),\"\",PFS_PFD_SelectionTool!D887)","v":""},{"$f":"IF(ISBLANK(PFS_PFD_SelectionTool!E887&\"_\"&PFS_PFD_SelectionTool!F887&\"_\"&PFS_PFD_SelectionTool!G887&\"_\"&PFS_PFD_SelectionTool!H887&\"_\"&PFS_PFD_SelectionTool!I887&\"_\"&PFS_PFD_SelectionTool!J887),\"\",PFS_PFD_SelectionTool!E887&\"_\"&PFS_PFD_SelectionTool!F887&\"_\"&PFS_PFD_SelectionTool!G887&\"_\"&PFS_PFD_SelectionTool!H887&\"_\"&PFS_PFD_SelectionTool!I887&\"_\"&PFS_PFD_SelectionTool!J887)","v":"_____"},{"$f":"IF(ISBLANK(PFS_PFD_SelectionTool!K887),\"\",PFS_PFD_SelectionTool!K887)","v":""},{"$f":"VLOOKUP(D871,Tabelle1!A:B,2,FALSE)","v":{"$error":"#N/A"}},{"$f":"IF(ISBLANK(PFS_PFD_SelectionTool!N912),\"\",PFS_PFD_SelectionTool!N912)","v":""},{"$f":"IF(ISBLANK(PFS_PFD_SelectionTool!O912),\"\",PFS_PFD_SelectionTool!O912)","v":""}]
[{"$f":"IF(ISBLANK(PFS_PFD_SelectionTool!C888),\"\",PFS_PFD_SelectionTool!C888)","v":""},{"$f":"IF(ISBLANK(PFS_PFD_SelectionTool!D888),\"\",PFS_PFD_SelectionTool!D888)","v":""},{"$f":"IF(ISBLANK(PFS_PFD_SelectionTool!E888&\"_\"&PFS_PFD_SelectionTool!F888&\"_\"&PFS_PFD_SelectionTool!G888&\"_\"&PFS_PFD_SelectionTool!H888&\"_\"&PFS_PFD_SelectionTool!I888&\"_\"&PFS_PFD_SelectionTool!J888),\"\",PFS_PFD_SelectionTool!E888&\"_\"&PFS_PFD_SelectionTool!F888&\"_\"&PFS_PFD_SelectionTool!G888&\"_\"&PFS_PFD_SelectionTool!H888&\"_\"&PFS_PFD_SelectionTool!I888&\"_\"&PFS_PFD_SelectionTool!J888)","v":"_____"},{"$f":"IF(ISBLANK(PFS_PFD_SelectionTool!K888),\"\",PFS_PFD_SelectionTool!K888)","v":""},{"$f":"VLOOKUP(D872,Tabelle1!A:B,2,FALSE)","v":{"$error":"#N/A"}},{"$f":"IF(ISBLANK(PFS_PFD_SelectionTool!N913),\"\",PFS_PFD_SelectionTool!N913)","v":""},{"$f":"IF(ISBLANK(PFS_PFD_SelectionTool!O913),\"\",PFS_PFD_SelectionTool!O913)","v":""}]
[{"$f":"IF(ISBLANK(PFS_PFD_SelectionTool!C889),\"\",PFS_PFD_SelectionTool!C889)","v":""},{"$f":"IF(ISBLANK(PFS_PFD_SelectionTool!D889),\"\",PFS_PFD_SelectionTool!D889)","v":""},{"$f":"IF(ISBLANK(PFS_PFD_SelectionTool!E889&\"_\"&PFS_PFD_SelectionTool!F889&\"_\"&PFS_PFD_SelectionTool!G889&\"_\"&PFS_PFD_SelectionTool!H889&\"_\"&PFS_PFD_SelectionTool!I889&\"_\"&PFS_PFD_SelectionTool!J889),\"\",PFS_PFD_SelectionTool!E889&\"_\"&PFS_PFD_SelectionTool!F889&\"_\"&PFS_PFD_SelectionTool!G889&\"_\"&PFS_PFD_SelectionTool!H889&\"_\"&PFS_PFD_SelectionTool!I889&\"_\"&PFS_PFD_SelectionTool!J889)","v":"_____"},{"$f":"IF(ISBLANK(PFS_PFD_SelectionTool!K889),\"\",PFS_PFD_SelectionTool!K889)","v":""},{"$f":"VLOOKUP(D873,Tabelle1!A:B,2,FALSE)","v":{"$error":"#N/A"}},{"$f":"IF(ISBLANK(PFS_PFD_SelectionTool!N914),\"\",PFS_PFD_SelectionTool!N914)","v":""},{"$f":"IF(ISBLANK(PFS_PFD_SelectionTool!O914),\"\",PFS_PFD_SelectionTool!O914)","v":""}]
[{"$f":"IF(ISBLANK(PFS_PFD_SelectionTool!C890),\"\",PFS_PFD_SelectionTool!C890)","v":""},{"$f":"IF(ISBLANK(PFS_PFD_SelectionTool!D890),\"\",PFS_PFD_SelectionTool!D890)","v":""},{"$f":"IF(ISBLANK(PFS_PFD_SelectionTool!E890&\"_\"&PFS_PFD_SelectionTool!F890&\"_\"&PFS_PFD_SelectionTool!G890&\"_\"&PFS_PFD_SelectionTool!H890&\"_\"&PFS_PFD_SelectionTool!I890&\"_\"&PFS_PFD_SelectionTool!J890),\"\",PFS_PFD_SelectionTool!E890&\"_\"&PFS_PFD_SelectionTool!F890&\"_\"&PFS_PFD_SelectionTool!G890&\"_\"&PFS_PFD_SelectionTool!H890&\"_\"&PFS_PFD_SelectionTool!I890&\"_\"&PFS_PFD_SelectionTool!J890)","v":"_____"},{"$f":"IF(ISBLANK(PFS_PFD_SelectionTool!K890),\"\",PFS_PFD_SelectionTool!K890)","v":""},{"$f":"VLOOKUP(D874,Tabelle1!A:B,2,FALSE)","v":{"$error":"#N/A"}},{"$f":"IF(ISBLANK(PFS_PFD_SelectionTool!N915),\"\",PFS_PFD_SelectionTool!N915)","v":""},{"$f":"IF(ISBLANK(PFS_PFD_SelectionTool!O915),\"\",PFS_PFD_SelectionTool!O915)","v":""}]
[{"$f":"IF(ISBLANK(PFS_PFD_SelectionTool!C891),\"\",PFS_PFD_SelectionTool!C891)","v":""},{"$f":"IF(ISBLANK(PFS_PFD_SelectionTool!D891),\"\",PFS_PFD_SelectionTool!D891)","v":""},{"$f":"IF(ISBLANK(PFS_PFD_SelectionTool!E891&\"_\"&PFS_PFD_SelectionTool!F891&\"_\"&PFS_PFD_SelectionTool!G891&\"_\"&PFS_PFD_SelectionTool!H891&\"_\"&PFS_PFD_SelectionTool!I891&\"_\"&PFS_PFD_SelectionTool!J891),\"\",PFS_PFD_SelectionTool!E891&\"_\"&PFS_PFD_SelectionTool!F891&\"_\"&PFS_PFD_SelectionTool!G891&\"_\"&PFS_PFD_SelectionTool!H891&\"_\"&PFS_PFD_SelectionTool!I891&\"_\"&PFS_PFD_SelectionTool!J891)","v":"_____"},{"$f":"IF(ISBLANK(PFS_PFD_SelectionTool!K891),\"\",PFS_PFD_SelectionTool!K891)","v":""},{"$f":"VLOOKUP(D875,Tabelle1!A:B,2,FALSE)","v":{"$error":"#N/A"}},{"$f":"IF(ISBLANK(PFS_PFD_SelectionTool!N916),\"\",PFS_PFD_SelectionTool!N916)","v":""},{"$f":"IF(ISBLANK(PFS_PFD_SelectionTool!O916),\"\",PFS_PFD_SelectionTool!O916)","v":""}]
[{"$f":"IF(ISBLANK(PFS_PFD_SelectionTool!C892),\"\",PFS_PFD_SelectionTool!C892)","v":""},{"$f":"IF(ISBLANK(PFS_PFD_SelectionTool!D892),\"\",PFS_PFD_SelectionTool!D892)","v":""},{"$f":"IF(ISBLANK(PFS_PFD_SelectionTool!E892&\"_\"&PFS_PFD_SelectionTool!F892&\"_\"&PFS_PFD_SelectionTool!G892&\"_\"&PFS_PFD_SelectionTool!H892&\"_\"&PFS_PFD_SelectionTool!I892&\"_\"&PFS_PFD_SelectionTool!J892),\"\",PFS_PFD_SelectionTool!E892&\"_\"&PFS_PFD_SelectionTool!F892&\"_\"&PFS_PFD_SelectionTool!G892&\"_\"&PFS_PFD_SelectionTool!H892&\"_\"&PFS_PFD_SelectionTool!I892&\"_\"&PFS_PFD_SelectionTool!J892)","v":"_____"},{"$f":"IF(ISBLANK(PFS_PFD_SelectionTool!K892),\"\",PFS_PFD_SelectionTool!K892)","v":""},{"$f":"VLOOKUP(D876,Tabelle1!A:B,2,FALSE)","v":{"$error":"#N/A"}},{"$f":"IF(ISBLANK(PFS_PFD_SelectionTool!N917),\"\",PFS_PFD_SelectionTool!N917)","v":""},{"$f":"IF(ISBLANK(PFS_PFD_SelectionTool!O917),\"\",PFS_PFD_SelectionTool!O917)","v":""}]
[{"$f":"IF(ISBLANK(PFS_PFD_SelectionTool!C893),\"\",PFS_PFD_SelectionTool!C893)","v":""},{"$f":"IF(ISBLANK(PFS_PFD_SelectionTool!D893),\"\",PFS_PFD_SelectionTool!D893)","v":""},{"$f":"IF(ISBLANK(PFS_PFD_SelectionTool!E893&\"_\"&PFS_PFD_SelectionTool!F893&\"_\"&PFS_PFD_SelectionTool!G893&\"_\"&PFS_PFD_SelectionTool!H893&\"_\"&PFS_PFD_SelectionTool!I893&\"_\"&PFS_PFD_SelectionTool!J893),\"\",PFS_PFD_SelectionTool!E893&\"_\"&PFS_PFD_SelectionTool!F893&\"_\"&PFS_PFD_SelectionTool!G893&\"_\"&PFS_PFD_SelectionTool!H893&\"_\"&PFS_PFD_SelectionTool!I893&\"_\"&PFS_PFD_SelectionTool!J893)","v":"_____"},{"$f":"IF(ISBLANK(PFS_PFD_SelectionTool!K893),\"\",PFS_PFD_SelectionTool!K893)","v":""},{"$f":"VLOOKUP(D877,Tabelle1!A:B,2,FALSE)","v":{"$error":"#N/A"}},{"$f":"IF(ISBLANK(PFS_PFD_SelectionTool!N918),\"\",PFS_PFD_SelectionTool!N918)","v":""},{"$f":"IF(ISBLANK(PFS_PFD_SelectionTool!O918),\"\",PFS_PFD_SelectionTool!O918)","v":""}]
[{"$f":"IF(ISBLANK(PFS_PFD_SelectionTool!C894),\"\",PFS_PFD_SelectionTool!C894)","v":""},{"$f":"IF(ISBLANK(PFS_PFD_SelectionTool!D894),\"\",PFS_PFD_SelectionTool!D894)","v":""},{"$f":"IF(ISBLANK(PFS_PFD_SelectionTool!E894&\"_\"&PFS_PFD_SelectionTool!F894&\"_\"&PFS_PFD_SelectionTool!G894&\"_\"&PFS_PFD_SelectionTool!H894&\"_\"&PFS_PFD_SelectionTool!I894&\"_\"&PFS_PFD_SelectionTool!J894),\"\",PFS_PFD_SelectionTool!E894&\"_\"&PFS_PFD_SelectionTool!F894&\"_\"&PFS_PFD_SelectionTool!G894&\"_\"&PFS_PFD_SelectionTool!H894&\"_\"&PFS_PFD_SelectionTool!I894&\"_\"&PFS_PFD_SelectionTool!J894)","v":"_____"},{"$f":"IF(ISBLANK(PFS_PFD_SelectionTool!K894),\"\",PFS_PFD_SelectionTool!K894)","v":""},{"$f":"VLOOKUP(D878,Tabelle1!A:B,2,FALSE)","v":{"$error":"#N/A"}},{"$f":"IF(ISBLANK(PFS_PFD_SelectionTool!N919),\"\",PFS_PFD_SelectionTool!N919)","v":""},{"$f":"IF(ISBLANK(PFS_PFD_SelectionTool!O919),\"\",PFS_PFD_SelectionTool!O919)","v":""}]
[{"$f":"IF(ISBLANK(PFS_PFD_SelectionTool!C895),\"\",PFS_PFD_SelectionTool!C895)","v":""},{"$f":"IF(ISBLANK(PFS_PFD_SelectionTool!D895),\"\",PFS_PFD_SelectionTool!D895)","v":""},{"$f":"IF(ISBLANK(PFS_PFD_SelectionTool!E895&\"_\"&PFS_PFD_SelectionTool!F895&\"_\"&PFS_PFD_SelectionTool!G895&\"_\"&PFS_PFD_SelectionTool!H895&\"_\"&PFS_PFD_SelectionTool!I895&\"_\"&PFS_PFD_SelectionTool!J895),\"\",PFS_PFD_SelectionTool!E895&\"_\"&PFS_PFD_SelectionTool!F895&\"_\"&PFS_PFD_SelectionTool!G895&\"_\"&PFS_PFD_SelectionTool!H895&\"_\"&PFS_PFD_SelectionTool!I895&\"_\"&PFS_PFD_SelectionTool!J895)","v":"_____"},{"$f":"IF(ISBLANK(PFS_PFD_SelectionTool!K895),\"\",PFS_PFD_SelectionTool!K895)","v":""},{"$f":"VLOOKUP(D879,Tabelle1!A:B,2,FALSE)","v":{"$error":"#N/A"}},{"$f":"IF(ISBLANK(PFS_PFD_SelectionTool!N920),\"\",PFS_PFD_SelectionTool!N920)","v":""},{"$f":"IF(ISBLANK(PFS_PFD_SelectionTool!O920),\"\",PFS_PFD_SelectionTool!O920)","v":""}]
[{"$f":"IF(ISBLANK(PFS_PFD_SelectionTool!C896),\"\",PFS_PFD_SelectionTool!C896)","v":""},{"$f":"IF(ISBLANK(PFS_PFD_SelectionTool!D896),\"\",PFS_PFD_SelectionTool!D896)","v":""},{"$f":"IF(ISBLANK(PFS_PFD_SelectionTool!E896&\"_\"&PFS_PFD_SelectionTool!F896&\"_\"&PFS_PFD_SelectionTool!G896&\"_\"&PFS_PFD_SelectionTool!H896&\"_\"&PFS_PFD_SelectionTool!I896&\"_\"&PFS_PFD_SelectionTool!J896),\"\",PFS_PFD_SelectionTool!E896&\"_\"&PFS_PFD_SelectionTool!F896&\"_\"&PFS_PFD_SelectionTool!G896&\"_\"&PFS_PFD_SelectionTool!H896&\"_\"&PFS_PFD_SelectionTool!I896&\"_\"&PFS_PFD_SelectionTool!J896)","v":"_____"},{"$f":"IF(ISBLANK(PFS_PFD_SelectionTool!K896),\"\",PFS_PFD_SelectionTool!K896)","v":""},{"$f":"VLOOKUP(D880,Tabelle1!A:B,2,FALSE)","v":{"$error":"#N/A"}},{"$f":"IF(ISBLANK(PFS_PFD_SelectionTool!N921),\"\",PFS_PFD_SelectionTool!N921)","v":""},{"$f":"IF(ISBLANK(PFS_PFD_SelectionTool!O921),\"\",PFS_PFD_SelectionTool!O921)","v":""}]
[{"$f":"IF(ISBLANK(PFS_PFD_SelectionTool!C897),\"\",PFS_PFD_SelectionTool!C897)","v":""},{"$f":"IF(ISBLANK(PFS_PFD_SelectionTool!D897),\"\",PFS_PFD_SelectionTool!D897)","v":""},{"$f":"IF(ISBLANK(PFS_PFD_SelectionTool!E897&\"_\"&PFS_PFD_SelectionTool!F897&\"_\"&PFS_PFD_SelectionTool!G897&\"_\"&PFS_PFD_SelectionTool!H897&\"_\"&PFS_PFD_SelectionTool!I897&\"_\"&PFS_PFD_SelectionTool!J897),\"\",PFS_PFD_SelectionTool!E897&\"_\"&PFS_PFD_SelectionTool!F897&\"_\"&PFS_PFD_SelectionTool!G897&\"_\"&PFS_PFD_SelectionTool!H897&\"_\"&PFS_PFD_SelectionTool!I897&\"_\"&PFS_PFD_SelectionTool!J897)","v":"_____"},{"$f":"IF(ISBLANK(PFS_PFD_SelectionTool!K897),\"\",PFS_PFD_SelectionTool!K897)","v":""},{"$f":"VLOOKUP(D881,Tabelle1!A:B,2,FALSE)","v":{"$error":"#N/A"}},{"$f":"IF(ISBLANK(PFS_PFD_SelectionTool!N922),\"\",PFS_PFD_SelectionTool!N922)","v":""},{"$f":"IF(ISBLANK(PFS_PFD_SelectionTool!O922),\"\",PFS_PFD_SelectionTool!O922)","v":""}]
[{"$f":"IF(ISBLANK(PFS_PFD_SelectionTool!C898),\"\",PFS_PFD_SelectionTool!C898)","v":""},{"$f":"IF(ISBLANK(PFS_PFD_SelectionTool!D898),\"\",PFS_PFD_SelectionTool!D898)","v":""},{"$f":"IF(ISBLANK(PFS_PFD_SelectionTool!E898&\"_\"&PFS_PFD_SelectionTool!F898&\"_\"&PFS_PFD_SelectionTool!G898&\"_\"&PFS_PFD_SelectionTool!H898&\"_\"&PFS_PFD_SelectionTool!I898&\"_\"&PFS_PFD_SelectionTool!J898),\"\",PFS_PFD_SelectionTool!E898&\"_\"&PFS_PFD_SelectionTool!F898&\"_\"&PFS_PFD_SelectionTool!G898&\"_\"&PFS_PFD_SelectionTool!H898&\"_\"&PFS_PFD_SelectionTool!I898&\"_\"&PFS_PFD_SelectionTool!J898)","v":"_____"},{"$f":"IF(ISBLANK(PFS_PFD_SelectionTool!K898),\"\",PFS_PFD_SelectionTool!K898)","v":""},{"$f":"VLOOKUP(D882,Tabelle1!A:B,2,FALSE)","v":{"$error":"#N/A"}},{"$f":"IF(ISBLANK(PFS_PFD_SelectionTool!N923),\"\",PFS_PFD_SelectionTool!N923)","v":""},{"$f":"IF(ISBLANK(PFS_PFD_SelectionTool!O923),\"\",PFS_PFD_SelectionTool!O923)","v":""}]
[{"$f":"IF(ISBLANK(PFS_PFD_SelectionTool!C899),\"\",PFS_PFD_SelectionTool!C899)","v":""},{"$f":"IF(ISBLANK(PFS_PFD_SelectionTool!D899),\"\",PFS_PFD_SelectionTool!D899)","v":""},{"$f":"IF(ISBLANK(PFS_PFD_SelectionTool!E899&\"_\"&PFS_PFD_SelectionTool!F899&\"_\"&PFS_PFD_SelectionTool!G899&\"_\"&PFS_PFD_SelectionTool!H899&\"_\"&PFS_PFD_SelectionTool!I899&\"_\"&PFS_PFD_SelectionTool!J899),\"\",PFS_PFD_SelectionTool!E899&\"_\"&PFS_PFD_SelectionTool!F899&\"_\"&PFS_PFD_SelectionTool!G899&\"_\"&PFS_PFD_SelectionTool!H899&\"_\"&PFS_PFD_SelectionTool!I899&\"_\"&PFS_PFD_SelectionTool!J899)","v":"_____"},{"$f":"IF(ISBLANK(PFS_PFD_SelectionTool!K899),\"\",PFS_PFD_SelectionTool!K899)","v":""},{"$f":"VLOOKUP(D883,Tabelle1!A:B,2,FALSE)","v":{"$error":"#N/A"}},{"$f":"IF(ISBLANK(PFS_PFD_SelectionTool!N924),\"\",PFS_PFD_SelectionTool!N924)","v":""},{"$f":"IF(ISBLANK(PFS_PFD_SelectionTool!O924),\"\",PFS_PFD_SelectionTool!O924)","v":""}]
[{"$f":"IF(ISBLANK(PFS_PFD_SelectionTool!C900),\"\",PFS_PFD_SelectionTool!C900)","v":""},{"$f":"IF(ISBLANK(PFS_PFD_SelectionTool!D900),\"\",PFS_PFD_SelectionTool!D900)","v":""},{"$f":"IF(ISBLANK(PFS_PFD_SelectionTool!E900&\"_\"&PFS_PFD_SelectionTool!F900&\"_\"&PFS_PFD_SelectionTool!G900&\"_\"&PFS_PFD_SelectionTool!H900&\"_\"&PFS_PFD_SelectionTool!I900&\"_\"&PFS_PFD_SelectionTool!J900),\"\",PFS_PFD_SelectionTool!E900&\"_\"&PFS_PFD_SelectionTool!F900&\"_\"&PFS_PFD_SelectionTool!G900&\"_\"&PFS_PFD_SelectionTool!H900&\"_\"&PFS_PFD_SelectionTool!I900&\"_\"&PFS_PFD_SelectionTool!J900)","v":"_____"},{"$f":"IF(ISBLANK(PFS_PFD_SelectionTool!K900),\"\",PFS_PFD_SelectionTool!K900)","v":""},{"$f":"VLOOKUP(D884,Tabelle1!A:B,2,FALSE)","v":{"$error":"#N/A"}},{"$f":"IF(ISBLANK(PFS_PFD_SelectionTool!N925),\"\",PFS_PFD_SelectionTool!N925)","v":""},{"$f":"IF(ISBLANK(PFS_PFD_SelectionTool!O925),\"\",PFS_PFD_SelectionTool!O925)","v":""}]
[{"$f":"IF(ISBLANK(PFS_PFD_SelectionTool!C901),\"\",PFS_PFD_SelectionTool!C901)","v":""},{"$f":"IF(ISBLANK(PFS_PFD_SelectionTool!D901),\"\",PFS_PFD_SelectionTool!D901)","v":""},{"$f":"IF(ISBLANK(PFS_PFD_SelectionTool!E901&\"_\"&PFS_PFD_SelectionTool!F901&\"_\"&PFS_PFD_SelectionTool!G901&\"_\"&PFS_PFD_SelectionTool!H901&\"_\"&PFS_PFD_SelectionTool!I901&\"_\"&PFS_PFD_SelectionTool!J901),\"\",PFS_PFD_SelectionTool!E901&\"_\"&PFS_PFD_SelectionTool!F901&\"_\"&PFS_PFD_SelectionTool!G901&\"_\"&PFS_PFD_SelectionTool!H901&\"_\"&PFS_PFD_SelectionTool!I901&\"_\"&PFS_PFD_SelectionTool!J901)","v":"_____"},{"$f":"IF(ISBLANK(PFS_PFD_SelectionTool!K901),\"\",PFS_PFD_SelectionTool!K901)","v":""},{"$f":"VLOOKUP(D885,Tabelle1!A:B,2,FALSE)","v":{"$error":"#N/A"}},{"$f":"IF(ISBLANK(PFS_PFD_SelectionTool!N926),\"\",PFS_PFD_SelectionTool!N926)","v":""},{"$f":"IF(ISBLANK(PFS_PFD_SelectionTool!O926),\"\",PFS_PFD_SelectionTool!O926)","v":""}]
[{"$f":"IF(ISBLANK(PFS_PFD_SelectionTool!C902),\"\",PFS_PFD_SelectionTool!C902)","v":""},{"$f":"IF(ISBLANK(PFS_PFD_SelectionTool!D902),\"\",PFS_PFD_SelectionTool!D902)","v":""},{"$f":"IF(ISBLANK(PFS_PFD_SelectionTool!E902&\"_\"&PFS_PFD_SelectionTool!F902&\"_\"&PFS_PFD_SelectionTool!G902&\"_\"&PFS_PFD_SelectionTool!H902&\"_\"&PFS_PFD_SelectionTool!I902&\"_\"&PFS_PFD_SelectionTool!J902),\"\",PFS_PFD_SelectionTool!E902&\"_\"&PFS_PFD_SelectionTool!F902&\"_\"&PFS_PFD_SelectionTool!G902&\"_\"&PFS_PFD_SelectionTool!H902&\"_\"&PFS_PFD_SelectionTool!I902&\"_\"&PFS_PFD_SelectionTool!J902)","v":"_____"},{"$f":"IF(ISBLANK(PFS_PFD_SelectionTool!K902),\"\",PFS_PFD_SelectionTool!K902)","v":""},{"$f":"VLOOKUP(D886,Tabelle1!A:B,2,FALSE)","v":{"$error":"#N/A"}},{"$f":"IF(ISBLANK(PFS_PFD_SelectionTool!N927),\"\",PFS_PFD_SelectionTool!N927)","v":""},{"$f":"IF(ISBLANK(PFS_PFD_SelectionTool!O927),\"\",PFS_PFD_SelectionTool!O927)","v":""}]
[{"$f":"IF(ISBLANK(PFS_PFD_SelectionTool!C903),\"\",PFS_PFD_SelectionTool!C903)","v":""},{"$f":"IF(ISBLANK(PFS_PFD_SelectionTool!D903),\"\",PFS_PFD_SelectionTool!D903)","v":""},{"$f":"IF(ISBLANK(PFS_PFD_SelectionTool!E903&\"_\"&PFS_PFD_SelectionTool!F903&\"_\"&PFS_PFD_SelectionTool!G903&\"_\"&PFS_PFD_SelectionTool!H903&\"_\"&PFS_PFD_SelectionTool!I903&\"_\"&PFS_PFD_SelectionTool!J903),\"\",PFS_PFD_SelectionTool!E903&\"_\"&PFS_PFD_SelectionTool!F903&\"_\"&PFS_PFD_SelectionTool!G903&\"_\"&PFS_PFD_SelectionTool!H903&\"_\"&PFS_PFD_SelectionTool!I903&\"_\"&PFS_PFD_SelectionTool!J903)","v":"_____"},{"$f":"IF(ISBLANK(PFS_PFD_SelectionTool!K903),\"\",PFS_PFD_SelectionTool!K903)","v":""},{"$f":"VLOOKUP(D887,Tabelle1!A:B,2,FALSE)","v":{"$error":"#N/A"}},{"$f":"IF(ISBLANK(PFS_PFD_SelectionTool!N928),\"\",PFS_PFD_SelectionTool!N928)","v":""},{"$f":"IF(ISBLANK(PFS_PFD_SelectionTool!O928),\"\",PFS_PFD_SelectionTool!O928)","v":""}]
[{"$f":"IF(ISBLANK(PFS_PFD_SelectionTool!C904),\"\",PFS_PFD_SelectionTool!C904)","v":""},{"$f":"IF(ISBLANK(PFS_PFD_SelectionTool!D904),\"\",PFS_PFD_SelectionTool!D904)","v":""},{"$f":"IF(ISBLANK(PFS_PFD_SelectionTool!E904&\"_\"&PFS_PFD_SelectionTool!F904&\"_\"&PFS_PFD_SelectionTool!G904&\"_\"&PFS_PFD_SelectionTool!H904&\"_\"&PFS_PFD_SelectionTool!I904&\"_\"&PFS_PFD_SelectionTool!J904),\"\",PFS_PFD_SelectionTool!E904&\"_\"&PFS_PFD_SelectionTool!F904&\"_\"&PFS_PFD_SelectionTool!G904&\"_\"&PFS_PFD_SelectionTool!H904&\"_\"&PFS_PFD_SelectionTool!I904&\"_\"&PFS_PFD_SelectionTool!J904)","v":"_____"},{"$f":"IF(ISBLANK(PFS_PFD_SelectionTool!K904),\"\",PFS_PFD_SelectionTool!K904)","v":""},{"$f":"VLOOKUP(D888,Tabelle1!A:B,2,FALSE)","v":{"$error":"#N/A"}},{"$f":"IF(ISBLANK(PFS_PFD_SelectionTool!N929),\"\",PFS_PFD_SelectionTool!N929)","v":""},{"$f":"IF(ISBLANK(PFS_PFD_SelectionTool!O929),\"\",PFS_PFD_SelectionTool!O929)","v":""}]
[{"$f":"IF(ISBLANK(PFS_PFD_SelectionTool!C905),\"\",PFS_PFD_SelectionTool!C905)","v":""},{"$f":"IF(ISBLANK(PFS_PFD_SelectionTool!D905),\"\",PFS_PFD_SelectionTool!D905)","v":""},{"$f":"IF(ISBLANK(PFS_PFD_SelectionTool!E905&\"_\"&PFS_PFD_SelectionTool!F905&\"_\"&PFS_PFD_SelectionTool!G905&\"_\"&PFS_PFD_SelectionTool!H905&\"_\"&PFS_PFD_SelectionTool!I905&\"_\"&PFS_PFD_SelectionTool!J905),\"\",PFS_PFD_SelectionTool!E905&\"_\"&PFS_PFD_SelectionTool!F905&\"_\"&PFS_PFD_SelectionTool!G905&\"_\"&PFS_PFD_SelectionTool!H905&\"_\"&PFS_PFD_SelectionTool!I905&\"_\"&PFS_PFD_SelectionTool!J905)","v":"_____"},{"$f":"IF(ISBLANK(PFS_PFD_SelectionTool!K905),\"\",PFS_PFD_SelectionTool!K905)","v":""},{"$f":"VLOOKUP(D889,Tabelle1!A:B,2,FALSE)","v":{"$error":"#N/A"}},{"$f":"IF(ISBLANK(PFS_PFD_SelectionTool!N930),\"\",PFS_PFD_SelectionTool!N930)","v":""},{"$f":"IF(ISBLANK(PFS_PFD_SelectionTool!O930),\"\",PFS_PFD_SelectionTool!O930)","v":""}]
[{"$f":"IF(ISBLANK(PFS_PFD_SelectionTool!C906),\"\",PFS_PFD_SelectionTool!C906)","v":""},{"$f":"IF(ISBLANK(PFS_PFD_SelectionTool!D906),\"\",PFS_PFD_SelectionTool!D906)","v":""},{"$f":"IF(ISBLANK(PFS_PFD_SelectionTool!E906&\"_\"&PFS_PFD_SelectionTool!F906&\"_\"&PFS_PFD_SelectionTool!G906&\"_\"&PFS_PFD_SelectionTool!H906&\"_\"&PFS_PFD_SelectionTool!I906&\"_\"&PFS_PFD_SelectionTool!J906),\"\",PFS_PFD_SelectionTool!E906&\"_\"&PFS_PFD_SelectionTool!F906&\"_\"&PFS_PFD_SelectionTool!G906&\"_\"&PFS_PFD_SelectionTool!H906&\"_\"&PFS_PFD_SelectionTool!I906&\"_\"&PFS_PFD_SelectionTool!J906)","v":"_____"},{"$f":"IF(ISBLANK(PFS_PFD_SelectionTool!K906),\"\",PFS_PFD_SelectionTool!K906)","v":""},{"$f":"VLOOKUP(D890,Tabelle1!A:B,2,FALSE)","v":{"$error":"#N/A"}},{"$f":"IF(ISBLANK(PFS_PFD_SelectionTool!N931),\"\",PFS_PFD_SelectionTool!N931)","v":""},{"$f":"IF(ISBLANK(PFS_PFD_SelectionTool!O931),\"\",PFS_PFD_SelectionTool!O931)","v":""}]
[{"$f":"IF(ISBLANK(PFS_PFD_SelectionTool!C907),\"\",PFS_PFD_SelectionTool!C907)","v":""},{"$f":"IF(ISBLANK(PFS_PFD_SelectionTool!D907),\"\",PFS_PFD_SelectionTool!D907)","v":""},{"$f":"IF(ISBLANK(PFS_PFD_SelectionTool!E907&\"_\"&PFS_PFD_SelectionTool!F907&\"_\"&PFS_PFD_SelectionTool!G907&\"_\"&PFS_PFD_SelectionTool!H907&\"_\"&PFS_PFD_SelectionTool!I907&\"_\"&PFS_PFD_SelectionTool!J907),\"\",PFS_PFD_SelectionTool!E907&\"_\"&PFS_PFD_SelectionTool!F907&\"_\"&PFS_PFD_SelectionTool!G907&\"_\"&PFS_PFD_SelectionTool!H907&\"_\"&PFS_PFD_SelectionTool!I907&\"_\"&PFS_PFD_SelectionTool!J907)","v":"_____"},{"$f":"IF(ISBLANK(PFS_PFD_SelectionTool!K907),\"\",PFS_PFD_SelectionTool!K907)","v":""},{"$f":"VLOOKUP(D891,Tabelle1!A:B,2,FALSE)","v":{"$error":"#N/A"}},{"$f":"IF(ISBLANK(PFS_PFD_SelectionTool!N932),\"\",PFS_PFD_SelectionTool!N932)","v":""},{"$f":"IF(ISBLANK(PFS_PFD_SelectionTool!O932),\"\",PFS_PFD_SelectionTool!O932)","v":""}]
[{"$f":"IF(ISBLANK(PFS_PFD_SelectionTool!C908),\"\",PFS_PFD_SelectionTool!C908)","v":""},{"$f":"IF(ISBLANK(PFS_PFD_SelectionTool!D908),\"\",PFS_PFD_SelectionTool!D908)","v":""},{"$f":"IF(ISBLANK(PFS_PFD_SelectionTool!E908&\"_\"&PFS_PFD_SelectionTool!F908&\"_\"&PFS_PFD_SelectionTool!G908&\"_\"&PFS_PFD_SelectionTool!H908&\"_\"&PFS_PFD_SelectionTool!I908&\"_\"&PFS_PFD_SelectionTool!J908),\"\",PFS_PFD_SelectionTool!E908&\"_\"&PFS_PFD_SelectionTool!F908&\"_\"&PFS_PFD_SelectionTool!G908&\"_\"&PFS_PFD_SelectionTool!H908&\"_\"&PFS_PFD_SelectionTool!I908&\"_\"&PFS_PFD_SelectionTool!J908)","v":"_____"},{"$f":"IF(ISBLANK(PFS_PFD_SelectionTool!K908),\"\",PFS_PFD_SelectionTool!K908)","v":""},{"$f":"VLOOKUP(D892,Tabelle1!A:B,2,FALSE)","v":{"$error":"#N/A"}},{"$f":"IF(ISBLANK(PFS_PFD_SelectionTool!N933),\"\",PFS_PFD_SelectionTool!N933)","v":""},{"$f":"IF(ISBLANK(PFS_PFD_SelectionTool!O933),\"\",PFS_PFD_SelectionTool!O933)","v":""}]
[{"$f":"IF(ISBLANK(PFS_PFD_SelectionTool!C909),\"\",PFS_PFD_SelectionTool!C909)","v":""},{"$f":"IF(ISBLANK(PFS_PFD_SelectionTool!D909),\"\",PFS_PFD_SelectionTool!D909)","v":""},{"$f":"IF(ISBLANK(PFS_PFD_SelectionTool!E909&\"_\"&PFS_PFD_SelectionTool!F909&\"_\"&PFS_PFD_SelectionTool!G909&\"_\"&PFS_PFD_SelectionTool!H909&\"_\"&PFS_PFD_SelectionTool!I909&\"_\"&PFS_PFD_SelectionTool!J909),\"\",PFS_PFD_SelectionTool!E909&\"_\"&PFS_PFD_SelectionTool!F909&\"_\"&PFS_PFD_SelectionTool!G909&\"_\"&PFS_PFD_SelectionTool!H909&\"_\"&PFS_PFD_SelectionTool!I909&\"_\"&PFS_PFD_SelectionTool!J909)","v":"_____"},{"$f":"IF(ISBLANK(PFS_PFD_SelectionTool!K909),\"\",PFS_PFD_SelectionTool!K909)","v":""},{"$f":"VLOOKUP(D893,Tabelle1!A:B,2,FALSE)","v":{"$error":"#N/A"}},{"$f":"IF(ISBLANK(PFS_PFD_SelectionTool!N934),\"\",PFS_PFD_SelectionTool!N934)","v":""},{"$f":"IF(ISBLANK(PFS_PFD_SelectionTool!O934),\"\",PFS_PFD_SelectionTool!O934)","v":""}]
[{"$f":"IF(ISBLANK(PFS_PFD_SelectionTool!C910),\"\",PFS_PFD_SelectionTool!C910)","v":""},{"$f":"IF(ISBLANK(PFS_PFD_SelectionTool!D910),\"\",PFS_PFD_SelectionTool!D910)","v":""},{"$f":"IF(ISBLANK(PFS_PFD_SelectionTool!E910&\"_\"&PFS_PFD_SelectionTool!F910&\"_\"&PFS_PFD_SelectionTool!G910&\"_\"&PFS_PFD_SelectionTool!H910&\"_\"&PFS_PFD_SelectionTool!I910&\"_\"&PFS_PFD_SelectionTool!J910),\"\",PFS_PFD_SelectionTool!E910&\"_\"&PFS_PFD_SelectionTool!F910&\"_\"&PFS_PFD_SelectionTool!G910&\"_\"&PFS_PFD_SelectionTool!H910&\"_\"&PFS_PFD_SelectionTool!I910&\"_\"&PFS_PFD_SelectionTool!J910)","v":"_____"},{"$f":"IF(ISBLANK(PFS_PFD_SelectionTool!K910),\"\",PFS_PFD_SelectionTool!K910)","v":""},{"$f":"VLOOKUP(D894,Tabelle1!A:B,2,FALSE)","v":{"$error":"#N/A"}},{"$f":"IF(ISBLANK(PFS_PFD_SelectionTool!N935),\"\",PFS_PFD_SelectionTool!N935)","v":""},{"$f":"IF(ISBLANK(PFS_PFD_SelectionTool!O935),\"\",PFS_PFD_SelectionTool!O935)","v":""}]
[{"$f":"IF(ISBLANK(PFS_PFD_SelectionTool!C911),\"\",PFS_PFD_SelectionTool!C911)","v":""},{"$f":"IF(ISBLANK(PFS_PFD_SelectionTool!D911),\"\",PFS_PFD_SelectionTool!D911)","v":""},{"$f":"IF(ISBLANK(PFS_PFD_SelectionTool!E911&\"_\"&PFS_PFD_SelectionTool!F911&\"_\"&PFS_PFD_SelectionTool!G911&\"_\"&PFS_PFD_SelectionTool!H911&\"_\"&PFS_PFD_SelectionTool!I911&\"_\"&PFS_PFD_SelectionTool!J911),\"\",PFS_PFD_SelectionTool!E911&\"_\"&PFS_PFD_SelectionTool!F911&\"_\"&PFS_PFD_SelectionTool!G911&\"_\"&PFS_PFD_SelectionTool!H911&\"_\"&PFS_PFD_SelectionTool!I911&\"_\"&PFS_PFD_SelectionTool!J911)","v":"_____"},{"$f":"IF(ISBLANK(PFS_PFD_SelectionTool!K911),\"\",PFS_PFD_SelectionTool!K911)","v":""},{"$f":"VLOOKUP(D895,Tabelle1!A:B,2,FALSE)","v":{"$error":"#N/A"}},{"$f":"IF(ISBLANK(PFS_PFD_SelectionTool!N936),\"\",PFS_PFD_SelectionTool!N936)","v":""},{"$f":"IF(ISBLANK(PFS_PFD_SelectionTool!O936),\"\",PFS_PFD_SelectionTool!O936)","v":""}]
[{"$f":"IF(ISBLANK(PFS_PFD_SelectionTool!C912),\"\",PFS_PFD_SelectionTool!C912)","v":""},{"$f":"IF(ISBLANK(PFS_PFD_SelectionTool!D912),\"\",PFS_PFD_SelectionTool!D912)","v":""},{"$f":"IF(ISBLANK(PFS_PFD_SelectionTool!E912&\"_\"&PFS_PFD_SelectionTool!F912&\"_\"&PFS_PFD_SelectionTool!G912&\"_\"&PFS_PFD_SelectionTool!H912&\"_\"&PFS_PFD_SelectionTool!I912&\"_\"&PFS_PFD_SelectionTool!J912),\"\",PFS_PFD_SelectionTool!E912&\"_\"&PFS_PFD_SelectionTool!F912&\"_\"&PFS_PFD_SelectionTool!G912&\"_\"&PFS_PFD_SelectionTool!H912&\"_\"&PFS_PFD_SelectionTool!I912&\"_\"&PFS_PFD_SelectionTool!J912)","v":"_____"},{"$f":"IF(ISBLANK(PFS_PFD_SelectionTool!K912),\"\",PFS_PFD_SelectionTool!K912)","v":""},{"$f":"VLOOKUP(D896,Tabelle1!A:B,2,FALSE)","v":{"$error":"#N/A"}},{"$f":"IF(ISBLANK(PFS_PFD_SelectionTool!N937),\"\",PFS_PFD_SelectionTool!N937)","v":""},{"$f":"IF(ISBLANK(PFS_PFD_SelectionTool!O937),\"\",PFS_PFD_SelectionTool!O937)","v":""}]
[{"$f":"IF(ISBLANK(PFS_PFD_SelectionTool!C913),\"\",PFS_PFD_SelectionTool!C913)","v":""},{"$f":"IF(ISBLANK(PFS_PFD_SelectionTool!D913),\"\",PFS_PFD_SelectionTool!D913)","v":""},{"$f":"IF(ISBLANK(PFS_PFD_SelectionTool!E913&\"_\"&PFS_PFD_SelectionTool!F913&\"_\"&PFS_PFD_SelectionTool!G913&\"_\"&PFS_PFD_SelectionTool!H913&\"_\"&PFS_PFD_SelectionTool!I913&\"_\"&PFS_PFD_SelectionTool!J913),\"\",PFS_PFD_SelectionTool!E913&\"_\"&PFS_PFD_SelectionTool!F913&\"_\"&PFS_PFD_SelectionTool!G913&\"_\"&PFS_PFD_SelectionTool!H913&\"_\"&PFS_PFD_SelectionTool!I913&\"_\"&PFS_PFD_SelectionTool!J913)","v":"_____"},{"$f":"IF(ISBLANK(PFS_PFD_SelectionTool!K913),\"\",PFS_PFD_SelectionTool!K913)","v":""},{"$f":"VLOOKUP(D897,Tabelle1!A:B,2,FALSE)","v":{"$error":"#N/A"}},{"$f":"IF(ISBLANK(PFS_PFD_SelectionTool!N938),\"\",PFS_PFD_SelectionTool!N938)","v":""},{"$f":"IF(ISBLANK(PFS_PFD_SelectionTool!O938),\"\",PFS_PFD_SelectionTool!O938)","v":""}]
[{"$f":"IF(ISBLANK(PFS_PFD_SelectionTool!C914),\"\",PFS_PFD_SelectionTool!C914)","v":""},{"$f":"IF(ISBLANK(PFS_PFD_SelectionTool!D914),\"\",PFS_PFD_SelectionTool!D914)","v":""},{"$f":"IF(ISBLANK(PFS_PFD_SelectionTool!E914&\"_\"&PFS_PFD_SelectionTool!F914&\"_\"&PFS_PFD_SelectionTool!G914&\"_\"&PFS_PFD_SelectionTool!H914&\"_\"&PFS_PFD_SelectionTool!I914&\"_\"&PFS_PFD_SelectionTool!J914),\"\",PFS_PFD_SelectionTool!E914&\"_\"&PFS_PFD_SelectionTool!F914&\"_\"&PFS_PFD_SelectionTool!G914&\"_\"&PFS_PFD_SelectionTool!H914&\"_\"&PFS_PFD_SelectionTool!I914&\"_\"&PFS_PFD_SelectionTool!J914)","v":"_____"},{"$f":"IF(ISBLANK(PFS_PFD_SelectionTool!K914),\"\",PFS_PFD_SelectionTool!K914)","v":""},{"$f":"VLOOKUP(D898,Tabelle1!A:B,2,FALSE)","v":{"$error":"#N/A"}},{"$f":"IF(ISBLANK(PFS_PFD_SelectionTool!N939),\"\",PFS_PFD_SelectionTool!N939)","v":""},{"$f":"IF(ISBLANK(PFS_PFD_SelectionTool!O939),\"\",PFS_PFD_SelectionTool!O939)","v":""}]
[{"$f":"IF(ISBLANK(PFS_PFD_SelectionTool!C915),\"\",PFS_PFD_SelectionTool!C915)","v":""},{"$f":"IF(ISBLANK(PFS_PFD_SelectionTool!D915),\"\",PFS_PFD_SelectionTool!D915)","v":""},{"$f":"IF(ISBLANK(PFS_PFD_SelectionTool!E915&\"_\"&PFS_PFD_SelectionTool!F915&\"_\"&PFS_PFD_SelectionTool!G915&\"_\"&PFS_PFD_SelectionTool!H915&\"_\"&PFS_PFD_SelectionTool!I915&\"_\"&PFS_PFD_SelectionTool!J915),\"\",PFS_PFD_SelectionTool!E915&\"_\"&PFS_PFD_SelectionTool!F915&\"_\"&PFS_PFD_SelectionTool!G915&\"_\"&PFS_PFD_SelectionTool!H915&\"_\"&PFS_PFD_SelectionTool!I915&\"_\"&PFS_PFD_SelectionTool!J915)","v":"_____"},{"$f":"IF(ISBLANK(PFS_PFD_SelectionTool!K915),\"\",PFS_PFD_SelectionTool!K915)","v":""},{"$f":"VLOOKUP(D899,Tabelle1!A:B,2,FALSE)","v":{"$error":"#N/A"}},{"$f":"IF(ISBLANK(PFS_PFD_SelectionTool!N940),\"\",PFS_PFD_SelectionTool!N940)","v":""},{"$f":"IF(ISBLANK(PFS_PFD_SelectionTool!O940),\"\",PFS_PFD_SelectionTool!O940)","v":""}]
[{"$f":"IF(ISBLANK(PFS_PFD_SelectionTool!C916),\"\",PFS_PFD_SelectionTool!C916)","v":""},{"$f":"IF(ISBLANK(PFS_PFD_SelectionTool!D916),\"\",PFS_PFD_SelectionTool!D916)","v":""},{"$f":"IF(ISBLANK(PFS_PFD_SelectionTool!E916&\"_\"&PFS_PFD_SelectionTool!F916&\"_\"&PFS_PFD_SelectionTool!G916&\"_\"&PFS_PFD_SelectionTool!H916&\"_\"&PFS_PFD_SelectionTool!I916&\"_\"&PFS_PFD_SelectionTool!J916),\"\",PFS_PFD_SelectionTool!E916&\"_\"&PFS_PFD_SelectionTool!F916&\"_\"&PFS_PFD_SelectionTool!G916&\"_\"&PFS_PFD_SelectionTool!H916&\"_\"&PFS_PFD_SelectionTool!I916&\"_\"&PFS_PFD_SelectionTool!J916)","v":"_____"},{"$f":"IF(ISBLANK(PFS_PFD_SelectionTool!K916),\"\",PFS_PFD_SelectionTool!K916)","v":""},{"$f":"VLOOKUP(D900,Tabelle1!A:B,2,FALSE)","v":{"$error":"#N/A"}},{"$f":"IF(ISBLANK(PFS_PFD_SelectionTool!N941),\"\",PFS_PFD_SelectionTool!N941)","v":""},{"$f":"IF(ISBLANK(PFS_PFD_SelectionTool!O941),\"\",PFS_PFD_SelectionTool!O941)","v":""}]
[{"$f":"IF(ISBLANK(PFS_PFD_SelectionTool!C917),\"\",PFS_PFD_SelectionTool!C917)","v":""},{"$f":"IF(ISBLANK(PFS_PFD_SelectionTool!D917),\"\",PFS_PFD_SelectionTool!D917)","v":""},{"$f":"IF(ISBLANK(PFS_PFD_SelectionTool!E917&\"_\"&PFS_PFD_SelectionTool!F917&\"_\"&PFS_PFD_SelectionTool!G917&\"_\"&PFS_PFD_SelectionTool!H917&\"_\"&PFS_PFD_SelectionTool!I917&\"_\"&PFS_PFD_SelectionTool!J917),\"\",PFS_PFD_SelectionTool!E917&\"_\"&PFS_PFD_SelectionTool!F917&\"_\"&PFS_PFD_SelectionTool!G917&\"_\"&PFS_PFD_SelectionTool!H917&\"_\"&PFS_PFD_SelectionTool!I917&\"_\"&PFS_PFD_SelectionTool!J917)","v":"_____"},{"$f":"IF(ISBLANK(PFS_PFD_SelectionTool!K917),\"\",PFS_PFD_SelectionTool!K917)","v":""},{"$f":"VLOOKUP(D901,Tabelle1!A:B,2,FALSE)","v":{"$error":"#N/A"}},{"$f":"IF(ISBLANK(PFS_PFD_SelectionTool!N942),\"\",PFS_PFD_SelectionTool!N942)","v":""},{"$f":"IF(ISBLANK(PFS_PFD_SelectionTool!O942),\"\",PFS_PFD_SelectionTool!O942)","v":""}]
[{"$f":"IF(ISBLANK(PFS_PFD_SelectionTool!C918),\"\",PFS_PFD_SelectionTool!C918)","v":""},{"$f":"IF(ISBLANK(PFS_PFD_SelectionTool!D918),\"\",PFS_PFD_SelectionTool!D918)","v":""},{"$f":"IF(ISBLANK(PFS_PFD_SelectionTool!E918&\"_\"&PFS_PFD_SelectionTool!F918&\"_\"&PFS_PFD_SelectionTool!G918&\"_\"&PFS_PFD_SelectionTool!H918&\"_\"&PFS_PFD_SelectionTool!I918&\"_\"&PFS_PFD_SelectionTool!J918),\"\",PFS_PFD_SelectionTool!E918&\"_\"&PFS_PFD_SelectionTool!F918&\"_\"&PFS_PFD_SelectionTool!G918&\"_\"&PFS_PFD_SelectionTool!H918&\"_\"&PFS_PFD_SelectionTool!I918&\"_\"&PFS_PFD_SelectionTool!J918)","v":"_____"},{"$f":"IF(ISBLANK(PFS_PFD_SelectionTool!K918),\"\",PFS_PFD_SelectionTool!K918)","v":""},{"$f":"VLOOKUP(D902,Tabelle1!A:B,2,FALSE)","v":{"$error":"#N/A"}},{"$f":"IF(ISBLANK(PFS_PFD_SelectionTool!N943),\"\",PFS_PFD_SelectionTool!N943)","v":""},{"$f":"IF(ISBLANK(PFS_PFD_SelectionTool!O943),\"\",PFS_PFD_SelectionTool!O943)","v":""}]
[{"$f":"IF(ISBLANK(PFS_PFD_SelectionTool!C919),\"\",PFS_PFD_SelectionTool!C919)","v":""},{"$f":"IF(ISBLANK(PFS_PFD_SelectionTool!D919),\"\",PFS_PFD_SelectionTool!D919)","v":""},{"$f":"IF(ISBLANK(PFS_PFD_SelectionTool!E919&\"_\"&PFS_PFD_SelectionTool!F919&\"_\"&PFS_PFD_SelectionTool!G919&\"_\"&PFS_PFD_SelectionTool!H919&\"_\"&PFS_PFD_SelectionTool!I919&\"_\"&PFS_PFD_SelectionTool!J919),\"\",PFS_PFD_SelectionTool!E919&\"_\"&PFS_PFD_SelectionTool!F919&\"_\"&PFS_PFD_SelectionTool!G919&\"_\"&PFS_PFD_SelectionTool!H919&\"_\"&PFS_PFD_SelectionTool!I919&\"_\"&PFS_PFD_SelectionTool!J919)","v":"_____"},{"$f":"IF(ISBLANK(PFS_PFD_SelectionTool!K919),\"\",PFS_PFD_SelectionTool!K919)","v":""},{"$f":"VLOOKUP(D903,Tabelle1!A:B,2,FALSE)","v":{"$error":"#N/A"}},{"$f":"IF(ISBLANK(PFS_PFD_SelectionTool!N944),\"\",PFS_PFD_SelectionTool!N944)","v":""},{"$f":"IF(ISBLANK(PFS_PFD_SelectionTool!O944),\"\",PFS_PFD_SelectionTool!O944)","v":""}]
[{"$f":"IF(ISBLANK(PFS_PFD_SelectionTool!C920),\"\",PFS_PFD_SelectionTool!C920)","v":""},{"$f":"IF(ISBLANK(PFS_PFD_SelectionTool!D920),\"\",PFS_PFD_SelectionTool!D920)","v":""},{"$f":"IF(ISBLANK(PFS_PFD_SelectionTool!E920&\"_\"&PFS_PFD_SelectionTool!F920&\"_\"&PFS_PFD_SelectionTool!G920&\"_\"&PFS_PFD_SelectionTool!H920&\"_\"&PFS_PFD_SelectionTool!I920&\"_\"&PFS_PFD_SelectionTool!J920),\"\",PFS_PFD_SelectionTool!E920&\"_\"&PFS_PFD_SelectionTool!F920&\"_\"&PFS_PFD_SelectionTool!G920&\"_\"&PFS_PFD_SelectionTool!H920&\"_\"&PFS_PFD_SelectionTool!I920&\"_\"&PFS_PFD_SelectionTool!J920)","v":"_____"},{"$f":"IF(ISBLANK(PFS_PFD_SelectionTool!K920),\"\",PFS_PFD_SelectionTool!K920)","v":""},{"$f":"VLOOKUP(D904,Tabelle1!A:B,2,FALSE)","v":{"$error":"#N/A"}},{"$f":"IF(ISBLANK(PFS_PFD_SelectionTool!N945),\"\",PFS_PFD_SelectionTool!N945)","v":""},{"$f":"IF(ISBLANK(PFS_PFD_SelectionTool!O945),\"\",PFS_PFD_SelectionTool!O945)","v":""}]
[{"$f":"IF(ISBLANK(PFS_PFD_SelectionTool!C921),\"\",PFS_PFD_SelectionTool!C921)","v":""},{"$f":"IF(ISBLANK(PFS_PFD_SelectionTool!D921),\"\",PFS_PFD_SelectionTool!D921)","v":""},{"$f":"IF(ISBLANK(PFS_PFD_SelectionTool!E921&\"_\"&PFS_PFD_SelectionTool!F921&\"_\"&PFS_PFD_SelectionTool!G921&\"_\"&PFS_PFD_SelectionTool!H921&\"_\"&PFS_PFD_SelectionTool!I921&\"_\"&PFS_PFD_SelectionTool!J921),\"\",PFS_PFD_SelectionTool!E921&\"_\"&PFS_PFD_SelectionTool!F921&\"_\"&PFS_PFD_SelectionTool!G921&\"_\"&PFS_PFD_SelectionTool!H921&\"_\"&PFS_PFD_SelectionTool!I921&\"_\"&PFS_PFD_SelectionTool!J921)","v":"_____"},{"$f":"IF(ISBLANK(PFS_PFD_SelectionTool!K921),\"\",PFS_PFD_SelectionTool!K921)","v":""},{"$f":"VLOOKUP(D905,Tabelle1!A:B,2,FALSE)","v":{"$error":"#N/A"}},{"$f":"IF(ISBLANK(PFS_PFD_SelectionTool!N946),\"\",PFS_PFD_SelectionTool!N946)","v":""},{"$f":"IF(ISBLANK(PFS_PFD_SelectionTool!O946),\"\",PFS_PFD_SelectionTool!O946)","v":""}]
[{"$f":"IF(ISBLANK(PFS_PFD_SelectionTool!C922),\"\",PFS_PFD_SelectionTool!C922)","v":""},{"$f":"IF(ISBLANK(PFS_PFD_SelectionTool!D922),\"\",PFS_PFD_SelectionTool!D922)","v":""},{"$f":"IF(ISBLANK(PFS_PFD_SelectionTool!E922&\"_\"&PFS_PFD_SelectionTool!F922&\"_\"&PFS_PFD_SelectionTool!G922&\"_\"&PFS_PFD_SelectionTool!H922&\"_\"&PFS_PFD_SelectionTool!I922&\"_\"&PFS_PFD_SelectionTool!J922),\"\",PFS_PFD_SelectionTool!E922&\"_\"&PFS_PFD_SelectionTool!F922&\"_\"&PFS_PFD_SelectionTool!G922&\"_\"&PFS_PFD_SelectionTool!H922&\"_\"&PFS_PFD_SelectionTool!I922&\"_\"&PFS_PFD_SelectionTool!J922)","v":"_____"},{"$f":"IF(ISBLANK(PFS_PFD_SelectionTool!K922),\"\",PFS_PFD_SelectionTool!K922)","v":""},{"$f":"VLOOKUP(D906,Tabelle1!A:B,2,FALSE)","v":{"$error":"#N/A"}},{"$f":"IF(ISBLANK(PFS_PFD_SelectionTool!N947),\"\",PFS_PFD_SelectionTool!N947)","v":""},{"$f":"IF(ISBLANK(PFS_PFD_SelectionTool!O947),\"\",PFS_PFD_SelectionTool!O947)","v":""}]
[{"$f":"IF(ISBLANK(PFS_PFD_SelectionTool!C923),\"\",PFS_PFD_SelectionTool!C923)","v":""},{"$f":"IF(ISBLANK(PFS_PFD_SelectionTool!D923),\"\",PFS_PFD_SelectionTool!D923)","v":""},{"$f":"IF(ISBLANK(PFS_PFD_SelectionTool!E923&\"_\"&PFS_PFD_SelectionTool!F923&\"_\"&PFS_PFD_SelectionTool!G923&\"_\"&PFS_PFD_SelectionTool!H923&\"_\"&PFS_PFD_SelectionTool!I923&\"_\"&PFS_PFD_SelectionTool!J923),\"\",PFS_PFD_SelectionTool!E923&\"_\"&PFS_PFD_SelectionTool!F923&\"_\"&PFS_PFD_SelectionTool!G923&\"_\"&PFS_PFD_SelectionTool!H923&\"_\"&PFS_PFD_SelectionTool!I923&\"_\"&PFS_PFD_SelectionTool!J923)","v":"_____"},{"$f":"IF(ISBLANK(PFS_PFD_SelectionTool!K923),\"\",PFS_PFD_SelectionTool!K923)","v":""},{"$f":"VLOOKUP(D907,Tabelle1!A:B,2,FALSE)","v":{"$error":"#N/A"}},{"$f":"IF(ISBLANK(PFS_PFD_SelectionTool!N948),\"\",PFS_PFD_SelectionTool!N948)","v":""},{"$f":"IF(ISBLANK(PFS_PFD_SelectionTool!O948),\"\",PFS_PFD_SelectionTool!O948)","v":""}]
[{"$f":"IF(ISBLANK(PFS_PFD_SelectionTool!C924),\"\",PFS_PFD_SelectionTool!C924)","v":""},{"$f":"IF(ISBLANK(PFS_PFD_SelectionTool!D924),\"\",PFS_PFD_SelectionTool!D924)","v":""},{"$f":"IF(ISBLANK(PFS_PFD_SelectionTool!E924&\"_\"&PFS_PFD_SelectionTool!F924&\"_\"&PFS_PFD_SelectionTool!G924&\"_\"&PFS_PFD_SelectionTool!H924&\"_\"&PFS_PFD_SelectionTool!I924&\"_\"&PFS_PFD_SelectionTool!J924),\"\",PFS_PFD_SelectionTool!E924&\"_\"&PFS_PFD_SelectionTool!F924&\"_\"&PFS_PFD_SelectionTool!G924&\"_\"&PFS_PFD_SelectionTool!H924&\"_\"&PFS_PFD_SelectionTool!I924&\"_\"&PFS_PFD_SelectionTool!J924)","v":"_____"},{"$f":"IF(ISBLANK(PFS_PFD_SelectionTool!K924),\"\",PFS_PFD_SelectionTool!K924)","v":""},{"$f":"VLOOKUP(D908,Tabelle1!A:B,2,FALSE)","v":{"$error":"#N/A"}},{"$f":"IF(ISBLANK(PFS_PFD_SelectionTool!N949),\"\",PFS_PFD_SelectionTool!N949)","v":""},{"$f":"IF(ISBLANK(PFS_PFD_SelectionTool!O949),\"\",PFS_PFD_SelectionTool!O949)","v":""}]
[{"$f":"IF(ISBLANK(PFS_PFD_SelectionTool!C925),\"\",PFS_PFD_SelectionTool!C925)","v":""},{"$f":"IF(ISBLANK(PFS_PFD_SelectionTool!D925),\"\",PFS_PFD_SelectionTool!D925)","v":""},{"$f":"IF(ISBLANK(PFS_PFD_SelectionTool!E925&\"_\"&PFS_PFD_SelectionTool!F925&\"_\"&PFS_PFD_SelectionTool!G925&\"_\"&PFS_PFD_SelectionTool!H925&\"_\"&PFS_PFD_SelectionTool!I925&\"_\"&PFS_PFD_SelectionTool!J925),\"\",PFS_PFD_SelectionTool!E925&\"_\"&PFS_PFD_SelectionTool!F925&\"_\"&PFS_PFD_SelectionTool!G925&\"_\"&PFS_PFD_SelectionTool!H925&\"_\"&PFS_PFD_SelectionTool!I925&\"_\"&PFS_PFD_SelectionTool!J925)","v":"_____"},{"$f":"IF(ISBLANK(PFS_PFD_SelectionTool!K925),\"\",PFS_PFD_SelectionTool!K925)","v":""},{"$f":"VLOOKUP(D909,Tabelle1!A:B,2,FALSE)","v":{"$error":"#N/A"}},{"$f":"IF(ISBLANK(PFS_PFD_SelectionTool!N950),\"\",PFS_PFD_SelectionTool!N950)","v":""},{"$f":"IF(ISBLANK(PFS_PFD_SelectionTool!O950),\"\",PFS_PFD_SelectionTool!O950)","v":""}]
[{"$f":"IF(ISBLANK(PFS_PFD_SelectionTool!C926),\"\",PFS_PFD_SelectionTool!C926)","v":""},{"$f":"IF(ISBLANK(PFS_PFD_SelectionTool!D926),\"\",PFS_PFD_SelectionTool!D926)","v":""},{"$f":"IF(ISBLANK(PFS_PFD_SelectionTool!E926&\"_\"&PFS_PFD_SelectionTool!F926&\"_\"&PFS_PFD_SelectionTool!G926&\"_\"&PFS_PFD_SelectionTool!H926&\"_\"&PFS_PFD_SelectionTool!I926&\"_\"&PFS_PFD_SelectionTool!J926),\"\",PFS_PFD_SelectionTool!E926&\"_\"&PFS_PFD_SelectionTool!F926&\"_\"&PFS_PFD_SelectionTool!G926&\"_\"&PFS_PFD_SelectionTool!H926&\"_\"&PFS_PFD_SelectionTool!I926&\"_\"&PFS_PFD_SelectionTool!J926)","v":"_____"},{"$f":"IF(ISBLANK(PFS_PFD_SelectionTool!K926),\"\",PFS_PFD_SelectionTool!K926)","v":""},{"$f":"VLOOKUP(D910,Tabelle1!A:B,2,FALSE)","v":{"$error":"#N/A"}},{"$f":"IF(ISBLANK(PFS_PFD_SelectionTool!N951),\"\",PFS_PFD_SelectionTool!N951)","v":""},{"$f":"IF(ISBLANK(PFS_PFD_SelectionTool!O951),\"\",PFS_PFD_SelectionTool!O951)","v":""}]
[{"$f":"IF(ISBLANK(PFS_PFD_SelectionTool!C927),\"\",PFS_PFD_SelectionTool!C927)","v":""},{"$f":"IF(ISBLANK(PFS_PFD_SelectionTool!D927),\"\",PFS_PFD_SelectionTool!D927)","v":""},{"$f":"IF(ISBLANK(PFS_PFD_SelectionTool!E927&\"_\"&PFS_PFD_SelectionTool!F927&\"_\"&PFS_PFD_SelectionTool!G927&\"_\"&PFS_PFD_SelectionTool!H927&\"_\"&PFS_PFD_SelectionTool!I927&\"_\"&PFS_PFD_SelectionTool!J927),\"\",PFS_PFD_SelectionTool!E927&\"_\"&PFS_PFD_SelectionTool!F927&\"_\"&PFS_PFD_SelectionTool!G927&\"_\"&PFS_PFD_SelectionTool!H927&\"_\"&PFS_PFD_SelectionTool!I927&\"_\"&PFS_PFD_SelectionTool!J927)","v":"_____"},{"$f":"IF(ISBLANK(PFS_PFD_SelectionTool!K927),\"\",PFS_PFD_SelectionTool!K927)","v":""},{"$f":"VLOOKUP(D911,Tabelle1!A:B,2,FALSE)","v":{"$error":"#N/A"}},{"$f":"IF(ISBLANK(PFS_PFD_SelectionTool!N952),\"\",PFS_PFD_SelectionTool!N952)","v":""},{"$f":"IF(ISBLANK(PFS_PFD_SelectionTool!O952),\"\",PFS_PFD_SelectionTool!O952)","v":""}]
[{"$f":"IF(ISBLANK(PFS_PFD_SelectionTool!C928),\"\",PFS_PFD_SelectionTool!C928)","v":""},{"$f":"IF(ISBLANK(PFS_PFD_SelectionTool!D928),\"\",PFS_PFD_SelectionTool!D928)","v":""},{"$f":"IF(ISBLANK(PFS_PFD_SelectionTool!E928&\"_\"&PFS_PFD_SelectionTool!F928&\"_\"&PFS_PFD_SelectionTool!G928&\"_\"&PFS_PFD_SelectionTool!H928&\"_\"&PFS_PFD_SelectionTool!I928&\"_\"&PFS_PFD_SelectionTool!J928),\"\",PFS_PFD_SelectionTool!E928&\"_\"&PFS_PFD_SelectionTool!F928&\"_\"&PFS_PFD_SelectionTool!G928&\"_\"&PFS_PFD_SelectionTool!H928&\"_\"&PFS_PFD_SelectionTool!I928&\"_\"&PFS_PFD_SelectionTool!J928)","v":"_____"},{"$f":"IF(ISBLANK(PFS_PFD_SelectionTool!K928),\"\",PFS_PFD_SelectionTool!K928)","v":""},{"$f":"VLOOKUP(D912,Tabelle1!A:B,2,FALSE)","v":{"$error":"#N/A"}},{"$f":"IF(ISBLANK(PFS_PFD_SelectionTool!N953),\"\",PFS_PFD_SelectionTool!N953)","v":""},{"$f":"IF(ISBLANK(PFS_PFD_SelectionTool!O953),\"\",PFS_PFD_SelectionTool!O953)","v":""}]
[{"$f":"IF(ISBLANK(PFS_PFD_SelectionTool!C929),\"\",PFS_PFD_SelectionTool!C929)","v":""},{"$f":"IF(ISBLANK(PFS_PFD_SelectionTool!D929),\"\",PFS_PFD_SelectionTool!D929)","v":""},{"$f":"IF(ISBLANK(PFS_PFD_SelectionTool!E929&\"_\"&PFS_PFD_SelectionTool!F929&\"_\"&PFS_PFD_SelectionTool!G929&\"_\"&PFS_PFD_SelectionTool!H929&\"_\"&PFS_PFD_SelectionTool!I929&\"_\"&PFS_PFD_SelectionTool!J929),\"\",PFS_PFD_SelectionTool!E929&\"_\"&PFS_PFD_SelectionTool!F929&\"_\"&PFS_PFD_SelectionTool!G929&\"_\"&PFS_PFD_SelectionTool!H929&\"_\"&PFS_PFD_SelectionTool!I929&\"_\"&PFS_PFD_SelectionTool!J929)","v":"_____"},{"$f":"IF(ISBLANK(PFS_PFD_SelectionTool!K929),\"\",PFS_PFD_SelectionTool!K929)","v":""},{"$f":"VLOOKUP(D913,Tabelle1!A:B,2,FALSE)","v":{"$error":"#N/A"}},{"$f":"IF(ISBLANK(PFS_PFD_SelectionTool!N954),\"\",PFS_PFD_SelectionTool!N954)","v":""},{"$f":"IF(ISBLANK(PFS_PFD_SelectionTool!O954),\"\",PFS_PFD_SelectionTool!O954)","v":""}]
[{"$f":"IF(ISBLANK(PFS_PFD_SelectionTool!C930),\"\",PFS_PFD_SelectionTool!C930)","v":""},{"$f":"IF(ISBLANK(PFS_PFD_SelectionTool!D930),\"\",PFS_PFD_SelectionTool!D930)","v":""},{"$f":"IF(ISBLANK(PFS_PFD_SelectionTool!E930&\"_\"&PFS_PFD_SelectionTool!F930&\"_\"&PFS_PFD_SelectionTool!G930&\"_\"&PFS_PFD_SelectionTool!H930&\"_\"&PFS_PFD_SelectionTool!I930&\"_\"&PFS_PFD_SelectionTool!J930),\"\",PFS_PFD_SelectionTool!E930&\"_\"&PFS_PFD_SelectionTool!F930&\"_\"&PFS_PFD_SelectionTool!G930&\"_\"&PFS_PFD_SelectionTool!H930&\"_\"&PFS_PFD_SelectionTool!I930&\"_\"&PFS_PFD_SelectionTool!J930)","v":"_____"},{"$f":"IF(ISBLANK(PFS_PFD_SelectionTool!K930),\"\",PFS_PFD_SelectionTool!K930)","v":""},{"$f":"VLOOKUP(D914,Tabelle1!A:B,2,FALSE)","v":{"$error":"#N/A"}},{"$f":"IF(ISBLANK(PFS_PFD_SelectionTool!N955),\"\",PFS_PFD_SelectionTool!N955)","v":""},{"$f":"IF(ISBLANK(PFS_PFD_SelectionTool!O955),\"\",PFS_PFD_SelectionTool!O955)","v":""}]
[{"$f":"IF(ISBLANK(PFS_PFD_SelectionTool!C931),\"\",PFS_PFD_SelectionTool!C931)","v":""},{"$f":"IF(ISBLANK(PFS_PFD_SelectionTool!D931),\"\",PFS_PFD_SelectionTool!D931)","v":""},{"$f":"IF(ISBLANK(PFS_PFD_SelectionTool!E931&\"_\"&PFS_PFD_SelectionTool!F931&\"_\"&PFS_PFD_SelectionTool!G931&\"_\"&PFS_PFD_SelectionTool!H931&\"_\"&PFS_PFD_SelectionTool!I931&\"_\"&PFS_PFD_SelectionTool!J931),\"\",PFS_PFD_SelectionTool!E931&\"_\"&PFS_PFD_SelectionTool!F931&\"_\"&PFS_PFD_SelectionTool!G931&\"_\"&PFS_PFD_SelectionTool!H931&\"_\"&PFS_PFD_SelectionTool!I931&\"_\"&PFS_PFD_SelectionTool!J931)","v":"_____"},{"$f":"IF(ISBLANK(PFS_PFD_SelectionTool!K931),\"\",PFS_PFD_SelectionTool!K931)","v":""},{"$f":"VLOOKUP(D915,Tabelle1!A:B,2,FALSE)","v":{"$error":"#N/A"}},{"$f":"IF(ISBLANK(PFS_PFD_SelectionTool!N956),\"\",PFS_PFD_SelectionTool!N956)","v":""},{"$f":"IF(ISBLANK(PFS_PFD_SelectionTool!O956),\"\",PFS_PFD_SelectionTool!O956)","v":""}]
[{"$f":"IF(ISBLANK(PFS_PFD_SelectionTool!C932),\"\",PFS_PFD_SelectionTool!C932)","v":""},{"$f":"IF(ISBLANK(PFS_PFD_SelectionTool!D932),\"\",PFS_PFD_SelectionTool!D932)","v":""},{"$f":"IF(ISBLANK(PFS_PFD_SelectionTool!E932&\"_\"&PFS_PFD_SelectionTool!F932&\"_\"&PFS_PFD_SelectionTool!G932&\"_\"&PFS_PFD_SelectionTool!H932&\"_\"&PFS_PFD_SelectionTool!I932&\"_\"&PFS_PFD_SelectionTool!J932),\"\",PFS_PFD_SelectionTool!E932&\"_\"&PFS_PFD_SelectionTool!F932&\"_\"&PFS_PFD_SelectionTool!G932&\"_\"&PFS_PFD_SelectionTool!H932&\"_\"&PFS_PFD_SelectionTool!I932&\"_\"&PFS_PFD_SelectionTool!J932)","v":"_____"},{"$f":"IF(ISBLANK(PFS_PFD_SelectionTool!K932),\"\",PFS_PFD_SelectionTool!K932)","v":""},{"$f":"VLOOKUP(D916,Tabelle1!A:B,2,FALSE)","v":{"$error":"#N/A"}},{"$f":"IF(ISBLANK(PFS_PFD_SelectionTool!N957),\"\",PFS_PFD_SelectionTool!N957)","v":""},{"$f":"IF(ISBLANK(PFS_PFD_SelectionTool!O957),\"\",PFS_PFD_SelectionTool!O957)","v":""}]
[{"$f":"IF(ISBLANK(PFS_PFD_SelectionTool!C933),\"\",PFS_PFD_SelectionTool!C933)","v":""},{"$f":"IF(ISBLANK(PFS_PFD_SelectionTool!D933),\"\",PFS_PFD_SelectionTool!D933)","v":""},{"$f":"IF(ISBLANK(PFS_PFD_SelectionTool!E933&\"_\"&PFS_PFD_SelectionTool!F933&\"_\"&PFS_PFD_SelectionTool!G933&\"_\"&PFS_PFD_SelectionTool!H933&\"_\"&PFS_PFD_SelectionTool!I933&\"_\"&PFS_PFD_SelectionTool!J933),\"\",PFS_PFD_SelectionTool!E933&\"_\"&PFS_PFD_SelectionTool!F933&\"_\"&PFS_PFD_SelectionTool!G933&\"_\"&PFS_PFD_SelectionTool!H933&\"_\"&PFS_PFD_SelectionTool!I933&\"_\"&PFS_PFD_SelectionTool!J933)","v":"_____"},{"$f":"IF(ISBLANK(PFS_PFD_SelectionTool!K933),\"\",PFS_PFD_SelectionTool!K933)","v":""},{"$f":"VLOOKUP(D917,Tabelle1!A:B,2,FALSE)","v":{"$error":"#N/A"}},{"$f":"IF(ISBLANK(PFS_PFD_SelectionTool!N958),\"\",PFS_PFD_SelectionTool!N958)","v":""},{"$f":"IF(ISBLANK(PFS_PFD_SelectionTool!O958),\"\",PFS_PFD_SelectionTool!O958)","v":""}]
[{"$f":"IF(ISBLANK(PFS_PFD_SelectionTool!C934),\"\",PFS_PFD_SelectionTool!C934)","v":""},{"$f":"IF(ISBLANK(PFS_PFD_SelectionTool!D934),\"\",PFS_PFD_SelectionTool!D934)","v":""},{"$f":"IF(ISBLANK(PFS_PFD_SelectionTool!E934&\"_\"&PFS_PFD_SelectionTool!F934&\"_\"&PFS_PFD_SelectionTool!G934&\"_\"&PFS_PFD_SelectionTool!H934&\"_\"&PFS_PFD_SelectionTool!I934&\"_\"&PFS_PFD_SelectionTool!J934),\"\",PFS_PFD_SelectionTool!E934&\"_\"&PFS_PFD_SelectionTool!F934&\"_\"&PFS_PFD_SelectionTool!G934&\"_\"&PFS_PFD_SelectionTool!H934&\"_\"&PFS_PFD_SelectionTool!I934&\"_\"&PFS_PFD_SelectionTool!J934)","v":"_____"},{"$f":"IF(ISBLANK(PFS_PFD_SelectionTool!K934),\"\",PFS_PFD_SelectionTool!K934)","v":""},{"$f":"VLOOKUP(D918,Tabelle1!A:B,2,FALSE)","v":{"$error":"#N/A"}},{"$f":"IF(ISBLANK(PFS_PFD_SelectionTool!N959),\"\",PFS_PFD_SelectionTool!N959)","v":""},{"$f":"IF(ISBLANK(PFS_PFD_SelectionTool!O959),\"\",PFS_PFD_SelectionTool!O959)","v":""}]
[{"$f":"IF(ISBLANK(PFS_PFD_SelectionTool!C935),\"\",PFS_PFD_SelectionTool!C935)","v":""},{"$f":"IF(ISBLANK(PFS_PFD_SelectionTool!D935),\"\",PFS_PFD_SelectionTool!D935)","v":""},{"$f":"IF(ISBLANK(PFS_PFD_SelectionTool!E935&\"_\"&PFS_PFD_SelectionTool!F935&\"_\"&PFS_PFD_SelectionTool!G935&\"_\"&PFS_PFD_SelectionTool!H935&\"_\"&PFS_PFD_SelectionTool!I935&\"_\"&PFS_PFD_SelectionTool!J935),\"\",PFS_PFD_SelectionTool!E935&\"_\"&PFS_PFD_SelectionTool!F935&\"_\"&PFS_PFD_SelectionTool!G935&\"_\"&PFS_PFD_SelectionTool!H935&\"_\"&PFS_PFD_SelectionTool!I935&\"_\"&PFS_PFD_SelectionTool!J935)","v":"_____"},{"$f":"IF(ISBLANK(PFS_PFD_SelectionTool!K935),\"\",PFS_PFD_SelectionTool!K935)","v":""},{"$f":"VLOOKUP(D919,Tabelle1!A:B,2,FALSE)","v":{"$error":"#N/A"}},{"$f":"IF(ISBLANK(PFS_PFD_SelectionTool!N960),\"\",PFS_PFD_SelectionTool!N960)","v":""},{"$f":"IF(ISBLANK(PFS_PFD_SelectionTool!O960),\"\",PFS_PFD_SelectionTool!O960)","v":""}]
[{"$f":"IF(ISBLANK(PFS_PFD_SelectionTool!C936),\"\",PFS_PFD_SelectionTool!C936)","v":""},{"$f":"IF(ISBLANK(PFS_PFD_SelectionTool!D936),\"\",PFS_PFD_SelectionTool!D936)","v":""},{"$f":"IF(ISBLANK(PFS_PFD_SelectionTool!E936&\"_\"&PFS_PFD_SelectionTool!F936&\"_\"&PFS_PFD_SelectionTool!G936&\"_\"&PFS_PFD_SelectionTool!H936&\"_\"&PFS_PFD_SelectionTool!I936&\"_\"&PFS_PFD_SelectionTool!J936),\"\",PFS_PFD_SelectionTool!E936&\"_\"&PFS_PFD_SelectionTool!F936&\"_\"&PFS_PFD_SelectionTool!G936&\"_\"&PFS_PFD_SelectionTool!H936&\"_\"&PFS_PFD_SelectionTool!I936&\"_\"&PFS_PFD_SelectionTool!J936)","v":"_____"},{"$f":"IF(ISBLANK(PFS_PFD_SelectionTool!K936),\"\",PFS_PFD_SelectionTool!K936)","v":""},{"$f":"VLOOKUP(D920,Tabelle1!A:B,2,FALSE)","v":{"$error":"#N/A"}},{"$f":"IF(ISBLANK(PFS_PFD_SelectionTool!N961),\"\",PFS_PFD_SelectionTool!N961)","v":""},{"$f":"IF(ISBLANK(PFS_PFD_SelectionTool!O961),\"\",PFS_PFD_SelectionTool!O961)","v":""}]
[{"$f":"IF(ISBLANK(PFS_PFD_SelectionTool!C937),\"\",PFS_PFD_SelectionTool!C937)","v":""},{"$f":"IF(ISBLANK(PFS_PFD_SelectionTool!D937),\"\",PFS_PFD_SelectionTool!D937)","v":""},{"$f":"IF(ISBLANK(PFS_PFD_SelectionTool!E937&\"_\"&PFS_PFD_SelectionTool!F937&\"_\"&PFS_PFD_SelectionTool!G937&\"_\"&PFS_PFD_SelectionTool!H937&\"_\"&PFS_PFD_SelectionTool!I937&\"_\"&PFS_PFD_SelectionTool!J937),\"\",PFS_PFD_SelectionTool!E937&\"_\"&PFS_PFD_SelectionTool!F937&\"_\"&PFS_PFD_SelectionTool!G937&\"_\"&PFS_PFD_SelectionTool!H937&\"_\"&PFS_PFD_SelectionTool!I937&\"_\"&PFS_PFD_SelectionTool!J937)","v":"_____"},{"$f":"IF(ISBLANK(PFS_PFD_SelectionTool!K937),\"\",PFS_PFD_SelectionTool!K937)","v":""},{"$f":"VLOOKUP(D921,Tabelle1!A:B,2,FALSE)","v":{"$error":"#N/A"}},{"$f":"IF(ISBLANK(PFS_PFD_SelectionTool!N962),\"\",PFS_PFD_SelectionTool!N962)","v":""},{"$f":"IF(ISBLANK(PFS_PFD_SelectionTool!O962),\"\",PFS_PFD_SelectionTool!O962)","v":""}]
[{"$f":"IF(ISBLANK(PFS_PFD_SelectionTool!C938),\"\",PFS_PFD_SelectionTool!C938)","v":""},{"$f":"IF(ISBLANK(PFS_PFD_SelectionTool!D938),\"\",PFS_PFD_SelectionTool!D938)","v":""},{"$f":"IF(ISBLANK(PFS_PFD_SelectionTool!E938&\"_\"&PFS_PFD_SelectionTool!F938&\"_\"&PFS_PFD_SelectionTool!G938&\"_\"&PFS_PFD_SelectionTool!H938&\"_\"&PFS_PFD_SelectionTool!I938&\"_\"&PFS_PFD_SelectionTool!J938),\"\",PFS_PFD_SelectionTool!E938&\"_\"&PFS_PFD_SelectionTool!F938&\"_\"&PFS_PFD_SelectionTool!G938&\"_\"&PFS_PFD_SelectionTool!H938&\"_\"&PFS_PFD_SelectionTool!I938&\"_\"&PFS_PFD_SelectionTool!J938)","v":"_____"},{"$f":"IF(ISBLANK(PFS_PFD_SelectionTool!K938),\"\",PFS_PFD_SelectionTool!K938)","v":""},{"$f":"VLOOKUP(D922,Tabelle1!A:B,2,FALSE)","v":{"$error":"#N/A"}},{"$f":"IF(ISBLANK(PFS_PFD_SelectionTool!N963),\"\",PFS_PFD_SelectionTool!N963)","v":""},{"$f":"IF(ISBLANK(PFS_PFD_SelectionTool!O963),\"\",PFS_PFD_SelectionTool!O963)","v":""}]
[{"$f":"IF(ISBLANK(PFS_PFD_SelectionTool!C939),\"\",PFS_PFD_SelectionTool!C939)","v":""},{"$f":"IF(ISBLANK(PFS_PFD_SelectionTool!D939),\"\",PFS_PFD_SelectionTool!D939)","v":""},{"$f":"IF(ISBLANK(PFS_PFD_SelectionTool!E939&\"_\"&PFS_PFD_SelectionTool!F939&\"_\"&PFS_PFD_SelectionTool!G939&\"_\"&PFS_PFD_SelectionTool!H939&\"_\"&PFS_PFD_SelectionTool!I939&\"_\"&PFS_PFD_SelectionTool!J939),\"\",PFS_PFD_SelectionTool!E939&\"_\"&PFS_PFD_SelectionTool!F939&\"_\"&PFS_PFD_SelectionTool!G939&\"_\"&PFS_PFD_SelectionTool!H939&\"_\"&PFS_PFD_SelectionTool!I939&\"_\"&PFS_PFD_SelectionTool!J939)","v":"_____"},{"$f":"IF(ISBLANK(PFS_PFD_SelectionTool!K939),\"\",PFS_PFD_SelectionTool!K939)","v":""},{"$f":"VLOOKUP(D923,Tabelle1!A:B,2,FALSE)","v":{"$error":"#N/A"}},{"$f":"IF(ISBLANK(PFS_PFD_SelectionTool!N964),\"\",PFS_PFD_SelectionTool!N964)","v":""},{"$f":"IF(ISBLANK(PFS_PFD_SelectionTool!O964),\"\",PFS_PFD_SelectionTool!O964)","v":""}]
[{"$f":"IF(ISBLANK(PFS_PFD_SelectionTool!C940),\"\",PFS_PFD_SelectionTool!C940)","v":""},{"$f":"IF(ISBLANK(PFS_PFD_SelectionTool!D940),\"\",PFS_PFD_SelectionTool!D940)","v":""},{"$f":"IF(ISBLANK(PFS_PFD_SelectionTool!E940&\"_\"&PFS_PFD_SelectionTool!F940&\"_\"&PFS_PFD_SelectionTool!G940&\"_\"&PFS_PFD_SelectionTool!H940&\"_\"&PFS_PFD_SelectionTool!I940&\"_\"&PFS_PFD_SelectionTool!J940),\"\",PFS_PFD_SelectionTool!E940&\"_\"&PFS_PFD_SelectionTool!F940&\"_\"&PFS_PFD_SelectionTool!G940&\"_\"&PFS_PFD_SelectionTool!H940&\"_\"&PFS_PFD_SelectionTool!I940&\"_\"&PFS_PFD_SelectionTool!J940)","v":"_____"},{"$f":"IF(ISBLANK(PFS_PFD_SelectionTool!K940),\"\",PFS_PFD_SelectionTool!K940)","v":""},{"$f":"VLOOKUP(D924,Tabelle1!A:B,2,FALSE)","v":{"$error":"#N/A"}},{"$f":"IF(ISBLANK(PFS_PFD_SelectionTool!N965),\"\",PFS_PFD_SelectionTool!N965)","v":""},{"$f":"IF(ISBLANK(PFS_PFD_SelectionTool!O965),\"\",PFS_PFD_SelectionTool!O965)","v":""}]
[{"$f":"IF(ISBLANK(PFS_PFD_SelectionTool!C941),\"\",PFS_PFD_SelectionTool!C941)","v":""},{"$f":"IF(ISBLANK(PFS_PFD_SelectionTool!D941),\"\",PFS_PFD_SelectionTool!D941)","v":""},{"$f":"IF(ISBLANK(PFS_PFD_SelectionTool!E941&\"_\"&PFS_PFD_SelectionTool!F941&\"_\"&PFS_PFD_SelectionTool!G941&\"_\"&PFS_PFD_SelectionTool!H941&\"_\"&PFS_PFD_SelectionTool!I941&\"_\"&PFS_PFD_SelectionTool!J941),\"\",PFS_PFD_SelectionTool!E941&\"_\"&PFS_PFD_SelectionTool!F941&\"_\"&PFS_PFD_SelectionTool!G941&\"_\"&PFS_PFD_SelectionTool!H941&\"_\"&PFS_PFD_SelectionTool!I941&\"_\"&PFS_PFD_SelectionTool!J941)","v":"_____"},{"$f":"IF(ISBLANK(PFS_PFD_SelectionTool!K941),\"\",PFS_PFD_SelectionTool!K941)","v":""},{"$f":"VLOOKUP(D925,Tabelle1!A:B,2,FALSE)","v":{"$error":"#N/A"}},{"$f":"IF(ISBLANK(PFS_PFD_SelectionTool!N966),\"\",PFS_PFD_SelectionTool!N966)","v":""},{"$f":"IF(ISBLANK(PFS_PFD_SelectionTool!O966),\"\",PFS_PFD_SelectionTool!O966)","v":""}]
[{"$f":"IF(ISBLANK(PFS_PFD_SelectionTool!C942),\"\",PFS_PFD_SelectionTool!C942)","v":""},{"$f":"IF(ISBLANK(PFS_PFD_SelectionTool!D942),\"\",PFS_PFD_SelectionTool!D942)","v":""},{"$f":"IF(ISBLANK(PFS_PFD_SelectionTool!E942&\"_\"&PFS_PFD_SelectionTool!F942&\"_\"&PFS_PFD_SelectionTool!G942&\"_\"&PFS_PFD_SelectionTool!H942&\"_\"&PFS_PFD_SelectionTool!I942&\"_\"&PFS_PFD_SelectionTool!J942),\"\",PFS_PFD_SelectionTool!E942&\"_\"&PFS_PFD_SelectionTool!F942&\"_\"&PFS_PFD_SelectionTool!G942&\"_\"&PFS_PFD_SelectionTool!H942&\"_\"&PFS_PFD_SelectionTool!I942&\"_\"&PFS_PFD_SelectionTool!J942)","v":"_____"},{"$f":"IF(ISBLANK(PFS_PFD_SelectionTool!K942),\"\",PFS_PFD_SelectionTool!K942)","v":""},{"$f":"VLOOKUP(D926,Tabelle1!A:B,2,FALSE)","v":{"$error":"#N/A"}},{"$f":"IF(ISBLANK(PFS_PFD_SelectionTool!N967),\"\",PFS_PFD_SelectionTool!N967)","v":""},{"$f":"IF(ISBLANK(PFS_PFD_SelectionTool!O967),\"\",PFS_PFD_SelectionTool!O967)","v":""}]
[{"$f":"IF(ISBLANK(PFS_PFD_SelectionTool!C943),\"\",PFS_PFD_SelectionTool!C943)","v":""},{"$f":"IF(ISBLANK(PFS_PFD_SelectionTool!D943),\"\",PFS_PFD_SelectionTool!D943)","v":""},{"$f":"IF(ISBLANK(PFS_PFD_SelectionTool!E943&\"_\"&PFS_PFD_SelectionTool!F943&\"_\"&PFS_PFD_SelectionTool!G943&\"_\"&PFS_PFD_SelectionTool!H943&\"_\"&PFS_PFD_SelectionTool!I943&\"_\"&PFS_PFD_SelectionTool!J943),\"\",PFS_PFD_SelectionTool!E943&\"_\"&PFS_PFD_SelectionTool!F943&\"_\"&PFS_PFD_SelectionTool!G943&\"_\"&PFS_PFD_SelectionTool!H943&\"_\"&PFS_PFD_SelectionTool!I943&\"_\"&PFS_PFD_SelectionTool!J943)","v":"_____"},{"$f":"IF(ISBLANK(PFS_PFD_SelectionTool!K943),\"\",PFS_PFD_SelectionTool!K943)","v":""},{"$f":"VLOOKUP(D927,Tabelle1!A:B,2,FALSE)","v":{"$error":"#N/A"}},{"$f":"IF(ISBLANK(PFS_PFD_SelectionTool!N968),\"\",PFS_PFD_SelectionTool!N968)","v":""},{"$f":"IF(ISBLANK(PFS_PFD_SelectionTool!O968),\"\",PFS_PFD_SelectionTool!O968)","v":""}]
[{"$f":"IF(ISBLANK(PFS_PFD_SelectionTool!C944),\"\",PFS_PFD_SelectionTool!C944)","v":""},{"$f":"IF(ISBLANK(PFS_PFD_SelectionTool!D944),\"\",PFS_PFD_SelectionTool!D944)","v":""},{"$f":"IF(ISBLANK(PFS_PFD_SelectionTool!E944&\"_\"&PFS_PFD_SelectionTool!F944&\"_\"&PFS_PFD_SelectionTool!G944&\"_\"&PFS_PFD_SelectionTool!H944&\"_\"&PFS_PFD_SelectionTool!I944&\"_\"&PFS_PFD_SelectionTool!J944),\"\",PFS_PFD_SelectionTool!E944&\"_\"&PFS_PFD_SelectionTool!F944&\"_\"&PFS_PFD_SelectionTool!G944&\"_\"&PFS_PFD_SelectionTool!H944&\"_\"&PFS_PFD_SelectionTool!I944&\"_\"&PFS_PFD_SelectionTool!J944)","v":"_____"},{"$f":"IF(ISBLANK(PFS_PFD_SelectionTool!K944),\"\",PFS_PFD_SelectionTool!K944)","v":""},{"$f":"VLOOKUP(D928,Tabelle1!A:B,2,FALSE)","v":{"$error":"#N/A"}},{"$f":"IF(ISBLANK(PFS_PFD_SelectionTool!N969),\"\",PFS_PFD_SelectionTool!N969)","v":""},{"$f":"IF(ISBLANK(PFS_PFD_SelectionTool!O969),\"\",PFS_PFD_SelectionTool!O969)","v":""}]
[{"$f":"IF(ISBLANK(PFS_PFD_SelectionTool!C945),\"\",PFS_PFD_SelectionTool!C945)","v":""},{"$f":"IF(ISBLANK(PFS_PFD_SelectionTool!D945),\"\",PFS_PFD_SelectionTool!D945)","v":""},{"$f":"IF(ISBLANK(PFS_PFD_SelectionTool!E945&\"_\"&PFS_PFD_SelectionTool!F945&\"_\"&PFS_PFD_SelectionTool!G945&\"_\"&PFS_PFD_SelectionTool!H945&\"_\"&PFS_PFD_SelectionTool!I945&\"_\"&PFS_PFD_SelectionTool!J945),\"\",PFS_PFD_SelectionTool!E945&\"_\"&PFS_PFD_SelectionTool!F945&\"_\"&PFS_PFD_SelectionTool!G945&\"_\"&PFS_PFD_SelectionTool!H945&\"_\"&PFS_PFD_SelectionTool!I945&\"_\"&PFS_PFD_SelectionTool!J945)","v":"_____"},{"$f":"IF(ISBLANK(PFS_PFD_SelectionTool!K945),\"\",PFS_PFD_SelectionTool!K945)","v":""},{"$f":"VLOOKUP(D929,Tabelle1!A:B,2,FALSE)","v":{"$error":"#N/A"}},{"$f":"IF(ISBLANK(PFS_PFD_SelectionTool!N970),\"\",PFS_PFD_SelectionTool!N970)","v":""},{"$f":"IF(ISBLANK(PFS_PFD_SelectionTool!O970),\"\",PFS_PFD_SelectionTool!O970)","v":""}]
[{"$f":"IF(ISBLANK(PFS_PFD_SelectionTool!C946),\"\",PFS_PFD_SelectionTool!C946)","v":""},{"$f":"IF(ISBLANK(PFS_PFD_SelectionTool!D946),\"\",PFS_PFD_SelectionTool!D946)","v":""},{"$f":"IF(ISBLANK(PFS_PFD_SelectionTool!E946&\"_\"&PFS_PFD_SelectionTool!F946&\"_\"&PFS_PFD_SelectionTool!G946&\"_\"&PFS_PFD_SelectionTool!H946&\"_\"&PFS_PFD_SelectionTool!I946&\"_\"&PFS_PFD_SelectionTool!J946),\"\",PFS_PFD_SelectionTool!E946&\"_\"&PFS_PFD_SelectionTool!F946&\"_\"&PFS_PFD_SelectionTool!G946&\"_\"&PFS_PFD_SelectionTool!H946&\"_\"&PFS_PFD_SelectionTool!I946&\"_\"&PFS_PFD_SelectionTool!J946)","v":"_____"},{"$f":"IF(ISBLANK(PFS_PFD_SelectionTool!K946),\"\",PFS_PFD_SelectionTool!K946)","v":""},{"$f":"VLOOKUP(D930,Tabelle1!A:B,2,FALSE)","v":{"$error":"#N/A"}},{"$f":"IF(ISBLANK(PFS_PFD_SelectionTool!N971),\"\",PFS_PFD_SelectionTool!N971)","v":""},{"$f":"IF(ISBLANK(PFS_PFD_SelectionTool!O971),\"\",PFS_PFD_SelectionTool!O971)","v":""}]
[{"$f":"IF(ISBLANK(PFS_PFD_SelectionTool!C947),\"\",PFS_PFD_SelectionTool!C947)","v":""},{"$f":"IF(ISBLANK(PFS_PFD_SelectionTool!D947),\"\",PFS_PFD_SelectionTool!D947)","v":""},{"$f":"IF(ISBLANK(PFS_PFD_SelectionTool!E947&\"_\"&PFS_PFD_SelectionTool!F947&\"_\"&PFS_PFD_SelectionTool!G947&\"_\"&PFS_PFD_SelectionTool!H947&\"_\"&PFS_PFD_SelectionTool!I947&\"_\"&PFS_PFD_SelectionTool!J947),\"\",PFS_PFD_SelectionTool!E947&\"_\"&PFS_PFD_SelectionTool!F947&\"_\"&PFS_PFD_SelectionTool!G947&\"_\"&PFS_PFD_SelectionTool!H947&\"_\"&PFS_PFD_SelectionTool!I947&\"_\"&PFS_PFD_SelectionTool!J947)","v":"_____"},{"$f":"IF(ISBLANK(PFS_PFD_SelectionTool!K947),\"\",PFS_PFD_SelectionTool!K947)","v":""},{"$f":"VLOOKUP(D931,Tabelle1!A:B,2,FALSE)","v":{"$error":"#N/A"}},{"$f":"IF(ISBLANK(PFS_PFD_SelectionTool!N972),\"\",PFS_PFD_SelectionTool!N972)","v":""},{"$f":"IF(ISBLANK(PFS_PFD_SelectionTool!O972),\"\",PFS_PFD_SelectionTool!O972)","v":""}]
[{"$f":"IF(ISBLANK(PFS_PFD_SelectionTool!C948),\"\",PFS_PFD_SelectionTool!C948)","v":""},{"$f":"IF(ISBLANK(PFS_PFD_SelectionTool!D948),\"\",PFS_PFD_SelectionTool!D948)","v":""},{"$f":"IF(ISBLANK(PFS_PFD_SelectionTool!E948&\"_\"&PFS_PFD_SelectionTool!F948&\"_\"&PFS_PFD_SelectionTool!G948&\"_\"&PFS_PFD_SelectionTool!H948&\"_\"&PFS_PFD_SelectionTool!I948&\"_\"&PFS_PFD_SelectionTool!J948),\"\",PFS_PFD_SelectionTool!E948&\"_\"&PFS_PFD_SelectionTool!F948&\"_\"&PFS_PFD_SelectionTool!G948&\"_\"&PFS_PFD_SelectionTool!H948&\"_\"&PFS_PFD_SelectionTool!I948&\"_\"&PFS_PFD_SelectionTool!J948)","v":"_____"},{"$f":"IF(ISBLANK(PFS_PFD_SelectionTool!K948),\"\",PFS_PFD_SelectionTool!K948)","v":""},{"$f":"VLOOKUP(D932,Tabelle1!A:B,2,FALSE)","v":{"$error":"#N/A"}},{"$f":"IF(ISBLANK(PFS_PFD_SelectionTool!N973),\"\",PFS_PFD_SelectionTool!N973)","v":""},{"$f":"IF(ISBLANK(PFS_PFD_SelectionTool!O973),\"\",PFS_PFD_SelectionTool!O973)","v":""}]
[{"$f":"IF(ISBLANK(PFS_PFD_SelectionTool!C949),\"\",PFS_PFD_SelectionTool!C949)","v":""},{"$f":"IF(ISBLANK(PFS_PFD_SelectionTool!D949),\"\",PFS_PFD_SelectionTool!D949)","v":""},{"$f":"IF(ISBLANK(PFS_PFD_SelectionTool!E949&\"_\"&PFS_PFD_SelectionTool!F949&\"_\"&PFS_PFD_SelectionTool!G949&\"_\"&PFS_PFD_SelectionTool!H949&\"_\"&PFS_PFD_SelectionTool!I949&\"_\"&PFS_PFD_SelectionTool!J949),\"\",PFS_PFD_SelectionTool!E949&\"_\"&PFS_PFD_SelectionTool!F949&\"_\"&PFS_PFD_SelectionTool!G949&\"_\"&PFS_PFD_SelectionTool!H949&\"_\"&PFS_PFD_SelectionTool!I949&\"_\"&PFS_PFD_SelectionTool!J949)","v":"_____"},{"$f":"IF(ISBLANK(PFS_PFD_SelectionTool!K949),\"\",PFS_PFD_SelectionTool!K949)","v":""},{"$f":"VLOOKUP(D933,Tabelle1!A:B,2,FALSE)","v":{"$error":"#N/A"}},{"$f":"IF(ISBLANK(PFS_PFD_SelectionTool!N974),\"\",PFS_PFD_SelectionTool!N974)","v":""},{"$f":"IF(ISBLANK(PFS_PFD_SelectionTool!O974),\"\",PFS_PFD_SelectionTool!O974)","v":""}]
[{"$f":"IF(ISBLANK(PFS_PFD_SelectionTool!C950),\"\",PFS_PFD_SelectionTool!C950)","v":""},{"$f":"IF(ISBLANK(PFS_PFD_SelectionTool!D950),\"\",PFS_PFD_SelectionTool!D950)","v":""},{"$f":"IF(ISBLANK(PFS_PFD_SelectionTool!E950&\"_\"&PFS_PFD_SelectionTool!F950&\"_\"&PFS_PFD_SelectionTool!G950&\"_\"&PFS_PFD_SelectionTool!H950&\"_\"&PFS_PFD_SelectionTool!I950&\"_\"&PFS_PFD_SelectionTool!J950),\"\",PFS_PFD_SelectionTool!E950&\"_\"&PFS_PFD_SelectionTool!F950&\"_\"&PFS_PFD_SelectionTool!G950&\"_\"&PFS_PFD_SelectionTool!H950&\"_\"&PFS_PFD_SelectionTool!I950&\"_\"&PFS_PFD_SelectionTool!J950)","v":"_____"},{"$f":"IF(ISBLANK(PFS_PFD_SelectionTool!K950),\"\",PFS_PFD_SelectionTool!K950)","v":""},{"$f":"VLOOKUP(D934,Tabelle1!A:B,2,FALSE)","v":{"$error":"#N/A"}},{"$f":"IF(ISBLANK(PFS_PFD_SelectionTool!N975),\"\",PFS_PFD_SelectionTool!N975)","v":""},{"$f":"IF(ISBLANK(PFS_PFD_SelectionTool!O975),\"\",PFS_PFD_SelectionTool!O975)","v":""}]
[{"$f":"IF(ISBLANK(PFS_PFD_SelectionTool!C951),\"\",PFS_PFD_SelectionTool!C951)","v":""},{"$f":"IF(ISBLANK(PFS_PFD_SelectionTool!D951),\"\",PFS_PFD_SelectionTool!D951)","v":""},{"$f":"IF(ISBLANK(PFS_PFD_SelectionTool!E951&\"_\"&PFS_PFD_SelectionTool!F951&\"_\"&PFS_PFD_SelectionTool!G951&\"_\"&PFS_PFD_SelectionTool!H951&\"_\"&PFS_PFD_SelectionTool!I951&\"_\"&PFS_PFD_SelectionTool!J951),\"\",PFS_PFD_SelectionTool!E951&\"_\"&PFS_PFD_SelectionTool!F951&\"_\"&PFS_PFD_SelectionTool!G951&\"_\"&PFS_PFD_SelectionTool!H951&\"_\"&PFS_PFD_SelectionTool!I951&\"_\"&PFS_PFD_SelectionTool!J951)","v":"_____"},{"$f":"IF(ISBLANK(PFS_PFD_SelectionTool!K951),\"\",PFS_PFD_SelectionTool!K951)","v":""},{"$f":"VLOOKUP(D935,Tabelle1!A:B,2,FALSE)","v":{"$error":"#N/A"}},{"$f":"IF(ISBLANK(PFS_PFD_SelectionTool!N976),\"\",PFS_PFD_SelectionTool!N976)","v":""},{"$f":"IF(ISBLANK(PFS_PFD_SelectionTool!O976),\"\",PFS_PFD_SelectionTool!O976)","v":""}]
[{"$f":"IF(ISBLANK(PFS_PFD_SelectionTool!C952),\"\",PFS_PFD_SelectionTool!C952)","v":""},{"$f":"IF(ISBLANK(PFS_PFD_SelectionTool!D952),\"\",PFS_PFD_SelectionTool!D952)","v":""},{"$f":"IF(ISBLANK(PFS_PFD_SelectionTool!E952&\"_\"&PFS_PFD_SelectionTool!F952&\"_\"&PFS_PFD_SelectionTool!G952&\"_\"&PFS_PFD_SelectionTool!H952&\"_\"&PFS_PFD_SelectionTool!I952&\"_\"&PFS_PFD_SelectionTool!J952),\"\",PFS_PFD_SelectionTool!E952&\"_\"&PFS_PFD_SelectionTool!F952&\"_\"&PFS_PFD_SelectionTool!G952&\"_\"&PFS_PFD_SelectionTool!H952&\"_\"&PFS_PFD_SelectionTool!I952&\"_\"&PFS_PFD_SelectionTool!J952)","v":"_____"},{"$f":"IF(ISBLANK(PFS_PFD_SelectionTool!K952),\"\",PFS_PFD_SelectionTool!K952)","v":""},{"$f":"VLOOKUP(D936,Tabelle1!A:B,2,FALSE)","v":{"$error":"#N/A"}},{"$f":"IF(ISBLANK(PFS_PFD_SelectionTool!N977),\"\",PFS_PFD_SelectionTool!N977)","v":""},{"$f":"IF(ISBLANK(PFS_PFD_SelectionTool!O977),\"\",PFS_PFD_SelectionTool!O977)","v":""}]
[{"$f":"IF(ISBLANK(PFS_PFD_SelectionTool!C953),\"\",PFS_PFD_SelectionTool!C953)","v":""},{"$f":"IF(ISBLANK(PFS_PFD_SelectionTool!D953),\"\",PFS_PFD_SelectionTool!D953)","v":""},{"$f":"IF(ISBLANK(PFS_PFD_SelectionTool!E953&\"_\"&PFS_PFD_SelectionTool!F953&\"_\"&PFS_PFD_SelectionTool!G953&\"_\"&PFS_PFD_SelectionTool!H953&\"_\"&PFS_PFD_SelectionTool!I953&\"_\"&PFS_PFD_SelectionTool!J953),\"\",PFS_PFD_SelectionTool!E953&\"_\"&PFS_PFD_SelectionTool!F953&\"_\"&PFS_PFD_SelectionTool!G953&\"_\"&PFS_PFD_SelectionTool!H953&\"_\"&PFS_PFD_SelectionTool!I953&\"_\"&PFS_PFD_SelectionTool!J953)","v":"_____"},{"$f":"IF(ISBLANK(PFS_PFD_SelectionTool!K953),\"\",PFS_PFD_SelectionTool!K953)","v":""},{"$f":"VLOOKUP(D937,Tabelle1!A:B,2,FALSE)","v":{"$error":"#N/A"}},{"$f":"IF(ISBLANK(PFS_PFD_SelectionTool!N978),\"\",PFS_PFD_SelectionTool!N978)","v":""},{"$f":"IF(ISBLANK(PFS_PFD_SelectionTool!O978),\"\",PFS_PFD_SelectionTool!O978)","v":""}]
[{"$f":"IF(ISBLANK(PFS_PFD_SelectionTool!C954),\"\",PFS_PFD_SelectionTool!C954)","v":""},{"$f":"IF(ISBLANK(PFS_PFD_SelectionTool!D954),\"\",PFS_PFD_SelectionTool!D954)","v":""},{"$f":"IF(ISBLANK(PFS_PFD_SelectionTool!E954&\"_\"&PFS_PFD_SelectionTool!F954&\"_\"&PFS_PFD_SelectionTool!G954&\"_\"&PFS_PFD_SelectionTool!H954&\"_\"&PFS_PFD_SelectionTool!I954&\"_\"&PFS_PFD_SelectionTool!J954),\"\",PFS_PFD_SelectionTool!E954&\"_\"&PFS_PFD_SelectionTool!F954&\"_\"&PFS_PFD_SelectionTool!G954&\"_\"&PFS_PFD_SelectionTool!H954&\"_\"&PFS_PFD_SelectionTool!I954&\"_\"&PFS_PFD_SelectionTool!J954)","v":"_____"},{"$f":"IF(ISBLANK(PFS_PFD_SelectionTool!K954),\"\",PFS_PFD_SelectionTool!K954)","v":""},{"$f":"VLOOKUP(D938,Tabelle1!A:B,2,FALSE)","v":{"$error":"#N/A"}},{"$f":"IF(ISBLANK(PFS_PFD_SelectionTool!N979),\"\",PFS_PFD_SelectionTool!N979)","v":""},{"$f":"IF(ISBLANK(PFS_PFD_SelectionTool!O979),\"\",PFS_PFD_SelectionTool!O979)","v":""}]
[{"$f":"IF(ISBLANK(PFS_PFD_SelectionTool!C955),\"\",PFS_PFD_SelectionTool!C955)","v":""},{"$f":"IF(ISBLANK(PFS_PFD_SelectionTool!D955),\"\",PFS_PFD_SelectionTool!D955)","v":""},{"$f":"IF(ISBLANK(PFS_PFD_SelectionTool!E955&\"_\"&PFS_PFD_SelectionTool!F955&\"_\"&PFS_PFD_SelectionTool!G955&\"_\"&PFS_PFD_SelectionTool!H955&\"_\"&PFS_PFD_SelectionTool!I955&\"_\"&PFS_PFD_SelectionTool!J955),\"\",PFS_PFD_SelectionTool!E955&\"_\"&PFS_PFD_SelectionTool!F955&\"_\"&PFS_PFD_SelectionTool!G955&\"_\"&PFS_PFD_SelectionTool!H955&\"_\"&PFS_PFD_SelectionTool!I955&\"_\"&PFS_PFD_SelectionTool!J955)","v":"_____"},{"$f":"IF(ISBLANK(PFS_PFD_SelectionTool!K955),\"\",PFS_PFD_SelectionTool!K955)","v":""},{"$f":"VLOOKUP(D939,Tabelle1!A:B,2,FALSE)","v":{"$error":"#N/A"}},{"$f":"IF(ISBLANK(PFS_PFD_SelectionTool!N980),\"\",PFS_PFD_SelectionTool!N980)","v":""},{"$f":"IF(ISBLANK(PFS_PFD_SelectionTool!O980),\"\",PFS_PFD_SelectionTool!O980)","v":""}]
[{"$f":"IF(ISBLANK(PFS_PFD_SelectionTool!C956),\"\",PFS_PFD_SelectionTool!C956)","v":""},{"$f":"IF(ISBLANK(PFS_PFD_SelectionTool!D956),\"\",PFS_PFD_SelectionTool!D956)","v":""},{"$f":"IF(ISBLANK(PFS_PFD_SelectionTool!E956&\"_\"&PFS_PFD_SelectionTool!F956&\"_\"&PFS_PFD_SelectionTool!G956&\"_\"&PFS_PFD_SelectionTool!H956&\"_\"&PFS_PFD_SelectionTool!I956&\"_\"&PFS_PFD_SelectionTool!J956),\"\",PFS_PFD_SelectionTool!E956&\"_\"&PFS_PFD_SelectionTool!F956&\"_\"&PFS_PFD_SelectionTool!G956&\"_\"&PFS_PFD_SelectionTool!H956&\"_\"&PFS_PFD_SelectionTool!I956&\"_\"&PFS_PFD_SelectionTool!J956)","v":"_____"},{"$f":"IF(ISBLANK(PFS_PFD_SelectionTool!K956),\"\",PFS_PFD_SelectionTool!K956)","v":""},{"$f":"VLOOKUP(D940,Tabelle1!A:B,2,FALSE)","v":{"$error":"#N/A"}},{"$f":"IF(ISBLANK(PFS_PFD_SelectionTool!N981),\"\",PFS_PFD_SelectionTool!N981)","v":""},{"$f":"IF(ISBLANK(PFS_PFD_SelectionTool!O981),\"\",PFS_PFD_SelectionTool!O981)","v":""}]
[{"$f":"IF(ISBLANK(PFS_PFD_SelectionTool!C957),\"\",PFS_PFD_SelectionTool!C957)","v":""},{"$f":"IF(ISBLANK(PFS_PFD_SelectionTool!D957),\"\",PFS_PFD_SelectionTool!D957)","v":""},{"$f":"IF(ISBLANK(PFS_PFD_SelectionTool!E957&\"_\"&PFS_PFD_SelectionTool!F957&\"_\"&PFS_PFD_SelectionTool!G957&\"_\"&PFS_PFD_SelectionTool!H957&\"_\"&PFS_PFD_SelectionTool!I957&\"_\"&PFS_PFD_SelectionTool!J957),\"\",PFS_PFD_SelectionTool!E957&\"_\"&PFS_PFD_SelectionTool!F957&\"_\"&PFS_PFD_SelectionTool!G957&\"_\"&PFS_PFD_SelectionTool!H957&\"_\"&PFS_PFD_SelectionTool!I957&\"_\"&PFS_PFD_SelectionTool!J957)","v":"_____"},{"$f":"IF(ISBLANK(PFS_PFD_SelectionTool!K957),\"\",PFS_PFD_SelectionTool!K957)","v":""},{"$f":"VLOOKUP(D941,Tabelle1!A:B,2,FALSE)","v":{"$error":"#N/A"}},{"$f":"IF(ISBLANK(PFS_PFD_SelectionTool!N982),\"\",PFS_PFD_SelectionTool!N982)","v":""},{"$f":"IF(ISBLANK(PFS_PFD_SelectionTool!O982),\"\",PFS_PFD_SelectionTool!O982)","v":""}]
[{"$f":"IF(ISBLANK(PFS_PFD_SelectionTool!C958),\"\",PFS_PFD_SelectionTool!C958)","v":""},{"$f":"IF(ISBLANK(PFS_PFD_SelectionTool!D958),\"\",PFS_PFD_SelectionTool!D958)","v":""},{"$f":"IF(ISBLANK(PFS_PFD_SelectionTool!E958&\"_\"&PFS_PFD_SelectionTool!F958&\"_\"&PFS_PFD_SelectionTool!G958&\"_\"&PFS_PFD_SelectionTool!H958&\"_\"&PFS_PFD_SelectionTool!I958&\"_\"&PFS_PFD_SelectionTool!J958),\"\",PFS_PFD_SelectionTool!E958&\"_\"&PFS_PFD_SelectionTool!F958&\"_\"&PFS_PFD_SelectionTool!G958&\"_\"&PFS_PFD_SelectionTool!H958&\"_\"&PFS_PFD_SelectionTool!I958&\"_\"&PFS_PFD_SelectionTool!J958)","v":"_____"},{"$f":"IF(ISBLANK(PFS_PFD_SelectionTool!K958),\"\",PFS_PFD_SelectionTool!K958)","v":""},{"$f":"VLOOKUP(D942,Tabelle1!A:B,2,FALSE)","v":{"$error":"#N/A"}},{"$f":"IF(ISBLANK(PFS_PFD_SelectionTool!N983),\"\",PFS_PFD_SelectionTool!N983)","v":""},{"$f":"IF(ISBLANK(PFS_PFD_SelectionTool!O983),\"\",PFS_PFD_SelectionTool!O983)","v":""}]
[{"$f":"IF(ISBLANK(PFS_PFD_SelectionTool!C959),\"\",PFS_PFD_SelectionTool!C959)","v":""},{"$f":"IF(ISBLANK(PFS_PFD_SelectionTool!D959),\"\",PFS_PFD_SelectionTool!D959)","v":""},{"$f":"IF(ISBLANK(PFS_PFD_SelectionTool!E959&\"_\"&PFS_PFD_SelectionTool!F959&\"_\"&PFS_PFD_SelectionTool!G959&\"_\"&PFS_PFD_SelectionTool!H959&\"_\"&PFS_PFD_SelectionTool!I959&\"_\"&PFS_PFD_SelectionTool!J959),\"\",PFS_PFD_SelectionTool!E959&\"_\"&PFS_PFD_SelectionTool!F959&\"_\"&PFS_PFD_SelectionTool!G959&\"_\"&PFS_PFD_SelectionTool!H959&\"_\"&PFS_PFD_SelectionTool!I959&\"_\"&PFS_PFD_SelectionTool!J959)","v":"_____"},{"$f":"IF(ISBLANK(PFS_PFD_SelectionTool!K959),\"\",PFS_PFD_SelectionTool!K959)","v":""},{"$f":"VLOOKUP(D943,Tabelle1!A:B,2,FALSE)","v":{"$error":"#N/A"}},{"$f":"IF(ISBLANK(PFS_PFD_SelectionTool!N984),\"\",PFS_PFD_SelectionTool!N984)","v":""},{"$f":"IF(ISBLANK(PFS_PFD_SelectionTool!O984),\"\",PFS_PFD_SelectionTool!O984)","v":""}]
[{"$f":"IF(ISBLANK(PFS_PFD_SelectionTool!C960),\"\",PFS_PFD_SelectionTool!C960)","v":""},{"$f":"IF(ISBLANK(PFS_PFD_SelectionTool!D960),\"\",PFS_PFD_SelectionTool!D960)","v":""},{"$f":"IF(ISBLANK(PFS_PFD_SelectionTool!E960&\"_\"&PFS_PFD_SelectionTool!F960&\"_\"&PFS_PFD_SelectionTool!G960&\"_\"&PFS_PFD_SelectionTool!H960&\"_\"&PFS_PFD_SelectionTool!I960&\"_\"&PFS_PFD_SelectionTool!J960),\"\",PFS_PFD_SelectionTool!E960&\"_\"&PFS_PFD_SelectionTool!F960&\"_\"&PFS_PFD_SelectionTool!G960&\"_\"&PFS_PFD_SelectionTool!H960&\"_\"&PFS_PFD_SelectionTool!I960&\"_\"&PFS_PFD_SelectionTool!J960)","v":"_____"},{"$f":"IF(ISBLANK(PFS_PFD_SelectionTool!K960),\"\",PFS_PFD_SelectionTool!K960)","v":""},{"$f":"VLOOKUP(D944,Tabelle1!A:B,2,FALSE)","v":{"$error":"#N/A"}},{"$f":"IF(ISBLANK(PFS_PFD_SelectionTool!N985),\"\",PFS_PFD_SelectionTool!N985)","v":""},{"$f":"IF(ISBLANK(PFS_PFD_SelectionTool!O985),\"\",PFS_PFD_SelectionTool!O985)","v":""}]
[{"$f":"IF(ISBLANK(PFS_PFD_SelectionTool!C961),\"\",PFS_PFD_SelectionTool!C961)","v":""},{"$f":"IF(ISBLANK(PFS_PFD_SelectionTool!D961),\"\",PFS_PFD_SelectionTool!D961)","v":""},{"$f":"IF(ISBLANK(PFS_PFD_SelectionTool!E961&\"_\"&PFS_PFD_SelectionTool!F961&\"_\"&PFS_PFD_SelectionTool!G961&\"_\"&PFS_PFD_SelectionTool!H961&\"_\"&PFS_PFD_SelectionTool!I961&\"_\"&PFS_PFD_SelectionTool!J961),\"\",PFS_PFD_SelectionTool!E961&\"_\"&PFS_PFD_SelectionTool!F961&\"_\"&PFS_PFD_SelectionTool!G961&\"_\"&PFS_PFD_SelectionTool!H961&\"_\"&PFS_PFD_SelectionTool!I961&\"_\"&PFS_PFD_SelectionTool!J961)","v":"_____"},{"$f":"IF(ISBLANK(PFS_PFD_SelectionTool!K961),\"\",PFS_PFD_SelectionTool!K961)","v":""},{"$f":"VLOOKUP(D945,Tabelle1!A:B,2,FALSE)","v":{"$error":"#N/A"}},{"$f":"IF(ISBLANK(PFS_PFD_SelectionTool!N986),\"\",PFS_PFD_SelectionTool!N986)","v":""},{"$f":"IF(ISBLANK(PFS_PFD_SelectionTool!O986),\"\",PFS_PFD_SelectionTool!O986)","v":""}]
[{"$f":"IF(ISBLANK(PFS_PFD_SelectionTool!C962),\"\",PFS_PFD_SelectionTool!C962)","v":""},{"$f":"IF(ISBLANK(PFS_PFD_SelectionTool!D962),\"\",PFS_PFD_SelectionTool!D962)","v":""},{"$f":"IF(ISBLANK(PFS_PFD_SelectionTool!E962&\"_\"&PFS_PFD_SelectionTool!F962&\"_\"&PFS_PFD_SelectionTool!G962&\"_\"&PFS_PFD_SelectionTool!H962&\"_\"&PFS_PFD_SelectionTool!I962&\"_\"&PFS_PFD_SelectionTool!J962),\"\",PFS_PFD_SelectionTool!E962&\"_\"&PFS_PFD_SelectionTool!F962&\"_\"&PFS_PFD_SelectionTool!G962&\"_\"&PFS_PFD_SelectionTool!H962&\"_\"&PFS_PFD_SelectionTool!I962&\"_\"&PFS_PFD_SelectionTool!J962)","v":"_____"},{"$f":"IF(ISBLANK(PFS_PFD_SelectionTool!K962),\"\",PFS_PFD_SelectionTool!K962)","v":""},{"$f":"VLOOKUP(D946,Tabelle1!A:B,2,FALSE)","v":{"$error":"#N/A"}},{"$f":"IF(ISBLANK(PFS_PFD_SelectionTool!N987),\"\",PFS_PFD_SelectionTool!N987)","v":""},{"$f":"IF(ISBLANK(PFS_PFD_SelectionTool!O987),\"\",PFS_PFD_SelectionTool!O987)","v":""}]
[{"$f":"IF(ISBLANK(PFS_PFD_SelectionTool!C963),\"\",PFS_PFD_SelectionTool!C963)","v":""},{"$f":"IF(ISBLANK(PFS_PFD_SelectionTool!D963),\"\",PFS_PFD_SelectionTool!D963)","v":""},{"$f":"IF(ISBLANK(PFS_PFD_SelectionTool!E963&\"_\"&PFS_PFD_SelectionTool!F963&\"_\"&PFS_PFD_SelectionTool!G963&\"_\"&PFS_PFD_SelectionTool!H963&\"_\"&PFS_PFD_SelectionTool!I963&\"_\"&PFS_PFD_SelectionTool!J963),\"\",PFS_PFD_SelectionTool!E963&\"_\"&PFS_PFD_SelectionTool!F963&\"_\"&PFS_PFD_SelectionTool!G963&\"_\"&PFS_PFD_SelectionTool!H963&\"_\"&PFS_PFD_SelectionTool!I963&\"_\"&PFS_PFD_SelectionTool!J963)","v":"_____"},{"$f":"IF(ISBLANK(PFS_PFD_SelectionTool!K963),\"\",PFS_PFD_SelectionTool!K963)","v":""},{"$f":"VLOOKUP(D947,Tabelle1!A:B,2,FALSE)","v":{"$error":"#N/A"}},{"$f":"IF(ISBLANK(PFS_PFD_SelectionTool!N988),\"\",PFS_PFD_SelectionTool!N988)","v":""},{"$f":"IF(ISBLANK(PFS_PFD_SelectionTool!O988),\"\",PFS_PFD_SelectionTool!O988)","v":""}]
[{"$f":"IF(ISBLANK(PFS_PFD_SelectionTool!C964),\"\",PFS_PFD_SelectionTool!C964)","v":""},{"$f":"IF(ISBLANK(PFS_PFD_SelectionTool!D964),\"\",PFS_PFD_SelectionTool!D964)","v":""},{"$f":"IF(ISBLANK(PFS_PFD_SelectionTool!E964&\"_\"&PFS_PFD_SelectionTool!F964&\"_\"&PFS_PFD_SelectionTool!G964&\"_\"&PFS_PFD_SelectionTool!H964&\"_\"&PFS_PFD_SelectionTool!I964&\"_\"&PFS_PFD_SelectionTool!J964),\"\",PFS_PFD_SelectionTool!E964&\"_\"&PFS_PFD_SelectionTool!F964&\"_\"&PFS_PFD_SelectionTool!G964&\"_\"&PFS_PFD_SelectionTool!H964&\"_\"&PFS_PFD_SelectionTool!I964&\"_\"&PFS_PFD_SelectionTool!J964)","v":"_____"},{"$f":"IF(ISBLANK(PFS_PFD_SelectionTool!K964),\"\",PFS_PFD_SelectionTool!K964)","v":""},{"$f":"VLOOKUP(D948,Tabelle1!A:B,2,FALSE)","v":{"$error":"#N/A"}},{"$f":"IF(ISBLANK(PFS_PFD_SelectionTool!N989),\"\",PFS_PFD_SelectionTool!N989)","v":""},{"$f":"IF(ISBLANK(PFS_PFD_SelectionTool!O989),\"\",PFS_PFD_SelectionTool!O989)","v":""}]
[{"$f":"IF(ISBLANK(PFS_PFD_SelectionTool!C965),\"\",PFS_PFD_SelectionTool!C965)","v":""},{"$f":"IF(ISBLANK(PFS_PFD_SelectionTool!D965),\"\",PFS_PFD_SelectionTool!D965)","v":""},{"$f":"IF(ISBLANK(PFS_PFD_SelectionTool!E965&\"_\"&PFS_PFD_SelectionTool!F965&\"_\"&PFS_PFD_SelectionTool!G965&\"_\"&PFS_PFD_SelectionTool!H965&\"_\"&PFS_PFD_SelectionTool!I965&\"_\"&PFS_PFD_SelectionTool!J965),\"\",PFS_PFD_SelectionTool!E965&\"_\"&PFS_PFD_SelectionTool!F965&\"_\"&PFS_PFD_SelectionTool!G965&\"_\"&PFS_PFD_SelectionTool!H965&\"_\"&PFS_PFD_SelectionTool!I965&\"_\"&PFS_PFD_SelectionTool!J965)","v":"_____"},{"$f":"IF(ISBLANK(PFS_PFD_SelectionTool!K965),\"\",PFS_PFD_SelectionTool!K965)","v":""},{"$f":"VLOOKUP(D949,Tabelle1!A:B,2,FALSE)","v":{"$error":"#N/A"}},{"$f":"IF(ISBLANK(PFS_PFD_SelectionTool!N990),\"\",PFS_PFD_SelectionTool!N990)","v":""},{"$f":"IF(ISBLANK(PFS_PFD_SelectionTool!O990),\"\",PFS_PFD_SelectionTool!O990)","v":""}]
[{"$f":"IF(ISBLANK(PFS_PFD_SelectionTool!C966),\"\",PFS_PFD_SelectionTool!C966)","v":""},{"$f":"IF(ISBLANK(PFS_PFD_SelectionTool!D966),\"\",PFS_PFD_SelectionTool!D966)","v":""},{"$f":"IF(ISBLANK(PFS_PFD_SelectionTool!E966&\"_\"&PFS_PFD_SelectionTool!F966&\"_\"&PFS_PFD_SelectionTool!G966&\"_\"&PFS_PFD_SelectionTool!H966&\"_\"&PFS_PFD_SelectionTool!I966&\"_\"&PFS_PFD_SelectionTool!J966),\"\",PFS_PFD_SelectionTool!E966&\"_\"&PFS_PFD_SelectionTool!F966&\"_\"&PFS_PFD_SelectionTool!G966&\"_\"&PFS_PFD_SelectionTool!H966&\"_\"&PFS_PFD_SelectionTool!I966&\"_\"&PFS_PFD_SelectionTool!J966)","v":"_____"},{"$f":"IF(ISBLANK(PFS_PFD_SelectionTool!K966),\"\",PFS_PFD_SelectionTool!K966)","v":""},{"$f":"VLOOKUP(D950,Tabelle1!A:B,2,FALSE)","v":{"$error":"#N/A"}},{"$f":"IF(ISBLANK(PFS_PFD_SelectionTool!N991),\"\",PFS_PFD_SelectionTool!N991)","v":""},{"$f":"IF(ISBLANK(PFS_PFD_SelectionTool!O991),\"\",PFS_PFD_SelectionTool!O991)","v":""}]
[{"$f":"IF(ISBLANK(PFS_PFD_SelectionTool!C967),\"\",PFS_PFD_SelectionTool!C967)","v":""},{"$f":"IF(ISBLANK(PFS_PFD_SelectionTool!D967),\"\",PFS_PFD_SelectionTool!D967)","v":""},{"$f":"IF(ISBLANK(PFS_PFD_SelectionTool!E967&\"_\"&PFS_PFD_SelectionTool!F967&\"_\"&PFS_PFD_SelectionTool!G967&\"_\"&PFS_PFD_SelectionTool!H967&\"_\"&PFS_PFD_SelectionTool!I967&\"_\"&PFS_PFD_SelectionTool!J967),\"\",PFS_PFD_SelectionTool!E967&\"_\"&PFS_PFD_SelectionTool!F967&\"_\"&PFS_PFD_SelectionTool!G967&\"_\"&PFS_PFD_SelectionTool!H967&\"_\"&PFS_PFD_SelectionTool!I967&\"_\"&PFS_PFD_SelectionTool!J967)","v":"_____"},{"$f":"IF(ISBLANK(PFS_PFD_SelectionTool!K967),\"\",PFS_PFD_SelectionTool!K967)","v":""},{"$f":"VLOOKUP(D951,Tabelle1!A:B,2,FALSE)","v":{"$error":"#N/A"}},{"$f":"IF(ISBLANK(PFS_PFD_SelectionTool!N992),\"\",PFS_PFD_SelectionTool!N992)","v":""},{"$f":"IF(ISBLANK(PFS_PFD_SelectionTool!O992),\"\",PFS_PFD_SelectionTool!O992)","v":""}]
[{"$f":"IF(ISBLANK(PFS_PFD_SelectionTool!C968),\"\",PFS_PFD_SelectionTool!C968)","v":""},{"$f":"IF(ISBLANK(PFS_PFD_SelectionTool!D968),\"\",PFS_PFD_SelectionTool!D968)","v":""},{"$f":"IF(ISBLANK(PFS_PFD_SelectionTool!E968&\"_\"&PFS_PFD_SelectionTool!F968&\"_\"&PFS_PFD_SelectionTool!G968&\"_\"&PFS_PFD_SelectionTool!H968&\"_\"&PFS_PFD_SelectionTool!I968&\"_\"&PFS_PFD_SelectionTool!J968),\"\",PFS_PFD_SelectionTool!E968&\"_\"&PFS_PFD_SelectionTool!F968&\"_\"&PFS_PFD_SelectionTool!G968&\"_\"&PFS_PFD_SelectionTool!H968&\"_\"&PFS_PFD_SelectionTool!I968&\"_\"&PFS_PFD_SelectionTool!J968)","v":"_____"},{"$f":"IF(ISBLANK(PFS_PFD_SelectionTool!K968),\"\",PFS_PFD_SelectionTool!K968)","v":""},{"$f":"VLOOKUP(D952,Tabelle1!A:B,2,FALSE)","v":{"$error":"#N/A"}},{"$f":"IF(ISBLANK(PFS_PFD_SelectionTool!N993),\"\",PFS_PFD_SelectionTool!N993)","v":""},{"$f":"IF(ISBLANK(PFS_PFD_SelectionTool!O993),\"\",PFS_PFD_SelectionTool!O993)","v":""}]
[{"$f":"IF(ISBLANK(PFS_PFD_SelectionTool!C969),\"\",PFS_PFD_SelectionTool!C969)","v":""},{"$f":"IF(ISBLANK(PFS_PFD_SelectionTool!D969),\"\",PFS_PFD_SelectionTool!D969)","v":""},{"$f":"IF(ISBLANK(PFS_PFD_SelectionTool!E969&\"_\"&PFS_PFD_SelectionTool!F969&\"_\"&PFS_PFD_SelectionTool!G969&\"_\"&PFS_PFD_SelectionTool!H969&\"_\"&PFS_PFD_SelectionTool!I969&\"_\"&PFS_PFD_SelectionTool!J969),\"\",PFS_PFD_SelectionTool!E969&\"_\"&PFS_PFD_SelectionTool!F969&\"_\"&PFS_PFD_SelectionTool!G969&\"_\"&PFS_PFD_SelectionTool!H969&\"_\"&PFS_PFD_SelectionTool!I969&\"_\"&PFS_PFD_SelectionTool!J969)","v":"_____"},{"$f":"IF(ISBLANK(PFS_PFD_SelectionTool!K969),\"\",PFS_PFD_SelectionTool!K969)","v":""},{"$f":"VLOOKUP(D953,Tabelle1!A:B,2,FALSE)","v":{"$error":"#N/A"}},{"$f":"IF(ISBLANK(PFS_PFD_SelectionTool!N994),\"\",PFS_PFD_SelectionTool!N994)","v":""},{"$f":"IF(ISBLANK(PFS_PFD_SelectionTool!O994),\"\",PFS_PFD_SelectionTool!O994)","v":""}]
[{"$f":"IF(ISBLANK(PFS_PFD_SelectionTool!C970),\"\",PFS_PFD_SelectionTool!C970)","v":""},{"$f":"IF(ISBLANK(PFS_PFD_SelectionTool!D970),\"\",PFS_PFD_SelectionTool!D970)","v":""},{"$f":"IF(ISBLANK(PFS_PFD_SelectionTool!E970&\"_\"&PFS_PFD_SelectionTool!F970&\"_\"&PFS_PFD_SelectionTool!G970&\"_\"&PFS_PFD_SelectionTool!H970&\"_\"&PFS_PFD_SelectionTool!I970&\"_\"&PFS_PFD_SelectionTool!J970),\"\",PFS_PFD_SelectionTool!E970&\"_\"&PFS_PFD_SelectionTool!F970&\"_\"&PFS_PFD_SelectionTool!G970&\"_\"&PFS_PFD_SelectionTool!H970&\"_\"&PFS_PFD_SelectionTool!I970&\"_\"&PFS_PFD_SelectionTool!J970)","v":"_____"},{"$f":"IF(ISBLANK(PFS_PFD_SelectionTool!K970),\"\",PFS_PFD_SelectionTool!K970)","v":""},{"$f":"VLOOKUP(D954,Tabelle1!A:B,2,FALSE)","v":{"$error":"#N/A"}},{"$f":"IF(ISBLANK(PFS_PFD_SelectionTool!N995),\"\",PFS_PFD_SelectionTool!N995)","v":""},{"$f":"IF(ISBLANK(PFS_PFD_SelectionTool!O995),\"\",PFS_PFD_SelectionTool!O995)","v":""}]
[{"$f":"IF(ISBLANK(PFS_PFD_SelectionTool!C971),\"\",PFS_PFD_SelectionTool!C971)","v":""},{"$f":"IF(ISBLANK(PFS_PFD_SelectionTool!D971),\"\",PFS_PFD_SelectionTool!D971)","v":""},{"$f":"IF(ISBLANK(PFS_PFD_SelectionTool!E971&\"_\"&PFS_PFD_SelectionTool!F971&\"_\"&PFS_PFD_SelectionTool!G971&\"_\"&PFS_PFD_SelectionTool!H971&\"_\"&PFS_PFD_SelectionTool!I971&\"_\"&PFS_PFD_SelectionTool!J971),\"\",PFS_PFD_SelectionTool!E971&\"_\"&PFS_PFD_SelectionTool!F971&\"_\"&PFS_PFD_SelectionTool!G971&\"_\"&PFS_PFD_SelectionTool!H971&\"_\"&PFS_PFD_SelectionTool!I971&\"_\"&PFS_PFD_SelectionTool!J971)","v":"_____"},{"$f":"IF(ISBLANK(PFS_PFD_SelectionTool!K971),\"\",PFS_PFD_SelectionTool!K971)","v":""},{"$f":"VLOOKUP(D955,Tabelle1!A:B,2,FALSE)","v":{"$error":"#N/A"}},{"$f":"IF(ISBLANK(PFS_PFD_SelectionTool!N996),\"\",PFS_PFD_SelectionTool!N996)","v":""},{"$f":"IF(ISBLANK(PFS_PFD_SelectionTool!O996),\"\",PFS_PFD_SelectionTool!O996)","v":""}]
[{"$f":"IF(ISBLANK(PFS_PFD_SelectionTool!C972),\"\",PFS_PFD_SelectionTool!C972)","v":""},{"$f":"IF(ISBLANK(PFS_PFD_SelectionTool!D972),\"\",PFS_PFD_SelectionTool!D972)","v":""},{"$f":"IF(ISBLANK(PFS_PFD_SelectionTool!E972&\"_\"&PFS_PFD_SelectionTool!F972&\"_\"&PFS_PFD_SelectionTool!G972&\"_\"&PFS_PFD_SelectionTool!H972&\"_\"&PFS_PFD_SelectionTool!I972&\"_\"&PFS_PFD_SelectionTool!J972),\"\",PFS_PFD_SelectionTool!E972&\"_\"&PFS_PFD_SelectionTool!F972&\"_\"&PFS_PFD_SelectionTool!G972&\"_\"&PFS_PFD_SelectionTool!H972&\"_\"&PFS_PFD_SelectionTool!I972&\"_\"&PFS_PFD_SelectionTool!J972)","v":"_____"},{"$f":"IF(ISBLANK(PFS_PFD_SelectionTool!K972),\"\",PFS_PFD_SelectionTool!K972)","v":""},{"$f":"VLOOKUP(D956,Tabelle1!A:B,2,FALSE)","v":{"$error":"#N/A"}},{"$f":"IF(ISBLANK(PFS_PFD_SelectionTool!N997),\"\",PFS_PFD_SelectionTool!N997)","v":""},{"$f":"IF(ISBLANK(PFS_PFD_SelectionTool!O997),\"\",PFS_PFD_SelectionTool!O997)","v":""}]
[{"$f":"IF(ISBLANK(PFS_PFD_SelectionTool!C973),\"\",PFS_PFD_SelectionTool!C973)","v":""},{"$f":"IF(ISBLANK(PFS_PFD_SelectionTool!D973),\"\",PFS_PFD_SelectionTool!D973)","v":""},{"$f":"IF(ISBLANK(PFS_PFD_SelectionTool!E973&\"_\"&PFS_PFD_SelectionTool!F973&\"_\"&PFS_PFD_SelectionTool!G973&\"_\"&PFS_PFD_SelectionTool!H973&\"_\"&PFS_PFD_SelectionTool!I973&\"_\"&PFS_PFD_SelectionTool!J973),\"\",PFS_PFD_SelectionTool!E973&\"_\"&PFS_PFD_SelectionTool!F973&\"_\"&PFS_PFD_SelectionTool!G973&\"_\"&PFS_PFD_SelectionTool!H973&\"_\"&PFS_PFD_SelectionTool!I973&\"_\"&PFS_PFD_SelectionTool!J973)","v":"_____"},{"$f":"IF(ISBLANK(PFS_PFD_SelectionTool!K973),\"\",PFS_PFD_SelectionTool!K973)","v":""},{"$f":"VLOOKUP(D957,Tabelle1!A:B,2,FALSE)","v":{"$error":"#N/A"}},{"$f":"IF(ISBLANK(PFS_PFD_SelectionTool!N998),\"\",PFS_PFD_SelectionTool!N998)","v":""},{"$f":"IF(ISBLANK(PFS_PFD_SelectionTool!O998),\"\",PFS_PFD_SelectionTool!O998)","v":""}]
[{"$f":"IF(ISBLANK(PFS_PFD_SelectionTool!C974),\"\",PFS_PFD_SelectionTool!C974)","v":""},{"$f":"IF(ISBLANK(PFS_PFD_SelectionTool!D974),\"\",PFS_PFD_SelectionTool!D974)","v":""},{"$f":"IF(ISBLANK(PFS_PFD_SelectionTool!E974&\"_\"&PFS_PFD_SelectionTool!F974&\"_\"&PFS_PFD_SelectionTool!G974&\"_\"&PFS_PFD_SelectionTool!H974&\"_\"&PFS_PFD_SelectionTool!I974&\"_\"&PFS_PFD_SelectionTool!J974),\"\",PFS_PFD_SelectionTool!E974&\"_\"&PFS_PFD_SelectionTool!F974&\"_\"&PFS_PFD_SelectionTool!G974&\"_\"&PFS_PFD_SelectionTool!H974&\"_\"&PFS_PFD_SelectionTool!I974&\"_\"&PFS_PFD_SelectionTool!J974)","v":"_____"},{"$f":"IF(ISBLANK(PFS_PFD_SelectionTool!K974),\"\",PFS_PFD_SelectionTool!K974)","v":""},{"$f":"VLOOKUP(D958,Tabelle1!A:B,2,FALSE)","v":{"$error":"#N/A"}},{"$f":"IF(ISBLANK(PFS_PFD_SelectionTool!N999),\"\",PFS_PFD_SelectionTool!N999)","v":""},{"$f":"IF(ISBLANK(PFS_PFD_SelectionTool!O999),\"\",PFS_PFD_SelectionTool!O999)","v":""}]
[{"$f":"IF(ISBLANK(PFS_PFD_SelectionTool!C975),\"\",PFS_PFD_SelectionTool!C975)","v":""},{"$f":"IF(ISBLANK(PFS_PFD_SelectionTool!D975),\"\",PFS_PFD_SelectionTool!D975)","v":""},{"$f":"IF(ISBLANK(PFS_PFD_SelectionTool!E975&\"_\"&PFS_PFD_SelectionTool!F975&\"_\"&PFS_PFD_SelectionTool!G975&\"_\"&PFS_PFD_SelectionTool!H975&\"_\"&PFS_PFD_SelectionTool!I975&\"_\"&PFS_PFD_SelectionTool!J975),\"\",PFS_PFD_SelectionTool!E975&\"_\"&PFS_PFD_SelectionTool!F975&\"_\"&PFS_PFD_SelectionTool!G975&\"_\"&PFS_PFD_SelectionTool!H975&\"_\"&PFS_PFD_SelectionTool!I975&\"_\"&PFS_PFD_SelectionTool!J975)","v":"_____"},{"$f":"IF(ISBLANK(PFS_PFD_SelectionTool!K975),\"\",PFS_PFD_SelectionTool!K975)","v":""},{"$f":"VLOOKUP(D959,Tabelle1!A:B,2,FALSE)","v":{"$error":"#N/A"}},{"$f":"IF(ISBLANK(PFS_PFD_SelectionTool!N1000),\"\",PFS_PFD_SelectionTool!N1000)","v":""},{"$f":"IF(ISBLANK(PFS_PFD_SelectionTool!O1000),\"\",PFS_PFD_SelectionTool!O1000)","v":""}]
[{"$f":"IF(ISBLANK(PFS_PFD_SelectionTool!C976),\"\",PFS_PFD_SelectionTool!C976)","v":""},{"$f":"IF(ISBLANK(PFS_PFD_SelectionTool!D976),\"\",PFS_PFD_SelectionTool!D976)","v":""},{"$f":"IF(ISBLANK(PFS_PFD_SelectionTool!E976&\"_\"&PFS_PFD_SelectionTool!F976&\"_\"&PFS_PFD_SelectionTool!G976&\"_\"&PFS_PFD_SelectionTool!H976&\"_\"&PFS_PFD_SelectionTool!I976&\"_\"&PFS_PFD_SelectionTool!J976),\"\",PFS_PFD_SelectionTool!E976&\"_\"&PFS_PFD_SelectionTool!F976&\"_\"&PFS_PFD_SelectionTool!G976&\"_\"&PFS_PFD_SelectionTool!H976&\"_\"&PFS_PFD_SelectionTool!I976&\"_\"&PFS_PFD_SelectionTool!J976)","v":"_____"},{"$f":"IF(ISBLANK(PFS_PFD_SelectionTool!K976),\"\",PFS_PFD_SelectionTool!K976)","v":""},{"$f":"VLOOKUP(D960,Tabelle1!A:B,2,FALSE)","v":{"$error":"#N/A"}},{"$f":"IF(ISBLANK(PFS_PFD_SelectionTool!N1001),\"\",PFS_PFD_SelectionTool!N1001)","v":""},{"$f":"IF(ISBLANK(PFS_PFD_SelectionTool!O1001),\"\",PFS_PFD_SelectionTool!O1001)","v":""}]
[{"$f":"IF(ISBLANK(PFS_PFD_SelectionTool!C977),\"\",PFS_PFD_SelectionTool!C977)","v":""},{"$f":"IF(ISBLANK(PFS_PFD_SelectionTool!D977),\"\",PFS_PFD_SelectionTool!D977)","v":""},{"$f":"IF(ISBLANK(PFS_PFD_SelectionTool!E977&\"_\"&PFS_PFD_SelectionTool!F977&\"_\"&PFS_PFD_SelectionTool!G977&\"_\"&PFS_PFD_SelectionTool!H977&\"_\"&PFS_PFD_SelectionTool!I977&\"_\"&PFS_PFD_SelectionTool!J977),\"\",PFS_PFD_SelectionTool!E977&\"_\"&PFS_PFD_SelectionTool!F977&\"_\"&PFS_PFD_SelectionTool!G977&\"_\"&PFS_PFD_SelectionTool!H977&\"_\"&PFS_PFD_SelectionTool!I977&\"_\"&PFS_PFD_SelectionTool!J977)","v":"_____"},{"$f":"IF(ISBLANK(PFS_PFD_SelectionTool!K977),\"\",PFS_PFD_SelectionTool!K977)","v":""},{"$f":"VLOOKUP(D961,Tabelle1!A:B,2,FALSE)","v":{"$error":"#N/A"}},{"$f":"IF(ISBLANK(PFS_PFD_SelectionTool!N1002),\"\",PFS_PFD_SelectionTool!N1002)","v":""},{"$f":"IF(ISBLANK(PFS_PFD_SelectionTool!O1002),\"\",PFS_PFD_SelectionTool!O1002)","v":""}]
[{"$f":"IF(ISBLANK(PFS_PFD_SelectionTool!C978),\"\",PFS_PFD_SelectionTool!C978)","v":""},{"$f":"IF(ISBLANK(PFS_PFD_SelectionTool!D978),\"\",PFS_PFD_SelectionTool!D978)","v":""},{"$f":"IF(ISBLANK(PFS_PFD_SelectionTool!E978&\"_\"&PFS_PFD_SelectionTool!F978&\"_\"&PFS_PFD_SelectionTool!G978&\"_\"&PFS_PFD_SelectionTool!H978&\"_\"&PFS_PFD_SelectionTool!I978&\"_\"&PFS_PFD_SelectionTool!J978),\"\",PFS_PFD_SelectionTool!E978&\"_\"&PFS_PFD_SelectionTool!F978&\"_\"&PFS_PFD_SelectionTool!G978&\"_\"&PFS_PFD_SelectionTool!H978&\"_\"&PFS_PFD_SelectionTool!I978&\"_\"&PFS_PFD_SelectionTool!J978)","v":"_____"},{"$f":"IF(ISBLANK(PFS_PFD_SelectionTool!K978),\"\",PFS_PFD_SelectionTool!K978)","v":""},{"$f":"VLOOKUP(D962,Tabelle1!A:B,2,FALSE)","v":{"$error":"#N/A"}},{"$f":"IF(ISBLANK(PFS_PFD_SelectionTool!N1003),\"\",PFS_PFD_SelectionTool!N1003)","v":""},{"$f":"IF(ISBLANK(PFS_PFD_SelectionTool!O1003),\"\",PFS_PFD_SelectionTool!O1003)","v":""}]
[{"$f":"IF(ISBLANK(PFS_PFD_SelectionTool!C979),\"\",PFS_PFD_SelectionTool!C979)","v":""},{"$f":"IF(ISBLANK(PFS_PFD_SelectionTool!D979),\"\",PFS_PFD_SelectionTool!D979)","v":""},{"$f":"IF(ISBLANK(PFS_PFD_SelectionTool!E979&\"_\"&PFS_PFD_SelectionTool!F979&\"_\"&PFS_PFD_SelectionTool!G979&\"_\"&PFS_PFD_SelectionTool!H979&\"_\"&PFS_PFD_SelectionTool!I979&\"_\"&PFS_PFD_SelectionTool!J979),\"\",PFS_PFD_SelectionTool!E979&\"_\"&PFS_PFD_SelectionTool!F979&\"_\"&PFS_PFD_SelectionTool!G979&\"_\"&PFS_PFD_SelectionTool!H979&\"_\"&PFS_PFD_SelectionTool!I979&\"_\"&PFS_PFD_SelectionTool!J979)","v":"_____"},{"$f":"IF(ISBLANK(PFS_PFD_SelectionTool!K979),\"\",PFS_PFD_SelectionTool!K979)","v":""},{"$f":"VLOOKUP(D963,Tabelle1!A:B,2,FALSE)","v":{"$error":"#N/A"}},{"$f":"IF(ISBLANK(PFS_PFD_SelectionTool!N1004),\"\",PFS_PFD_SelectionTool!N1004)","v":""},{"$f":"IF(ISBLANK(PFS_PFD_SelectionTool!O1004),\"\",PFS_PFD_SelectionTool!O1004)","v":""}]
[{"$f":"IF(ISBLANK(PFS_PFD_SelectionTool!C980),\"\",PFS_PFD_SelectionTool!C980)","v":""},{"$f":"IF(ISBLANK(PFS_PFD_SelectionTool!D980),\"\",PFS_PFD_SelectionTool!D980)","v":""},{"$f":"IF(ISBLANK(PFS_PFD_SelectionTool!E980&\"_\"&PFS_PFD_SelectionTool!F980&\"_\"&PFS_PFD_SelectionTool!G980&\"_\"&PFS_PFD_SelectionTool!H980&\"_\"&PFS_PFD_SelectionTool!I980&\"_\"&PFS_PFD_SelectionTool!J980),\"\",PFS_PFD_SelectionTool!E980&\"_\"&PFS_PFD_SelectionTool!F980&\"_\"&PFS_PFD_SelectionTool!G980&\"_\"&PFS_PFD_SelectionTool!H980&\"_\"&PFS_PFD_SelectionTool!I980&\"_\"&PFS_PFD_SelectionTool!J980)","v":"_____"},{"$f":"IF(ISBLANK(PFS_PFD_SelectionTool!K980),\"\",PFS_PFD_SelectionTool!K980)","v":""},{"$f":"VLOOKUP(D964,Tabelle1!A:B,2,FALSE)","v":{"$error":"#N/A"}},{"$f":"IF(ISBLANK(PFS_PFD_SelectionTool!N1005),\"\",PFS_PFD_SelectionTool!N1005)","v":""},{"$f":"IF(ISBLANK(PFS_PFD_SelectionTool!O1005),\"\",PFS_PFD_SelectionTool!O1005)","v":""}]
[{"$f":"IF(ISBLANK(PFS_PFD_SelectionTool!C981),\"\",PFS_PFD_SelectionTool!C981)","v":""},{"$f":"IF(ISBLANK(PFS_PFD_SelectionTool!D981),\"\",PFS_PFD_SelectionTool!D981)","v":""},{"$f":"IF(ISBLANK(PFS_PFD_SelectionTool!E981&\"_\"&PFS_PFD_SelectionTool!F981&\"_\"&PFS_PFD_SelectionTool!G981&\"_\"&PFS_PFD_SelectionTool!H981&\"_\"&PFS_PFD_SelectionTool!I981&\"_\"&PFS_PFD_SelectionTool!J981),\"\",PFS_PFD_SelectionTool!E981&\"_\"&PFS_PFD_SelectionTool!F981&\"_\"&PFS_PFD_SelectionTool!G981&\"_\"&PFS_PFD_SelectionTool!H981&\"_\"&PFS_PFD_SelectionTool!I981&\"_\"&PFS_PFD_SelectionTool!J981)","v":"_____"},{"$f":"IF(ISBLANK(PFS_PFD_SelectionTool!K981),\"\",PFS_PFD_SelectionTool!K981)","v":""},{"$f":"VLOOKUP(D965,Tabelle1!A:B,2,FALSE)","v":{"$error":"#N/A"}},{"$f":"IF(ISBLANK(PFS_PFD_SelectionTool!N1006),\"\",PFS_PFD_SelectionTool!N1006)","v":""},{"$f":"IF(ISBLANK(PFS_PFD_SelectionTool!O1006),\"\",PFS_PFD_SelectionTool!O1006)","v":""}]
[{"$f":"IF(ISBLANK(PFS_PFD_SelectionTool!C982),\"\",PFS_PFD_SelectionTool!C982)","v":""},{"$f":"IF(ISBLANK(PFS_PFD_SelectionTool!D982),\"\",PFS_PFD_SelectionTool!D982)","v":""},{"$f":"IF(ISBLANK(PFS_PFD_SelectionTool!E982&\"_\"&PFS_PFD_SelectionTool!F982&\"_\"&PFS_PFD_SelectionTool!G982&\"_\"&PFS_PFD_SelectionTool!H982&\"_\"&PFS_PFD_SelectionTool!I982&\"_\"&PFS_PFD_SelectionTool!J982),\"\",PFS_PFD_SelectionTool!E982&\"_\"&PFS_PFD_SelectionTool!F982&\"_\"&PFS_PFD_SelectionTool!G982&\"_\"&PFS_PFD_SelectionTool!H982&\"_\"&PFS_PFD_SelectionTool!I982&\"_\"&PFS_PFD_SelectionTool!J982)","v":"_____"},{"$f":"IF(ISBLANK(PFS_PFD_SelectionTool!K982),\"\",PFS_PFD_SelectionTool!K982)","v":""},{"$f":"VLOOKUP(D966,Tabelle1!A:B,2,FALSE)","v":{"$error":"#N/A"}},{"$f":"IF(ISBLANK(PFS_PFD_SelectionTool!N1007),\"\",PFS_PFD_SelectionTool!N1007)","v":""},{"$f":"IF(ISBLANK(PFS_PFD_SelectionTool!O1007),\"\",PFS_PFD_SelectionTool!O1007)","v":""}]
[{"$f":"IF(ISBLANK(PFS_PFD_SelectionTool!C983),\"\",PFS_PFD_SelectionTool!C983)","v":""},{"$f":"IF(ISBLANK(PFS_PFD_SelectionTool!D983),\"\",PFS_PFD_SelectionTool!D983)","v":""},{"$f":"IF(ISBLANK(PFS_PFD_SelectionTool!E983&\"_\"&PFS_PFD_SelectionTool!F983&\"_\"&PFS_PFD_SelectionTool!G983&\"_\"&PFS_PFD_SelectionTool!H983&\"_\"&PFS_PFD_SelectionTool!I983&\"_\"&PFS_PFD_SelectionTool!J983),\"\",PFS_PFD_SelectionTool!E983&\"_\"&PFS_PFD_SelectionTool!F983&\"_\"&PFS_PFD_SelectionTool!G983&\"_\"&PFS_PFD_SelectionTool!H983&\"_\"&PFS_PFD_SelectionTool!I983&\"_\"&PFS_PFD_SelectionTool!J983)","v":"_____"},{"$f":"IF(ISBLANK(PFS_PFD_SelectionTool!K983),\"\",PFS_PFD_SelectionTool!K983)","v":""},{"$f":"VLOOKUP(D967,Tabelle1!A:B,2,FALSE)","v":{"$error":"#N/A"}},{"$f":"IF(ISBLANK(PFS_PFD_SelectionTool!N1008),\"\",PFS_PFD_SelectionTool!N1008)","v":""},{"$f":"IF(ISBLANK(PFS_PFD_SelectionTool!O1008),\"\",PFS_PFD_SelectionTool!O1008)","v":""}]
[{"$f":"IF(ISBLANK(PFS_PFD_SelectionTool!C984),\"\",PFS_PFD_SelectionTool!C984)","v":""},{"$f":"IF(ISBLANK(PFS_PFD_SelectionTool!D984),\"\",PFS_PFD_SelectionTool!D984)","v":""},{"$f":"IF(ISBLANK(PFS_PFD_SelectionTool!E984&\"_\"&PFS_PFD_SelectionTool!F984&\"_\"&PFS_PFD_SelectionTool!G984&\"_\"&PFS_PFD_SelectionTool!H984&\"_\"&PFS_PFD_SelectionTool!I984&\"_\"&PFS_PFD_SelectionTool!J984),\"\",PFS_PFD_SelectionTool!E984&\"_\"&PFS_PFD_SelectionTool!F984&\"_\"&PFS_PFD_SelectionTool!G984&\"_\"&PFS_PFD_SelectionTool!H984&\"_\"&PFS_PFD_SelectionTool!I984&\"_\"&PFS_PFD_SelectionTool!J984)","v":"_____"},{"$f":"IF(ISBLANK(PFS_PFD_SelectionTool!K984),\"\",PFS_PFD_SelectionTool!K984)","v":""},{"$f":"VLOOKUP(D968,Tabelle1!A:B,2,FALSE)","v":{"$error":"#N/A"}},{"$f":"IF(ISBLANK(PFS_PFD_SelectionTool!N1009),\"\",PFS_PFD_SelectionTool!N1009)","v":""},{"$f":"IF(ISBLANK(PFS_PFD_SelectionTool!O1009),\"\",PFS_PFD_SelectionTool!O1009)","v":""}]
[{"$f":"IF(ISBLANK(PFS_PFD_SelectionTool!C985),\"\",PFS_PFD_SelectionTool!C985)","v":""},{"$f":"IF(ISBLANK(PFS_PFD_SelectionTool!D985),\"\",PFS_PFD_SelectionTool!D985)","v":""},{"$f":"IF(ISBLANK(PFS_PFD_SelectionTool!E985&\"_\"&PFS_PFD_SelectionTool!F985&\"_\"&PFS_PFD_SelectionTool!G985&\"_\"&PFS_PFD_SelectionTool!H985&\"_\"&PFS_PFD_SelectionTool!I985&\"_\"&PFS_PFD_SelectionTool!J985),\"\",PFS_PFD_SelectionTool!E985&\"_\"&PFS_PFD_SelectionTool!F985&\"_\"&PFS_PFD_SelectionTool!G985&\"_\"&PFS_PFD_SelectionTool!H985&\"_\"&PFS_PFD_SelectionTool!I985&\"_\"&PFS_PFD_SelectionTool!J985)","v":"_____"},{"$f":"IF(ISBLANK(PFS_PFD_SelectionTool!K985),\"\",PFS_PFD_SelectionTool!K985)","v":""},{"$f":"VLOOKUP(D969,Tabelle1!A:B,2,FALSE)","v":{"$error":"#N/A"}},{"$f":"IF(ISBLANK(PFS_PFD_SelectionTool!N1010),\"\",PFS_PFD_SelectionTool!N1010)","v":""},{"$f":"IF(ISBLANK(PFS_PFD_SelectionTool!O1010),\"\",PFS_PFD_SelectionTool!O1010)","v":""}]
[{"$f":"IF(ISBLANK(PFS_PFD_SelectionTool!C986),\"\",PFS_PFD_SelectionTool!C986)","v":""},{"$f":"IF(ISBLANK(PFS_PFD_SelectionTool!D986),\"\",PFS_PFD_SelectionTool!D986)","v":""},{"$f":"IF(ISBLANK(PFS_PFD_SelectionTool!E986&\"_\"&PFS_PFD_SelectionTool!F986&\"_\"&PFS_PFD_SelectionTool!G986&\"_\"&PFS_PFD_SelectionTool!H986&\"_\"&PFS_PFD_SelectionTool!I986&\"_\"&PFS_PFD_SelectionTool!J986),\"\",PFS_PFD_SelectionTool!E986&\"_\"&PFS_PFD_SelectionTool!F986&\"_\"&PFS_PFD_SelectionTool!G986&\"_\"&PFS_PFD_SelectionTool!H986&\"_\"&PFS_PFD_SelectionTool!I986&\"_\"&PFS_PFD_SelectionTool!J986)","v":"_____"},{"$f":"IF(ISBLANK(PFS_PFD_SelectionTool!K986),\"\",PFS_PFD_SelectionTool!K986)","v":""},{"$f":"VLOOKUP(D970,Tabelle1!A:B,2,FALSE)","v":{"$error":"#N/A"}},{"$f":"IF(ISBLANK(PFS_PFD_SelectionTool!N1011),\"\",PFS_PFD_SelectionTool!N1011)","v":""},{"$f":"IF(ISBLANK(PFS_PFD_SelectionTool!O1011),\"\",PFS_PFD_SelectionTool!O1011)","v":""}]
[{"$f":"IF(ISBLANK(PFS_PFD_SelectionTool!C987),\"\",PFS_PFD_SelectionTool!C987)","v":""},{"$f":"IF(ISBLANK(PFS_PFD_SelectionTool!D987),\"\",PFS_PFD_SelectionTool!D987)","v":""},{"$f":"IF(ISBLANK(PFS_PFD_SelectionTool!E987&\"_\"&PFS_PFD_SelectionTool!F987&\"_\"&PFS_PFD_SelectionTool!G987&\"_\"&PFS_PFD_SelectionTool!H987&\"_\"&PFS_PFD_SelectionTool!I987&\"_\"&PFS_PFD_SelectionTool!J987),\"\",PFS_PFD_SelectionTool!E987&\"_\"&PFS_PFD_SelectionTool!F987&\"_\"&PFS_PFD_SelectionTool!G987&\"_\"&PFS_PFD_SelectionTool!H987&\"_\"&PFS_PFD_SelectionTool!I987&\"_\"&PFS_PFD_SelectionTool!J987)","v":"_____"},{"$f":"IF(ISBLANK(PFS_PFD_SelectionTool!K987),\"\",PFS_PFD_SelectionTool!K987)","v":""},{"$f":"VLOOKUP(D971,Tabelle1!A:B,2,FALSE)","v":{"$error":"#N/A"}},{"$f":"IF(ISBLANK(PFS_PFD_SelectionTool!N1012),\"\",PFS_PFD_SelectionTool!N1012)","v":""},{"$f":"IF(ISBLANK(PFS_PFD_SelectionTool!O1012),\"\",PFS_PFD_SelectionTool!O1012)","v":""}]
[{"$f":"IF(ISBLANK(PFS_PFD_SelectionTool!C988),\"\",PFS_PFD_SelectionTool!C988)","v":""},{"$f":"IF(ISBLANK(PFS_PFD_SelectionTool!D988),\"\",PFS_PFD_SelectionTool!D988)","v":""},{"$f":"IF(ISBLANK(PFS_PFD_SelectionTool!E988&\"_\"&PFS_PFD_SelectionTool!F988&\"_\"&PFS_PFD_SelectionTool!G988&\"_\"&PFS_PFD_SelectionTool!H988&\"_\"&PFS_PFD_SelectionTool!I988&\"_\"&PFS_PFD_SelectionTool!J988),\"\",PFS_PFD_SelectionTool!E988&\"_\"&PFS_PFD_SelectionTool!F988&\"_\"&PFS_PFD_SelectionTool!G988&\"_\"&PFS_PFD_SelectionTool!H988&\"_\"&PFS_PFD_SelectionTool!I988&\"_\"&PFS_PFD_SelectionTool!J988)","v":"_____"},{"$f":"IF(ISBLANK(PFS_PFD_SelectionTool!K988),\"\",PFS_PFD_SelectionTool!K988)","v":""},{"$f":"VLOOKUP(D972,Tabelle1!A:B,2,FALSE)","v":{"$error":"#N/A"}},{"$f":"IF(ISBLANK(PFS_PFD_SelectionTool!N1013),\"\",PFS_PFD_SelectionTool!N1013)","v":""},{"$f":"IF(ISBLANK(PFS_PFD_SelectionTool!O1013),\"\",PFS_PFD_SelectionTool!O1013)","v":""}]
[{"$f":"IF(ISBLANK(PFS_PFD_SelectionTool!C989),\"\",PFS_PFD_SelectionTool!C989)","v":""},{"$f":"IF(ISBLANK(PFS_PFD_SelectionTool!D989),\"\",PFS_PFD_SelectionTool!D989)","v":""},{"$f":"IF(ISBLANK(PFS_PFD_SelectionTool!E989&\"_\"&PFS_PFD_SelectionTool!F989&\"_\"&PFS_PFD_SelectionTool!G989&\"_\"&PFS_PFD_SelectionTool!H989&\"_\"&PFS_PFD_SelectionTool!I989&\"_\"&PFS_PFD_SelectionTool!J989),\"\",PFS_PFD_SelectionTool!E989&\"_\"&PFS_PFD_SelectionTool!F989&\"_\"&PFS_PFD_SelectionTool!G989&\"_\"&PFS_PFD_SelectionTool!H989&\"_\"&PFS_PFD_SelectionTool!I989&\"_\"&PFS_PFD_SelectionTool!J989)","v":"_____"},{"$f":"IF(ISBLANK(PFS_PFD_SelectionTool!K989),\"\",PFS_PFD_SelectionTool!K989)","v":""},{"$f":"VLOOKUP(D973,Tabelle1!A:B,2,FALSE)","v":{"$error":"#N/A"}},{"$f":"IF(ISBLANK(PFS_PFD_SelectionTool!N1014),\"\",PFS_PFD_SelectionTool!N1014)","v":""},{"$f":"IF(ISBLANK(PFS_PFD_SelectionTool!O1014),\"\",PFS_PFD_SelectionTool!O1014)","v":""}]
[{"$f":"IF(ISBLANK(PFS_PFD_SelectionTool!C990),\"\",PFS_PFD_SelectionTool!C990)","v":""},{"$f":"IF(ISBLANK(PFS_PFD_SelectionTool!D990),\"\",PFS_PFD_SelectionTool!D990)","v":""},{"$f":"IF(ISBLANK(PFS_PFD_SelectionTool!E990&\"_\"&PFS_PFD_SelectionTool!F990&\"_\"&PFS_PFD_SelectionTool!G990&\"_\"&PFS_PFD_SelectionTool!H990&\"_\"&PFS_PFD_SelectionTool!I990&\"_\"&PFS_PFD_SelectionTool!J990),\"\",PFS_PFD_SelectionTool!E990&\"_\"&PFS_PFD_SelectionTool!F990&\"_\"&PFS_PFD_SelectionTool!G990&\"_\"&PFS_PFD_SelectionTool!H990&\"_\"&PFS_PFD_SelectionTool!I990&\"_\"&PFS_PFD_SelectionTool!J990)","v":"_____"},{"$f":"IF(ISBLANK(PFS_PFD_SelectionTool!K990),\"\",PFS_PFD_SelectionTool!K990)","v":""},{"$f":"VLOOKUP(D974,Tabelle1!A:B,2,FALSE)","v":{"$error":"#N/A"}},{"$f":"IF(ISBLANK(PFS_PFD_SelectionTool!N1015),\"\",PFS_PFD_SelectionTool!N1015)","v":""},{"$f":"IF(ISBLANK(PFS_PFD_SelectionTool!O1015),\"\",PFS_PFD_SelectionTool!O1015)","v":""}]
[{"$f":"IF(ISBLANK(PFS_PFD_SelectionTool!C991),\"\",PFS_PFD_SelectionTool!C991)","v":""},{"$f":"IF(ISBLANK(PFS_PFD_SelectionTool!D991),\"\",PFS_PFD_SelectionTool!D991)","v":""},{"$f":"IF(ISBLANK(PFS_PFD_SelectionTool!E991&\"_\"&PFS_PFD_SelectionTool!F991&\"_\"&PFS_PFD_SelectionTool!G991&\"_\"&PFS_PFD_SelectionTool!H991&\"_\"&PFS_PFD_SelectionTool!I991&\"_\"&PFS_PFD_SelectionTool!J991),\"\",PFS_PFD_SelectionTool!E991&\"_\"&PFS_PFD_SelectionTool!F991&\"_\"&PFS_PFD_SelectionTool!G991&\"_\"&PFS_PFD_SelectionTool!H991&\"_\"&PFS_PFD_SelectionTool!I991&\"_\"&PFS_PFD_SelectionTool!J991)","v":"_____"},{"$f":"IF(ISBLANK(PFS_PFD_SelectionTool!K991),\"\",PFS_PFD_SelectionTool!K991)","v":""},{"$f":"VLOOKUP(D975,Tabelle1!A:B,2,FALSE)","v":{"$error":"#N/A"}},{"$f":"IF(ISBLANK(PFS_PFD_SelectionTool!N1016),\"\",PFS_PFD_SelectionTool!N1016)","v":""},{"$f":"IF(ISBLANK(PFS_PFD_SelectionTool!O1016),\"\",PFS_PFD_SelectionTool!O1016)","v":""}]
[{"$f":"IF(ISBLANK(PFS_PFD_SelectionTool!C992),\"\",PFS_PFD_SelectionTool!C992)","v":""},{"$f":"IF(ISBLANK(PFS_PFD_SelectionTool!D992),\"\",PFS_PFD_SelectionTool!D992)","v":""},{"$f":"IF(ISBLANK(PFS_PFD_SelectionTool!E992&\"_\"&PFS_PFD_SelectionTool!F992&\"_\"&PFS_PFD_SelectionTool!G992&\"_\"&PFS_PFD_SelectionTool!H992&\"_\"&PFS_PFD_SelectionTool!I992&\"_\"&PFS_PFD_SelectionTool!J992),\"\",PFS_PFD_SelectionTool!E992&\"_\"&PFS_PFD_SelectionTool!F992&\"_\"&PFS_PFD_SelectionTool!G992&\"_\"&PFS_PFD_SelectionTool!H992&\"_\"&PFS_PFD_SelectionTool!I992&\"_\"&PFS_PFD_SelectionTool!J992)","v":"_____"},{"$f":"IF(ISBLANK(PFS_PFD_SelectionTool!K992),\"\",PFS_PFD_SelectionTool!K992)","v":""},{"$f":"VLOOKUP(D976,Tabelle1!A:B,2,FALSE)","v":{"$error":"#N/A"}},{"$f":"IF(ISBLANK(PFS_PFD_SelectionTool!N1017),\"\",PFS_PFD_SelectionTool!N1017)","v":""},{"$f":"IF(ISBLANK(PFS_PFD_SelectionTool!O1017),\"\",PFS_PFD_SelectionTool!O1017)","v":""}]
[{"$f":"IF(ISBLANK(PFS_PFD_SelectionTool!C993),\"\",PFS_PFD_SelectionTool!C993)","v":""},{"$f":"IF(ISBLANK(PFS_PFD_SelectionTool!D993),\"\",PFS_PFD_SelectionTool!D993)","v":""},{"$f":"IF(ISBLANK(PFS_PFD_SelectionTool!E993&\"_\"&PFS_PFD_SelectionTool!F993&\"_\"&PFS_PFD_SelectionTool!G993&\"_\"&PFS_PFD_SelectionTool!H993&\"_\"&PFS_PFD_SelectionTool!I993&\"_\"&PFS_PFD_SelectionTool!J993),\"\",PFS_PFD_SelectionTool!E993&\"_\"&PFS_PFD_SelectionTool!F993&\"_\"&PFS_PFD_SelectionTool!G993&\"_\"&PFS_PFD_SelectionTool!H993&\"_\"&PFS_PFD_SelectionTool!I993&\"_\"&PFS_PFD_SelectionTool!J993)","v":"_____"},{"$f":"IF(ISBLANK(PFS_PFD_SelectionTool!K993),\"\",PFS_PFD_SelectionTool!K993)","v":""},{"$f":"VLOOKUP(D977,Tabelle1!A:B,2,FALSE)","v":{"$error":"#N/A"}},{"$f":"IF(ISBLANK(PFS_PFD_SelectionTool!N1018),\"\",PFS_PFD_SelectionTool!N1018)","v":""},{"$f":"IF(ISBLANK(PFS_PFD_SelectionTool!O1018),\"\",PFS_PFD_SelectionTool!O1018)","v":""}]
[{"$f":"IF(ISBLANK(PFS_PFD_SelectionTool!C994),\"\",PFS_PFD_SelectionTool!C994)","v":""},{"$f":"IF(ISBLANK(PFS_PFD_SelectionTool!D994),\"\",PFS_PFD_SelectionTool!D994)","v":""},{"$f":"IF(ISBLANK(PFS_PFD_SelectionTool!E994&\"_\"&PFS_PFD_SelectionTool!F994&\"_\"&PFS_PFD_SelectionTool!G994&\"_\"&PFS_PFD_SelectionTool!H994&\"_\"&PFS_PFD_SelectionTool!I994&\"_\"&PFS_PFD_SelectionTool!J994),\"\",PFS_PFD_SelectionTool!E994&\"_\"&PFS_PFD_SelectionTool!F994&\"_\"&PFS_PFD_SelectionTool!G994&\"_\"&PFS_PFD_SelectionTool!H994&\"_\"&PFS_PFD_SelectionTool!I994&\"_\"&PFS_PFD_SelectionTool!J994)","v":"_____"},{"$f":"IF(ISBLANK(PFS_PFD_SelectionTool!K994),\"\",PFS_PFD_SelectionTool!K994)","v":""},{"$f":"VLOOKUP(D978,Tabelle1!A:B,2,FALSE)","v":{"$error":"#N/A"}},{"$f":"IF(ISBLANK(PFS_PFD_SelectionTool!N1019),\"\",PFS_PFD_SelectionTool!N1019)","v":""},{"$f":"IF(ISBLANK(PFS_PFD_SelectionTool!O1019),\"\",PFS_PFD_SelectionTool!O1019)","v":""}]
[{"$f":"IF(ISBLANK(PFS_PFD_SelectionTool!C995),\"\",PFS_PFD_SelectionTool!C995)","v":""},{"$f":"IF(ISBLANK(PFS_PFD_SelectionTool!D995),\"\",PFS_PFD_SelectionTool!D995)","v":""},{"$f":"IF(ISBLANK(PFS_PFD_SelectionTool!E995&\"_\"&PFS_PFD_SelectionTool!F995&\"_\"&PFS_PFD_SelectionTool!G995&\"_\"&PFS_PFD_SelectionTool!H995&\"_\"&PFS_PFD_SelectionTool!I995&\"_\"&PFS_PFD_SelectionTool!J995),\"\",PFS_PFD_SelectionTool!E995&\"_\"&PFS_PFD_SelectionTool!F995&\"_\"&PFS_PFD_SelectionTool!G995&\"_\"&PFS_PFD_SelectionTool!H995&\"_\"&PFS_PFD_SelectionTool!I995&\"_\"&PFS_PFD_SelectionTool!J995)","v":"_____"},{"$f":"IF(ISBLANK(PFS_PFD_SelectionTool!K995),\"\",PFS_PFD_SelectionTool!K995)","v":""},{"$f":"VLOOKUP(D979,Tabelle1!A:B,2,FALSE)","v":{"$error":"#N/A"}},{"$f":"IF(ISBLANK(PFS_PFD_SelectionTool!N1020),\"\",PFS_PFD_SelectionTool!N1020)","v":""},{"$f":"IF(ISBLANK(PFS_PFD_SelectionTool!O1020),\"\",PFS_PFD_SelectionTool!O1020)","v":""}]
[{"$f":"IF(ISBLANK(PFS_PFD_SelectionTool!C996),\"\",PFS_PFD_SelectionTool!C996)","v":""},{"$f":"IF(ISBLANK(PFS_PFD_SelectionTool!D996),\"\",PFS_PFD_SelectionTool!D996)","v":""},{"$f":"IF(ISBLANK(PFS_PFD_SelectionTool!E996&\"_\"&PFS_PFD_SelectionTool!F996&\"_\"&PFS_PFD_SelectionTool!G996&\"_\"&PFS_PFD_SelectionTool!H996&\"_\"&PFS_PFD_SelectionTool!I996&\"_\"&PFS_PFD_SelectionTool!J996),\"\",PFS_PFD_SelectionTool!E996&\"_\"&PFS_PFD_SelectionTool!F996&\"_\"&PFS_PFD_SelectionTool!G996&\"_\"&PFS_PFD_SelectionTool!H996&\"_\"&PFS_PFD_SelectionTool!I996&\"_\"&PFS_PFD_SelectionTool!J996)","v":"_____"},{"$f":"IF(ISBLANK(PFS_PFD_SelectionTool!K996),\"\",PFS_PFD_SelectionTool!K996)","v":""},{"$f":"VLOOKUP(D980,Tabelle1!A:B,2,FALSE)","v":{"$error":"#N/A"}},{"$f":"IF(ISBLANK(PFS_PFD_SelectionTool!N1021),\"\",PFS_PFD_SelectionTool!N1021)","v":""},{"$f":"IF(ISBLANK(PFS_PFD_SelectionTool!O1021),\"\",PFS_PFD_SelectionTool!O1021)","v":""}]
[{"$f":"IF(ISBLANK(PFS_PFD_SelectionTool!C997),\"\",PFS_PFD_SelectionTool!C997)","v":""},{"$f":"IF(ISBLANK(PFS_PFD_SelectionTool!D997),\"\",PFS_PFD_SelectionTool!D997)","v":""},{"$f":"IF(ISBLANK(PFS_PFD_SelectionTool!E997&\"_\"&PFS_PFD_SelectionTool!F997&\"_\"&PFS_PFD_SelectionTool!G997&\"_\"&PFS_PFD_SelectionTool!H997&\"_\"&PFS_PFD_SelectionTool!I997&\"_\"&PFS_PFD_SelectionTool!J997),\"\",PFS_PFD_SelectionTool!E997&\"_\"&PFS_PFD_SelectionTool!F997&\"_\"&PFS_PFD_SelectionTool!G997&\"_\"&PFS_PFD_SelectionTool!H997&\"_\"&PFS_PFD_SelectionTool!I997&\"_\"&PFS_PFD_SelectionTool!J997)","v":"_____"},{"$f":"IF(ISBLANK(PFS_PFD_SelectionTool!K997),\"\",PFS_PFD_SelectionTool!K997)","v":""},{"$f":"VLOOKUP(D981,Tabelle1!A:B,2,FALSE)","v":{"$error":"#N/A"}},{"$f":"IF(ISBLANK(PFS_PFD_SelectionTool!N1022),\"\",PFS_PFD_SelectionTool!N1022)","v":""},{"$f":"IF(ISBLANK(PFS_PFD_SelectionTool!O1022),\"\",PFS_PFD_SelectionTool!O1022)","v":""}]
[{"$f":"IF(ISBLANK(PFS_PFD_SelectionTool!C998),\"\",PFS_PFD_SelectionTool!C998)","v":""},{"$f":"IF(ISBLANK(PFS_PFD_SelectionTool!D998),\"\",PFS_PFD_SelectionTool!D998)","v":""},{"$f":"IF(ISBLANK(PFS_PFD_SelectionTool!E998&\"_\"&PFS_PFD_SelectionTool!F998&\"_\"&PFS_PFD_SelectionTool!G998&\"_\"&PFS_PFD_SelectionTool!H998&\"_\"&PFS_PFD_SelectionTool!I998&\"_\"&PFS_PFD_SelectionTool!J998),\"\",PFS_PFD_SelectionTool!E998&\"_\"&PFS_PFD_SelectionTool!F998&\"_\"&PFS_PFD_SelectionTool!G998&\"_\"&PFS_PFD_SelectionTool!H998&\"_\"&PFS_PFD_SelectionTool!I998&\"_\"&PFS_PFD_SelectionTool!J998)","v":"_____"},{"$f":"IF(ISBLANK(PFS_PFD_SelectionTool!K998),\"\",PFS_PFD_SelectionTool!K998)","v":""},{"$f":"VLOOKUP(D982,Tabelle1!A:B,2,FALSE)","v":{"$error":"#N/A"}},{"$f":"IF(ISBLANK(PFS_PFD_SelectionTool!N1023),\"\",PFS_PFD_SelectionTool!N1023)","v":""},{"$f":"IF(ISBLANK(PFS_PFD_SelectionTool!O1023),\"\",PFS_PFD_SelectionTool!O1023)","v":""}]
[{"$f":"IF(ISBLANK(PFS_PFD_SelectionTool!C999),\"\",PFS_PFD_SelectionTool!C999)","v":""},{"$f":"IF(ISBLANK(PFS_PFD_SelectionTool!D999),\"\",PFS_PFD_SelectionTool!D999)","v":""},{"$f":"IF(ISBLANK(PFS_PFD_SelectionTool!E999&\"_\"&PFS_PFD_SelectionTool!F999&\"_\"&PFS_PFD_SelectionTool!G999&\"_\"&PFS_PFD_SelectionTool!H999&\"_\"&PFS_PFD_SelectionTool!I999&\"_\"&PFS_PFD_SelectionTool!J999),\"\",PFS_PFD_SelectionTool!E999&\"_\"&PFS_PFD_SelectionTool!F999&\"_\"&PFS_PFD_SelectionTool!G999&\"_\"&PFS_PFD_SelectionTool!H999&\"_\"&PFS_PFD_SelectionTool!I999&\"_\"&PFS_PFD_SelectionTool!J999)","v":"_____"},{"$f":"IF(ISBLANK(PFS_PFD_SelectionTool!K999),\"\",PFS_PFD_SelectionTool!K999)","v":""},{"$f":"VLOOKUP(D983,Tabelle1!A:B,2,FALSE)","v":{"$error":"#N/A"}},{"$f":"IF(ISBLANK(PFS_PFD_SelectionTool!N1024),\"\",PFS_PFD_SelectionTool!N1024)","v":""},{"$f":"IF(ISBLANK(PFS_PFD_SelectionTool!O1024),\"\",PFS_PFD_SelectionTool!O1024)","v":""}]
[{"$f":"IF(ISBLANK(PFS_PFD_SelectionTool!C1000),\"\",PFS_PFD_SelectionTool!C1000)","v":""},{"$f":"IF(ISBLANK(PFS_PFD_SelectionTool!D1000),\"\",PFS_PFD_SelectionTool!D1000)","v":""},{"$f":"IF(ISBLANK(PFS_PFD_SelectionTool!E1000&\"_\"&PFS_PFD_SelectionTool!F1000&\"_\"&PFS_PFD_SelectionTool!G1000&\"_\"&PFS_PFD_SelectionTool!H1000&\"_\"&PFS_PFD_SelectionTool!I1000&\"_\"&PFS_PFD_SelectionTool!J1000),\"\",PFS_PFD_SelectionTool!E1000&\"_\"&PFS_PFD_SelectionTool!F1000&\"_\"&PFS_PFD_SelectionTool!G1000&\"_\"&PFS_PFD_SelectionTool!H1000&\"_\"&PFS_PFD_SelectionTool!I1000&\"_\"&PFS_PFD_SelectionTool!J1000)","v":"_____"},{"$f":"IF(ISBLANK(PFS_PFD_SelectionTool!K1000),\"\",PFS_PFD_SelectionTool!K1000)","v":""},{"$f":"VLOOKUP(D984,Tabelle1!A:B,2,FALSE)","v":{"$error":"#N/A"}},{"$f":"IF(ISBLANK(PFS_PFD_SelectionTool!N1025),\"\",PFS_PFD_SelectionTool!N1025)","v":""},{"$f":"IF(ISBLANK(PFS_PFD_SelectionTool!O1025),\"\",PFS_PFD_SelectionTool!O1025)","v":""}]
[{"$f":"IF(ISBLANK(PFS_PFD_SelectionTool!C1001),\"\",PFS_PFD_SelectionTool!C1001)","v":""},{"$f":"IF(ISBLANK(PFS_PFD_SelectionTool!D1001),\"\",PFS_PFD_SelectionTool!D1001)","v":""},{"$f":"IF(ISBLANK(PFS_PFD_SelectionTool!E1001&\"_\"&PFS_PFD_SelectionTool!F1001&\"_\"&PFS_PFD_SelectionTool!G1001&\"_\"&PFS_PFD_SelectionTool!H1001&\"_\"&PFS_PFD_SelectionTool!I1001&\"_\"&PFS_PFD_SelectionTool!J1001),\"\",PFS_PFD_SelectionTool!E1001&\"_\"&PFS_PFD_SelectionTool!F1001&\"_\"&PFS_PFD_SelectionTool!G1001&\"_\"&PFS_PFD_SelectionTool!H1001&\"_\"&PFS_PFD_SelectionTool!I1001&\"_\"&PFS_PFD_SelectionTool!J1001)","v":"_____"},{"$f":"IF(ISBLANK(PFS_PFD_SelectionTool!K1001),\"\",PFS_PFD_SelectionTool!K1001)","v":""},{"$f":"VLOOKUP(D985,Tabelle1!A:B,2,FALSE)","v":{"$error":"#N/A"}},{"$f":"IF(ISBLANK(PFS_PFD_SelectionTool!N1026),\"\",PFS_PFD_SelectionTool!N1026)","v":""},{"$f":"IF(ISBLANK(PFS_PFD_SelectionTool!O1026),\"\",PFS_PFD_SelectionTool!O1026)","v":""}]
[{"$f":"IF(ISBLANK(PFS_PFD_SelectionTool!C1002),\"\",PFS_PFD_SelectionTool!C1002)","v":""},{"$f":"IF(ISBLANK(PFS_PFD_SelectionTool!D1002),\"\",PFS_PFD_SelectionTool!D1002)","v":""},{"$f":"IF(ISBLANK(PFS_PFD_SelectionTool!E1002&\"_\"&PFS_PFD_SelectionTool!F1002&\"_\"&PFS_PFD_SelectionTool!G1002&\"_\"&PFS_PFD_SelectionTool!H1002&\"_\"&PFS_PFD_SelectionTool!I1002&\"_\"&PFS_PFD_SelectionTool!J1002),\"\",PFS_PFD_SelectionTool!E1002&\"_\"&PFS_PFD_SelectionTool!F1002&\"_\"&PFS_PFD_SelectionTool!G1002&\"_\"&PFS_PFD_SelectionTool!H1002&\"_\"&PFS_PFD_SelectionTool!I1002&\"_\"&PFS_PFD_SelectionTool!J1002)","v":"_____"},{"$f":"IF(ISBLANK(PFS_PFD_SelectionTool!K1002),\"\",PFS_PFD_SelectionTool!K1002)","v":""},{"$f":"VLOOKUP(D986,Tabelle1!A:B,2,FALSE)","v":{"$error":"#N/A"}},{"$f":"IF(ISBLANK(PFS_PFD_SelectionTool!N1027),\"\",PFS_PFD_SelectionTool!N1027)","v":""},{"$f":"IF(ISBLANK(PFS_PFD_SelectionTool!O1027),\"\",PFS_PFD_SelectionTool!O1027)","v":""}]
[{"$f":"IF(ISBLANK(PFS_PFD_SelectionTool!C1003),\"\",PFS_PFD_SelectionTool!C1003)","v":""},{"$f":"IF(ISBLANK(PFS_PFD_SelectionTool!D1003),\"\",PFS_PFD_SelectionTool!D1003)","v":""},{"$f":"IF(ISBLANK(PFS_PFD_SelectionTool!E1003&\"_\"&PFS_PFD_SelectionTool!F1003&\"_\"&PFS_PFD_SelectionTool!G1003&\"_\"&PFS_PFD_SelectionTool!H1003&\"_\"&PFS_PFD_SelectionTool!I1003&\"_\"&PFS_PFD_SelectionTool!J1003),\"\",PFS_PFD_SelectionTool!E1003&\"_\"&PFS_PFD_SelectionTool!F1003&\"_\"&PFS_PFD_SelectionTool!G1003&\"_\"&PFS_PFD_SelectionTool!H1003&\"_\"&PFS_PFD_SelectionTool!I1003&\"_\"&PFS_PFD_SelectionTool!J1003)","v":"_____"},{"$f":"IF(ISBLANK(PFS_PFD_SelectionTool!K1003),\"\",PFS_PFD_SelectionTool!K1003)","v":""},{"$f":"VLOOKUP(D987,Tabelle1!A:B,2,FALSE)","v":{"$error":"#N/A"}},{"$f":"IF(ISBLANK(PFS_PFD_SelectionTool!N1028),\"\",PFS_PFD_SelectionTool!N1028)","v":""},{"$f":"IF(ISBLANK(PFS_PFD_SelectionTool!O1028),\"\",PFS_PFD_SelectionTool!O1028)","v":""}]
[{"$f":"IF(ISBLANK(PFS_PFD_SelectionTool!C1004),\"\",PFS_PFD_SelectionTool!C1004)","v":""},{"$f":"IF(ISBLANK(PFS_PFD_SelectionTool!D1004),\"\",PFS_PFD_SelectionTool!D1004)","v":""},{"$f":"IF(ISBLANK(PFS_PFD_SelectionTool!E1004&\"_\"&PFS_PFD_SelectionTool!F1004&\"_\"&PFS_PFD_SelectionTool!G1004&\"_\"&PFS_PFD_SelectionTool!H1004&\"_\"&PFS_PFD_SelectionTool!I1004&\"_\"&PFS_PFD_SelectionTool!J1004),\"\",PFS_PFD_SelectionTool!E1004&\"_\"&PFS_PFD_SelectionTool!F1004&\"_\"&PFS_PFD_SelectionTool!G1004&\"_\"&PFS_PFD_SelectionTool!H1004&\"_\"&PFS_PFD_SelectionTool!I1004&\"_\"&PFS_PFD_SelectionTool!J1004)","v":"_____"},{"$f":"IF(ISBLANK(PFS_PFD_SelectionTool!K1004),\"\",PFS_PFD_SelectionTool!K1004)","v":""},{"$f":"VLOOKUP(D988,Tabelle1!A:B,2,FALSE)","v":{"$error":"#N/A"}},{"$f":"IF(ISBLANK(PFS_PFD_SelectionTool!N1029),\"\",PFS_PFD_SelectionTool!N1029)","v":""},{"$f":"IF(ISBLANK(PFS_PFD_SelectionTool!O1029),\"\",PFS_PFD_SelectionTool!O1029)","v":""}]
[{"$f":"IF(ISBLANK(PFS_PFD_SelectionTool!C1005),\"\",PFS_PFD_SelectionTool!C1005)","v":""},{"$f":"IF(ISBLANK(PFS_PFD_SelectionTool!D1005),\"\",PFS_PFD_SelectionTool!D1005)","v":""},{"$f":"IF(ISBLANK(PFS_PFD_SelectionTool!E1005&\"_\"&PFS_PFD_SelectionTool!F1005&\"_\"&PFS_PFD_SelectionTool!G1005&\"_\"&PFS_PFD_SelectionTool!H1005&\"_\"&PFS_PFD_SelectionTool!I1005&\"_\"&PFS_PFD_SelectionTool!J1005),\"\",PFS_PFD_SelectionTool!E1005&\"_\"&PFS_PFD_SelectionTool!F1005&\"_\"&PFS_PFD_SelectionTool!G1005&\"_\"&PFS_PFD_SelectionTool!H1005&\"_\"&PFS_PFD_SelectionTool!I1005&\"_\"&PFS_PFD_SelectionTool!J1005)","v":"_____"},{"$f":"IF(ISBLANK(PFS_PFD_SelectionTool!K1005),\"\",PFS_PFD_SelectionTool!K1005)","v":""},{"$f":"VLOOKUP(D989,Tabelle1!A:B,2,FALSE)","v":{"$error":"#N/A"}},{"$f":"IF(ISBLANK(PFS_PFD_SelectionTool!N1030),\"\",PFS_PFD_SelectionTool!N1030)","v":""},{"$f":"IF(ISBLANK(PFS_PFD_SelectionTool!O1030),\"\",PFS_PFD_SelectionTool!O1030)","v":""}]
[{"$f":"IF(ISBLANK(PFS_PFD_SelectionTool!C1006),\"\",PFS_PFD_SelectionTool!C1006)","v":""},{"$f":"IF(ISBLANK(PFS_PFD_SelectionTool!D1006),\"\",PFS_PFD_SelectionTool!D1006)","v":""},{"$f":"IF(ISBLANK(PFS_PFD_SelectionTool!E1006&\"_\"&PFS_PFD_SelectionTool!F1006&\"_\"&PFS_PFD_SelectionTool!G1006&\"_\"&PFS_PFD_SelectionTool!H1006&\"_\"&PFS_PFD_SelectionTool!I1006&\"_\"&PFS_PFD_SelectionTool!J1006),\"\",PFS_PFD_SelectionTool!E1006&\"_\"&PFS_PFD_SelectionTool!F1006&\"_\"&PFS_PFD_SelectionTool!G1006&\"_\"&PFS_PFD_SelectionTool!H1006&\"_\"&PFS_PFD_SelectionTool!I1006&\"_\"&PFS_PFD_SelectionTool!J1006)","v":"_____"},{"$f":"IF(ISBLANK(PFS_PFD_SelectionTool!K1006),\"\",PFS_PFD_SelectionTool!K1006)","v":""},{"$f":"VLOOKUP(D990,Tabelle1!A:B,2,FALSE)","v":{"$error":"#N/A"}},{"$f":"IF(ISBLANK(PFS_PFD_SelectionTool!N1031),\"\",PFS_PFD_SelectionTool!N1031)","v":""},{"$f":"IF(ISBLANK(PFS_PFD_SelectionTool!O1031),\"\",PFS_PFD_SelectionTool!O1031)","v":""}]
[{"$f":"IF(ISBLANK(PFS_PFD_SelectionTool!C1007),\"\",PFS_PFD_SelectionTool!C1007)","v":""},{"$f":"IF(ISBLANK(PFS_PFD_SelectionTool!D1007),\"\",PFS_PFD_SelectionTool!D1007)","v":""},{"$f":"IF(ISBLANK(PFS_PFD_SelectionTool!E1007&\"_\"&PFS_PFD_SelectionTool!F1007&\"_\"&PFS_PFD_SelectionTool!G1007&\"_\"&PFS_PFD_SelectionTool!H1007&\"_\"&PFS_PFD_SelectionTool!I1007&\"_\"&PFS_PFD_SelectionTool!J1007),\"\",PFS_PFD_SelectionTool!E1007&\"_\"&PFS_PFD_SelectionTool!F1007&\"_\"&PFS_PFD_SelectionTool!G1007&\"_\"&PFS_PFD_SelectionTool!H1007&\"_\"&PFS_PFD_SelectionTool!I1007&\"_\"&PFS_PFD_SelectionTool!J1007)","v":"_____"},{"$f":"IF(ISBLANK(PFS_PFD_SelectionTool!K1007),\"\",PFS_PFD_SelectionTool!K1007)","v":""},{"$f":"VLOOKUP(D991,Tabelle1!A:B,2,FALSE)","v":{"$error":"#N/A"}},{"$f":"IF(ISBLANK(PFS_PFD_SelectionTool!N1032),\"\",PFS_PFD_SelectionTool!N1032)","v":""},{"$f":"IF(ISBLANK(PFS_PFD_SelectionTool!O1032),\"\",PFS_PFD_SelectionTool!O1032)","v":""}]
[{"$f":"IF(ISBLANK(PFS_PFD_SelectionTool!C1008),\"\",PFS_PFD_SelectionTool!C1008)","v":""},{"$f":"IF(ISBLANK(PFS_PFD_SelectionTool!D1008),\"\",PFS_PFD_SelectionTool!D1008)","v":""},{"$f":"IF(ISBLANK(PFS_PFD_SelectionTool!E1008&\"_\"&PFS_PFD_SelectionTool!F1008&\"_\"&PFS_PFD_SelectionTool!G1008&\"_\"&PFS_PFD_SelectionTool!H1008&\"_\"&PFS_PFD_SelectionTool!I1008&\"_\"&PFS_PFD_SelectionTool!J1008),\"\",PFS_PFD_SelectionTool!E1008&\"_\"&PFS_PFD_SelectionTool!F1008&\"_\"&PFS_PFD_SelectionTool!G1008&\"_\"&PFS_PFD_SelectionTool!H1008&\"_\"&PFS_PFD_SelectionTool!I1008&\"_\"&PFS_PFD_SelectionTool!J1008)","v":"_____"},{"$f":"IF(ISBLANK(PFS_PFD_SelectionTool!K1008),\"\",PFS_PFD_SelectionTool!K1008)","v":""},{"$f":"VLOOKUP(D992,Tabelle1!A:B,2,FALSE)","v":{"$error":"#N/A"}},{"$f":"IF(ISBLANK(PFS_PFD_SelectionTool!N1033),\"\",PFS_PFD_SelectionTool!N1033)","v":""},{"$f":"IF(ISBLANK(PFS_PFD_SelectionTool!O1033),\"\",PFS_PFD_SelectionTool!O1033)","v":""}]
[{"$f":"IF(ISBLANK(PFS_PFD_SelectionTool!C1009),\"\",PFS_PFD_SelectionTool!C1009)","v":""},{"$f":"IF(ISBLANK(PFS_PFD_SelectionTool!D1009),\"\",PFS_PFD_SelectionTool!D1009)","v":""},{"$f":"IF(ISBLANK(PFS_PFD_SelectionTool!E1009&\"_\"&PFS_PFD_SelectionTool!F1009&\"_\"&PFS_PFD_SelectionTool!G1009&\"_\"&PFS_PFD_SelectionTool!H1009&\"_\"&PFS_PFD_SelectionTool!I1009&\"_\"&PFS_PFD_SelectionTool!J1009),\"\",PFS_PFD_SelectionTool!E1009&\"_\"&PFS_PFD_SelectionTool!F1009&\"_\"&PFS_PFD_SelectionTool!G1009&\"_\"&PFS_PFD_SelectionTool!H1009&\"_\"&PFS_PFD_SelectionTool!I1009&\"_\"&PFS_PFD_SelectionTool!J1009)","v":"_____"},{"$f":"IF(ISBLANK(PFS_PFD_SelectionTool!K1009),\"\",PFS_PFD_SelectionTool!K1009)","v":""},{"$f":"VLOOKUP(D993,Tabelle1!A:B,2,FALSE)","v":{"$error":"#N/A"}},{"$f":"IF(ISBLANK(PFS_PFD_SelectionTool!N1034),\"\",PFS_PFD_SelectionTool!N1034)","v":""},{"$f":"IF(ISBLANK(PFS_PFD_SelectionTool!O1034),\"\",PFS_PFD_SelectionTool!O1034)","v":""}]
[{"$f":"IF(ISBLANK(PFS_PFD_SelectionTool!C1010),\"\",PFS_PFD_SelectionTool!C1010)","v":""},{"$f":"IF(ISBLANK(PFS_PFD_SelectionTool!D1010),\"\",PFS_PFD_SelectionTool!D1010)","v":""},{"$f":"IF(ISBLANK(PFS_PFD_SelectionTool!E1010&\"_\"&PFS_PFD_SelectionTool!F1010&\"_\"&PFS_PFD_SelectionTool!G1010&\"_\"&PFS_PFD_SelectionTool!H1010&\"_\"&PFS_PFD_SelectionTool!I1010&\"_\"&PFS_PFD_SelectionTool!J1010),\"\",PFS_PFD_SelectionTool!E1010&\"_\"&PFS_PFD_SelectionTool!F1010&\"_\"&PFS_PFD_SelectionTool!G1010&\"_\"&PFS_PFD_SelectionTool!H1010&\"_\"&PFS_PFD_SelectionTool!I1010&\"_\"&PFS_PFD_SelectionTool!J1010)","v":"_____"},{"$f":"IF(ISBLANK(PFS_PFD_SelectionTool!K1010),\"\",PFS_PFD_SelectionTool!K1010)","v":""},{"$f":"VLOOKUP(D994,Tabelle1!A:B,2,FALSE)","v":{"$error":"#N/A"}},{"$f":"IF(ISBLANK(PFS_PFD_SelectionTool!N1035),\"\",PFS_PFD_SelectionTool!N1035)","v":""},{"$f":"IF(ISBLANK(PFS_PFD_SelectionTool!O1035),\"\",PFS_PFD_SelectionTool!O1035)","v":""}]
[{"$f":"IF(ISBLANK(PFS_PFD_SelectionTool!C1011),\"\",PFS_PFD_SelectionTool!C1011)","v":""},{"$f":"IF(ISBLANK(PFS_PFD_SelectionTool!D1011),\"\",PFS_PFD_SelectionTool!D1011)","v":""},{"$f":"IF(ISBLANK(PFS_PFD_SelectionTool!E1011&\"_\"&PFS_PFD_SelectionTool!F1011&\"_\"&PFS_PFD_SelectionTool!G1011&\"_\"&PFS_PFD_SelectionTool!H1011&\"_\"&PFS_PFD_SelectionTool!I1011&\"_\"&PFS_PFD_SelectionTool!J1011),\"\",PFS_PFD_SelectionTool!E1011&\"_\"&PFS_PFD_SelectionTool!F1011&\"_\"&PFS_PFD_SelectionTool!G1011&\"_\"&PFS_PFD_SelectionTool!H1011&\"_\"&PFS_PFD_SelectionTool!I1011&\"_\"&PFS_PFD_SelectionTool!J1011)","v":"_____"},{"$f":"IF(ISBLANK(PFS_PFD_SelectionTool!K1011),\"\",PFS_PFD_SelectionTool!K1011)","v":""},{"$f":"VLOOKUP(D995,Tabelle1!A:B,2,FALSE)","v":{"$error":"#N/A"}},{"$f":"IF(ISBLANK(PFS_PFD_SelectionTool!N1036),\"\",PFS_PFD_SelectionTool!N1036)","v":""},{"$f":"IF(ISBLANK(PFS_PFD_SelectionTool!O1036),\"\",PFS_PFD_SelectionTool!O1036)","v":""}]
[{"$f":"IF(ISBLANK(PFS_PFD_SelectionTool!C1012),\"\",PFS_PFD_SelectionTool!C1012)","v":""},{"$f":"IF(ISBLANK(PFS_PFD_SelectionTool!D1012),\"\",PFS_PFD_SelectionTool!D1012)","v":""},{"$f":"IF(ISBLANK(PFS_PFD_SelectionTool!E1012&\"_\"&PFS_PFD_SelectionTool!F1012&\"_\"&PFS_PFD_SelectionTool!G1012&\"_\"&PFS_PFD_SelectionTool!H1012&\"_\"&PFS_PFD_SelectionTool!I1012&\"_\"&PFS_PFD_SelectionTool!J1012),\"\",PFS_PFD_SelectionTool!E1012&\"_\"&PFS_PFD_SelectionTool!F1012&\"_\"&PFS_PFD_SelectionTool!G1012&\"_\"&PFS_PFD_SelectionTool!H1012&\"_\"&PFS_PFD_SelectionTool!I1012&\"_\"&PFS_PFD_SelectionTool!J1012)","v":"_____"},{"$f":"IF(ISBLANK(PFS_PFD_SelectionTool!K1012),\"\",PFS_PFD_SelectionTool!K1012)","v":""},{"$f":"VLOOKUP(D996,Tabelle1!A:B,2,FALSE)","v":{"$error":"#N/A"}},{"$f":"IF(ISBLANK(PFS_PFD_SelectionTool!N1037),\"\",PFS_PFD_SelectionTool!N1037)","v":""},{"$f":"IF(ISBLANK(PFS_PFD_SelectionTool!O1037),\"\",PFS_PFD_SelectionTool!O1037)","v":""}]
[{"$f":"IF(ISBLANK(PFS_PFD_SelectionTool!C1013),\"\",PFS_PFD_SelectionTool!C1013)","v":""},{"$f":"IF(ISBLANK(PFS_PFD_SelectionTool!D1013),\"\",PFS_PFD_SelectionTool!D1013)","v":""},{"$f":"IF(ISBLANK(PFS_PFD_SelectionTool!E1013&\"_\"&PFS_PFD_SelectionTool!F1013&\"_\"&PFS_PFD_SelectionTool!G1013&\"_\"&PFS_PFD_SelectionTool!H1013&\"_\"&PFS_PFD_SelectionTool!I1013&\"_\"&PFS_PFD_SelectionTool!J1013),\"\",PFS_PFD_SelectionTool!E1013&\"_\"&PFS_PFD_SelectionTool!F1013&\"_\"&PFS_PFD_SelectionTool!G1013&\"_\"&PFS_PFD_SelectionTool!H1013&\"_\"&PFS_PFD_SelectionTool!I1013&\"_\"&PFS_PFD_SelectionTool!J1013)","v":"_____"},{"$f":"IF(ISBLANK(PFS_PFD_SelectionTool!K1013),\"\",PFS_PFD_SelectionTool!K1013)","v":""},{"$f":"VLOOKUP(D997,Tabelle1!A:B,2,FALSE)","v":{"$error":"#N/A"}},{"$f":"IF(ISBLANK(PFS_PFD_SelectionTool!N1038),\"\",PFS_PFD_SelectionTool!N1038)","v":""},{"$f":"IF(ISBLANK(PFS_PFD_SelectionTool!O1038),\"\",PFS_PFD_SelectionTool!O1038)","v":""}]
[{"$f":"IF(ISBLANK(PFS_PFD_SelectionTool!C1014),\"\",PFS_PFD_SelectionTool!C1014)","v":""},{"$f":"IF(ISBLANK(PFS_PFD_SelectionTool!D1014),\"\",PFS_PFD_SelectionTool!D1014)","v":""},{"$f":"IF(ISBLANK(PFS_PFD_SelectionTool!E1014&\"_\"&PFS_PFD_SelectionTool!F1014&\"_\"&PFS_PFD_SelectionTool!G1014&\"_\"&PFS_PFD_SelectionTool!H1014&\"_\"&PFS_PFD_SelectionTool!I1014&\"_\"&PFS_PFD_SelectionTool!J1014),\"\",PFS_PFD_SelectionTool!E1014&\"_\"&PFS_PFD_SelectionTool!F1014&\"_\"&PFS_PFD_SelectionTool!G1014&\"_\"&PFS_PFD_SelectionTool!H1014&\"_\"&PFS_PFD_SelectionTool!I1014&\"_\"&PFS_PFD_SelectionTool!J1014)","v":"_____"},{"$f":"IF(ISBLANK(PFS_PFD_SelectionTool!K1014),\"\",PFS_PFD_SelectionTool!K1014)","v":""},{"$f":"VLOOKUP(D998,Tabelle1!A:B,2,FALSE)","v":{"$error":"#N/A"}},{"$f":"IF(ISBLANK(PFS_PFD_SelectionTool!N1039),\"\",PFS_PFD_SelectionTool!N1039)","v":""},{"$f":"IF(ISBLANK(PFS_PFD_SelectionTool!O1039),\"\",PFS_PFD_SelectionTool!O1039)","v":""}]
[{"$f":"IF(ISBLANK(PFS_PFD_SelectionTool!C1015),\"\",PFS_PFD_SelectionTool!C1015)","v":""},{"$f":"IF(ISBLANK(PFS_PFD_SelectionTool!D1015),\"\",PFS_PFD_SelectionTool!D1015)","v":""},{"$f":"IF(ISBLANK(PFS_PFD_SelectionTool!E1015&\"_\"&PFS_PFD_SelectionTool!F1015&\"_\"&PFS_PFD_SelectionTool!G1015&\"_\"&PFS_PFD_SelectionTool!H1015&\"_\"&PFS_PFD_SelectionTool!I1015&\"_\"&PFS_PFD_SelectionTool!J1015),\"\",PFS_PFD_SelectionTool!E1015&\"_\"&PFS_PFD_SelectionTool!F1015&\"_\"&PFS_PFD_SelectionTool!G1015&\"_\"&PFS_PFD_SelectionTool!H1015&\"_\"&PFS_PFD_SelectionTool!I1015&\"_\"&PFS_PFD_SelectionTool!J1015)","v":"_____"},{"$f":"IF(ISBLANK(PFS_PFD_SelectionTool!K1015),\"\",PFS_PFD_SelectionTool!K1015)","v":""},{"$f":"VLOOKUP(D999,Tabelle1!A:B,2,FALSE)","v":{"$error":"#N/A"}},{"$f":"IF(ISBLANK(PFS_PFD_SelectionTool!N1040),\"\",PFS_PFD_SelectionTool!N1040)","v":""},{"$f":"IF(ISBLANK(PFS_PFD_SelectionTool!O1040),\"\",PFS_PFD_SelectionTool!O1040)","v":""}]
[{"$f":"IF(ISBLANK(PFS_PFD_SelectionTool!C1016),\"\",PFS_PFD_SelectionTool!C1016)","v":""},{"$f":"IF(ISBLANK(PFS_PFD_SelectionTool!D1016),\"\",PFS_PFD_SelectionTool!D1016)","v":""},{"$f":"IF(ISBLANK(PFS_PFD_SelectionTool!E1016&\"_\"&PFS_PFD_SelectionTool!F1016&\"_\"&PFS_PFD_SelectionTool!G1016&\"_\"&PFS_PFD_SelectionTool!H1016&\"_\"&PFS_PFD_SelectionTool!I1016&\"_\"&PFS_PFD_SelectionTool!J1016),\"\",PFS_PFD_SelectionTool!E1016&\"_\"&PFS_PFD_SelectionTool!F1016&\"_\"&PFS_PFD_SelectionTool!G1016&\"_\"&PFS_PFD_SelectionTool!H1016&\"_\"&PFS_PFD_SelectionTool!I1016&\"_\"&PFS_PFD_SelectionTool!J1016)","v":"_____"},{"$f":"IF(ISBLANK(PFS_PFD_SelectionTool!K1016),\"\",PFS_PFD_SelectionTool!K1016)","v":""},{"$f":"VLOOKUP(D1000,Tabelle1!A:B,2,FALSE)","v":{"$error":"#N/A"}},{"$f":"IF(ISBLANK(PFS_PFD_SelectionTool!N1041),\"\",PFS_PFD_SelectionTool!N1041)","v":""},{"$f":"IF(ISBLANK(PFS_PFD_SelectionTool!O1041),\"\",PFS_PFD_SelectionTool!O1041)","v":""}]

{"sheet":"BCU400","index":5,"n_rows":1000,"n_cols":7,"rows_kept":1000,"cut":false,"hidden":false,"merged":[]}
["ID_OLD","TXT_OLD","PARASET_NO","ID_NEW","TXT_NEW","Hinweis","Remark"]
[{"$f":"IF(ISBLANK(BCU400_Database!B2),\"\",BCU400_Database!B2)","v":84631861},{"$f":"IF(ISBLANK(BCU400_Database!C2),\"\",BCU400_Database!C2)","v":"BCU 460-3/2WGBS2B1/1"},{"$f":"IF(ISBLANK(BCU400_Database!D2),\"\",BCU400_Database!D2)","v":"P00006"},{"$f":"IF(ISBLANK(BCU400_Database!E2),\"\",BCU400_Database!E2)","v":88610001},{"$f":"B2","v":"BCU 460-3/2WGBS2B1/1"}]
[{"$f":"IF(ISBLANK(BCU400_Database!B3),\"\",BCU400_Database!B3)","v":84631800},{"$f":"IF(ISBLANK(BCU400_Database!C3),\"\",BCU400_Database!C3)","v":"BCU 465-5/1LW3GBS3AB1/1"},{"$f":"IF(ISBLANK(BCU400_Database!D3),\"\",BCU400_Database!D3)","v":"P00107"},{"$f":"IF(ISBLANK(BCU400_Database!E3),\"\",BCU400_Database!E3)","v":88610002},{"$f":"B3","v":"BCU 465-5/1LW3GBS3AB1/1"}]
[{"$f":"IF(ISBLANK(BCU400_Database!B4),\"\",BCU400_Database!B4)","v":84631533},{"$f":"IF(ISBLANK(BCU400_Database!C4),\"\",BCU400_Database!C4)","v":"BCU 460-3/1LW3GBB1/1"},{"$f":"IF(ISBLANK(BCU400_Database!D4),\"\",BCU400_Database!D4)","v":"P00001"},{"$f":"IF(ISBLANK(BCU400_Database!E4),\"\",BCU400_Database!E4)","v":88610003},"BCU 460-3/1LW3GBB1/1"]
[{"$f":"IF(ISBLANK(BCU400_Database!B5),\"\",BCU400_Database!B5)","v":84631702},{"$f":"IF(ISBLANK(BCU400_Database!C5),\"\",BCU400_Database!C5)","v":"BCU 460-3/1LW3GBS2B1/1"},{"$f":"IF(ISBLANK(BCU400_Database!D5),\"\",BCU400_Database!D5)","v":"P00001"},{"$f":"IF(ISBLANK(BCU400_Database!E5),\"\",BCU400_Database!E5)","v":88610004},"BCU 460-3/1LW3GBS2B1/1"]
[{"$f":"IF(ISBLANK(BCU400_Database!B6),\"\",BCU400_Database!B6)","v":84630261},{"$f":"IF(ISBLANK(BCU400_Database!C6),\"\",BCU400_Database!C6)","v":"BCU 460-3/1LW3GB"},{"$f":"IF(ISBLANK(BCU400_Database!D6),\"\",BCU400_Database!D6)","v":"P00001"},{"$f":"IF(ISBLANK(BCU400_Database!E6),\"\",BCU400_Database!E6)","v":88610005},"BCU 460-3/1LW3GB"]
[{"$f":"IF(ISBLANK(BCU400_Database!B7),\"\",BCU400_Database!B7)","v":84630260},{"$f":"IF(ISBLANK(BCU400_Database!C7),\"\",BCU400_Database!C7)","v":"BCU 460-3/1W3GB"},{"$f":"IF(ISBLANK(BCU400_Database!D7),\"\",BCU400_Database!D7)","v":"P00001"},{"$f":"IF(ISBLANK(BCU400_Database!E7),\"\",BCU400_Database!E7)","v":88610011},"BCU 460-3/1W3GB"]
[{"$f":"IF(ISBLANK(BCU400_Database!B8),\"\",BCU400_Database!B8)","v":84631743},{"$f":"IF(ISBLANK(BCU400_Database!C8),\"\",BCU400_Database!C8)","v":"BCU 465-5/1LW3GBS4ACB1/1"},{"$f":"IF(ISBLANK(BCU400_Database!D8),\"\",BCU400_Database!D8)","v":"P00073"},{"$f":"IF(ISBLANK(BCU400_Database!E8),\"\",BCU400_Database!E8)","v":88610012},"BCU 465-5/1LW3GBS4ACB1/1"]
[{"$f":"IF(ISBLANK(BCU400_Database!B9),\"\",BCU400_Database!B9)","v":84630463},{"$f":"IF(ISBLANK(BCU400_Database!C9),\"\",BCU400_Database!C9)","v":"BCU 460-10/1LW3GBP"},{"$f":"IF(ISBLANK(BCU400_Database!D9),\"\",BCU400_Database!D9)","v":"P00080"},{"$f":"IF(ISBLANK(BCU400_Database!E9),\"\",BCU400_Database!E9)","v":88610013},"BCU 460-10/1LW3GBP"]
[{"$f":"IF(ISBLANK(BCU400_Database!B10),\"\",BCU400_Database!B10)","v":84631743},{"$f":"IF(ISBLANK(BCU400_Database!C10),\"\",BCU400_Database!C10)","v":"BCU 465-5/1LW3GBS4ACB1/1"},{"$f":"IF(ISBLANK(BCU400_Database!D10),\"\",BCU400_Database!D10)","v":"P00107"},{"$f":"IF(ISBLANK(BCU400_Database!E10),\"\",BCU400_Database!E10)","v":88610014},"BCU 465-5/1LW3GBS4ACB1/1"]
[{"$f":"IF(ISBLANK(BCU400_Database!B11),\"\",BCU400_Database!B11)","v":84631777},{"$f":"IF(ISBLANK(BCU400_Database!C11),\"\",BCU400_Database!C11)","v":"BCU 460-3/2W8GBS2B1/1"},{"$f":"IF(ISBLANK(BCU400_Database!D11),\"\",BCU400_Database!D11)","v":"P00039"},{"$f":"IF(ISBLANK(BCU400_Database!E11),\"\",BCU400_Database!E11)","v":88610015},"BCU 460-3/2W8GBS2B1/1"]
[{"$f":"IF(ISBLANK(BCU400_Database!B12),\"\",BCU400_Database!B12)","v":84631742},{"$f":"IF(ISBLANK(BCU400_Database!C12),\"\",BCU400_Database!C12)","v":"BCU 460-3/2LW8GBB1/1"},{"$f":"IF(ISBLANK(BCU400_Database!D12),\"\",BCU400_Database!D12)","v":"P00223"},{"$f":"IF(ISBLANK(BCU400_Database!E12),\"\",BCU400_Database!E12)","v":88610016},"BCU 460-3/2LW8GBB1/1"]
[{"$f":"IF(ISBLANK(BCU400_Database!B13),\"\",BCU400_Database!B13)","v":84631533},{"$f":"IF(ISBLANK(BCU400_Database!C13),\"\",BCU400_Database!C13)","v":"BCU 460-3/1LW3GBB1/1"},{"$f":"IF(ISBLANK(BCU400_Database!D13),\"\",BCU400_Database!D13)","v":"P00015"},{"$f":"IF(ISBLANK(BCU400_Database!E13),\"\",BCU400_Database!E13)","v":88610017},"BCU 460-3/1LW3GBB1/1"]
[{"$f":"IF(ISBLANK(BCU400_Database!B14),\"\",BCU400_Database!B14)","v":84631408},{"$f":"IF(ISBLANK(BCU400_Database!C14),\"\",BCU400_Database!C14)","v":"BCU 460-3/1W3GBD2"},{"$f":"IF(ISBLANK(BCU400_Database!D14),\"\",BCU400_Database!D14)","v":"P00001"},{"$f":"IF(ISBLANK(BCU400_Database!E14),\"\",BCU400_Database!E14)","v":88610018},"BCU 460-3/1W3GBD2"]
[{"$f":"IF(ISBLANK(BCU400_Database!B15),\"\",BCU400_Database!B15)","v":84630361},{"$f":"IF(ISBLANK(BCU400_Database!C15),\"\",BCU400_Database!C15)","v":"BCU 460-5/1LW3GB"},{"$f":"IF(ISBLANK(BCU400_Database!D15),\"\",BCU400_Database!D15)","v":"P00001"},{"$f":"IF(ISBLANK(BCU400_Database!E15),\"\",BCU400_Database!E15)","v":88610019},"BCU 460-5/1LW3GB"]
[{"$f":"IF(ISBLANK(BCU400_Database!B16),\"\",BCU400_Database!B16)","v":84630350},{"$f":"IF(ISBLANK(BCU400_Database!C16),\"\",BCU400_Database!C16)","v":"BCU 460-5/1W1GB"},{"$f":"IF(ISBLANK(BCU400_Database!D16),\"\",BCU400_Database!D16)","v":"P00001"},{"$f":"IF(ISBLANK(BCU400_Database!E16),\"\",BCU400_Database!E16)","v":88610020},"BCU 460-5/1W1GB"]
[{"$f":"IF(ISBLANK(BCU400_Database!B17),\"\",BCU400_Database!B17)","v":84631622},{"$f":"IF(ISBLANK(BCU400_Database!C17),\"\",BCU400_Database!C17)","v":"BCU 480-5/3/1LW3GBB1/1"},{"$f":"IF(ISBLANK(BCU400_Database!D17),\"\",BCU400_Database!D17)","v":"P00001"},{"$f":"IF(ISBLANK(BCU400_Database!E17),\"\",BCU400_Database!E17)","v":88610021},"BCU 480-5/3/1LW3GBB1/1"]
[{"$f":"IF(ISBLANK(BCU400_Database!B18),\"\",BCU400_Database!B18)","v":84631653},{"$f":"IF(ISBLANK(BCU400_Database!C18),\"\",BCU400_Database!C18)","v":"BCU 460-3/1W3GBS3"},{"$f":"IF(ISBLANK(BCU400_Database!D18),\"\",BCU400_Database!D18)","v":"P00001"},{"$f":"IF(ISBLANK(BCU400_Database!E18),\"\",BCU400_Database!E18)","v":88610022},"BCU 460-3/1W3GBS3"]
[{"$f":"IF(ISBLANK(BCU400_Database!B19),\"\",BCU400_Database!B19)","v":84631757},{"$f":"IF(ISBLANK(BCU400_Database!C19),\"\",BCU400_Database!C19)","v":"BCU 465-3/1LW2GBAB1/1"},{"$f":"IF(ISBLANK(BCU400_Database!D19),\"\",BCU400_Database!D19)","v":"P00103"},{"$f":"IF(ISBLANK(BCU400_Database!E19),\"\",BCU400_Database!E19)","v":88610023},"BCU 465-3/1LW2GBAB1/1"]
[{"$f":"IF(ISBLANK(BCU400_Database!B20),\"\",BCU400_Database!B20)","v":84632065},{"$f":"IF(ISBLANK(BCU400_Database!C20),\"\",BCU400_Database!C20)","v":"BCU 460-3/1LR8GBB1/2"},{"$f":"IF(ISBLANK(BCU400_Database!D20),\"\",BCU400_Database!D20)","v":"P00223"},{"$f":"IF(ISBLANK(BCU400_Database!E20),\"\",BCU400_Database!E20)","v":88610024},"BCU 460-3/1LR8GBB1/2"]
[{"$f":"IF(ISBLANK(BCU400_Database!B21),\"\",BCU400_Database!B21)","v":84630250},{"$f":"IF(ISBLANK(BCU400_Database!C21),\"\",BCU400_Database!C21)","v":"BCU 460-3/1W1GB"},{"$f":"IF(ISBLANK(BCU400_Database!D21),\"\",BCU400_Database!D21)","v":"P00001"},{"$f":"IF(ISBLANK(BCU400_Database!E21),\"\",BCU400_Database!E21)","v":88610025},"BCU 460-3/1W1GB"]
[{"$f":"IF(ISBLANK(BCU400_Database!B22),\"\",BCU400_Database!B22)","v":84632153},{"$f":"IF(ISBLANK(BCU400_Database!C22),\"\",BCU400_Database!C22)","v":"BCU 465-3/1LW8GBS2AB1/2"},{"$f":"IF(ISBLANK(BCU400_Database!D22),\"\",BCU400_Database!D22)","v":"P00170"},{"$f":"IF(ISBLANK(BCU400_Database!E22),\"\",BCU400_Database!E22)","v":88610026},"BCU 465-3/1LW8GBS2AB1/2"]
[{"$f":"IF(ISBLANK(BCU400_Database!B23),\"\",BCU400_Database!B23)","v":84631547},{"$f":"IF(ISBLANK(BCU400_Database!C23),\"\",BCU400_Database!C23)","v":"BCU 480-10/5/1LW3GBCB1/1"},{"$f":"IF(ISBLANK(BCU400_Database!D23),\"\",BCU400_Database!D23)","v":"P00001"},{"$f":"IF(ISBLANK(BCU400_Database!E23),\"\",BCU400_Database!E23)","v":88610027},"BCU 480-10/5/1LW3GBCB1/1"]
[{"$f":"IF(ISBLANK(BCU400_Database!B24),\"\",BCU400_Database!B24)","v":84630360},{"$f":"IF(ISBLANK(BCU400_Database!C24),\"\",BCU400_Database!C24)","v":"BCU 460-5/1W3GB"},{"$f":"IF(ISBLANK(BCU400_Database!D24),\"\",BCU400_Database!D24)","v":"P00001"},{"$f":"IF(ISBLANK(BCU400_Database!E24),\"\",BCU400_Database!E24)","v":88610028},"BCU 460-5/1W3GB"]
[{"$f":"IF(ISBLANK(BCU400_Database!B25),\"\",BCU400_Database!B25)","v":84630060},{"$f":"IF(ISBLANK(BCU400_Database!C25),\"\",BCU400_Database!C25)","v":"BCU 440-5/1W3GB"},{"$f":"IF(ISBLANK(BCU400_Database!D25),\"\",BCU400_Database!D25)","v":"P00006"},{"$f":"IF(ISBLANK(BCU400_Database!E25),\"\",BCU400_Database!E25)","v":88610029},"BCU 440-5/1W3GB"]
[{"$f":"IF(ISBLANK(BCU400_Database!B26),\"\",BCU400_Database!B26)","v":84631797},{"$f":"IF(ISBLANK(BCU400_Database!C26),\"\",BCU400_Database!C26)","v":"BCU 480-5/3/1LW3GBS2/1B1/1"},{"$f":"IF(ISBLANK(BCU400_Database!D26),\"\",BCU400_Database!D26)","v":"P00001"},{"$f":"IF(ISBLANK(BCU400_Database!E26),\"\",BCU400_Database!E26)","v":88610030},"BCU 480-5/3/1LW3GBS2/1B1/1"]
[{"$f":"IF(ISBLANK(BCU400_Database!B27),\"\",BCU400_Database!B27)","v":84632019},{"$f":"IF(ISBLANK(BCU400_Database!C27),\"\",BCU400_Database!C27)","v":"BCU 460-3/1LW8GBB1/2"},{"$f":"IF(ISBLANK(BCU400_Database!D27),\"\",BCU400_Database!D27)","v":"P00223"},{"$f":"IF(ISBLANK(BCU400_Database!E27),\"\",BCU400_Database!E27)","v":88610031},"BCU 460-3/1LW8GBB1/2"]
[{"$f":"IF(ISBLANK(BCU400_Database!B28),\"\",BCU400_Database!B28)","v":84631787},{"$f":"IF(ISBLANK(BCU400_Database!C28),\"\",BCU400_Database!C28)","v":"BCU 465-5/1LW3GBS3ACB1/1"},{"$f":"IF(ISBLANK(BCU400_Database!D28),\"\",BCU400_Database!D28)","v":"P00107"},{"$f":"IF(ISBLANK(BCU400_Database!E28),\"\",BCU400_Database!E28)","v":88610032},"BCU 465-5/1LW3GBS3ACB1/1"]
[{"$f":"IF(ISBLANK(BCU400_Database!B29),\"\",BCU400_Database!B29)","v":84631545},{"$f":"IF(ISBLANK(BCU400_Database!C29),\"\",BCU400_Database!C29)","v":"BCU 460-5/1LW3GBB1/1"},{"$f":"IF(ISBLANK(BCU400_Database!D29),\"\",BCU400_Database!D29)","v":"P00001"},{"$f":"IF(ISBLANK(BCU400_Database!E29),\"\",BCU400_Database!E29)","v":88610033},"BCU 460-5/1LW3GBB1/1"]
[{"$f":"IF(ISBLANK(BCU400_Database!B30),\"\",BCU400_Database!B30)","v":84630050},{"$f":"IF(ISBLANK(BCU400_Database!C30),\"\",BCU400_Database!C30)","v":"BCU 440-5/1W1GB"},{"$f":"IF(ISBLANK(BCU400_Database!D30),\"\",BCU400_Database!D30)","v":"P00001"},{"$f":"IF(ISBLANK(BCU400_Database!E30),\"\",BCU400_Database!E30)","v":88610034},"BCU 440-5/1W1GB"]
[{"$f":"IF(ISBLANK(BCU400_Database!B31),\"\",BCU400_Database!B31)","v":84632129},{"$f":"IF(ISBLANK(BCU400_Database!C31),\"\",BCU400_Database!C31)","v":"BCU 460-3/1LW8GBD3B1/2"},{"$f":"IF(ISBLANK(BCU400_Database!D31),\"\",BCU400_Database!D31)","v":"P00223"},{"$f":"IF(ISBLANK(BCU400_Database!E31),\"\",BCU400_Database!E31)","v":88610035},"BCU 460-3/1LW8GBD3B1/2"]
[{"$f":"IF(ISBLANK(BCU400_Database!B32),\"\",BCU400_Database!B32)","v":84631449},{"$f":"IF(ISBLANK(BCU400_Database!C32),\"\",BCU400_Database!C32)","v":"BCU 460-5/1LW3GBS3B1/1"},{"$f":"IF(ISBLANK(BCU400_Database!D32),\"\",BCU400_Database!D32)","v":"P00145"},{"$f":"IF(ISBLANK(BCU400_Database!E32),\"\",BCU400_Database!E32)","v":88610036},"BCU 460-5/1LW3GBS3B1/1"]
[{"$f":"IF(ISBLANK(BCU400_Database!B33),\"\",BCU400_Database!B33)","v":84630010},{"$f":"IF(ISBLANK(BCU400_Database!C33),\"\",BCU400_Database!C33)","v":"BCU 440-3/1W3GB"},{"$f":"IF(ISBLANK(BCU400_Database!D33),\"\",BCU400_Database!D33)","v":"P00001"},{"$f":"IF(ISBLANK(BCU400_Database!E33),\"\",BCU400_Database!E33)","v":88610037},"BCU 440-3/1W3GB"]
[{"$f":"IF(ISBLANK(BCU400_Database!B34),\"\",BCU400_Database!B34)","v":84630060},{"$f":"IF(ISBLANK(BCU400_Database!C34),\"\",BCU400_Database!C34)","v":"BCU 440-5/1W3GB"},{"$f":"IF(ISBLANK(BCU400_Database!D34),\"\",BCU400_Database!D34)","v":"P00001"},{"$f":"IF(ISBLANK(BCU400_Database!E34),\"\",BCU400_Database!E34)","v":88610038},"BCU 440-5/1W3GB"]
[{"$f":"IF(ISBLANK(BCU400_Database!B35),\"\",BCU400_Database!B35)","v":84632153},{"$f":"IF(ISBLANK(BCU400_Database!C35),\"\",BCU400_Database!C35)","v":"BCU 465-3/1LW8GBS2AB1/2"},{"$f":"IF(ISBLANK(BCU400_Database!D35),\"\",BCU400_Database!D35)","v":"P00176"},{"$f":"IF(ISBLANK(BCU400_Database!E35),\"\",BCU400_Database!E35)","v":88610039},"BCU 465-3/1LW8GBS2AB1/2"]
[{"$f":"IF(ISBLANK(BCU400_Database!B36),\"\",BCU400_Database!B36)","v":84631742},{"$f":"IF(ISBLANK(BCU400_Database!C36),\"\",BCU400_Database!C36)","v":"BCU 460-3/2LW8GBB1/1"},{"$f":"IF(ISBLANK(BCU400_Database!D36),\"\",BCU400_Database!D36)","v":"P00368"},{"$f":"IF(ISBLANK(BCU400_Database!E36),\"\",BCU400_Database!E36)","v":88610040},"BCU 460-3/2LW8GBB1/1"]
[{"$f":"IF(ISBLANK(BCU400_Database!B37),\"\",BCU400_Database!B37)","v":84631506},{"$f":"IF(ISBLANK(BCU400_Database!C37),\"\",BCU400_Database!C37)","v":"BCU 460-3/1W3GBB1/1"},{"$f":"IF(ISBLANK(BCU400_Database!D37),\"\",BCU400_Database!D37)","v":"P00010"},{"$f":"IF(ISBLANK(BCU400_Database!E37),\"\",BCU400_Database!E37)","v":88610041},"BCU 460-3/1W3GBB1/1"]
[{"$f":"IF(ISBLANK(BCU400_Database!B38),\"\",BCU400_Database!B38)","v":84631801},{"$f":"IF(ISBLANK(BCU400_Database!C38),\"\",BCU400_Database!C38)","v":"BCU 460-3/1R3GBD2"},{"$f":"IF(ISBLANK(BCU400_Database!D38),\"\",BCU400_Database!D38)","v":"P00001"},{"$f":"IF(ISBLANK(BCU400_Database!E38),\"\",BCU400_Database!E38)","v":88610042},"BCU 460-3/1R3GBD2"]
[{"$f":"IF(ISBLANK(BCU400_Database!B39),\"\",BCU400_Database!B39)","v":84632077},{"$f":"IF(ISBLANK(BCU400_Database!C39),\"\",BCU400_Database!C39)","v":"BCU 460-5/2W8GBB1/1"},{"$f":"IF(ISBLANK(BCU400_Database!D39),\"\",BCU400_Database!D39)","v":"P00414"},{"$f":"IF(ISBLANK(BCU400_Database!E39),\"\",BCU400_Database!E39)","v":88610043},"BCU 460-5/2W8GBB1/1"]
[{"$f":"IF(ISBLANK(BCU400_Database!B40),\"\",BCU400_Database!B40)","v":84631777},{"$f":"IF(ISBLANK(BCU400_Database!C40),\"\",BCU400_Database!C40)","v":"BCU 460-3/2W8GBS2B1/1"},{"$f":"IF(ISBLANK(BCU400_Database!D40),\"\",BCU400_Database!D40)","v":"P00001"},{"$f":"IF(ISBLANK(BCU400_Database!E40),\"\",BCU400_Database!E40)","v":88610044},"BCU 460-3/2W8GBS2B1/1"]
[{"$f":"IF(ISBLANK(BCU400_Database!B41),\"\",BCU400_Database!B41)","v":84631594},{"$f":"IF(ISBLANK(BCU400_Database!C41),\"\",BCU400_Database!C41)","v":"BCU 460-3/1LW2GBCB1/1"},{"$f":"IF(ISBLANK(BCU400_Database!D41),\"\",BCU400_Database!D41)","v":"P00001"},{"$f":"IF(ISBLANK(BCU400_Database!E41),\"\",BCU400_Database!E41)","v":88610329},"BCU 460-3/1LW2GBCB1/1"]
[{"$f":"IF(ISBLANK(BCU400_Database!B42),\"\",BCU400_Database!B42)","v":84631483},{"$f":"IF(ISBLANK(BCU400_Database!C42),\"\",BCU400_Database!C42)","v":"BCU 460-5/1LW8GBB1/1"},{"$f":"IF(ISBLANK(BCU400_Database!D42),\"\",BCU400_Database!D42)","v":"P00223"},{"$f":"IF(ISBLANK(BCU400_Database!E42),\"\",BCU400_Database!E42)","v":88610046},"BCU 460-5/1LW8GBB1/1"]
[{"$f":"IF(ISBLANK(BCU400_Database!B43),\"\",BCU400_Database!B43)","v":84630055},{"$f":"IF(ISBLANK(BCU400_Database!C43),\"\",BCU400_Database!C43)","v":"BCU 440-5/1W2GB"},{"$f":"IF(ISBLANK(BCU400_Database!D43),\"\",BCU400_Database!D43)","v":"P00001"},{"$f":"IF(ISBLANK(BCU400_Database!E43),\"\",BCU400_Database!E43)","v":88610047},"BCU 440-5/1W2GB"]
[{"$f":"IF(ISBLANK(BCU400_Database!B44),\"\",BCU400_Database!B44)","v":84631744},{"$f":"IF(ISBLANK(BCU400_Database!C44),\"\",BCU400_Database!C44)","v":"BCU 465-5/1LW3GBS2AB1/1"},{"$f":"IF(ISBLANK(BCU400_Database!D44),\"\",BCU400_Database!D44)","v":"P00116"},{"$f":"IF(ISBLANK(BCU400_Database!E44),\"\",BCU400_Database!E44)","v":88610048},"BCU 465-5/1LW3GBS2AB1/1"]
[{"$f":"IF(ISBLANK(BCU400_Database!B45),\"\",BCU400_Database!B45)","v":84630661},{"$f":"IF(ISBLANK(BCU400_Database!C45),\"\",BCU400_Database!C45)","v":"BCU 480-5/3/1LW3GB"},{"$f":"IF(ISBLANK(BCU400_Database!D45),\"\",BCU400_Database!D45)","v":"P00001"},{"$f":"IF(ISBLANK(BCU400_Database!E45),\"\",BCU400_Database!E45)","v":88610049},"BCU 480-5/3/1LW3GB"]
[{"$f":"IF(ISBLANK(BCU400_Database!B46),\"\",BCU400_Database!B46)","v":84631483},{"$f":"IF(ISBLANK(BCU400_Database!C46),\"\",BCU400_Database!C46)","v":"BCU 460-5/1LW8GBB1/1"},{"$f":"IF(ISBLANK(BCU400_Database!D46),\"\",BCU400_Database!D46)","v":"P00001"},{"$f":"IF(ISBLANK(BCU400_Database!E46),\"\",BCU400_Database!E46)","v":88610050},"BCU 460-5/1LW8GBB1/1"]
[{"$f":"IF(ISBLANK(BCU400_Database!B47),\"\",BCU400_Database!B47)","v":84631661},{"$f":"IF(ISBLANK(BCU400_Database!C47),\"\",BCU400_Database!C47)","v":"BCU 460T-5/2LR3B1/1"},{"$f":"IF(ISBLANK(BCU400_Database!D47),\"\",BCU400_Database!D47)","v":"P00044"},{"$f":"IF(ISBLANK(BCU400_Database!E47),\"\",BCU400_Database!E47)","v":88610051},"BCU 460T-5/2LR3B1/1"]
[{"$f":"IF(ISBLANK(BCU400_Database!B48),\"\",BCU400_Database!B48)","v":84631779},{"$f":"IF(ISBLANK(BCU400_Database!C48),\"\",BCU400_Database!C48)","v":"BCU 460-3/1LW8GBB1/1"},{"$f":"IF(ISBLANK(BCU400_Database!D48),\"\",BCU400_Database!D48)","v":"P00223"},{"$f":"IF(ISBLANK(BCU400_Database!E48),\"\",BCU400_Database!E48)","v":88610052},"BCU 460-3/1LW8GBB1/1"]
[{"$f":"IF(ISBLANK(BCU400_Database!B49),\"\",BCU400_Database!B49)","v":84631677},{"$f":"IF(ISBLANK(BCU400_Database!C49),\"\",BCU400_Database!C49)","v":"BCU 460-3/1LW3GBC"},{"$f":"IF(ISBLANK(BCU400_Database!D49),\"\",BCU400_Database!D49)","v":"P00001"},{"$f":"IF(ISBLANK(BCU400_Database!E49),\"\",BCU400_Database!E49)","v":88610053},"BCU 460-3/1LW3GBC"]
[{"$f":"IF(ISBLANK(BCU400_Database!B50),\"\",BCU400_Database!B50)","v":84631757},{"$f":"IF(ISBLANK(BCU400_Database!C50),\"\",BCU400_Database!C50)","v":"BCU 465-3/1LW2GBAB1/1"},{"$f":"IF(ISBLANK(BCU400_Database!D50),\"\",BCU400_Database!D50)","v":"P00087"},{"$f":"IF(ISBLANK(BCU400_Database!E50),\"\",BCU400_Database!E50)","v":88610054},"BCU 465-3/1LW2GBAB1/1"]
[{"$f":"IF(ISBLANK(BCU400_Database!B51),\"\",BCU400_Database!B51)","v":84631757},{"$f":"IF(ISBLANK(BCU400_Database!C51),\"\",BCU400_Database!C51)","v":"BCU 465-3/1LW2GBAB1/1"},{"$f":"IF(ISBLANK(BCU400_Database!D51),\"\",BCU400_Database!D51)","v":"P00023"},{"$f":"IF(ISBLANK(BCU400_Database!E51),\"\",BCU400_Database!E51)","v":88610055},"BCU 465-3/1LW2GBAB1/1"]
[{"$f":"IF(ISBLANK(BCU400_Database!B52),\"\",BCU400_Database!B52)","v":84631354},{"$f":"IF(ISBLANK(BCU400_Database!C52),\"\",BCU400_Database!C52)","v":"BCU 460-5/1LW3GBS3"},{"$f":"IF(ISBLANK(BCU400_Database!D52),\"\",BCU400_Database!D52)","v":"P00221"},{"$f":"IF(ISBLANK(BCU400_Database!E52),\"\",BCU400_Database!E52)","v":88610056},"BCU 460-5/1LW3GBS3"]
[{"$f":"IF(ISBLANK(BCU400_Database!B53),\"\",BCU400_Database!B53)","v":84632036},{"$f":"IF(ISBLANK(BCU400_Database!C53),\"\",BCU400_Database!C53)","v":"BCU 465-5/1LR3GBS3ACB1/1"},{"$f":"IF(ISBLANK(BCU400_Database!D53),\"\",BCU400_Database!D53)","v":"P00135"},{"$f":"IF(ISBLANK(BCU400_Database!E53),\"\",BCU400_Database!E53)","v":88610057},"BCU 465-5/1LR3GBS3ACB1/1"]
[{"$f":"IF(ISBLANK(BCU400_Database!B54),\"\",BCU400_Database!B54)","v":84630351},{"$f":"IF(ISBLANK(BCU400_Database!C54),\"\",BCU400_Database!C54)","v":"BCU 460-5/1LW1GB"},{"$f":"IF(ISBLANK(BCU400_Database!D54),\"\",BCU400_Database!D54)","v":"P00001"},{"$f":"IF(ISBLANK(BCU400_Database!E54),\"\",BCU400_Database!E54)","v":88610058},"BCU 460-5/1LW1GB"]
[{"$f":"IF(ISBLANK(BCU400_Database!B55),\"\",BCU400_Database!B55)","v":84631358},{"$f":"IF(ISBLANK(BCU400_Database!C55),\"\",BCU400_Database!C55)","v":"BCU 460-10/1LW3GBS4"},{"$f":"IF(ISBLANK(BCU400_Database!D55),\"\",BCU400_Database!D55)","v":"P00042"},{"$f":"IF(ISBLANK(BCU400_Database!E55),\"\",BCU400_Database!E55)","v":88610059},"BCU 460-10/1LW3GBS4"]
[{"$f":"IF(ISBLANK(BCU400_Database!B56),\"\",BCU400_Database!B56)","v":84631743},{"$f":"IF(ISBLANK(BCU400_Database!C56),\"\",BCU400_Database!C56)","v":"BCU 465-5/1LW3GBS4ACB1/1"},{"$f":"IF(ISBLANK(BCU400_Database!D56),\"\",BCU400_Database!D56)","v":"P00072"},{"$f":"IF(ISBLANK(BCU400_Database!E56),\"\",BCU400_Database!E56)","v":88610060},"BCU 465-5/1LW3GBS4ACB1/1"]
[{"$f":"IF(ISBLANK(BCU400_Database!B57),\"\",BCU400_Database!B57)","v":84631761},{"$f":"IF(ISBLANK(BCU400_Database!C57),\"\",BCU400_Database!C57)","v":"BCU 460-5/1LW3GBS2B1/1"},{"$f":"IF(ISBLANK(BCU400_Database!D57),\"\",BCU400_Database!D57)","v":"P00153"},{"$f":"IF(ISBLANK(BCU400_Database!E57),\"\",BCU400_Database!E57)","v":88610061},"BCU 460-5/1LW3GBS2B1/1"]
[{"$f":"IF(ISBLANK(BCU400_Database!B58),\"\",BCU400_Database!B58)","v":84631437},{"$f":"IF(ISBLANK(BCU400_Database!C58),\"\",BCU400_Database!C58)","v":"BCU 460T-5/2R3"},{"$f":"IF(ISBLANK(BCU400_Database!D58),\"\",BCU400_Database!D58)","v":"P00044"},{"$f":"IF(ISBLANK(BCU400_Database!E58),\"\",BCU400_Database!E58)","v":88610062},"BCU 460T-5/2R3"]
[{"$f":"IF(ISBLANK(BCU400_Database!B59),\"\",BCU400_Database!B59)","v":84630956},{"$f":"IF(ISBLANK(BCU400_Database!C59),\"\",BCU400_Database!C59)","v":"BCU 480-10/5/1LW2GB"},{"$f":"IF(ISBLANK(BCU400_Database!D59),\"\",BCU400_Database!D59)","v":"P00001"},{"$f":"IF(ISBLANK(BCU400_Database!E59),\"\",BCU400_Database!E59)","v":88610063},"BCU 480-10/5/1LW2GB"]
[{"$f":"IF(ISBLANK(BCU400_Database!B60),\"\",BCU400_Database!B60)","v":84632082},{"$f":"IF(ISBLANK(BCU400_Database!C60),\"\",BCU400_Database!C60)","v":"BCU 460-3/2LW8GBS3B1/1"},{"$f":"IF(ISBLANK(BCU400_Database!D60),\"\",BCU400_Database!D60)","v":"P00057"},{"$f":"IF(ISBLANK(BCU400_Database!E60),\"\",BCU400_Database!E60)","v":88610064},"BCU 460-3/2LW8GBS3B1/1"]
[{"$f":"IF(ISBLANK(BCU400_Database!B61),\"\",BCU400_Database!B61)","v":84631506},{"$f":"IF(ISBLANK(BCU400_Database!C61),\"\",BCU400_Database!C61)","v":"BCU 460-3/1W3GBB1/1"},{"$f":"IF(ISBLANK(BCU400_Database!D61),\"\",BCU400_Database!D61)","v":"P00001"},{"$f":"IF(ISBLANK(BCU400_Database!E61),\"\",BCU400_Database!E61)","v":88610065},"BCU 460-3/1W3GBB1/1"]
[{"$f":"IF(ISBLANK(BCU400_Database!B62),\"\",BCU400_Database!B62)","v":84630481},{"$f":"IF(ISBLANK(BCU400_Database!C62),\"\",BCU400_Database!C62)","v":"BCU 460-10/1LR3GB"},{"$f":"IF(ISBLANK(BCU400_Database!D62),\"\",BCU400_Database!D62)","v":"P00155"},{"$f":"IF(ISBLANK(BCU400_Database!E62),\"\",BCU400_Database!E62)","v":88610066},"BCU 460-10/1LR3GB"]
[{"$f":"IF(ISBLANK(BCU400_Database!B63),\"\",BCU400_Database!B63)","v":84631825},{"$f":"IF(ISBLANK(BCU400_Database!C63),\"\",BCU400_Database!C63)","v":"BCU 480-5/3/1LW3GBD3S2/1B1/1"},{"$f":"IF(ISBLANK(BCU400_Database!D63),\"\",BCU400_Database!D63)","v":"P00001"},{"$f":"IF(ISBLANK(BCU400_Database!E63),\"\",BCU400_Database!E63)","v":88610067},"BCU 480-5/3/1LW3GBD3S2/1B1/1"]
[{"$f":"IF(ISBLANK(BCU400_Database!B64),\"\",BCU400_Database!B64)","v":84630358},{"$f":"IF(ISBLANK(BCU400_Database!C64),\"\",BCU400_Database!C64)","v":"BCU 460-5/1LW2GBP"},{"$f":"IF(ISBLANK(BCU400_Database!D64),\"\",BCU400_Database!D64)","v":"P00001"},{"$f":"IF(ISBLANK(BCU400_Database!E64),\"\",BCU400_Database!E64)","v":88610068},"BCU 460-5/1LW2GBP"]
[{"$f":"IF(ISBLANK(BCU400_Database!B65),\"\",BCU400_Database!B65)","v":84631744},{"$f":"IF(ISBLANK(BCU400_Database!C65),\"\",BCU400_Database!C65)","v":"BCU 465-5/1LW3GBS2AB1/1"},{"$f":"IF(ISBLANK(BCU400_Database!D65),\"\",BCU400_Database!D65)","v":"P00141"},{"$f":"IF(ISBLANK(BCU400_Database!E65),\"\",BCU400_Database!E65)","v":88610069},"BCU 465-5/1LW3GBS2AB1/1"]
[{"$f":"IF(ISBLANK(BCU400_Database!B66),\"\",BCU400_Database!B66)","v":84631545},{"$f":"IF(ISBLANK(BCU400_Database!C66),\"\",BCU400_Database!C66)","v":"BCU 460-5/1LW3GBB1/1"},{"$f":"IF(ISBLANK(BCU400_Database!D66),\"\",BCU400_Database!D66)","v":"P00033"},{"$f":"IF(ISBLANK(BCU400_Database!E66),\"\",BCU400_Database!E66)","v":88610070},"BCU 460-5/1LW3GBB1/1"]
[{"$f":"IF(ISBLANK(BCU400_Database!B67),\"\",BCU400_Database!B67)","v":84631422},{"$f":"IF(ISBLANK(BCU400_Database!C67),\"\",BCU400_Database!C67)","v":"BCU 460-5/1LW3GBS2"},{"$f":"IF(ISBLANK(BCU400_Database!D67),\"\",BCU400_Database!D67)","v":"P00001"},{"$f":"IF(ISBLANK(BCU400_Database!E67),\"\",BCU400_Database!E67)","v":88610071},{"$f":"B67","v":"BCU 460-5/1LW3GBS2"}]
[{"$f":"IF(ISBLANK(BCU400_Database!B68),\"\",BCU400_Database!B68)","v":84631682},{"$f":"IF(ISBLANK(BCU400_Database!C68),\"\",BCU400_Database!C68)","v":"BCU 460-5/1LW3GBD3S2B1/1"},{"$f":"IF(ISBLANK(BCU400_Database!D68),\"\",BCU400_Database!D68)","v":"P00001"},{"$f":"IF(ISBLANK(BCU400_Database!E68),\"\",BCU400_Database!E68)","v":88610072},"BCU 460-5/1LW3GBD3S2B1/1"]
[{"$f":"IF(ISBLANK(BCU400_Database!B69),\"\",BCU400_Database!B69)","v":84632019},{"$f":"IF(ISBLANK(BCU400_Database!C69),\"\",BCU400_Database!C69)","v":"BCU 460-3/1LW8GBB1/2"},{"$f":"IF(ISBLANK(BCU400_Database!D69),\"\",BCU400_Database!D69)","v":"P00376"},{"$f":"IF(ISBLANK(BCU400_Database!E69),\"\",BCU400_Database!E69)","v":88610073},"BCU 460-3/1LW8GBB1/2"]
[{"$f":"IF(ISBLANK(BCU400_Database!B70),\"\",BCU400_Database!B70)","v":84631909},{"$f":"IF(ISBLANK(BCU400_Database!C70),\"\",BCU400_Database!C70)","v":"BCU 460-5/1LW1GBS2C"},{"$f":"IF(ISBLANK(BCU400_Database!D70),\"\",BCU400_Database!D70)","v":"P00001"},{"$f":"IF(ISBLANK(BCU400_Database!E70),\"\",BCU400_Database!E70)","v":88610074},"BCU 460-5/1LW1GBS2C"]
[{"$f":"IF(ISBLANK(BCU400_Database!B71),\"\",BCU400_Database!B71)","v":84631673},{"$f":"IF(ISBLANK(BCU400_Database!C71),\"\",BCU400_Database!C71)","v":"BCU 460-5/1LW3GBCB1/1"},{"$f":"IF(ISBLANK(BCU400_Database!D71),\"\",BCU400_Database!D71)","v":"P00001"},{"$f":"IF(ISBLANK(BCU400_Database!E71),\"\",BCU400_Database!E71)","v":88610075},"BCU 460-5/1LW3GBCB1/1"]
[{"$f":"IF(ISBLANK(BCU400_Database!B72),\"\",BCU400_Database!B72)","v":84631617},{"$f":"IF(ISBLANK(BCU400_Database!C72),\"\",BCU400_Database!C72)","v":"BCU 465-5/1LW3GBS4A"},{"$f":"IF(ISBLANK(BCU400_Database!D72),\"\",BCU400_Database!D72)","v":"P00041"},{"$f":"IF(ISBLANK(BCU400_Database!E72),\"\",BCU400_Database!E72)","v":88610076},"BCU 465-5/1LW3GBS4A"]
[{"$f":"IF(ISBLANK(BCU400_Database!B73),\"\",BCU400_Database!B73)","v":84631761},{"$f":"IF(ISBLANK(BCU400_Database!C73),\"\",BCU400_Database!C73)","v":"BCU 460-5/1LW3GBS2B1/1"},{"$f":"IF(ISBLANK(BCU400_Database!D73),\"\",BCU400_Database!D73)","v":"P00001"},{"$f":"IF(ISBLANK(BCU400_Database!E73),\"\",BCU400_Database!E73)","v":88610077},"BCU 460-5/1LW3GBS2B1/1"]
[{"$f":"IF(ISBLANK(BCU400_Database!B74),\"\",BCU400_Database!B74)","v":84630460},{"$f":"IF(ISBLANK(BCU400_Database!C74),\"\",BCU400_Database!C74)","v":"BCU 460-10/1W3GB"},{"$f":"IF(ISBLANK(BCU400_Database!D74),\"\",BCU400_Database!D74)","v":"P00001"},{"$f":"IF(ISBLANK(BCU400_Database!E74),\"\",BCU400_Database!E74)","v":88610078},"BCU 460-10/1W3GB"]
[{"$f":"IF(ISBLANK(BCU400_Database!B75),\"\",BCU400_Database!B75)","v":84632119},{"$f":"IF(ISBLANK(BCU400_Database!C75),\"\",BCU400_Database!C75)","v":"BCU 465T-10/2LR8D2OC"},{"$f":"IF(ISBLANK(BCU400_Database!D75),\"\",BCU400_Database!D75)","v":"P00025"},{"$f":"IF(ISBLANK(BCU400_Database!E75),\"\",BCU400_Database!E75)","v":88610079},"BCU 465T-10/2LR8D2OC"]
[{"$f":"IF(ISBLANK(BCU400_Database!B76),\"\",BCU400_Database!B76)","v":84631743},{"$f":"IF(ISBLANK(BCU400_Database!C76),\"\",BCU400_Database!C76)","v":"BCU 465-5/1LW3GBS4ACB1/1"},{"$f":"IF(ISBLANK(BCU400_Database!D76),\"\",BCU400_Database!D76)","v":"P00068"},{"$f":"IF(ISBLANK(BCU400_Database!E76),\"\",BCU400_Database!E76)","v":88610080},"BCU 465-5/1LW3GBS4ACB1/1"]
[{"$f":"IF(ISBLANK(BCU400_Database!B77),\"\",BCU400_Database!B77)","v":84631779},{"$f":"IF(ISBLANK(BCU400_Database!C77),\"\",BCU400_Database!C77)","v":"BCU 460-3/1LW8GBB1/1"},{"$f":"IF(ISBLANK(BCU400_Database!D77),\"\",BCU400_Database!D77)","v":"P00227"},{"$f":"IF(ISBLANK(BCU400_Database!E77),\"\",BCU400_Database!E77)","v":88610081},"BCU 460-3/1LW8GBB1/1"]
[{"$f":"IF(ISBLANK(BCU400_Database!B78),\"\",BCU400_Database!B78)","v":84632165},{"$f":"IF(ISBLANK(BCU400_Database!C78),\"\",BCU400_Database!C78)","v":"BCU 465-3/2LW8GBS2AB1/1"},{"$f":"IF(ISBLANK(BCU400_Database!D78),\"\",BCU400_Database!D78)","v":"P00175"},{"$f":"IF(ISBLANK(BCU400_Database!E78),\"\",BCU400_Database!E78)","v":88610082},"BCU 465-3/2LW8GBS2AB1/1"]
[{"$f":"IF(ISBLANK(BCU400_Database!B79),\"\",BCU400_Database!B79)","v":84631761},{"$f":"IF(ISBLANK(BCU400_Database!C79),\"\",BCU400_Database!C79)","v":"BCU 460-5/1LW3GBS2B1/1"},{"$f":"IF(ISBLANK(BCU400_Database!D79),\"\",BCU400_Database!D79)","v":"P00030"},{"$f":"IF(ISBLANK(BCU400_Database!E79),\"\",BCU400_Database!E79)","v":88610083},"BCU 460-5/1LW3GBS2B1/1"]
[{"$f":"IF(ISBLANK(BCU400_Database!B80),\"\",BCU400_Database!B80)","v":84631545},{"$f":"IF(ISBLANK(BCU400_Database!C80),\"\",BCU400_Database!C80)","v":"BCU 460-5/1LW3GBB1/1"},{"$f":"IF(ISBLANK(BCU400_Database!D80),\"\",BCU400_Database!D80)","v":"P00049"},{"$f":"IF(ISBLANK(BCU400_Database!E80),\"\",BCU400_Database!E80)","v":88610084},"BCU 460-5/1LW3GBB1/1"]
[{"$f":"IF(ISBLANK(BCU400_Database!B81),\"\",BCU400_Database!B81)","v":84631953},{"$f":"IF(ISBLANK(BCU400_Database!C81),\"\",BCU400_Database!C81)","v":"BCU 460-3/1LWGBB1/1"},{"$f":"IF(ISBLANK(BCU400_Database!D81),\"\",BCU400_Database!D81)","v":"P00341"},{"$f":"IF(ISBLANK(BCU400_Database!E81),\"\",BCU400_Database!E81)","v":88610085},"BCU 460-3/1LWGBB1/1"]
[{"$f":"IF(ISBLANK(BCU400_Database!B82),\"\",BCU400_Database!B82)","v":84632128},{"$f":"IF(ISBLANK(BCU400_Database!C82),\"\",BCU400_Database!C82)","v":"BCU 460-5/1LW8GBS2CB1/2"},{"$f":"IF(ISBLANK(BCU400_Database!D82),\"\",BCU400_Database!D82)","v":"P00140"},{"$f":"IF(ISBLANK(BCU400_Database!E82),\"\",BCU400_Database!E82)","v":88610086},"BCU 460-5/1LW8GBS2CB1/2"]
[{"$f":"IF(ISBLANK(BCU400_Database!B83),\"\",BCU400_Database!B83)","v":84631486},{"$f":"IF(ISBLANK(BCU400_Database!C83),\"\",BCU400_Database!C83)","v":"BCU 460-5/1W3GBS2B1/1"},{"$f":"IF(ISBLANK(BCU400_Database!D83),\"\",BCU400_Database!D83)","v":"P00105"},{"$f":"IF(ISBLANK(BCU400_Database!E83),\"\",BCU400_Database!E83)","v":88610087},"BCU 460-5/1W3GBS2B1/1"]
[{"$f":"IF(ISBLANK(BCU400_Database!B84),\"\",BCU400_Database!B84)","v":84631992},{"$f":"IF(ISBLANK(BCU400_Database!C84),\"\",BCU400_Database!C84)","v":"BCU 460-5/1LW8GBS2"},{"$f":"IF(ISBLANK(BCU400_Database!D84),\"\",BCU400_Database!D84)","v":"P00010"},{"$f":"IF(ISBLANK(BCU400_Database!E84),\"\",BCU400_Database!E84)","v":88610088},"BCU 460-5/1LW8GBS2"]
[{"$f":"IF(ISBLANK(BCU400_Database!B85),\"\",BCU400_Database!B85)","v":84631592},{"$f":"IF(ISBLANK(BCU400_Database!C85),\"\",BCU400_Database!C85)","v":"BCU 480-5/3/1LW1GBB1/1"},{"$f":"IF(ISBLANK(BCU400_Database!D85),\"\",BCU400_Database!D85)","v":"P00001"},{"$f":"IF(ISBLANK(BCU400_Database!E85),\"\",BCU400_Database!E85)","v":88610089},"BCU 480-5/3/1LW1GBB1/1"]
[{"$f":"IF(ISBLANK(BCU400_Database!B86),\"\",BCU400_Database!B86)","v":84631779},{"$f":"IF(ISBLANK(BCU400_Database!C86),\"\",BCU400_Database!C86)","v":"BCU 460-3/1LW8GBB1/1"},{"$f":"IF(ISBLANK(BCU400_Database!D86),\"\",BCU400_Database!D86)","v":"P00222"},{"$f":"IF(ISBLANK(BCU400_Database!E86),\"\",BCU400_Database!E86)","v":88610090},"BCU 460-3/1LW8GBB1/1"]
[{"$f":"IF(ISBLANK(BCU400_Database!B87),\"\",BCU400_Database!B87)","v":84631743},{"$f":"IF(ISBLANK(BCU400_Database!C87),\"\",BCU400_Database!C87)","v":"BCU 465-5/1LW3GBS4ACB1/1"},{"$f":"IF(ISBLANK(BCU400_Database!D87),\"\",BCU400_Database!D87)","v":"P00085"},{"$f":"IF(ISBLANK(BCU400_Database!E87),\"\",BCU400_Database!E87)","v":88610091},"BCU 465-5/1LW3GBS4ACB1/1"]
[{"$f":"IF(ISBLANK(BCU400_Database!B88),\"\",BCU400_Database!B88)","v":84631422},{"$f":"IF(ISBLANK(BCU400_Database!C88),\"\",BCU400_Database!C88)","v":"BCU 460-5/1LW3GBS2"},{"$f":"IF(ISBLANK(BCU400_Database!D88),\"\",BCU400_Database!D88)","v":"P00420"},{"$f":"IF(ISBLANK(BCU400_Database!E88),\"\",BCU400_Database!E88)","v":88610092},"BCU 460-5/1LW3GBS2"]
[{"$f":"IF(ISBLANK(BCU400_Database!B89),\"\",BCU400_Database!B89)","v":84631693},{"$f":"IF(ISBLANK(BCU400_Database!C89),\"\",BCU400_Database!C89)","v":"BCU 460-3/1LR3GBB1/1"},{"$f":"IF(ISBLANK(BCU400_Database!D89),\"\",BCU400_Database!D89)","v":"P00020"},{"$f":"IF(ISBLANK(BCU400_Database!E89),\"\",BCU400_Database!E89)","v":88610093},"BCU 460-3/1LR3GBB1/1"]
[{"$f":"IF(ISBLANK(BCU400_Database!B90),\"\",BCU400_Database!B90)","v":84632113},{"$f":"IF(ISBLANK(BCU400_Database!C90),\"\",BCU400_Database!C90)","v":"BCU 460-3/1LW8GBS2CB1/2"},{"$f":"IF(ISBLANK(BCU400_Database!D90),\"\",BCU400_Database!D90)","v":"P00140"},{"$f":"IF(ISBLANK(BCU400_Database!E90),\"\",BCU400_Database!E90)","v":88610094},"BCU 460-3/1LW8GBS2CB1/2"]
[{"$f":"IF(ISBLANK(BCU400_Database!B91),\"\",BCU400_Database!B91)","v":84632115},{"$f":"IF(ISBLANK(BCU400_Database!C91),\"\",BCU400_Database!C91)","v":"BCU 465T-3/1LR8D3OB1/1"},{"$f":"IF(ISBLANK(BCU400_Database!D91),\"\",BCU400_Database!D91)","v":"P00163"},{"$f":"IF(ISBLANK(BCU400_Database!E91),\"\",BCU400_Database!E91)","v":88610095},"BCU 465T-3/1LR8D3OB1/1"]
[{"$f":"IF(ISBLANK(BCU400_Database!B92),\"\",BCU400_Database!B92)","v":84632171},{"$f":"IF(ISBLANK(BCU400_Database!C92),\"\",BCU400_Database!C92)","v":"BCU 460-3/1LW8GBS2B1/2"},{"$f":"IF(ISBLANK(BCU400_Database!D92),\"\",BCU400_Database!D92)","v":"P00223"},{"$f":"IF(ISBLANK(BCU400_Database!E92),\"\",BCU400_Database!E92)","v":88610096},"BCU 460-3/1LW8GBS2B1/2"]
[{"$f":"IF(ISBLANK(BCU400_Database!B93),\"\",BCU400_Database!B93)","v":84632137},{"$f":"IF(ISBLANK(BCU400_Database!C93),\"\",BCU400_Database!C93)","v":"BCU 480T-10/10/1LR3D2B1/1"},{"$f":"IF(ISBLANK(BCU400_Database!D93),\"\",BCU400_Database!D93)","v":"P00230"},{"$f":"IF(ISBLANK(BCU400_Database!E93),\"\",BCU400_Database!E93)","v":88610097},"BCU 480T-10/10/1LR3D2B1/1"]
[{"$f":"IF(ISBLANK(BCU400_Database!B94),\"\",BCU400_Database!B94)","v":84631927},{"$f":"IF(ISBLANK(BCU400_Database!C94),\"\",BCU400_Database!C94)","v":"BCU 460-3/2RGBD3S2B1/1"},{"$f":"IF(ISBLANK(BCU400_Database!D94),\"\",BCU400_Database!D94)","v":"P00320"},{"$f":"IF(ISBLANK(BCU400_Database!E94),\"\",BCU400_Database!E94)","v":88610098},"BCU 460-3/2RGBD3S2B1/1"]
[{"$f":"IF(ISBLANK(BCU400_Database!B95),\"\",BCU400_Database!B95)","v":84631922},{"$f":"IF(ISBLANK(BCU400_Database!C95),\"\",BCU400_Database!C95)","v":"BCU 460-3/1LR3GBD2"},{"$f":"IF(ISBLANK(BCU400_Database!D95),\"\",BCU400_Database!D95)","v":"P00001"},{"$f":"IF(ISBLANK(BCU400_Database!E95),\"\",BCU400_Database!E95)","v":88610099},"BCU 460-3/1LR3GBD2"]
[{"$f":"IF(ISBLANK(BCU400_Database!B96),\"\",BCU400_Database!B96)","v":84631935},{"$f":"IF(ISBLANK(BCU400_Database!C96),\"\",BCU400_Database!C96)","v":"BCU 480-5/3/1LW3GBS2/2B1/1"},{"$f":"IF(ISBLANK(BCU400_Database!D96),\"\",BCU400_Database!D96)","v":"P00001"},{"$f":"IF(ISBLANK(BCU400_Database!E96),\"\",BCU400_Database!E96)","v":88610100},"BCU 480-5/3/1LW3GBS2/2B1/1"]
[{"$f":"IF(ISBLANK(BCU400_Database!B97),\"\",BCU400_Database!B97)","v":84631913},{"$f":"IF(ISBLANK(BCU400_Database!C97),\"\",BCU400_Database!C97)","v":"BCU 480-5/3/1LW3GBS3/1B1/1"},{"$f":"IF(ISBLANK(BCU400_Database!D97),\"\",BCU400_Database!D97)","v":"P00304"},{"$f":"IF(ISBLANK(BCU400_Database!E97),\"\",BCU400_Database!E97)","v":88610101},"BCU 480-5/3/1LW3GBS3/1B1/1"]
[{"$f":"IF(ISBLANK(BCU400_Database!B98),\"\",BCU400_Database!B98)","v":84631860},{"$f":"IF(ISBLANK(BCU400_Database!C98),\"\",BCU400_Database!C98)","v":"BCU 460-3/2LR8GBS2B1/1Z0001"},{"$f":"IF(ISBLANK(BCU400_Database!D98),\"\",BCU400_Database!D98)","v":"P00008"},{"$f":"IF(ISBLANK(BCU400_Database!E98),\"\",BCU400_Database!E98)","v":88610102},"BCU 460-3/2LR8GBS2B1/1Z0001"]
[{"$f":"IF(ISBLANK(BCU400_Database!B99),\"\",BCU400_Database!B99)","v":84631579},{"$f":"IF(ISBLANK(BCU400_Database!C99),\"\",BCU400_Database!C99)","v":"BCU 460-3/1LW8GB"},{"$f":"IF(ISBLANK(BCU400_Database!D99),\"\",BCU400_Database!D99)","v":"P00223"},{"$f":"IF(ISBLANK(BCU400_Database!E99),\"\",BCU400_Database!E99)","v":88610103},"BCU 460-3/1LW8GB"]
[{"$f":"IF(ISBLANK(BCU400_Database!B100),\"\",BCU400_Database!B100)","v":84630000},{"$f":"IF(ISBLANK(BCU400_Database!C100),\"\",BCU400_Database!C100)","v":"BCU 440-3/1W1GB"},{"$f":"IF(ISBLANK(BCU400_Database!D100),\"\",BCU400_Database!D100)","v":"P00001"},{"$f":"IF(ISBLANK(BCU400_Database!E100),\"\",BCU400_Database!E100)","v":88610104},"BCU 440-3/1W1GB"]
[{"$f":"IF(ISBLANK(BCU400_Database!B101),\"\",BCU400_Database!B101)","v":84631896},{"$f":"IF(ISBLANK(BCU400_Database!C101),\"\",BCU400_Database!C101)","v":"BCU 480T-5/3/2L5R1"},{"$f":"IF(ISBLANK(BCU400_Database!D101),\"\",BCU400_Database!D101)","v":"P00329"},{"$f":"IF(ISBLANK(BCU400_Database!E101),\"\",BCU400_Database!E101)","v":88610105},"BCU 480T-5/3/2L5R1"]
[{"$f":"IF(ISBLANK(BCU400_Database!B102),\"\",BCU400_Database!B102)","v":84630080},{"$f":"IF(ISBLANK(BCU400_Database!C102),\"\",BCU400_Database!C102)","v":"BCU 440-5/1R3GB"},{"$f":"IF(ISBLANK(BCU400_Database!D102),\"\",BCU400_Database!D102)","v":"P00006"},{"$f":"IF(ISBLANK(BCU400_Database!E102),\"\",BCU400_Database!E102)","v":88610106},"BCU 440-5/1R3GB"]
[{"$f":"IF(ISBLANK(BCU400_Database!B103),\"\",BCU400_Database!B103)","v":84631743},{"$f":"IF(ISBLANK(BCU400_Database!C103),\"\",BCU400_Database!C103)","v":"BCU 465-5/1LW3GBS4ACB1/1"},{"$f":"IF(ISBLANK(BCU400_Database!D103),\"\",BCU400_Database!D103)","v":"P00023"},{"$f":"IF(ISBLANK(BCU400_Database!E103),\"\",BCU400_Database!E103)","v":88610107},"BCU 465-5/1LW3GBS4ACB1/1"]
[{"$f":"IF(ISBLANK(BCU400_Database!B104),\"\",BCU400_Database!B104)","v":84631439},{"$f":"IF(ISBLANK(BCU400_Database!C104),\"\",BCU400_Database!C104)","v":"BCU 460T-5/2LR3"},{"$f":"IF(ISBLANK(BCU400_Database!D104),\"\",BCU400_Database!D104)","v":"P00044"},{"$f":"IF(ISBLANK(BCU400_Database!E104),\"\",BCU400_Database!E104)","v":88610108},"BCU 460T-5/2LR3"]
[{"$f":"IF(ISBLANK(BCU400_Database!B105),\"\",BCU400_Database!B105)","v":84631682},{"$f":"IF(ISBLANK(BCU400_Database!C105),\"\",BCU400_Database!C105)","v":"BCU 460-5/1LW3GBD3S2B1/1"},{"$f":"IF(ISBLANK(BCU400_Database!D105),\"\",BCU400_Database!D105)","v":"P00345"},{"$f":"IF(ISBLANK(BCU400_Database!E105),\"\",BCU400_Database!E105)","v":88610109},"BCU 460-5/1LW3GBD3S2B1/1"]
[{"$f":"IF(ISBLANK(BCU400_Database!B106),\"\",BCU400_Database!B106)","v":84631533},{"$f":"IF(ISBLANK(BCU400_Database!C106),\"\",BCU400_Database!C106)","v":"BCU 460-3/1LW3GBB1/1"},{"$f":"IF(ISBLANK(BCU400_Database!D106),\"\",BCU400_Database!D106)","v":"P00326"},{"$f":"IF(ISBLANK(BCU400_Database!E106),\"\",BCU400_Database!E106)","v":88610110},"BCU 460-3/1LW3GBB1/1"]
[{"$f":"IF(ISBLANK(BCU400_Database!B107),\"\",BCU400_Database!B107)","v":84632040},{"$f":"IF(ISBLANK(BCU400_Database!C107),\"\",BCU400_Database!C107)","v":"BCU 460-5/1LW8GBS2B1/2"},{"$f":"IF(ISBLANK(BCU400_Database!D107),\"\",BCU400_Database!D107)","v":"P00399"},{"$f":"IF(ISBLANK(BCU400_Database!E107),\"\",BCU400_Database!E107)","v":88610111},"BCU 460-5/1LW8GBS2B1/2"]
[{"$f":"IF(ISBLANK(BCU400_Database!B108),\"\",BCU400_Database!B108)","v":84632159},{"$f":"IF(ISBLANK(BCU400_Database!C108),\"\",BCU400_Database!C108)","v":"BCU 460-3/1LW8GBD3S2B1/1Z0001"},{"$f":"IF(ISBLANK(BCU400_Database!D108),\"\",BCU400_Database!D108)","v":"P00223"},{"$f":"IF(ISBLANK(BCU400_Database!E108),\"\",BCU400_Database!E108)","v":88610112},"BCU 460-3/1LW8GBD3S2B1/1Z0001"]
[{"$f":"IF(ISBLANK(BCU400_Database!B109),\"\",BCU400_Database!B109)","v":84632175},{"$f":"IF(ISBLANK(BCU400_Database!C109),\"\",BCU400_Database!C109)","v":"BCU 460-3/1LW8GBD3S2B1/2Z0001"},{"$f":"IF(ISBLANK(BCU400_Database!D109),\"\",BCU400_Database!D109)","v":"P00223"},{"$f":"IF(ISBLANK(BCU400_Database!E109),\"\",BCU400_Database!E109)","v":88610113},"BCU 460-3/1LW8GBD3S2B1/2Z0001"]
[{"$f":"IF(ISBLANK(BCU400_Database!B110),\"\",BCU400_Database!B110)","v":84630761},{"$f":"IF(ISBLANK(BCU400_Database!C110),\"\",BCU400_Database!C110)","v":"BCU 480-10/3/1LW3GB"},{"$f":"IF(ISBLANK(BCU400_Database!D110),\"\",BCU400_Database!D110)","v":"P00001"},{"$f":"IF(ISBLANK(BCU400_Database!E110),\"\",BCU400_Database!E110)","v":88610114},"BCU 480-10/3/1LW3GB"]
[{"$f":"IF(ISBLANK(BCU400_Database!B111),\"\",BCU400_Database!B111)","v":84631872},{"$f":"IF(ISBLANK(BCU400_Database!C111),\"\",BCU400_Database!C111)","v":"BCU 460-3/1W3GBD2S4"},{"$f":"IF(ISBLANK(BCU400_Database!D111),\"\",BCU400_Database!D111)","v":"P00001"},{"$f":"IF(ISBLANK(BCU400_Database!E111),\"\",BCU400_Database!E111)","v":88610115},"BCU 460-3/1W3GBD2S4"]
[{"$f":"IF(ISBLANK(BCU400_Database!B112),\"\",BCU400_Database!B112)","v":84630463},{"$f":"IF(ISBLANK(BCU400_Database!C112),\"\",BCU400_Database!C112)","v":"BCU 460-10/1LW3GBP"},{"$f":"IF(ISBLANK(BCU400_Database!D112),\"\",BCU400_Database!D112)","v":"P00001"},{"$f":"IF(ISBLANK(BCU400_Database!E112),\"\",BCU400_Database!E112)","v":88610116},"BCU 460-10/1LW3GBP"]
[{"$f":"IF(ISBLANK(BCU400_Database!B113),\"\",BCU400_Database!B113)","v":84632088},{"$f":"IF(ISBLANK(BCU400_Database!C113),\"\",BCU400_Database!C113)","v":"BCU 460-5/1LW3GBS2CB1/2"},{"$f":"IF(ISBLANK(BCU400_Database!D113),\"\",BCU400_Database!D113)","v":"P00140"},{"$f":"IF(ISBLANK(BCU400_Database!E113),\"\",BCU400_Database!E113)","v":88610117},"BCU 460-5/1LW3GBS2CB1/2"]
[{"$f":"IF(ISBLANK(BCU400_Database!B114),\"\",BCU400_Database!B114)","v":84631761},{"$f":"IF(ISBLANK(BCU400_Database!C114),\"\",BCU400_Database!C114)","v":"BCU 460-5/1LW3GBS2B1/1"},{"$f":"IF(ISBLANK(BCU400_Database!D114),\"\",BCU400_Database!D114)","v":"P00258"},{"$f":"IF(ISBLANK(BCU400_Database!E114),\"\",BCU400_Database!E114)","v":88610118},"BCU 460-5/1LW3GBS2B1/1"]
[{"$f":"IF(ISBLANK(BCU400_Database!B115),\"\",BCU400_Database!B115)","v":84631713},{"$f":"IF(ISBLANK(BCU400_Database!C115),\"\",BCU400_Database!C115)","v":"BCU 460T-10/2LR3B1/1"},{"$f":"IF(ISBLANK(BCU400_Database!D115),\"\",BCU400_Database!D115)","v":"P00044"},{"$f":"IF(ISBLANK(BCU400_Database!E115),\"\",BCU400_Database!E115)","v":88610119},"BCU 460T-10/2LR3B1/1"]
[{"$f":"IF(ISBLANK(BCU400_Database!B116),\"\",BCU400_Database!B116)","v":84631483},{"$f":"IF(ISBLANK(BCU400_Database!C116),\"\",BCU400_Database!C116)","v":"BCU 460-5/1LW8GBB1/1"},{"$f":"IF(ISBLANK(BCU400_Database!D116),\"\",BCU400_Database!D116)","v":"P00227"},{"$f":"IF(ISBLANK(BCU400_Database!E116),\"\",BCU400_Database!E116)","v":88610120},"BCU 460-5/1LW8GBB1/1"]
[{"$f":"IF(ISBLANK(BCU400_Database!B117),\"\",BCU400_Database!B117)","v":84631539},{"$f":"IF(ISBLANK(BCU400_Database!C117),\"\",BCU400_Database!C117)","v":"BCU 465-5/1LW1GBS3A"},{"$f":"IF(ISBLANK(BCU400_Database!D117),\"\",BCU400_Database!D117)","v":"P00143"},{"$f":"IF(ISBLANK(BCU400_Database!E117),\"\",BCU400_Database!E117)","v":88610121},"BCU 465-5/1LW1GBS3A"]
[{"$f":"IF(ISBLANK(BCU400_Database!B118),\"\",BCU400_Database!B118)","v":84631931},{"$f":"IF(ISBLANK(BCU400_Database!C118),\"\",BCU400_Database!C118)","v":"BCU 480-10/3/1LW3GBS2/1B1/1"},{"$f":"IF(ISBLANK(BCU400_Database!D118),\"\",BCU400_Database!D118)","v":"P00163"},{"$f":"IF(ISBLANK(BCU400_Database!E118),\"\",BCU400_Database!E118)","v":88610122},"BCU 480-10/3/1LW3GBS2/1B1/1"]
[{"$f":"IF(ISBLANK(BCU400_Database!B119),\"\",BCU400_Database!B119)","v":84631628},{"$f":"IF(ISBLANK(BCU400_Database!C119),\"\",BCU400_Database!C119)","v":"BCU 465-10/1LWGBPAC"},{"$f":"IF(ISBLANK(BCU400_Database!D119),\"\",BCU400_Database!D119)","v":"P00020"},{"$f":"IF(ISBLANK(BCU400_Database!E119),\"\",BCU400_Database!E119)","v":88610123},"BCU 465-10/1LWGBPAC"]
[{"$f":"IF(ISBLANK(BCU400_Database!B120),\"\",BCU400_Database!B120)","v":84631561},{"$f":"IF(ISBLANK(BCU400_Database!C120),\"\",BCU400_Database!C120)","v":"BCU 460-5/1LW8GB"},{"$f":"IF(ISBLANK(BCU400_Database!D120),\"\",BCU400_Database!D120)","v":"P00223"},{"$f":"IF(ISBLANK(BCU400_Database!E120),\"\",BCU400_Database!E120)","v":88610124},"BCU 460-5/1LW8GB"]
[{"$f":"IF(ISBLANK(BCU400_Database!B121),\"\",BCU400_Database!B121)","v":84631716},{"$f":"IF(ISBLANK(BCU400_Database!C121),\"\",BCU400_Database!C121)","v":"BCU 480-5/3/1LW3GBD2S2/1B1/1"},{"$f":"IF(ISBLANK(BCU400_Database!D121),\"\",BCU400_Database!D121)","v":"P00001"},{"$f":"IF(ISBLANK(BCU400_Database!E121),\"\",BCU400_Database!E121)","v":88610125},"BCU 480-5/3/1LW3GBD2S2/1B1/1"]
[{"$f":"IF(ISBLANK(BCU400_Database!B122),\"\",BCU400_Database!B122)","v":84630080},{"$f":"IF(ISBLANK(BCU400_Database!C122),\"\",BCU400_Database!C122)","v":"BCU 440-5/1R3GB"},{"$f":"IF(ISBLANK(BCU400_Database!D122),\"\",BCU400_Database!D122)","v":"P00001"},{"$f":"IF(ISBLANK(BCU400_Database!E122),\"\",BCU400_Database!E122)","v":88610126},"BCU 440-5/1R3GB"]
[{"$f":"IF(ISBLANK(BCU400_Database!B123),\"\",BCU400_Database!B123)","v":84632074},{"$f":"IF(ISBLANK(BCU400_Database!C123),\"\",BCU400_Database!C123)","v":"BCU 480T-10/10/2LR8D2B1/1"},{"$f":"IF(ISBLANK(BCU400_Database!D123),\"\",BCU400_Database!D123)","v":"P00026"},{"$f":"IF(ISBLANK(BCU400_Database!E123),\"\",BCU400_Database!E123)","v":88610127},"BCU 480T-10/10/2LR8D2B1/1"]
[{"$f":"IF(ISBLANK(BCU400_Database!B124),\"\",BCU400_Database!B124)","v":84631885},{"$f":"IF(ISBLANK(BCU400_Database!C124),\"\",BCU400_Database!C124)","v":"BCU 460-3/1LW8GBD3B1/1"},{"$f":"IF(ISBLANK(BCU400_Database!D124),\"\",BCU400_Database!D124)","v":"P00223"},{"$f":"IF(ISBLANK(BCU400_Database!E124),\"\",BCU400_Database!E124)","v":88610128},"BCU 460-3/1LW8GBD3B1/1"]
[{"$f":"IF(ISBLANK(BCU400_Database!B125),\"\",BCU400_Database!B125)","v":84631834},{"$f":"IF(ISBLANK(BCU400_Database!C125),\"\",BCU400_Database!C125)","v":"BCU 465T-5/2LR8O"},{"$f":"IF(ISBLANK(BCU400_Database!D125),\"\",BCU400_Database!D125)","v":"P00025"},{"$f":"IF(ISBLANK(BCU400_Database!E125),\"\",BCU400_Database!E125)","v":88610129},"BCU 465T-5/2LR8O"]
[{"$f":"IF(ISBLANK(BCU400_Database!B126),\"\",BCU400_Database!B126)","v":84630761},{"$f":"IF(ISBLANK(BCU400_Database!C126),\"\",BCU400_Database!C126)","v":"BCU 480-10/3/1LW3GB"},{"$f":"IF(ISBLANK(BCU400_Database!D126),\"\",BCU400_Database!D126)","v":"P00305"},{"$f":"IF(ISBLANK(BCU400_Database!E126),\"\",BCU400_Database!E126)","v":88610130},"BCU 480-10/3/1LW3GB"]
[{"$f":"IF(ISBLANK(BCU400_Database!B127),\"\",BCU400_Database!B127)","v":84632094},{"$f":"IF(ISBLANK(BCU400_Database!C127),\"\",BCU400_Database!C127)","v":"BCU 460-3/2W8GBD3S2B1/1Z0001"},{"$f":"IF(ISBLANK(BCU400_Database!D127),\"\",BCU400_Database!D127)","v":"P00010"},{"$f":"IF(ISBLANK(BCU400_Database!E127),\"\",BCU400_Database!E127)","v":88610131},"BCU 460-3/2W8GBD3S2B1/1Z0001"]
[{"$f":"IF(ISBLANK(BCU400_Database!B128),\"\",BCU400_Database!B128)","v":84630361},{"$f":"IF(ISBLANK(BCU400_Database!C128),\"\",BCU400_Database!C128)","v":"BCU 460-5/1LW3GB"},{"$f":"IF(ISBLANK(BCU400_Database!D128),\"\",BCU400_Database!D128)","v":"P00294"},{"$f":"IF(ISBLANK(BCU400_Database!E128),\"\",BCU400_Database!E128)","v":88610132},"BCU 460-5/1LW3GB"]
[{"$f":"IF(ISBLANK(BCU400_Database!B129),\"\",BCU400_Database!B129)","v":84630030},{"$f":"IF(ISBLANK(BCU400_Database!C129),\"\",BCU400_Database!C129)","v":"BCU 440-3/1R3GB"},{"$f":"IF(ISBLANK(BCU400_Database!D129),\"\",BCU400_Database!D129)","v":"P00001"},{"$f":"IF(ISBLANK(BCU400_Database!E129),\"\",BCU400_Database!E129)","v":88610133},"BCU 440-3/1R3GB"]
[{"$f":"IF(ISBLANK(BCU400_Database!B130),\"\",BCU400_Database!B130)","v":84631444},{"$f":"IF(ISBLANK(BCU400_Database!C130),\"\",BCU400_Database!C130)","v":"BCU 480-5/3/1LW1GBS2/1"},{"$f":"IF(ISBLANK(BCU400_Database!D130),\"\",BCU400_Database!D130)","v":"P00177"},{"$f":"IF(ISBLANK(BCU400_Database!E130),\"\",BCU400_Database!E130)","v":88610134},"BCU 480-5/3/1LW1GBS2/1"]
[{"$f":"IF(ISBLANK(BCU400_Database!B131),\"\",BCU400_Database!B131)","v":84631763},{"$f":"IF(ISBLANK(BCU400_Database!C131),\"\",BCU400_Database!C131)","v":"BCU 465-5/1LW8GBAB1/1"},{"$f":"IF(ISBLANK(BCU400_Database!D131),\"\",BCU400_Database!D131)","v":"P00113"},{"$f":"IF(ISBLANK(BCU400_Database!E131),\"\",BCU400_Database!E131)","v":88610135},{"$f":"B131","v":"BCU 465-5/1LW8GBAB1/1"}]
[{"$f":"IF(ISBLANK(BCU400_Database!B132),\"\",BCU400_Database!B132)","v":84631736},{"$f":"IF(ISBLANK(BCU400_Database!C132),\"\",BCU400_Database!C132)","v":"BCU 460-3/1LW8GBS2"},{"$f":"IF(ISBLANK(BCU400_Database!D132),\"\",BCU400_Database!D132)","v":"P00223"},{"$f":"IF(ISBLANK(BCU400_Database!E132),\"\",BCU400_Database!E132)","v":88610136},"BCU 460-3/1LW8GBS2"]
[{"$f":"IF(ISBLANK(BCU400_Database!B133),\"\",BCU400_Database!B133)","v":84631449},{"$f":"IF(ISBLANK(BCU400_Database!C133),\"\",BCU400_Database!C133)","v":"BCU 460-5/1LW3GBS3B1/1"},{"$f":"IF(ISBLANK(BCU400_Database!D133),\"\",BCU400_Database!D133)","v":"P00006"},{"$f":"IF(ISBLANK(BCU400_Database!E133),\"\",BCU400_Database!E133)","v":88610137},"BCU 460-5/1LW3GBS3B1/1"]
[{"$f":"IF(ISBLANK(BCU400_Database!B134),\"\",BCU400_Database!B134)","v":84631746},{"$f":"IF(ISBLANK(BCU400_Database!C134),\"\",BCU400_Database!C134)","v":"BCU 465-3/1LW2GBA"},{"$f":"IF(ISBLANK(BCU400_Database!D134),\"\",BCU400_Database!D134)","v":"P00023"},{"$f":"IF(ISBLANK(BCU400_Database!E134),\"\",BCU400_Database!E134)","v":88610138},"BCU 465-3/1LW2GBA"]
[{"$f":"IF(ISBLANK(BCU400_Database!B135),\"\",BCU400_Database!B135)","v":84630361},{"$f":"IF(ISBLANK(BCU400_Database!C135),\"\",BCU400_Database!C135)","v":"BCU 460-5/1LW3GB"},{"$f":"IF(ISBLANK(BCU400_Database!D135),\"\",BCU400_Database!D135)","v":"P00339"},{"$f":"IF(ISBLANK(BCU400_Database!E135),\"\",BCU400_Database!E135)","v":88610139},"BCU 460-5/1LW3GB"]
[{"$f":"IF(ISBLANK(BCU400_Database!B136),\"\",BCU400_Database!B136)","v":84631829},{"$f":"IF(ISBLANK(BCU400_Database!C136),\"\",BCU400_Database!C136)","v":"BCU 465-5/1LR8GBS2A"},{"$f":"IF(ISBLANK(BCU400_Database!D136),\"\",BCU400_Database!D136)","v":"P00084"},{"$f":"IF(ISBLANK(BCU400_Database!E136),\"\",BCU400_Database!E136)","v":88610140},"BCU 465-5/1LR8GBS2A"]
[{"$f":"IF(ISBLANK(BCU400_Database!B137),\"\",BCU400_Database!B137)","v":84631786},{"$f":"IF(ISBLANK(BCU400_Database!C137),\"\",BCU400_Database!C137)","v":"BCU 460-3/1W3GBD3S4CB1/1"},{"$f":"IF(ISBLANK(BCU400_Database!D137),\"\",BCU400_Database!D137)","v":"P00001"},{"$f":"IF(ISBLANK(BCU400_Database!E137),\"\",BCU400_Database!E137)","v":88610141},"BCU 460-3/1W3GBD3S4CB1/1"]
[{"$f":"IF(ISBLANK(BCU400_Database!B138),\"\",BCU400_Database!B138)","v":84631906},{"$f":"IF(ISBLANK(BCU400_Database!C138),\"\",BCU400_Database!C138)","v":"BCU 465-10/1LW3GBPD2S4AC"},{"$f":"IF(ISBLANK(BCU400_Database!D138),\"\",BCU400_Database!D138)","v":"P00023"},{"$f":"IF(ISBLANK(BCU400_Database!E138),\"\",BCU400_Database!E138)","v":88610142},"BCU 465-10/1LW3GBPD2S4AC"]
[{"$f":"IF(ISBLANK(BCU400_Database!B139),\"\",BCU400_Database!B139)","v":84631763},{"$f":"IF(ISBLANK(BCU400_Database!C139),\"\",BCU400_Database!C139)","v":"BCU 465-5/1LW8GBAB1/1"},{"$f":"IF(ISBLANK(BCU400_Database!D139),\"\",BCU400_Database!D139)","v":"P00152"},{"$f":"IF(ISBLANK(BCU400_Database!E139),\"\",BCU400_Database!E139)","v":88610143},"BCU 465-5/1LW8GBAB1/1"]
[{"$f":"IF(ISBLANK(BCU400_Database!B140),\"\",BCU400_Database!B140)","v":84631856},{"$f":"IF(ISBLANK(BCU400_Database!C140),\"\",BCU400_Database!C140)","v":"BCU 460-10/1W8GBS3"},{"$f":"IF(ISBLANK(BCU400_Database!D140),\"\",BCU400_Database!D140)","v":"P00171"},{"$f":"IF(ISBLANK(BCU400_Database!E140),\"\",BCU400_Database!E140)","v":88610144},"BCU 460-10/1W8GBS3"]
[{"$f":"IF(ISBLANK(BCU400_Database!B141),\"\",BCU400_Database!B141)","v":84631878},{"$f":"IF(ISBLANK(BCU400_Database!C141),\"\",BCU400_Database!C141)","v":"BCU 465-5/1LR3GBS2AB1/1"},{"$f":"IF(ISBLANK(BCU400_Database!D141),\"\",BCU400_Database!D141)","v":"P00086"},{"$f":"IF(ISBLANK(BCU400_Database!E141),\"\",BCU400_Database!E141)","v":88610155},"BCU 465-5/1LR3GBS2AB1/1"]
[{"$f":"IF(ISBLANK(BCU400_Database!B142),\"\",BCU400_Database!B142)","v":84631884},{"$f":"IF(ISBLANK(BCU400_Database!C142),\"\",BCU400_Database!C142)","v":"BCU 480-10/5/2LW3GBS4/4B1/1"},{"$f":"IF(ISBLANK(BCU400_Database!D142),\"\",BCU400_Database!D142)","v":"P00001"},{"$f":"IF(ISBLANK(BCU400_Database!E142),\"\",BCU400_Database!E142)","v":88610145},"BCU 480-10/5/2LW3GBS4/4B1/1"]
[{"$f":"IF(ISBLANK(BCU400_Database!B143),\"\",BCU400_Database!B143)","v":84631726},{"$f":"IF(ISBLANK(BCU400_Database!C143),\"\",BCU400_Database!C143)","v":"BCU 460-5/1LR3GBB1/1"},{"$f":"IF(ISBLANK(BCU400_Database!D143),\"\",BCU400_Database!D143)","v":"P00001"},{"$f":"IF(ISBLANK(BCU400_Database!E143),\"\",BCU400_Database!E143)","v":88610146},"BCU 460-5/1LR3GBB1/1"]
[{"$f":"IF(ISBLANK(BCU400_Database!B144),\"\",BCU400_Database!B144)","v":84631448},{"$f":"IF(ISBLANK(BCU400_Database!C144),\"\",BCU400_Database!C144)","v":"BCU 460-5/1W3GBS2"},{"$f":"IF(ISBLANK(BCU400_Database!D144),\"\",BCU400_Database!D144)","v":"P00010"},{"$f":"IF(ISBLANK(BCU400_Database!E144),\"\",BCU400_Database!E144)","v":88610147},"BCU 460-5/1W3GBS2"]
[{"$f":"IF(ISBLANK(BCU400_Database!B145),\"\",BCU400_Database!B145)","v":84631750},{"$f":"IF(ISBLANK(BCU400_Database!C145),\"\",BCU400_Database!C145)","v":"BCU 460-3/1W3GBS2"},{"$f":"IF(ISBLANK(BCU400_Database!D145),\"\",BCU400_Database!D145)","v":"P00001"},{"$f":"IF(ISBLANK(BCU400_Database!E145),\"\",BCU400_Database!E145)","v":88610148},"BCU 460-3/1W3GBS2"]
[{"$f":"IF(ISBLANK(BCU400_Database!B146),\"\",BCU400_Database!B146)","v":84631613},{"$f":"IF(ISBLANK(BCU400_Database!C146),\"\",BCU400_Database!C146)","v":"BCU 460-5/1W3GBS3"},{"$f":"IF(ISBLANK(BCU400_Database!D146),\"\",BCU400_Database!D146)","v":"P00001"},{"$f":"IF(ISBLANK(BCU400_Database!E146),\"\",BCU400_Database!E146)","v":88610149},"BCU 460-5/1W3GBS3"]
[{"$f":"IF(ISBLANK(BCU400_Database!B147),\"\",BCU400_Database!B147)","v":84632166},{"$f":"IF(ISBLANK(BCU400_Database!C147),\"\",BCU400_Database!C147)","v":"BCU 480-10/5/1LR3GBD2B1/1"},{"$f":"IF(ISBLANK(BCU400_Database!D147),\"\",BCU400_Database!D147)","v":"P00448"},{"$f":"IF(ISBLANK(BCU400_Database!E147),\"\",BCU400_Database!E147)","v":88610150},"BCU 480-10/5/1LR3GBD2B1/1"]
[{"$f":"IF(ISBLANK(BCU400_Database!B148),\"\",BCU400_Database!B148)","v":84631885},{"$f":"IF(ISBLANK(BCU400_Database!C148),\"\",BCU400_Database!C148)","v":"BCU 460-3/1LW8GBD3B1/1"},{"$f":"IF(ISBLANK(BCU400_Database!D148),\"\",BCU400_Database!D148)","v":"P00333"},{"$f":"IF(ISBLANK(BCU400_Database!E148),\"\",BCU400_Database!E148)","v":88610151},"BCU 460-3/1LW8GBD3B1/1"]
[{"$f":"IF(ISBLANK(BCU400_Database!B149),\"\",BCU400_Database!B149)","v":84630060},{"$f":"IF(ISBLANK(BCU400_Database!C149),\"\",BCU400_Database!C149)","v":"BCU 440-5/1W3GB"},{"$f":"IF(ISBLANK(BCU400_Database!D149),\"\",BCU400_Database!D149)","v":"P00013"},{"$f":"IF(ISBLANK(BCU400_Database!E149),\"\",BCU400_Database!E149)","v":88610152},"BCU 440-5/1W3GB"]
[{"$f":"IF(ISBLANK(BCU400_Database!B150),\"\",BCU400_Database!B150)","v":84631832},{"$f":"IF(ISBLANK(BCU400_Database!C150),\"\",BCU400_Database!C150)","v":"BCU 460-5/1LW1GBS3B1/1Z0001"},{"$f":"IF(ISBLANK(BCU400_Database!D150),\"\",BCU400_Database!D150)","v":"P00211"},{"$f":"IF(ISBLANK(BCU400_Database!E150),\"\",BCU400_Database!E150)","v":88610153},"BCU 460-5/1LW1GBS3B1/1Z0001"]
[{"$f":"IF(ISBLANK(BCU400_Database!B151),\"\",BCU400_Database!B151)","v":84632076},{"$f":"IF(ISBLANK(BCU400_Database!C151),\"\",BCU400_Database!C151)","v":"BCU 480-5/3/1LW3GBS3/3B1/1"},{"$f":"IF(ISBLANK(BCU400_Database!D151),\"\",BCU400_Database!D151)","v":"P00453"},{"$f":"IF(ISBLANK(BCU400_Database!E151),\"\",BCU400_Database!E151)","v":88610154},"BCU 480-5/3/1LW3GBS3/3B1/1"]
[{"$f":"IF(ISBLANK(BCU400_Database!B152),\"\",BCU400_Database!B152)","v":84632087},{"$f":"IF(ISBLANK(BCU400_Database!C152),\"\",BCU400_Database!C152)","v":"BCU 460-5/1LR3GBS2CB1/2"},{"$f":"IF(ISBLANK(BCU400_Database!D152),\"\",BCU400_Database!D152)","v":"P00140"},{"$f":"IF(ISBLANK(BCU400_Database!E152),\"\",BCU400_Database!E152)","v":88610156},"BCU 460-5/1LR3GBS2CB1/2"]
[{"$f":"IF(ISBLANK(BCU400_Database!B153),\"\",BCU400_Database!B153)","v":84631619},{"$f":"IF(ISBLANK(BCU400_Database!C153),\"\",BCU400_Database!C153)","v":"BCU 465-5/1LW3GBPA"},{"$f":"IF(ISBLANK(BCU400_Database!D153),\"\",BCU400_Database!D153)","v":"P00074"},{"$f":"IF(ISBLANK(BCU400_Database!E153),\"\",BCU400_Database!E153)","v":88610157},"BCU 465-5/1LW3GBPA"]
[{"$f":"IF(ISBLANK(BCU400_Database!B154),\"\",BCU400_Database!B154)","v":84631613},{"$f":"IF(ISBLANK(BCU400_Database!C154),\"\",BCU400_Database!C154)","v":"BCU 460-5/1W3GBS3"},{"$f":"IF(ISBLANK(BCU400_Database!D154),\"\",BCU400_Database!D154)","v":"P00010"},{"$f":"IF(ISBLANK(BCU400_Database!E154),\"\",BCU400_Database!E154)","v":88610158},"BCU 460-5/1W3GBS3"]
[{"$f":"IF(ISBLANK(BCU400_Database!B155),\"\",BCU400_Database!B155)","v":84631449},{"$f":"IF(ISBLANK(BCU400_Database!C155),\"\",BCU400_Database!C155)","v":"BCU 460-5/1LW3GBS3B1/1"},{"$f":"IF(ISBLANK(BCU400_Database!D155),\"\",BCU400_Database!D155)","v":"P00001"},{"$f":"IF(ISBLANK(BCU400_Database!E155),\"\",BCU400_Database!E155)","v":88610159},"BCU 460-5/1LW3GBS3B1/1"]
[{"$f":"IF(ISBLANK(BCU400_Database!B156),\"\",BCU400_Database!B156)","v":84630350},{"$f":"IF(ISBLANK(BCU400_Database!C156),\"\",BCU400_Database!C156)","v":"BCU 460-5/1W1GB"},{"$f":"IF(ISBLANK(BCU400_Database!D156),\"\",BCU400_Database!D156)","v":"P00006"},{"$f":"IF(ISBLANK(BCU400_Database!E156),\"\",BCU400_Database!E156)","v":88610160},"BCU 460-5/1W1GB"]
[{"$f":"IF(ISBLANK(BCU400_Database!B157),\"\",BCU400_Database!B157)","v":84631631},{"$f":"IF(ISBLANK(BCU400_Database!C157),\"\",BCU400_Database!C157)","v":"BCU 460-5/1W3GBD3S2"},{"$f":"IF(ISBLANK(BCU400_Database!D157),\"\",BCU400_Database!D157)","v":"P00010"},{"$f":"IF(ISBLANK(BCU400_Database!E157),\"\",BCU400_Database!E157)","v":88610161},"BCU 460-5/1W3GBD3S2"]
[{"$f":"IF(ISBLANK(BCU400_Database!B158),\"\",BCU400_Database!B158)","v":84631871},{"$f":"IF(ISBLANK(BCU400_Database!C158),\"\",BCU400_Database!C158)","v":"BCU 460-3/1W2GBS3B1/1"},{"$f":"IF(ISBLANK(BCU400_Database!D158),\"\",BCU400_Database!D158)","v":"P00269"},{"$f":"IF(ISBLANK(BCU400_Database!E158),\"\",BCU400_Database!E158)","v":88610162},"BCU 460-3/1W2GBS3B1/1"]
[{"$f":"IF(ISBLANK(BCU400_Database!B159),\"\",BCU400_Database!B159)","v":84631440},{"$f":"IF(ISBLANK(BCU400_Database!C159),\"\",BCU400_Database!C159)","v":"BCU 460T-10/2LR3"},{"$f":"IF(ISBLANK(BCU400_Database!D159),\"\",BCU400_Database!D159)","v":"P00044"},{"$f":"IF(ISBLANK(BCU400_Database!E159),\"\",BCU400_Database!E159)","v":88610163},"BCU 460T-10/2LR3"]
[{"$f":"IF(ISBLANK(BCU400_Database!B160),\"\",BCU400_Database!B160)","v":84631763},{"$f":"IF(ISBLANK(BCU400_Database!C160),\"\",BCU400_Database!C160)","v":"BCU 465-5/1LW8GBAB1/1"},{"$f":"IF(ISBLANK(BCU400_Database!D160),\"\",BCU400_Database!D160)","v":"P00023"},{"$f":"IF(ISBLANK(BCU400_Database!E160),\"\",BCU400_Database!E160)","v":88610164},"BCU 465-5/1LW8GBAB1/1"]
[{"$f":"IF(ISBLANK(BCU400_Database!B161),\"\",BCU400_Database!B161)","v":84631779},{"$f":"IF(ISBLANK(BCU400_Database!C161),\"\",BCU400_Database!C161)","v":"BCU 460-3/1LW8GBB1/1"},{"$f":"IF(ISBLANK(BCU400_Database!D161),\"\",BCU400_Database!D161)","v":"P00338"},{"$f":"IF(ISBLANK(BCU400_Database!E161),\"\",BCU400_Database!E161)","v":88610165},"BCU 460-3/1LW8GBB1/1"]
[{"$f":"IF(ISBLANK(BCU400_Database!B162),\"\",BCU400_Database!B162)","v":84630280},{"$f":"IF(ISBLANK(BCU400_Database!C162),\"\",BCU400_Database!C162)","v":"BCU 460-3/1R3GB"},{"$f":"IF(ISBLANK(BCU400_Database!D162),\"\",BCU400_Database!D162)","v":"P00001"},{"$f":"IF(ISBLANK(BCU400_Database!E162),\"\",BCU400_Database!E162)","v":88610166},"BCU 460-3/1R3GB"]
[{"$f":"IF(ISBLANK(BCU400_Database!B163),\"\",BCU400_Database!B163)","v":84631915},{"$f":"IF(ISBLANK(BCU400_Database!C163),\"\",BCU400_Database!C163)","v":"BCU 460-10/1W3GBS2B1/1"},{"$f":"IF(ISBLANK(BCU400_Database!D163),\"\",BCU400_Database!D163)","v":"P00010"},{"$f":"IF(ISBLANK(BCU400_Database!E163),\"\",BCU400_Database!E163)","v":88610167},"BCU 460-10/1W3GBS2B1/1"]
[{"$f":"IF(ISBLANK(BCU400_Database!B164),\"\",BCU400_Database!B164)","v":84631622},{"$f":"IF(ISBLANK(BCU400_Database!C164),\"\",BCU400_Database!C164)","v":"BCU 480-5/3/1LW3GBB1/1"},{"$f":"IF(ISBLANK(BCU400_Database!D164),\"\",BCU400_Database!D164)","v":"P00266"},{"$f":"IF(ISBLANK(BCU400_Database!E164),\"\",BCU400_Database!E164)","v":88610168},"BCU 480-5/3/1LW3GBB1/1"]
[{"$f":"IF(ISBLANK(BCU400_Database!B165),\"\",BCU400_Database!B165)","v":84631617},{"$f":"IF(ISBLANK(BCU400_Database!C165),\"\",BCU400_Database!C165)","v":"BCU 465-5/1LW3GBS4A"},{"$f":"IF(ISBLANK(BCU400_Database!D165),\"\",BCU400_Database!D165)","v":"P00022"},{"$f":"IF(ISBLANK(BCU400_Database!E165),\"\",BCU400_Database!E165)","v":88610169},"BCU 465-5/1LW3GBS4A"]
[{"$f":"IF(ISBLANK(BCU400_Database!B166),\"\",BCU400_Database!B166)","v":84631474},{"$f":"IF(ISBLANK(BCU400_Database!C166),\"\",BCU400_Database!C166)","v":"BCU 480-5/3/1LR3GBD2"},{"$f":"IF(ISBLANK(BCU400_Database!D166),\"\",BCU400_Database!D166)","v":"P00340"},{"$f":"IF(ISBLANK(BCU400_Database!E166),\"\",BCU400_Database!E166)","v":88610170},"BCU 480-5/3/1LR3GBD2"]
[{"$f":"IF(ISBLANK(BCU400_Database!B167),\"\",BCU400_Database!B167)","v":84630651},{"$f":"IF(ISBLANK(BCU400_Database!C167),\"\",BCU400_Database!C167)","v":"BCU 480-5/3/1LW1GB"},{"$f":"IF(ISBLANK(BCU400_Database!D167),\"\",BCU400_Database!D167)","v":"P00001"},{"$f":"IF(ISBLANK(BCU400_Database!E167),\"\",BCU400_Database!E167)","v":88610171},"BCU 480-5/3/1LW1GB"]
[{"$f":"IF(ISBLANK(BCU400_Database!B168),\"\",BCU400_Database!B168)","v":84630251},{"$f":"IF(ISBLANK(BCU400_Database!C168),\"\",BCU400_Database!C168)","v":"BCU 460-3/1LW1GB"},{"$f":"IF(ISBLANK(BCU400_Database!D168),\"\",BCU400_Database!D168)","v":"P00001"},{"$f":"IF(ISBLANK(BCU400_Database!E168),\"\",BCU400_Database!E168)","v":88610172},"BCU 460-3/1LW1GB"]
[{"$f":"IF(ISBLANK(BCU400_Database!B169),\"\",BCU400_Database!B169)","v":84631579},{"$f":"IF(ISBLANK(BCU400_Database!C169),\"\",BCU400_Database!C169)","v":"BCU 460-3/1LW8GB"},{"$f":"IF(ISBLANK(BCU400_Database!D169),\"\",BCU400_Database!D169)","v":"P00001"},{"$f":"IF(ISBLANK(BCU400_Database!E169),\"\",BCU400_Database!E169)","v":88610173},"BCU 460-3/1LW8GB"]
[{"$f":"IF(ISBLANK(BCU400_Database!B170),\"\",BCU400_Database!B170)","v":84632148},{"$f":"IF(ISBLANK(BCU400_Database!C170),\"\",BCU400_Database!C170)","v":"BCU 460-3/1R3GBS2B1/2"},{"$f":"IF(ISBLANK(BCU400_Database!D170),\"\",BCU400_Database!D170)","v":"P00441"},{"$f":"IF(ISBLANK(BCU400_Database!E170),\"\",BCU400_Database!E170)","v":88610174},"BCU 460-3/1R3GBS2B1/2"]
[{"$f":"IF(ISBLANK(BCU400_Database!B171),\"\",BCU400_Database!B171)","v":84631826},{"$f":"IF(ISBLANK(BCU400_Database!C171),\"\",BCU400_Database!C171)","v":"BCU 460T-3/1R1"},{"$f":"IF(ISBLANK(BCU400_Database!D171),\"\",BCU400_Database!D171)","v":"P00001"},{"$f":"IF(ISBLANK(BCU400_Database!E171),\"\",BCU400_Database!E171)","v":88610175},"BCU 460T-3/1R1"]
[{"$f":"IF(ISBLANK(BCU400_Database!B172),\"\",BCU400_Database!B172)","v":84631448},{"$f":"IF(ISBLANK(BCU400_Database!C172),\"\",BCU400_Database!C172)","v":"BCU 460-5/1W3GBS2"},{"$f":"IF(ISBLANK(BCU400_Database!D172),\"\",BCU400_Database!D172)","v":"P00006"},{"$f":"IF(ISBLANK(BCU400_Database!E172),\"\",BCU400_Database!E172)","v":88610176},"BCU 460-5/1W3GBS2"]
[{"$f":"IF(ISBLANK(BCU400_Database!B173),\"\",BCU400_Database!B173)","v":84630260},{"$f":"IF(ISBLANK(BCU400_Database!C173),\"\",BCU400_Database!C173)","v":"BCU 460-3/1W3GB"},{"$f":"IF(ISBLANK(BCU400_Database!D173),\"\",BCU400_Database!D173)","v":"P00006"},{"$f":"IF(ISBLANK(BCU400_Database!E173),\"\",BCU400_Database!E173)","v":88610177},"BCU 460-3/1W3GB"]
[{"$f":"IF(ISBLANK(BCU400_Database!B174),\"\",BCU400_Database!B174)","v":84631579},{"$f":"IF(ISBLANK(BCU400_Database!C174),\"\",BCU400_Database!C174)","v":"BCU 460-3/1LW8GB"},{"$f":"IF(ISBLANK(BCU400_Database!D174),\"\",BCU400_Database!D174)","v":"P00080"},{"$f":"IF(ISBLANK(BCU400_Database!E174),\"\",BCU400_Database!E174)","v":88610178},"BCU 460-3/1LW8GB"]
[{"$f":"IF(ISBLANK(BCU400_Database!B175),\"\",BCU400_Database!B175)","v":84631933},{"$f":"IF(ISBLANK(BCU400_Database!C175),\"\",BCU400_Database!C175)","v":"BCU 465-3/1LW8GBD3S3AB1/1"},{"$f":"IF(ISBLANK(BCU400_Database!D175),\"\",BCU400_Database!D175)","v":"P00110"},{"$f":"IF(ISBLANK(BCU400_Database!E175),\"\",BCU400_Database!E175)","v":88610179},"BCU 465-3/1LW8GBD3S3AB1/1"]
[{"$f":"IF(ISBLANK(BCU400_Database!B176),\"\",BCU400_Database!B176)","v":84631465},{"$f":"IF(ISBLANK(BCU400_Database!C176),\"\",BCU400_Database!C176)","v":"BCU 460-5/1W3GBB1/1"},{"$f":"IF(ISBLANK(BCU400_Database!D176),\"\",BCU400_Database!D176)","v":"P00001"},{"$f":"IF(ISBLANK(BCU400_Database!E176),\"\",BCU400_Database!E176)","v":88610180},"BCU 460-5/1W3GBB1/1"]
[{"$f":"IF(ISBLANK(BCU400_Database!B177),\"\",BCU400_Database!B177)","v":84630265},{"$f":"IF(ISBLANK(BCU400_Database!C177),\"\",BCU400_Database!C177)","v":"BCU 460-3/1R1GB"},{"$f":"IF(ISBLANK(BCU400_Database!D177),\"\",BCU400_Database!D177)","v":"P00001"},{"$f":"IF(ISBLANK(BCU400_Database!E177),\"\",BCU400_Database!E177)","v":88610181},"BCU 460-3/1R1GB"]
[{"$f":"IF(ISBLANK(BCU400_Database!B178),\"\",BCU400_Database!B178)","v":84631985},{"$f":"IF(ISBLANK(BCU400_Database!C178),\"\",BCU400_Database!C178)","v":"BCU 460-5/1W2GBD3"},{"$f":"IF(ISBLANK(BCU400_Database!D178),\"\",BCU400_Database!D178)","v":"P00357"},{"$f":"IF(ISBLANK(BCU400_Database!E178),\"\",BCU400_Database!E178)","v":88610182},"BCU 460-5/1W2GBD3"]
[{"$f":"IF(ISBLANK(BCU400_Database!B179),\"\",BCU400_Database!B179)","v":84632007},{"$f":"IF(ISBLANK(BCU400_Database!C179),\"\",BCU400_Database!C179)","v":"BCU 460-10/1LW3GBD2S3"},{"$f":"IF(ISBLANK(BCU400_Database!D179),\"\",BCU400_Database!D179)","v":"P00042"},{"$f":"IF(ISBLANK(BCU400_Database!E179),\"\",BCU400_Database!E179)","v":88610183},"BCU 460-10/1LW3GBD2S3"]
[{"$f":"IF(ISBLANK(BCU400_Database!B180),\"\",BCU400_Database!B180)","v":84630481},{"$f":"IF(ISBLANK(BCU400_Database!C180),\"\",BCU400_Database!C180)","v":"BCU 460-10/1LR3GB"},{"$f":"IF(ISBLANK(BCU400_Database!D180),\"\",BCU400_Database!D180)","v":"P00010"},{"$f":"IF(ISBLANK(BCU400_Database!E180),\"\",BCU400_Database!E180)","v":88610184},"BCU 460-10/1LR3GB"]
[{"$f":"IF(ISBLANK(BCU400_Database!B181),\"\",BCU400_Database!B181)","v":84631936},{"$f":"IF(ISBLANK(BCU400_Database!C181),\"\",BCU400_Database!C181)","v":"BCU 460-3/1W1GBC"},{"$f":"IF(ISBLANK(BCU400_Database!D181),\"\",BCU400_Database!D181)","v":"P00001"},{"$f":"IF(ISBLANK(BCU400_Database!E181),\"\",BCU400_Database!E181)","v":88610185},"BCU 460-3/1W1GBC"]
[{"$f":"IF(ISBLANK(BCU400_Database!B182),\"\",BCU400_Database!B182)","v":84631453},{"$f":"IF(ISBLANK(BCU400_Database!C182),\"\",BCU400_Database!C182)","v":"BCU 460-5/1W3GBCB1/1"},{"$f":"IF(ISBLANK(BCU400_Database!D182),\"\",BCU400_Database!D182)","v":"P00001"},{"$f":"IF(ISBLANK(BCU400_Database!E182),\"\",BCU400_Database!E182)","v":88610186},"BCU 460-5/1W3GBCB1/1"]
[{"$f":"IF(ISBLANK(BCU400_Database!B183),\"\",BCU400_Database!B183)","v":84631726},{"$f":"IF(ISBLANK(BCU400_Database!C183),\"\",BCU400_Database!C183)","v":"BCU 460-5/1LR3GBB1/1"},{"$f":"IF(ISBLANK(BCU400_Database!D183),\"\",BCU400_Database!D183)","v":"P00255"},{"$f":"IF(ISBLANK(BCU400_Database!E183),\"\",BCU400_Database!E183)","v":88610187},"BCU 460-5/1LR3GBB1/1"]
[{"$f":"IF(ISBLANK(BCU400_Database!B184),\"\",BCU400_Database!B184)","v":84630761},{"$f":"IF(ISBLANK(BCU400_Database!C184),\"\",BCU400_Database!C184)","v":"BCU 480-10/3/1LW3GB"},{"$f":"IF(ISBLANK(BCU400_Database!D184),\"\",BCU400_Database!D184)","v":"P00185"},{"$f":"IF(ISBLANK(BCU400_Database!E184),\"\",BCU400_Database!E184)","v":88610188},"BCU 480-10/3/1LW3GB"]
[{"$f":"IF(ISBLANK(BCU400_Database!B185),\"\",BCU400_Database!B185)","v":84632003},{"$f":"IF(ISBLANK(BCU400_Database!C185),\"\",BCU400_Database!C185)","v":"BCU 460-5/1LW8GBS2B1/1"},{"$f":"IF(ISBLANK(BCU400_Database!D185),\"\",BCU400_Database!D185)","v":"P00440"},{"$f":"IF(ISBLANK(BCU400_Database!E185),\"\",BCU400_Database!E185)","v":88610189},"BCU 460-5/1LW8GBS2B1/1"]
[{"$f":"IF(ISBLANK(BCU400_Database!B186),\"\",BCU400_Database!B186)","v":84631990},{"$f":"IF(ISBLANK(BCU400_Database!C186),\"\",BCU400_Database!C186)","v":"BCU 480-5/3/1L5W1GBS3/1"},{"$f":"IF(ISBLANK(BCU400_Database!D186),\"\",BCU400_Database!D186)","v":"P00329"},{"$f":"IF(ISBLANK(BCU400_Database!E186),\"\",BCU400_Database!E186)","v":88610190},"BCU 480-5/3/1L5W1GBS3/1"]
[{"$f":"IF(ISBLANK(BCU400_Database!B187),\"\",BCU400_Database!B187)","v":84631977},{"$f":"IF(ISBLANK(BCU400_Database!C187),\"\",BCU400_Database!C187)","v":"BCU 460-3/1LR8GBS2B1/1"},{"$f":"IF(ISBLANK(BCU400_Database!D187),\"\",BCU400_Database!D187)","v":"P00325"},{"$f":"IF(ISBLANK(BCU400_Database!E187),\"\",BCU400_Database!E187)","v":88610191},"BCU 460-3/1LR8GBS2B1/1"]
[{"$f":"IF(ISBLANK(BCU400_Database!B188),\"\",BCU400_Database!B188)","v":84631545},{"$f":"IF(ISBLANK(BCU400_Database!C188),\"\",BCU400_Database!C188)","v":"BCU 460-5/1LW3GBB1/1"},{"$f":"IF(ISBLANK(BCU400_Database!D188),\"\",BCU400_Database!D188)","v":"P00026"},{"$f":"IF(ISBLANK(BCU400_Database!E188),\"\",BCU400_Database!E188)","v":88610192},"BCU 460-5/1LW3GBB1/1"]
[{"$f":"IF(ISBLANK(BCU400_Database!B189),\"\",BCU400_Database!B189)","v":84631483},{"$f":"IF(ISBLANK(BCU400_Database!C189),\"\",BCU400_Database!C189)","v":"BCU 460-5/1LW8GBB1/1"},{"$f":"IF(ISBLANK(BCU400_Database!D189),\"\",BCU400_Database!D189)","v":"P00363"},{"$f":"IF(ISBLANK(BCU400_Database!E189),\"\",BCU400_Database!E189)","v":88610193},"BCU 460-5/1LW8GBB1/1"]
[{"$f":"IF(ISBLANK(BCU400_Database!B190),\"\",BCU400_Database!B190)","v":84631847},{"$f":"IF(ISBLANK(BCU400_Database!C190),\"\",BCU400_Database!C190)","v":"BCU 465-5/1LR3GBAB1/1"},{"$f":"IF(ISBLANK(BCU400_Database!D190),\"\",BCU400_Database!D190)","v":"P00078"},{"$f":"IF(ISBLANK(BCU400_Database!E190),\"\",BCU400_Database!E190)","v":88610194},"BCU 465-5/1LR3GBAB1/1"]
[{"$f":"IF(ISBLANK(BCU400_Database!B191),\"\",BCU400_Database!B191)","v":84631579},{"$f":"IF(ISBLANK(BCU400_Database!C191),\"\",BCU400_Database!C191)","v":"BCU 460-3/1LW8GB"},{"$f":"IF(ISBLANK(BCU400_Database!D191),\"\",BCU400_Database!D191)","v":"P00023"},{"$f":"IF(ISBLANK(BCU400_Database!E191),\"\",BCU400_Database!E191)","v":88610195},"BCU 460-3/1LW8GB"]
[{"$f":"IF(ISBLANK(BCU400_Database!B192),\"\",BCU400_Database!B192)","v":84631354},{"$f":"IF(ISBLANK(BCU400_Database!C192),\"\",BCU400_Database!C192)","v":"BCU 460-5/1LW3GBS3"},{"$f":"IF(ISBLANK(BCU400_Database!D192),\"\",BCU400_Database!D192)","v":"P00001"},{"$f":"IF(ISBLANK(BCU400_Database!E192),\"\",BCU400_Database!E192)","v":88610196},"BCU 460-5/1LW3GBS3"]
[{"$f":"IF(ISBLANK(BCU400_Database!B193),\"\",BCU400_Database!B193)","v":84631392},{"$f":"IF(ISBLANK(BCU400_Database!C193),\"\",BCU400_Database!C193)","v":"BCU 460-5/1LW3GBP"},{"$f":"IF(ISBLANK(BCU400_Database!D193),\"\",BCU400_Database!D193)","v":"P00026"},{"$f":"IF(ISBLANK(BCU400_Database!E193),\"\",BCU400_Database!E193)","v":88610197},"BCU 460-5/1LW3GBP"]
[{"$f":"IF(ISBLANK(BCU400_Database!B194),\"\",BCU400_Database!B194)","v":84631893},{"$f":"IF(ISBLANK(BCU400_Database!C194),\"\",BCU400_Database!C194)","v":"BCU 460-3/1LW3GBD2B1/1"},{"$f":"IF(ISBLANK(BCU400_Database!D194),\"\",BCU400_Database!D194)","v":"P00001"},{"$f":"IF(ISBLANK(BCU400_Database!E194),\"\",BCU400_Database!E194)","v":88610198},"BCU 460-3/1LW3GBD2B1/1"]
[{"$f":"IF(ISBLANK(BCU400_Database!B195),\"\",BCU400_Database!B195)","v":84630751},{"$f":"IF(ISBLANK(BCU400_Database!C195),\"\",BCU400_Database!C195)","v":"BCU 480-10/3/1LW1GB"},{"$f":"IF(ISBLANK(BCU400_Database!D195),\"\",BCU400_Database!D195)","v":"P00001"},{"$f":"IF(ISBLANK(BCU400_Database!E195),\"\",BCU400_Database!E195)","v":88610199},{"$f":"B195","v":"BCU 480-10/3/1LW1GB"}]
[{"$f":"IF(ISBLANK(BCU400_Database!B196),\"\",BCU400_Database!B196)","v":84631444},{"$f":"IF(ISBLANK(BCU400_Database!C196),\"\",BCU400_Database!C196)","v":"BCU 480-5/3/1LW1GBS2/1"},{"$f":"IF(ISBLANK(BCU400_Database!D196),\"\",BCU400_Database!D196)","v":"P00001"},{"$f":"IF(ISBLANK(BCU400_Database!E196),\"\",BCU400_Database!E196)","v":88610200},"BCU 480-5/3/1LW1GBS2/1"]
[{"$f":"IF(ISBLANK(BCU400_Database!B197),\"\",BCU400_Database!B197)","v":84631744},{"$f":"IF(ISBLANK(BCU400_Database!C197),\"\",BCU400_Database!C197)","v":"BCU 465-5/1LW3GBS2AB1/1"},{"$f":"IF(ISBLANK(BCU400_Database!D197),\"\",BCU400_Database!D197)","v":"P00131"},{"$f":"IF(ISBLANK(BCU400_Database!E197),\"\",BCU400_Database!E197)","v":88610201},"BCU 465-5/1LW3GBS2AB1/1"]
[{"$f":"IF(ISBLANK(BCU400_Database!B198),\"\",BCU400_Database!B198)","v":84630361},{"$f":"IF(ISBLANK(BCU400_Database!C198),\"\",BCU400_Database!C198)","v":"BCU 460-5/1LW3GB"},{"$f":"IF(ISBLANK(BCU400_Database!D198),\"\",BCU400_Database!D198)","v":"P00060"},{"$f":"IF(ISBLANK(BCU400_Database!E198),\"\",BCU400_Database!E198)","v":88610202},"BCU 460-5/1LW3GB"]
[{"$f":"IF(ISBLANK(BCU400_Database!B199),\"\",BCU400_Database!B199)","v":84631841},{"$f":"IF(ISBLANK(BCU400_Database!C199),\"\",BCU400_Database!C199)","v":"BCU 480-5/3/1LR1GBS4/1B1/1"},{"$f":"IF(ISBLANK(BCU400_Database!D199),\"\",BCU400_Database!D199)","v":"P00001"},{"$f":"IF(ISBLANK(BCU400_Database!E199),\"\",BCU400_Database!E199)","v":88610203},"BCU 480-5/3/1LR1GBS4/1B1/1"]
[{"$f":"IF(ISBLANK(BCU400_Database!B200),\"\",BCU400_Database!B200)","v":84631602},{"$f":"IF(ISBLANK(BCU400_Database!C200),\"\",BCU400_Database!C200)","v":"BCU 460-5/1LW3GBD3S2"},{"$f":"IF(ISBLANK(BCU400_Database!D200),\"\",BCU400_Database!D200)","v":"P00001"},{"$f":"IF(ISBLANK(BCU400_Database!E200),\"\",BCU400_Database!E200)","v":88610204},"BCU 460-5/1LW3GBD3S2"]
[{"$f":"IF(ISBLANK(BCU400_Database!B201),\"\",BCU400_Database!B201)","v":84631931},{"$f":"IF(ISBLANK(BCU400_Database!C201),\"\",BCU400_Database!C201)","v":"BCU 480-10/3/1LW3GBS2/1B1/1"},{"$f":"IF(ISBLANK(BCU400_Database!D201),\"\",BCU400_Database!D201)","v":"P00013"},{"$f":"IF(ISBLANK(BCU400_Database!E201),\"\",BCU400_Database!E201)","v":88610205},"BCU 480-10/3/1LW3GBS2/1B1/1"]
[{"$f":"IF(ISBLANK(BCU400_Database!B202),\"\",BCU400_Database!B202)","v":84630381},{"$f":"IF(ISBLANK(BCU400_Database!C202),\"\",BCU400_Database!C202)","v":"BCU 460-5/1LR3GB"},{"$f":"IF(ISBLANK(BCU400_Database!D202),\"\",BCU400_Database!D202)","v":"P00001"},{"$f":"IF(ISBLANK(BCU400_Database!E202),\"\",BCU400_Database!E202)","v":88610206},"BCU 460-5/1LR3GB"]
[{"$f":"IF(ISBLANK(BCU400_Database!B203),\"\",BCU400_Database!B203)","v":84632086},{"$f":"IF(ISBLANK(BCU400_Database!C203),\"\",BCU400_Database!C203)","v":"BCU 460-3/1LR3GBS2CB1/2"},{"$f":"IF(ISBLANK(BCU400_Database!D203),\"\",BCU400_Database!D203)","v":"P00140"},{"$f":"IF(ISBLANK(BCU400_Database!E203),\"\",BCU400_Database!E203)","v":88610207},"BCU 460-3/1LR3GBS2CB1/2"]
[{"$f":"IF(ISBLANK(BCU400_Database!B204),\"\",BCU400_Database!B204)","v":84631789},{"$f":"IF(ISBLANK(BCU400_Database!C204),\"\",BCU400_Database!C204)","v":"BCU 460-3/1W1GBD2B1/1"},{"$f":"IF(ISBLANK(BCU400_Database!D204),\"\",BCU400_Database!D204)","v":"P00001"},{"$f":"IF(ISBLANK(BCU400_Database!E204),\"\",BCU400_Database!E204)","v":88610208},"BCU 460-3/1W1GBD2B1/1"]
[{"$f":"IF(ISBLANK(BCU400_Database!B205),\"\",BCU400_Database!B205)","v":84631422},{"$f":"IF(ISBLANK(BCU400_Database!C205),\"\",BCU400_Database!C205)","v":"BCU 460-5/1LW3GBS2"},{"$f":"IF(ISBLANK(BCU400_Database!D205),\"\",BCU400_Database!D205)","v":"P00013"},{"$f":"IF(ISBLANK(BCU400_Database!E205),\"\",BCU400_Database!E205)","v":88610209},"BCU 460-5/1LW3GBS2"]
[{"$f":"IF(ISBLANK(BCU400_Database!B206),\"\",BCU400_Database!B206)","v":84631761},{"$f":"IF(ISBLANK(BCU400_Database!C206),\"\",BCU400_Database!C206)","v":"BCU 460-5/1LW3GBS2B1/1"},{"$f":"IF(ISBLANK(BCU400_Database!D206),\"\",BCU400_Database!D206)","v":"P00362"},{"$f":"IF(ISBLANK(BCU400_Database!E206),\"\",BCU400_Database!E206)","v":88610210},"BCU 460-5/1LW3GBS2B1/1"]
[{"$f":"IF(ISBLANK(BCU400_Database!B207),\"\",BCU400_Database!B207)","v":84631422},{"$f":"IF(ISBLANK(BCU400_Database!C207),\"\",BCU400_Database!C207)","v":"BCU 460-5/1LW3GBS2"},{"$f":"IF(ISBLANK(BCU400_Database!D207),\"\",BCU400_Database!D207)","v":"P00416"},{"$f":"IF(ISBLANK(BCU400_Database!E207),\"\",BCU400_Database!E207)","v":88610211},"BCU 460-5/1LW3GBS2"]
[{"$f":"IF(ISBLANK(BCU400_Database!B208),\"\",BCU400_Database!B208)","v":84631476},{"$f":"IF(ISBLANK(BCU400_Database!C208),\"\",BCU400_Database!C208)","v":"BCU 480-5/3/1LR1GBB1/1"},{"$f":"IF(ISBLANK(BCU400_Database!D208),\"\",BCU400_Database!D208)","v":"P00280"},{"$f":"IF(ISBLANK(BCU400_Database!E208),\"\",BCU400_Database!E208)","v":88610212},"BCU 480-5/3/1LR1GBB1/1"]
[{"$f":"IF(ISBLANK(BCU400_Database!B209),\"\",BCU400_Database!B209)","v":84631462},{"$f":"IF(ISBLANK(BCU400_Database!C209),\"\",BCU400_Database!C209)","v":"BCU 465T-5/2LR3OC"},{"$f":"IF(ISBLANK(BCU400_Database!D209),\"\",BCU400_Database!D209)","v":"P00025"},{"$f":"IF(ISBLANK(BCU400_Database!E209),\"\",BCU400_Database!E209)","v":88610213},"BCU 465T-5/2LR3OC"]
[{"$f":"IF(ISBLANK(BCU400_Database!B210),\"\",BCU400_Database!B210)","v":84630150},{"$f":"IF(ISBLANK(BCU400_Database!C210),\"\",BCU400_Database!C210)","v":"BCU 440-10/1W1GB"},{"$f":"IF(ISBLANK(BCU400_Database!D210),\"\",BCU400_Database!D210)","v":"P00001"},{"$f":"IF(ISBLANK(BCU400_Database!E210),\"\",BCU400_Database!E210)","v":88610214},"BCU 440-10/1W1GB"]
[{"$f":"IF(ISBLANK(BCU400_Database!B211),\"\",BCU400_Database!B211)","v":84631456},{"$f":"IF(ISBLANK(BCU400_Database!C211),\"\",BCU400_Database!C211)","v":"BCU 460-5/1LR3GBS3"},{"$f":"IF(ISBLANK(BCU400_Database!D211),\"\",BCU400_Database!D211)","v":"P00177"},{"$f":"IF(ISBLANK(BCU400_Database!E211),\"\",BCU400_Database!E211)","v":88610215},"BCU 460-5/1LR3GBS3"]
[{"$f":"IF(ISBLANK(BCU400_Database!B212),\"\",BCU400_Database!B212)","v":84631853},{"$f":"IF(ISBLANK(BCU400_Database!C212),\"\",BCU400_Database!C212)","v":"BCU 480-5/3/1LR1GBS2/1B1/1"},{"$f":"IF(ISBLANK(BCU400_Database!D212),\"\",BCU400_Database!D212)","v":"P00001"},{"$f":"IF(ISBLANK(BCU400_Database!E212),\"\",BCU400_Database!E212)","v":88610216},"BCU 480-5/3/1LR1GBS2/1B1/1"]
[{"$f":"IF(ISBLANK(BCU400_Database!B213),\"\",BCU400_Database!B213)","v":84631793},{"$f":"IF(ISBLANK(BCU400_Database!C213),\"\",BCU400_Database!C213)","v":"BCU 460-3/1LW3GBD3S2B1/1"},{"$f":"IF(ISBLANK(BCU400_Database!D213),\"\",BCU400_Database!D213)","v":"P00001"},{"$f":"IF(ISBLANK(BCU400_Database!E213),\"\",BCU400_Database!E213)","v":88610217},"BCU 460-3/1LW3GBD3S2B1/1"]
[{"$f":"IF(ISBLANK(BCU400_Database!B214),\"\",BCU400_Database!B214)","v":84631507},{"$f":"IF(ISBLANK(BCU400_Database!C214),\"\",BCU400_Database!C214)","v":"BCU 460-3/1LW3GBS3B1/1Z0001"},{"$f":"IF(ISBLANK(BCU400_Database!D214),\"\",BCU400_Database!D214)","v":"P00092"},{"$f":"IF(ISBLANK(BCU400_Database!E214),\"\",BCU400_Database!E214)","v":88610218},"BCU 460-3/1LW3GBS3B1/1Z0001"]
[{"$f":"IF(ISBLANK(BCU400_Database!B215),\"\",BCU400_Database!B215)","v":84631533},{"$f":"IF(ISBLANK(BCU400_Database!C215),\"\",BCU400_Database!C215)","v":"BCU 460-3/1LW3GBB1/1"},{"$f":"IF(ISBLANK(BCU400_Database!D215),\"\",BCU400_Database!D215)","v":"P00067"},{"$f":"IF(ISBLANK(BCU400_Database!E215),\"\",BCU400_Database!E215)","v":88610219},"BCU 460-3/1LW3GBB1/1"]
[{"$f":"IF(ISBLANK(BCU400_Database!B216),\"\",BCU400_Database!B216)","v":84631710},{"$f":"IF(ISBLANK(BCU400_Database!C216),\"\",BCU400_Database!C216)","v":"BCU 460-10/1W3GBS2"},{"$f":"IF(ISBLANK(BCU400_Database!D216),\"\",BCU400_Database!D216)","v":"P00010"},{"$f":"IF(ISBLANK(BCU400_Database!E216),\"\",BCU400_Database!E216)","v":88610220},"BCU 460-10/1W3GBS2"]
[{"$f":"IF(ISBLANK(BCU400_Database!B217),\"\",BCU400_Database!B217)","v":84632056},{"$f":"IF(ISBLANK(BCU400_Database!C217),\"\",BCU400_Database!C217)","v":"BCU 460-3/1R3GBPS3"},{"$f":"IF(ISBLANK(BCU400_Database!D217),\"\",BCU400_Database!D217)","v":"P00001"},{"$f":"IF(ISBLANK(BCU400_Database!E217),\"\",BCU400_Database!E217)","v":88610221},"BCU 460-3/1R3GBPS3"]
[{"$f":"IF(ISBLANK(BCU400_Database!B218),\"\",BCU400_Database!B218)","v":84632170},{"$f":"IF(ISBLANK(BCU400_Database!C218),\"\",BCU400_Database!C218)","v":"BCU 480-3/5/1LW3GBCB1/1"},{"$f":"IF(ISBLANK(BCU400_Database!D218),\"\",BCU400_Database!D218)","v":"P00447"},{"$f":"IF(ISBLANK(BCU400_Database!E218),\"\",BCU400_Database!E218)","v":88610222},"BCU 480-3/5/1LW3GBCB1/1"]
[{"$f":"IF(ISBLANK(BCU400_Database!B219),\"\",BCU400_Database!B219)","v":84631552},{"$f":"IF(ISBLANK(BCU400_Database!C219),\"\",BCU400_Database!C219)","v":"BCU 460-5/1R3GBD3"},{"$f":"IF(ISBLANK(BCU400_Database!D219),\"\",BCU400_Database!D219)","v":"P00010"},{"$f":"IF(ISBLANK(BCU400_Database!E219),\"\",BCU400_Database!E219)","v":88610223},"BCU 460-5/1R3GBD3"]
[{"$f":"IF(ISBLANK(BCU400_Database!B220),\"\",BCU400_Database!B220)","v":84631878},{"$f":"IF(ISBLANK(BCU400_Database!C220),\"\",BCU400_Database!C220)","v":"BCU 465-5/1LR3GBS2AB1/1"},{"$f":"IF(ISBLANK(BCU400_Database!D220),\"\",BCU400_Database!D220)","v":"P00023"},{"$f":"IF(ISBLANK(BCU400_Database!E220),\"\",BCU400_Database!E220)","v":88610224},"BCU 465-5/1LR3GBS2AB1/1"]
[{"$f":"IF(ISBLANK(BCU400_Database!B221),\"\",BCU400_Database!B221)","v":84631434},{"$f":"IF(ISBLANK(BCU400_Database!C221),\"\",BCU400_Database!C221)","v":"BCU 460-5/1LW1GBB1/1"},{"$f":"IF(ISBLANK(BCU400_Database!D221),\"\",BCU400_Database!D221)","v":"P00276"},{"$f":"IF(ISBLANK(BCU400_Database!E221),\"\",BCU400_Database!E221)","v":88610225},"BCU 460-5/1LW1GBB1/1"]
[{"$f":"IF(ISBLANK(BCU400_Database!B222),\"\",BCU400_Database!B222)","v":84631377},{"$f":"IF(ISBLANK(BCU400_Database!C222),\"\",BCU400_Database!C222)","v":"BCU 460-3/1LW3GBD3"},{"$f":"IF(ISBLANK(BCU400_Database!D222),\"\",BCU400_Database!D222)","v":"P00001"},{"$f":"IF(ISBLANK(BCU400_Database!E222),\"\",BCU400_Database!E222)","v":88610226},"BCU 460-3/1LW3GBD3"]
[{"$f":"IF(ISBLANK(BCU400_Database!B223),\"\",BCU400_Database!B223)","v":84631870},{"$f":"IF(ISBLANK(BCU400_Database!C223),\"\",BCU400_Database!C223)","v":"BCU 480-5/3/1LR3GBD2S3/1B1/1"},{"$f":"IF(ISBLANK(BCU400_Database!D223),\"\",BCU400_Database!D223)","v":"P00157"},{"$f":"IF(ISBLANK(BCU400_Database!E223),\"\",BCU400_Database!E223)","v":88610227},"BCU 480-5/3/1LR3GBD2S3/1B1/1"]
[{"$f":"IF(ISBLANK(BCU400_Database!B224),\"\",BCU400_Database!B224)","v":84631561},{"$f":"IF(ISBLANK(BCU400_Database!C224),\"\",BCU400_Database!C224)","v":"BCU 460-5/1LW8GB"},{"$f":"IF(ISBLANK(BCU400_Database!D224),\"\",BCU400_Database!D224)","v":"P00033"},{"$f":"IF(ISBLANK(BCU400_Database!E224),\"\",BCU400_Database!E224)","v":88610228},"BCU 460-5/1LW8GB"]
[{"$f":"IF(ISBLANK(BCU400_Database!B225),\"\",BCU400_Database!B225)","v":84631533},{"$f":"IF(ISBLANK(BCU400_Database!C225),\"\",BCU400_Database!C225)","v":"BCU 460-3/1LW3GBB1/1"},{"$f":"IF(ISBLANK(BCU400_Database!D225),\"\",BCU400_Database!D225)","v":"P00431"},{"$f":"IF(ISBLANK(BCU400_Database!E225),\"\",BCU400_Database!E225)","v":88610229},"BCU 460-3/1LW3GBB1/1"]
[{"$f":"IF(ISBLANK(BCU400_Database!B226),\"\",BCU400_Database!B226)","v":84631561},{"$f":"IF(ISBLANK(BCU400_Database!C226),\"\",BCU400_Database!C226)","v":"BCU 460-5/1LW8GB"},{"$f":"IF(ISBLANK(BCU400_Database!D226),\"\",BCU400_Database!D226)","v":"P00001"},{"$f":"IF(ISBLANK(BCU400_Database!E226),\"\",BCU400_Database!E226)","v":88610230},"BCU 460-5/1LW8GB"]
[{"$f":"IF(ISBLANK(BCU400_Database!B227),\"\",BCU400_Database!B227)","v":84632033},{"$f":"IF(ISBLANK(BCU400_Database!C227),\"\",BCU400_Database!C227)","v":"BCU 465-5/1LR3GBS3AB1/1"},{"$f":"IF(ISBLANK(BCU400_Database!D227),\"\",BCU400_Database!D227)","v":"P00118"},{"$f":"IF(ISBLANK(BCU400_Database!E227),\"\",BCU400_Database!E227)","v":88610231},"BCU 465-5/1LR3GBS3AB1/1"]
[{"$f":"IF(ISBLANK(BCU400_Database!B228),\"\",BCU400_Database!B228)","v":84631693},{"$f":"IF(ISBLANK(BCU400_Database!C228),\"\",BCU400_Database!C228)","v":"BCU 460-3/1LR3GBB1/1"},{"$f":"IF(ISBLANK(BCU400_Database!D228),\"\",BCU400_Database!D228)","v":"P00001"},{"$f":"IF(ISBLANK(BCU400_Database!E228),\"\",BCU400_Database!E228)","v":88610232},"BCU 460-3/1LR3GBB1/1"]
[{"$f":"IF(ISBLANK(BCU400_Database!B229),\"\",BCU400_Database!B229)","v":84631850},{"$f":"IF(ISBLANK(BCU400_Database!C229),\"\",BCU400_Database!C229)","v":"BCU 480-5/3/1LW3GBS4/1B1/1"},{"$f":"IF(ISBLANK(BCU400_Database!D229),\"\",BCU400_Database!D229)","v":"P00256"},{"$f":"IF(ISBLANK(BCU400_Database!E229),\"\",BCU400_Database!E229)","v":88610233},"BCU 480-5/3/1LW3GBS4/1B1/1"]
[{"$f":"IF(ISBLANK(BCU400_Database!B230),\"\",BCU400_Database!B230)","v":84631714},{"$f":"IF(ISBLANK(BCU400_Database!C230),\"\",BCU400_Database!C230)","v":"BCU 480-5/3/1LW3GBS2/2"},{"$f":"IF(ISBLANK(BCU400_Database!D230),\"\",BCU400_Database!D230)","v":"P00010"},{"$f":"IF(ISBLANK(BCU400_Database!E230),\"\",BCU400_Database!E230)","v":88610234},"BCU 480-5/3/1LW3GBS2/2"]
[{"$f":"IF(ISBLANK(BCU400_Database!B231),\"\",BCU400_Database!B231)","v":84631456},{"$f":"IF(ISBLANK(BCU400_Database!C231),\"\",BCU400_Database!C231)","v":"BCU 460-5/1LR3GBS3"},{"$f":"IF(ISBLANK(BCU400_Database!D231),\"\",BCU400_Database!D231)","v":"P00013"},{"$f":"IF(ISBLANK(BCU400_Database!E231),\"\",BCU400_Database!E231)","v":88610235},"BCU 460-5/1LR3GBS3"]
[{"$f":"IF(ISBLANK(BCU400_Database!B232),\"\",BCU400_Database!B232)","v":84631761},{"$f":"IF(ISBLANK(BCU400_Database!C232),\"\",BCU400_Database!C232)","v":"BCU 460-5/1LW3GBS2B1/1"},{"$f":"IF(ISBLANK(BCU400_Database!D232),\"\",BCU400_Database!D232)","v":"P00312"},{"$f":"IF(ISBLANK(BCU400_Database!E232),\"\",BCU400_Database!E232)","v":88610236},"BCU 460-5/1LW3GBS2B1/1"]
[{"$f":"IF(ISBLANK(BCU400_Database!B233),\"\",BCU400_Database!B233)","v":84632057},{"$f":"IF(ISBLANK(BCU400_Database!C233),\"\",BCU400_Database!C233)","v":"BCU 460-5/1W3GBD3S2B1/2"},{"$f":"IF(ISBLANK(BCU400_Database!D233),\"\",BCU400_Database!D233)","v":"P00357"},{"$f":"IF(ISBLANK(BCU400_Database!E233),\"\",BCU400_Database!E233)","v":88610237},"BCU 460-5/1W3GBD3S2B1/2"]
[{"$f":"IF(ISBLANK(BCU400_Database!B234),\"\",BCU400_Database!B234)","v":84631796},{"$f":"IF(ISBLANK(BCU400_Database!C234),\"\",BCU400_Database!C234)","v":"BCU 460-3/1LW8GBS2B1/1"},{"$f":"IF(ISBLANK(BCU400_Database!D234),\"\",BCU400_Database!D234)","v":"P00325"},{"$f":"IF(ISBLANK(BCU400_Database!E234),\"\",BCU400_Database!E234)","v":88610238},"BCU 460-3/1LW8GBS2B1/1"]
[{"$f":"IF(ISBLANK(BCU400_Database!B235),\"\",BCU400_Database!B235)","v":84631740},{"$f":"IF(ISBLANK(BCU400_Database!C235),\"\",BCU400_Database!C235)","v":"BCU 465-5/1LW3GBA"},{"$f":"IF(ISBLANK(BCU400_Database!D235),\"\",BCU400_Database!D235)","v":"P00155"},{"$f":"IF(ISBLANK(BCU400_Database!E235),\"\",BCU400_Database!E235)","v":88610239},"BCU 465-5/1LW3GBA"]
[{"$f":"IF(ISBLANK(BCU400_Database!B236),\"\",BCU400_Database!B236)","v":84631826},{"$f":"IF(ISBLANK(BCU400_Database!C236),\"\",BCU400_Database!C236)","v":"BCU 460T-3/1R1"},{"$f":"IF(ISBLANK(BCU400_Database!D236),\"\",BCU400_Database!D236)","v":"P00044"},{"$f":"IF(ISBLANK(BCU400_Database!E236),\"\",BCU400_Database!E236)","v":88610240},"BCU 460T-3/1R1"]
[{"$f":"IF(ISBLANK(BCU400_Database!B237),\"\",BCU400_Database!B237)","v":84631868},{"$f":"IF(ISBLANK(BCU400_Database!C237),\"\",BCU400_Database!C237)","v":"BCU 460-3/1LR8GBB1/1"},{"$f":"IF(ISBLANK(BCU400_Database!D237),\"\",BCU400_Database!D237)","v":"P00263"},{"$f":"IF(ISBLANK(BCU400_Database!E237),\"\",BCU400_Database!E237)","v":88610241},"BCU 460-3/1LR8GBB1/1"]
[{"$f":"IF(ISBLANK(BCU400_Database!B238),\"\",BCU400_Database!B238)","v":84631779},{"$f":"IF(ISBLANK(BCU400_Database!C238),\"\",BCU400_Database!C238)","v":"BCU 460-3/1LW8GBB1/1"},{"$f":"IF(ISBLANK(BCU400_Database!D238),\"\",BCU400_Database!D238)","v":"P00001"},{"$f":"IF(ISBLANK(BCU400_Database!E238),\"\",BCU400_Database!E238)","v":88610242},"BCU 460-3/1LW8GBB1/1"]
[{"$f":"IF(ISBLANK(BCU400_Database!B239),\"\",BCU400_Database!B239)","v":84631759},{"$f":"IF(ISBLANK(BCU400_Database!C239),\"\",BCU400_Database!C239)","v":"BCU 460-5/1R3GBS2"},{"$f":"IF(ISBLANK(BCU400_Database!D239),\"\",BCU400_Database!D239)","v":"P00013"},{"$f":"IF(ISBLANK(BCU400_Database!E239),\"\",BCU400_Database!E239)","v":88610243},"BCU 460-5/1R3GBS2"]
[{"$f":"IF(ISBLANK(BCU400_Database!B240),\"\",BCU400_Database!B240)","v":84631434},{"$f":"IF(ISBLANK(BCU400_Database!C240),\"\",BCU400_Database!C240)","v":"BCU 460-5/1LW1GBB1/1"},{"$f":"IF(ISBLANK(BCU400_Database!D240),\"\",BCU400_Database!D240)","v":"P00319"},{"$f":"IF(ISBLANK(BCU400_Database!E240),\"\",BCU400_Database!E240)","v":88610244},"BCU 460-5/1LW1GBB1/1"]
[{"$f":"IF(ISBLANK(BCU400_Database!B241),\"\",BCU400_Database!B241)","v":84631605},{"$f":"IF(ISBLANK(BCU400_Database!C241),\"\",BCU400_Database!C241)","v":"BCU 480-5/3/1LW3GBS4/1"},{"$f":"IF(ISBLANK(BCU400_Database!D241),\"\",BCU400_Database!D241)","v":"P00001"},{"$f":"IF(ISBLANK(BCU400_Database!E241),\"\",BCU400_Database!E241)","v":88610245},"BCU 480-5/3/1LW3GBS4/1"]
[{"$f":"IF(ISBLANK(BCU400_Database!B242),\"\",BCU400_Database!B242)","v":84630261},{"$f":"IF(ISBLANK(BCU400_Database!C242),\"\",BCU400_Database!C242)","v":"BCU 460-3/1LW3GB"},{"$f":"IF(ISBLANK(BCU400_Database!D242),\"\",BCU400_Database!D242)","v":"P00342"},{"$f":"IF(ISBLANK(BCU400_Database!E242),\"\",BCU400_Database!E242)","v":88610246},"BCU 460-3/1LW3GB"]
[{"$f":"IF(ISBLANK(BCU400_Database!B243),\"\",BCU400_Database!B243)","v":84631744},{"$f":"IF(ISBLANK(BCU400_Database!C243),\"\",BCU400_Database!C243)","v":"BCU 465-5/1LW3GBS2AB1/1"},{"$f":"IF(ISBLANK(BCU400_Database!D243),\"\",BCU400_Database!D243)","v":"P00108"},{"$f":"IF(ISBLANK(BCU400_Database!E243),\"\",BCU400_Database!E243)","v":88610247},"BCU 465-5/1LW3GBS2AB1/1"]
[{"$f":"IF(ISBLANK(BCU400_Database!B244),\"\",BCU400_Database!B244)","v":84631850},{"$f":"IF(ISBLANK(BCU400_Database!C244),\"\",BCU400_Database!C244)","v":"BCU 480-5/3/1LW3GBS4/1B1/1"},{"$f":"IF(ISBLANK(BCU400_Database!D244),\"\",BCU400_Database!D244)","v":"P00006"},{"$f":"IF(ISBLANK(BCU400_Database!E244),\"\",BCU400_Database!E244)","v":88610248},"BCU 480-5/3/1LW3GBS4/1B1/1"]
[{"$f":"IF(ISBLANK(BCU400_Database!B245),\"\",BCU400_Database!B245)","v":84631434},{"$f":"IF(ISBLANK(BCU400_Database!C245),\"\",BCU400_Database!C245)","v":"BCU 460-5/1LW1GBB1/1"},{"$f":"IF(ISBLANK(BCU400_Database!D245),\"\",BCU400_Database!D245)","v":"P00001"},{"$f":"IF(ISBLANK(BCU400_Database!E245),\"\",BCU400_Database!E245)","v":88610249},"BCU 460-5/1LW1GBB1/1"]
[{"$f":"IF(ISBLANK(BCU400_Database!B246),\"\",BCU400_Database!B246)","v":84631495},{"$f":"IF(ISBLANK(BCU400_Database!C246),\"\",BCU400_Database!C246)","v":"BCU 460-3/1W3GBCB1/1"},{"$f":"IF(ISBLANK(BCU400_Database!D246),\"\",BCU400_Database!D246)","v":"P00001"},{"$f":"IF(ISBLANK(BCU400_Database!E246),\"\",BCU400_Database!E246)","v":88610250},"BCU 460-3/1W3GBCB1/1"]
[{"$f":"IF(ISBLANK(BCU400_Database!B247),\"\",BCU400_Database!B247)","v":84632169},{"$f":"IF(ISBLANK(BCU400_Database!C247),\"\",BCU400_Database!C247)","v":"BCU 460T-3/1LR2CB1/1"},{"$f":"IF(ISBLANK(BCU400_Database!D247),\"\",BCU400_Database!D247)","v":"P00044"},{"$f":"IF(ISBLANK(BCU400_Database!E247),\"\",BCU400_Database!E247)","v":88610251},"BCU 460T-3/1LR2CB1/1"]
[{"$f":"IF(ISBLANK(BCU400_Database!B248),\"\",BCU400_Database!B248)","v":84631905},{"$f":"IF(ISBLANK(BCU400_Database!C248),\"\",BCU400_Database!C248)","v":"BCU 465-5/1LR3GBACB1/1"},{"$f":"IF(ISBLANK(BCU400_Database!D248),\"\",BCU400_Database!D248)","v":"P00065"},{"$f":"IF(ISBLANK(BCU400_Database!E248),\"\",BCU400_Database!E248)","v":88610252},"BCU 465-5/1LR3GBACB1/1"]
[{"$f":"IF(ISBLANK(BCU400_Database!B249),\"\",BCU400_Database!B249)","v":84631843},{"$f":"IF(ISBLANK(BCU400_Database!C249),\"\",BCU400_Database!C249)","v":"BCU 465-3/1LW3GBAB1/1"},{"$f":"IF(ISBLANK(BCU400_Database!D249),\"\",BCU400_Database!D249)","v":"P00032"},{"$f":"IF(ISBLANK(BCU400_Database!E249),\"\",BCU400_Database!E249)","v":88610253},"BCU 465-3/1LW3GBAB1/1"]
[{"$f":"IF(ISBLANK(BCU400_Database!B250),\"\",BCU400_Database!B250)","v":84632083},{"$f":"IF(ISBLANK(BCU400_Database!C250),\"\",BCU400_Database!C250)","v":"BCU 465-5/1LW8GBPAC"},{"$f":"IF(ISBLANK(BCU400_Database!D250),\"\",BCU400_Database!D250)","v":"P00054"},{"$f":"IF(ISBLANK(BCU400_Database!E250),\"\",BCU400_Database!E250)","v":88610254},"BCU 465-5/1LW8GBPAC"]
[{"$f":"IF(ISBLANK(BCU400_Database!B251),\"\",BCU400_Database!B251)","v":84631925},{"$f":"IF(ISBLANK(BCU400_Database!C251),\"\",BCU400_Database!C251)","v":"BCU 460-3/1LW2GBD2S2B1/1"},{"$f":"IF(ISBLANK(BCU400_Database!D251),\"\",BCU400_Database!D251)","v":"P00001"},{"$f":"IF(ISBLANK(BCU400_Database!E251),\"\",BCU400_Database!E251)","v":88610255},"BCU 460-3/1LW2GBD2S2B1/1"]
[{"$f":"IF(ISBLANK(BCU400_Database!B252),\"\",BCU400_Database!B252)","v":84631540},{"$f":"IF(ISBLANK(BCU400_Database!C252),\"\",BCU400_Database!C252)","v":"BCU 460-3/1W3GBS4B1/1"},{"$f":"IF(ISBLANK(BCU400_Database!D252),\"\",BCU400_Database!D252)","v":"P00279"},{"$f":"IF(ISBLANK(BCU400_Database!E252),\"\",BCU400_Database!E252)","v":88610256},"BCU 460-3/1W3GBS4B1/1"]
[{"$f":"IF(ISBLANK(BCU400_Database!B253),\"\",BCU400_Database!B253)","v":84630358},{"$f":"IF(ISBLANK(BCU400_Database!C253),\"\",BCU400_Database!C253)","v":"BCU 460-5/1LW2GBP"},{"$f":"IF(ISBLANK(BCU400_Database!D253),\"\",BCU400_Database!D253)","v":"P00255"},{"$f":"IF(ISBLANK(BCU400_Database!E253),\"\",BCU400_Database!E253)","v":88610257},"BCU 460-5/1LW2GBP"]
[{"$f":"IF(ISBLANK(BCU400_Database!B254),\"\",BCU400_Database!B254)","v":84631449},{"$f":"IF(ISBLANK(BCU400_Database!C254),\"\",BCU400_Database!C254)","v":"BCU 460-5/1LW3GBS3B1/1"},{"$f":"IF(ISBLANK(BCU400_Database!D254),\"\",BCU400_Database!D254)","v":"P00050"},{"$f":"IF(ISBLANK(BCU400_Database!E254),\"\",BCU400_Database!E254)","v":88610258},"BCU 460-5/1LW3GBS3B1/1"]
[{"$f":"IF(ISBLANK(BCU400_Database!B255),\"\",BCU400_Database!B255)","v":84632152},{"$f":"IF(ISBLANK(BCU400_Database!C255),\"\",BCU400_Database!C255)","v":"BCU 480-5/3/1LW8GBD3S2/1B1/2"},{"$f":"IF(ISBLANK(BCU400_Database!D255),\"\",BCU400_Database!D255)","v":"P00442"},{"$f":"IF(ISBLANK(BCU400_Database!E255),\"\",BCU400_Database!E255)","v":88610259},"BCU 480-5/3/1LW8GBD3S2/1B1/2"]
[{"$f":"IF(ISBLANK(BCU400_Database!B256),\"\",BCU400_Database!B256)","v":84631539},{"$f":"IF(ISBLANK(BCU400_Database!C256),\"\",BCU400_Database!C256)","v":"BCU 465-5/1LW1GBS3A"},{"$f":"IF(ISBLANK(BCU400_Database!D256),\"\",BCU400_Database!D256)","v":"P00022"},{"$f":"IF(ISBLANK(BCU400_Database!E256),\"\",BCU400_Database!E256)","v":88610260},"BCU 465-5/1LW1GBS3A"]
[{"$f":"IF(ISBLANK(BCU400_Database!B257),\"\",BCU400_Database!B257)","v":84631842},{"$f":"IF(ISBLANK(BCU400_Database!C257),\"\",BCU400_Database!C257)","v":"BCU 480-5/3/1LW3GBD2S3/1B1/1"},{"$f":"IF(ISBLANK(BCU400_Database!D257),\"\",BCU400_Database!D257)","v":"P00245"},{"$f":"IF(ISBLANK(BCU400_Database!E257),\"\",BCU400_Database!E257)","v":88610261},"BCU 480-5/3/1LW3GBD2S3/1B1/1"]
[{"$f":"IF(ISBLANK(BCU400_Database!B258),\"\",BCU400_Database!B258)","v":84631693},{"$f":"IF(ISBLANK(BCU400_Database!C258),\"\",BCU400_Database!C258)","v":"BCU 460-3/1LR3GBB1/1"},{"$f":"IF(ISBLANK(BCU400_Database!D258),\"\",BCU400_Database!D258)","v":"P00343"},{"$f":"IF(ISBLANK(BCU400_Database!E258),\"\",BCU400_Database!E258)","v":88610262},"BCU 460-3/1LR3GBB1/1"]
[{"$f":"IF(ISBLANK(BCU400_Database!B259),\"\",BCU400_Database!B259)","v":84632149},{"$f":"IF(ISBLANK(BCU400_Database!C259),\"\",BCU400_Database!C259)","v":"BCU 460-5/1R8GBPD2S4"},{"$f":"IF(ISBLANK(BCU400_Database!D259),\"\",BCU400_Database!D259)","v":"P00386"},{"$f":"IF(ISBLANK(BCU400_Database!E259),\"\",BCU400_Database!E259)","v":88610263},{"$f":"B259","v":"BCU 460-5/1R8GBPD2S4"}]
[{"$f":"IF(ISBLANK(BCU400_Database!B260),\"\",BCU400_Database!B260)","v":84631987},{"$f":"IF(ISBLANK(BCU400_Database!C260),\"\",BCU400_Database!C260)","v":"BCU 460-3/1L5W3GBD3"},{"$f":"IF(ISBLANK(BCU400_Database!D260),\"\",BCU400_Database!D260)","v":"P00085"},{"$f":"IF(ISBLANK(BCU400_Database!E260),\"\",BCU400_Database!E260)","v":88610264},"BCU 460-3/1L5W3GBD3"]
[{"$f":"IF(ISBLANK(BCU400_Database!B261),\"\",BCU400_Database!B261)","v":84632030},{"$f":"IF(ISBLANK(BCU400_Database!C261),\"\",BCU400_Database!C261)","v":"BCU 465-5/1LW8GBAB1/2"},{"$f":"IF(ISBLANK(BCU400_Database!D261),\"\",BCU400_Database!D261)","v":"P00151"},{"$f":"IF(ISBLANK(BCU400_Database!E261),\"\",BCU400_Database!E261)","v":88610265},"BCU 465-5/1LW8GBAB1/2"]
[{"$f":"IF(ISBLANK(BCU400_Database!B262),\"\",BCU400_Database!B262)","v":84631451},{"$f":"IF(ISBLANK(BCU400_Database!C262),\"\",BCU400_Database!C262)","v":"BCU 460-5/2LW3GBP"},{"$f":"IF(ISBLANK(BCU400_Database!D262),\"\",BCU400_Database!D262)","v":"P00052"},{"$f":"IF(ISBLANK(BCU400_Database!E262),\"\",BCU400_Database!E262)","v":88610534},"BCU 460-5/2LW3GBP"]
[{"$f":"IF(ISBLANK(BCU400_Database!B263),\"\",BCU400_Database!B263)","v":84631415},{"$f":"IF(ISBLANK(BCU400_Database!C263),\"\",BCU400_Database!C263)","v":"BCU 460-5/1LW1GBPS2"},{"$f":"IF(ISBLANK(BCU400_Database!D263),\"\",BCU400_Database!D263)","v":"P00001"},{"$f":"IF(ISBLANK(BCU400_Database!E263),\"\",BCU400_Database!E263)","v":88610615},"BCU 460-5/1LW1GBPS2"]
[{"$f":"IF(ISBLANK(BCU400_Database!B264),\"\",BCU400_Database!B264)","v":84631353},{"$f":"IF(ISBLANK(BCU400_Database!C264),\"\",BCU400_Database!C264)","v":"BCU 480-5/3/1LW3GBD2"},{"$f":"IF(ISBLANK(BCU400_Database!D264),\"\",BCU400_Database!D264)","v":"P00001"},{"$f":"IF(ISBLANK(BCU400_Database!E264),\"\",BCU400_Database!E264)","v":88610638},"BCU 480-5/3/1LW3GBD2"]
[{"$f":"IF(ISBLANK(BCU400_Database!B265),\"\",BCU400_Database!B265)","v":84631360},{"$f":"IF(ISBLANK(BCU400_Database!C265),\"\",BCU400_Database!C265)","v":"BCU 460-5/1W1GBZ"},{"$f":"IF(ISBLANK(BCU400_Database!D265),\"\",BCU400_Database!D265)","v":"P00001"},{"$f":"IF(ISBLANK(BCU400_Database!E265),\"\",BCU400_Database!E265)","v":88610418},"BCU 460-5/1W1GBZ"]
[{"$f":"IF(ISBLANK(BCU400_Database!B266),\"\",BCU400_Database!B266)","v":84631619},{"$f":"IF(ISBLANK(BCU400_Database!C266),\"\",BCU400_Database!C266)","v":"BCU 465-5/1LW3GBPA"},{"$f":"IF(ISBLANK(BCU400_Database!D266),\"\",BCU400_Database!D266)","v":"P00071"},{"$f":"IF(ISBLANK(BCU400_Database!E266),\"\",BCU400_Database!E266)","v":88610719},"BCU 465-5/1LW3GBPA"]
[{"$f":"IF(ISBLANK(BCU400_Database!B267),\"\",BCU400_Database!B267)","v":84631989},{"$f":"IF(ISBLANK(BCU400_Database!C267),\"\",BCU400_Database!C267)","v":"BCU 460-5/1R3GBS2B1/1"},{"$f":"IF(ISBLANK(BCU400_Database!D267),\"\",BCU400_Database!D267)","v":"P00001"},{"$f":"IF(ISBLANK(BCU400_Database!E267),\"\",BCU400_Database!E267)","v":88610720},"BCU 460-5/1R3GBS2B1/1"]
[{"$f":"IF(ISBLANK(BCU400_Database!B268),\"\",BCU400_Database!B268)","v":84631541},{"$f":"IF(ISBLANK(BCU400_Database!C268),\"\",BCU400_Database!C268)","v":"BCU 460-3/1W3GBS4"},{"$f":"IF(ISBLANK(BCU400_Database!D268),\"\",BCU400_Database!D268)","v":"P00001"},{"$f":"IF(ISBLANK(BCU400_Database!E268),\"\",BCU400_Database!E268)","v":88610745},"BCU 460-3/1W3GBS4"]
[{"$f":"IF(ISBLANK(BCU400_Database!B269),\"\",BCU400_Database!B269)","v":84630561},{"$f":"IF(ISBLANK(BCU400_Database!C269),\"\",BCU400_Database!C269)","v":"BCU 480-3/3/1LW3GB"},{"$f":"IF(ISBLANK(BCU400_Database!D269),\"\",BCU400_Database!D269)","v":"P00298"},{"$f":"IF(ISBLANK(BCU400_Database!E269),\"\",BCU400_Database!E269)","v":88610749},"BCU 480-3/3/1LW3GB"]
[{"$f":"IF(ISBLANK(BCU400_Database!B270),\"\",BCU400_Database!B270)","v":84631482},{"$f":"IF(ISBLANK(BCU400_Database!C270),\"\",BCU400_Database!C270)","v":"BCU 460-5/1LW3GBD2S2B1/1"},{"$f":"IF(ISBLANK(BCU400_Database!D270),\"\",BCU400_Database!D270)","v":"P00029"},{"$f":"IF(ISBLANK(BCU400_Database!E270),\"\",BCU400_Database!E270)","v":88610767},"BCU 460-5/1LW3GBD2S2B1/1"]
[{"$f":"IF(ISBLANK(BCU400_Database!B271),\"\",BCU400_Database!B271)","v":84631383},{"$f":"IF(ISBLANK(BCU400_Database!C271),\"\",BCU400_Database!C271)","v":"BCU 460-3/1LW3DS2"},{"$f":"IF(ISBLANK(BCU400_Database!D271),\"\",BCU400_Database!D271)","v":"P00026"},{"$f":"IF(ISBLANK(BCU400_Database!E271),\"\",BCU400_Database!E271)","v":88610513},"BCU 460-3/1LW3DS2"]
[{"$f":"IF(ISBLANK(BCU400_Database!B272),\"\",BCU400_Database!B272)","v":84630250},{"$f":"IF(ISBLANK(BCU400_Database!C272),\"\",BCU400_Database!C272)","v":"BCU 460-3/1W1GB"},{"$f":"IF(ISBLANK(BCU400_Database!D272),\"\",BCU400_Database!D272)","v":"P00006"},{"$f":"IF(ISBLANK(BCU400_Database!E272),\"\",BCU400_Database!E272)","v":88610768},"BCU 460-3/1W1GB"]
[{"$f":"IF(ISBLANK(BCU400_Database!B273),\"\",BCU400_Database!B273)","v":84630861},{"$f":"IF(ISBLANK(BCU400_Database!C273),\"\",BCU400_Database!C273)","v":"BCU 480-5/5/1LW3GB"},{"$f":"IF(ISBLANK(BCU400_Database!D273),\"\",BCU400_Database!D273)","v":"P00001"},{"$f":"IF(ISBLANK(BCU400_Database!E273),\"\",BCU400_Database!E273)","v":88610783},"BCU 480-5/5/1LW3GB"]
[{"$f":"IF(ISBLANK(BCU400_Database!B274),\"\",BCU400_Database!B274)","v":84631533},{"$f":"IF(ISBLANK(BCU400_Database!C274),\"\",BCU400_Database!C274)","v":"BCU 460-3/1LW3GBB1/1"},{"$f":"IF(ISBLANK(BCU400_Database!D274),\"\",BCU400_Database!D274)","v":"P00020"},{"$f":"IF(ISBLANK(BCU400_Database!E274),\"\",BCU400_Database!E274)","v":88610784},"BCU 460-3/1LW3GBB1/1"]
[{"$f":"IF(ISBLANK(BCU400_Database!B275),\"\",BCU400_Database!B275)","v":84632246},{"$f":"IF(ISBLANK(BCU400_Database!C275),\"\",BCU400_Database!C275)","v":"BCU 465-3/1LW3GBS2AB1/1"},{"$f":"IF(ISBLANK(BCU400_Database!D275),\"\",BCU400_Database!D275)","v":"P00023"},{"$f":"IF(ISBLANK(BCU400_Database!E275),\"\",BCU400_Database!E275)","v":88610278},"BCU 465-3/1LW3GBS2AB1/1"]
[{"$f":"IF(ISBLANK(BCU400_Database!B276),\"\",BCU400_Database!B276)","v":84631827},{"$f":"IF(ISBLANK(BCU400_Database!C276),\"\",BCU400_Database!C276)","v":"BCU 480-5/3/1LW3GBD3S2/2CB1/1"},{"$f":"IF(ISBLANK(BCU400_Database!D276),\"\",BCU400_Database!D276)","v":"P00001"},{"$f":"IF(ISBLANK(BCU400_Database!E276),\"\",BCU400_Database!E276)","v":88610785},"BCU 480-5/3/1LW3GBD3S2/2CB1/1"]
[{"$f":"IF(ISBLANK(BCU400_Database!B277),\"\",BCU400_Database!B277)","v":84632195},{"$f":"IF(ISBLANK(BCU400_Database!C277),\"\",BCU400_Database!C277)","v":"BCU 480T-10/10/2LW8D2B1/1"},{"$f":"IF(ISBLANK(BCU400_Database!D277),\"\",BCU400_Database!D277)","v":"P00026"},{"$f":"IF(ISBLANK(BCU400_Database!E277),\"\",BCU400_Database!E277)","v":88610892},"BCU 480T-10/10/2LW8D2B1/1"]
[{"$f":"IF(ISBLANK(BCU400_Database!B278),\"\",BCU400_Database!B278)","v":84631574},{"$f":"IF(ISBLANK(BCU400_Database!C278),\"\",BCU400_Database!C278)","v":"BCU 465-3/1LW1GBAC"},{"$f":"IF(ISBLANK(BCU400_Database!D278),\"\",BCU400_Database!D278)","v":"P00023"},{"$f":"IF(ISBLANK(BCU400_Database!E278),\"\",BCU400_Database!E278)","v":88610890},"BCU 465-3/1LW1GBAC"]
[{"$f":"IF(ISBLANK(BCU400_Database!B279),\"\",BCU400_Database!B279)","v":84631575},{"$f":"IF(ISBLANK(BCU400_Database!C279),\"\",BCU400_Database!C279)","v":"BCU 465-3/1LW3GBAC"},{"$f":"IF(ISBLANK(BCU400_Database!D279),\"\",BCU400_Database!D279)","v":"P00023"},{"$f":"IF(ISBLANK(BCU400_Database!E279),\"\",BCU400_Database!E279)","v":88610282},"BCU 465-3/1LW3GBAC"]
[{"$f":"IF(ISBLANK(BCU400_Database!B280),\"\",BCU400_Database!B280)","v":84631576},{"$f":"IF(ISBLANK(BCU400_Database!C280),\"\",BCU400_Database!C280)","v":"BCU 465-5/1LW1GBAC"},{"$f":"IF(ISBLANK(BCU400_Database!D280),\"\",BCU400_Database!D280)","v":"P00023"},{"$f":"IF(ISBLANK(BCU400_Database!E280),\"\",BCU400_Database!E280)","v":88610891},"BCU 465-5/1LW1GBAC"]
[{"$f":"IF(ISBLANK(BCU400_Database!B281),\"\",BCU400_Database!B281)","v":84631577},{"$f":"IF(ISBLANK(BCU400_Database!C281),\"\",BCU400_Database!C281)","v":"BCU 465-5/1LW3GBAC"},{"$f":"IF(ISBLANK(BCU400_Database!D281),\"\",BCU400_Database!D281)","v":"P00023"},{"$f":"IF(ISBLANK(BCU400_Database!E281),\"\",BCU400_Database!E281)","v":88610660},"BCU 465-5/1LW3GBAC"]
[{"$f":"IF(ISBLANK(BCU400_Database!B282),\"\",BCU400_Database!B282)","v":84631629},{"$f":"IF(ISBLANK(BCU400_Database!C282),\"\",BCU400_Database!C282)","v":"BCU 460T-5/2LR2C"},{"$f":"IF(ISBLANK(BCU400_Database!D282),\"\",BCU400_Database!D282)","v":"P00044"},{"$f":"IF(ISBLANK(BCU400_Database!E282),\"\",BCU400_Database!E282)","v":88610924},"BCU 460T-5/2LR2C"]
[{"$f":"IF(ISBLANK(BCU400_Database!B283),\"\",BCU400_Database!B283)","v":84631911},{"$f":"IF(ISBLANK(BCU400_Database!C283),\"\",BCU400_Database!C283)","v":"BCU 480-5/3/1LW3GBD3"},{"$f":"IF(ISBLANK(BCU400_Database!D283),\"\",BCU400_Database!D283)","v":"P00383"},{"$f":"IF(ISBLANK(BCU400_Database!E283),\"\",BCU400_Database!E283)","v":88610965},"BCU 480-5/3/1LW3GBD3"]
[{"$f":"IF(ISBLANK(BCU400_Database!B284),\"\",BCU400_Database!B284)","v":84631842},{"$f":"IF(ISBLANK(BCU400_Database!C284),\"\",BCU400_Database!C284)","v":"BCU 480-5/3/1LW3GBD2S3/1B1/1"},{"$f":"IF(ISBLANK(BCU400_Database!D284),\"\",BCU400_Database!D284)","v":"P00304"},{"$f":"IF(ISBLANK(BCU400_Database!E284),\"\",BCU400_Database!E284)","v":88610972},"BCU 480-5/3/1LW3GBD2S3/1B1/1"]
[{"$f":"IF(ISBLANK(BCU400_Database!B285),\"\",BCU400_Database!B285)","v":84631452},{"$f":"IF(ISBLANK(BCU400_Database!C285),\"\",BCU400_Database!C285)","v":"BCU 460-3/1LW2GBD2S2"},{"$f":"IF(ISBLANK(BCU400_Database!D285),\"\",BCU400_Database!D285)","v":"P00054"},{"$f":"IF(ISBLANK(BCU400_Database!E285),\"\",BCU400_Database!E285)","v":88610994},"BCU 460-3/1LW2GBD2S2"]
[{"$f":"IF(ISBLANK(BCU400_Database!B286),\"\",BCU400_Database!B286)","v":84631362},{"$f":"IF(ISBLANK(BCU400_Database!C286),\"\",BCU400_Database!C286)","v":"BCU 460-5/1W1D"},{"$f":"IF(ISBLANK(BCU400_Database!D286),\"\",BCU400_Database!D286)","v":"P00001"},{"$f":"IF(ISBLANK(BCU400_Database!E286),\"\",BCU400_Database!E286)","v":88610418},"BCU 460-5/1W1D"]
[{"$f":"IF(ISBLANK(BCU400_Database!B287),\"\",BCU400_Database!B287)","v":84632191},{"$f":"IF(ISBLANK(BCU400_Database!C287),\"\",BCU400_Database!C287)","v":"BCU 480-5/3/1LW1GBD2S41"},{"$f":"IF(ISBLANK(BCU400_Database!D287),\"\",BCU400_Database!D287)","v":"P00001"},{"$f":"IF(ISBLANK(BCU400_Database!E287),\"\",BCU400_Database!E287)","v":88610999},"BCU 480-5/3/1LW1GBD2S41"]
[{"$f":"IF(ISBLANK(BCU400_Database!B288),\"\",BCU400_Database!B288)","v":84631807},{"$f":"IF(ISBLANK(BCU400_Database!C288),\"\",BCU400_Database!C288)","v":"BCU 480T-10/5/2LR3-B1/1"},{"$f":"IF(ISBLANK(BCU400_Database!D288),\"\",BCU400_Database!D288)","v":"P00044"},{"$f":"IF(ISBLANK(BCU400_Database!E288),\"\",BCU400_Database!E288)","v":88610995},"BCU 480T-10/5/2LR3-B1/1"]
[{"$f":"IF(ISBLANK(BCU400_Database!B289),\"\",BCU400_Database!B289)","v":84631755},{"$f":"IF(ISBLANK(BCU400_Database!C289),\"\",BCU400_Database!C289)","v":"BCU 460-3/1W1GBD3"},{"$f":"IF(ISBLANK(BCU400_Database!D289),\"\",BCU400_Database!D289)","v":"P00001"},{"$f":"IF(ISBLANK(BCU400_Database!E289),\"\",BCU400_Database!E289)","v":88610689},"BCU 460-3/1W1GBD3"]
[{"$f":"IF(ISBLANK(BCU400_Database!B290),\"\",BCU400_Database!B290)","v":84632298},{"$f":"IF(ISBLANK(BCU400_Database!C290),\"\",BCU400_Database!C290)","v":"BCU 460-5/1WGBPD3S3"},{"$f":"IF(ISBLANK(BCU400_Database!D290),\"\",BCU400_Database!D290)","v":"P00001"},{"$f":"IF(ISBLANK(BCU400_Database!E290),\"\",BCU400_Database!E290)","v":88610692},"BCU 460-5/1WGBPD3S3"]
[{"$f":"IF(ISBLANK(BCU400_Database!B291),\"\",BCU400_Database!B291)","v":84631797},{"$f":"IF(ISBLANK(BCU400_Database!C291),\"\",BCU400_Database!C291)","v":"BCU 480-5/3/1LW3GBS2/1B1/1"},{"$f":"IF(ISBLANK(BCU400_Database!D291),\"\",BCU400_Database!D291)","v":"P00268"},{"$f":"IF(ISBLANK(BCU400_Database!E291),\"\",BCU400_Database!E291)","v":88611053},"BCU 480-5/3/1LW3GBS2/1B1/1"]
[{"$f":"IF(ISBLANK(BCU400_Database!B292),\"\",BCU400_Database!B292)","v":84631774},{"$f":"IF(ISBLANK(BCU400_Database!C292),\"\",BCU400_Database!C292)","v":"BCU 480-5/3/1/LWGBU "},{"$f":"IF(ISBLANK(BCU400_Database!D292),\"\",BCU400_Database!D292)","v":"P00500"},{"$f":"IF(ISBLANK(BCU400_Database!E292),\"\",BCU400_Database!E292)","v":88611051},"BCU 480-5/3/1/LWGBU "]
[{"$f":"IF(ISBLANK(BCU400_Database!B293),\"\",BCU400_Database!B293)","v":84631804},{"$f":"IF(ISBLANK(BCU400_Database!C293),\"\",BCU400_Database!C293)","v":"BCU 465-5/1LW3GBAB1/1"},{"$f":"IF(ISBLANK(BCU400_Database!D293),\"\",BCU400_Database!D293)","v":"P00062"},{"$f":"IF(ISBLANK(BCU400_Database!E293),\"\",BCU400_Database!E293)","v":88611101},"BCU 465-5/1LW3GBAB1/1"]
[{"$f":"IF(ISBLANK(BCU400_Database!B294),\"\",BCU400_Database!B294)","v":84631372},{"$f":"IF(ISBLANK(BCU400_Database!C294),\"\",BCU400_Database!C294)","v":"BCU 440-5/1W3GB"},{"$f":"IF(ISBLANK(BCU400_Database!D294),\"\",BCU400_Database!D294)","v":"P00001"},{"$f":"IF(ISBLANK(BCU400_Database!E294),\"\",BCU400_Database!E294)","v":88610038},"BCU 440-5/1W3GB"]
[{"$f":"IF(ISBLANK(BCU400_Database!B295),\"\",BCU400_Database!B295)","v":84631383},{"$f":"IF(ISBLANK(BCU400_Database!C295),\"\",BCU400_Database!C295)","v":"BCU 460-3/1LW3GBS2"},{"$f":"IF(ISBLANK(BCU400_Database!D295),\"\",BCU400_Database!D295)","v":"P00001"},{"$f":"IF(ISBLANK(BCU400_Database!E295),\"\",BCU400_Database!E295)","v":88610727},"BCU 460-3/1LW3GBS2"]
[{"$f":"IF(ISBLANK(BCU400_Database!B296),\"\",BCU400_Database!B296)","v":84631557},{"$f":"IF(ISBLANK(BCU400_Database!C296),\"\",BCU400_Database!C296)","v":"BCU 480-5/5/1LW3GBS2/1"},{"$f":"IF(ISBLANK(BCU400_Database!D296),\"\",BCU400_Database!D296)","v":"P00001"},{"$f":"IF(ISBLANK(BCU400_Database!E296),\"\",BCU400_Database!E296)","v":88611147},"BCU 480-5/5/1LW3GBS2/1"]
[{"$f":"IF(ISBLANK(BCU400_Database!B297),\"\",BCU400_Database!B297)","v":84632069},{"$f":"IF(ISBLANK(BCU400_Database!C297),\"\",BCU400_Database!C297)","v":"BCU 460-3/1W3GBD3S2B1/1"},{"$f":"IF(ISBLANK(BCU400_Database!D297),\"\",BCU400_Database!D297)","v":"P00001"},{"$f":"IF(ISBLANK(BCU400_Database!E297),\"\",BCU400_Database!E297)","v":88611247},"BCU 460-3/1W3GBD3S2B1/1"]
[{"$f":"IF(ISBLANK(BCU400_Database!B298),\"\",BCU400_Database!B298)","v":84631390},{"$f":"IF(ISBLANK(BCU400_Database!C298),\"\",BCU400_Database!C298)","v":"BCU 480-5/5/1LW3GB"},{"$f":"IF(ISBLANK(BCU400_Database!D298),\"\",BCU400_Database!D298)","v":"P00002"},{"$f":"IF(ISBLANK(BCU400_Database!E298),\"\",BCU400_Database!E298)","v":88611256},"BCU 480-5/5/1LW3GB"]
[{"$f":"IF(ISBLANK(BCU400_Database!B299),\"\",BCU400_Database!B299)","v":84631354},{"$f":"IF(ISBLANK(BCU400_Database!C299),\"\",BCU400_Database!C299)","v":"BCU 460-5/1LW3GBS3"},{"$f":"IF(ISBLANK(BCU400_Database!D299),\"\",BCU400_Database!D299)","v":"P00006"},{"$f":"IF(ISBLANK(BCU400_Database!E299),\"\",BCU400_Database!E299)","v":88611257},"BCU 460-5/1LW3GBS3"]
[{"$f":"IF(ISBLANK(BCU400_Database!B300),\"\",BCU400_Database!B300)","v":84631361},{"$f":"IF(ISBLANK(BCU400_Database!C300),\"\",BCU400_Database!C300)","v":"BCU 460-5/1LW3D"},{"$f":"IF(ISBLANK(BCU400_Database!D300),\"\",BCU400_Database!D300)","v":"P00037"},{"$f":"IF(ISBLANK(BCU400_Database!E300),\"\",BCU400_Database!E300)","v":88611306},"BCU 460-5/1LW3D"]
[{"$f":"IF(ISBLANK(BCU400_Database!B301),\"\",BCU400_Database!B301)","v":84631501},{"$f":"IF(ISBLANK(BCU400_Database!C301),\"\",BCU400_Database!C301)","v":"BCU 460-3/1LW3DB1/1"},{"$f":"IF(ISBLANK(BCU400_Database!D301),\"\",BCU400_Database!D301)","v":"P00020"},{"$f":"IF(ISBLANK(BCU400_Database!E301),\"\",BCU400_Database!E301)","v":88610784},"BCU 460-3/1LW3DB1/1"]
[{"$f":"IF(ISBLANK(BCU400_Database!B302),\"\",BCU400_Database!B302)","v":84631761},{"$f":"IF(ISBLANK(BCU400_Database!C302),\"\",BCU400_Database!C302)","v":"BCU 460-5/1LW3GBS2B1/1"},{"$f":"IF(ISBLANK(BCU400_Database!D302),\"\",BCU400_Database!D302)","v":"P00029"},{"$f":"IF(ISBLANK(BCU400_Database!E302),\"\",BCU400_Database!E302)","v":88611393},"BCU 460-5/1LW3GBS2B1/1"]
[{"$f":"IF(ISBLANK(BCU400_Database!B303),\"\",BCU400_Database!B303)","v":84631761},{"$f":"IF(ISBLANK(BCU400_Database!C303),\"\",BCU400_Database!C303)","v":"BCU 460-5/1LW3GBS2B1/1"},{"$f":"IF(ISBLANK(BCU400_Database!D303),\"\",BCU400_Database!D303)","v":"P00094"},{"$f":"IF(ISBLANK(BCU400_Database!E303),\"\",BCU400_Database!E303)","v":88611404},"BCU 460-5/1LW3GBS2B1/1"]
[{"$f":"IF(ISBLANK(BCU400_Database!B304),\"\",BCU400_Database!B304)","v":84631612},{"$f":"IF(ISBLANK(BCU400_Database!C304),\"\",BCU400_Database!C304)","v":"BCU 480-10/3/1LW1GBU"},{"$f":"IF(ISBLANK(BCU400_Database!D304),\"\",BCU400_Database!D304)","v":"P00001"},{"$f":"IF(ISBLANK(BCU400_Database!E304),\"\",BCU400_Database!E304)","v":88610837},"BCU 480-10/3/1LW1GBU"]
[{"$f":"IF(ISBLANK(BCU400_Database!B305),\"\",BCU400_Database!B305)","v":84631763},{"$f":"IF(ISBLANK(BCU400_Database!C305),\"\",BCU400_Database!C305)","v":"BCU 465-5/1LW8GBAB1/1"},{"$f":"IF(ISBLANK(BCU400_Database!D305),\"\",BCU400_Database!D305)","v":"P00004"},{"$f":"IF(ISBLANK(BCU400_Database!E305),\"\",BCU400_Database!E305)","v":88611434},"BCU 465-5/1LW8GBAB1/1"]
[{"$f":"IF(ISBLANK(BCU400_Database!B306),\"\",BCU400_Database!B306)","v":84630463},{"$f":"IF(ISBLANK(BCU400_Database!C306),\"\",BCU400_Database!C306)","v":"BCU 460-10/1LW3GBP"},{"$f":"IF(ISBLANK(BCU400_Database!D306),\"\",BCU400_Database!D306)","v":"P00033"},{"$f":"IF(ISBLANK(BCU400_Database!E306),\"\",BCU400_Database!E306)","v":88611436},"BCU 460-10/1LW3GBP"]
[{"$f":"IF(ISBLANK(BCU400_Database!B307),\"\",BCU400_Database!B307)","v":84631763},{"$f":"IF(ISBLANK(BCU400_Database!C307),\"\",BCU400_Database!C307)","v":"BCU 465-5/1LW8GBAB1/1"},{"$f":"IF(ISBLANK(BCU400_Database!D307),\"\",BCU400_Database!D307)","v":"P00054"},{"$f":"IF(ISBLANK(BCU400_Database!E307),\"\",BCU400_Database!E307)","v":88611446},"BCU 465-5/1LW8GBAB1/1"]
[{"$f":"IF(ISBLANK(BCU400_Database!B308),\"\",BCU400_Database!B308)","v":84631539},{"$f":"IF(ISBLANK(BCU400_Database!C308),\"\",BCU400_Database!C308)","v":"BCU 465-5/1LW1GBS3A"},{"$f":"IF(ISBLANK(BCU400_Database!D308),\"\",BCU400_Database!D308)","v":"P00122"},{"$f":"IF(ISBLANK(BCU400_Database!E308),\"\",BCU400_Database!E308)","v":88611197},"BCU 465-5/1LW1GBS3A"]
[{"$f":"IF(ISBLANK(BCU400_Database!B309),\"\",BCU400_Database!B309)","v":84631878},{"$f":"IF(ISBLANK(BCU400_Database!C309),\"\",BCU400_Database!C309)","v":"BCU 465-5/1LR3GBS2AB1/1"},{"$f":"IF(ISBLANK(BCU400_Database!D309),\"\",BCU400_Database!D309)","v":"P00131"},{"$f":"IF(ISBLANK(BCU400_Database!E309),\"\",BCU400_Database!E309)","v":88611461},"BCU 465-5/1LR3GBS2AB1/1"]
[{"$f":"IF(ISBLANK(BCU400_Database!B310),\"\",BCU400_Database!B310)","v":84631389},{"$f":"IF(ISBLANK(BCU400_Database!C310),\"\",BCU400_Database!C310)","v":"BCU 480-5/3/1LW3D"},{"$f":"IF(ISBLANK(BCU400_Database!D310),\"\",BCU400_Database!D310)","v":"P00002"},{"$f":"IF(ISBLANK(BCU400_Database!E310),\"\",BCU400_Database!E310)","v":88610590},"BCU 480-5/3/1LW3D"]
[{"$f":"IF(ISBLANK(BCU400_Database!B311),\"\",BCU400_Database!B311)","v":84631366},{"$f":"IF(ISBLANK(BCU400_Database!C311),\"\",BCU400_Database!C311)","v":"BCU 480-5/3/1LW3DS3/1U"},{"$f":"IF(ISBLANK(BCU400_Database!D311),\"\",BCU400_Database!D311)","v":"P00034"},{"$f":"IF(ISBLANK(BCU400_Database!E311),\"\",BCU400_Database!E311)","v":88611470},"BCU 480-5/3/1LW3DS3/1U"]
[{"$f":"IF(ISBLANK(BCU400_Database!B312),\"\",BCU400_Database!B312)","v":84631606},{"$f":"IF(ISBLANK(BCU400_Database!C312),\"\",BCU400_Database!C312)","v":"BCU 460-3/1LW3GBS2"},{"$f":"IF(ISBLANK(BCU400_Database!D312),\"\",BCU400_Database!D312)","v":"P00002"},{"$f":"IF(ISBLANK(BCU400_Database!E312),\"\",BCU400_Database!E312)","v":88610727},"BCU 460-3/1LW3GBS2"]
[{"$f":"IF(ISBLANK(BCU400_Database!B313),\"\",BCU400_Database!B313)","v":84631501},{"$f":"IF(ISBLANK(BCU400_Database!C313),\"\",BCU400_Database!C313)","v":"BCU 460-3/1LW3DB1/1"},{"$f":"IF(ISBLANK(BCU400_Database!D313),\"\",BCU400_Database!D313)","v":"P00001"},{"$f":"IF(ISBLANK(BCU400_Database!E313),\"\",BCU400_Database!E313)","v":88610512},"BCU 460-3/1LW3DB1/1"]
[{"$f":"IF(ISBLANK(BCU400_Database!B314),\"\",BCU400_Database!B314)","v":84631594},{"$f":"IF(ISBLANK(BCU400_Database!C314),\"\",BCU400_Database!C314)","v":"BCU 460-3/1LW2GBCB1/1"},{"$f":"IF(ISBLANK(BCU400_Database!D314),\"\",BCU400_Database!D314)","v":"P00122"},{"$f":"IF(ISBLANK(BCU400_Database!E314),\"\",BCU400_Database!E314)","v":88611544},"BCU 460-3/1LW2GBCB1/1"]
[{"$f":"IF(ISBLANK(BCU400_Database!B315),\"\",BCU400_Database!B315)","v":84631579},{"$f":"IF(ISBLANK(BCU400_Database!C315),\"\",BCU400_Database!C315)","v":"BCU 460-3/1LW8GB"},{"$f":"IF(ISBLANK(BCU400_Database!D315),\"\",BCU400_Database!D315)","v":"P00114"},{"$f":"IF(ISBLANK(BCU400_Database!E315),\"\",BCU400_Database!E315)","v":88611546},"BCU 460-3/1LW8GB"]
[{"$f":"IF(ISBLANK(BCU400_Database!B316),\"\",BCU400_Database!B316)","v":84632130},{"$f":"IF(ISBLANK(BCU400_Database!C316),\"\",BCU400_Database!C316)","v":"BCU 480-5/3/1LW3GBD3S4/1"},{"$f":"IF(ISBLANK(BCU400_Database!D316),\"\",BCU400_Database!D316)","v":"P00001"},{"$f":"IF(ISBLANK(BCU400_Database!E316),\"\",BCU400_Database!E316)","v":88611473},"BCU 480-5/3/1LW3GBD3S4/1"]
[{"$f":"IF(ISBLANK(BCU400_Database!B317),\"\",BCU400_Database!B317)","v":84631768},{"$f":"IF(ISBLANK(BCU400_Database!C317),\"\",BCU400_Database!C317)","v":"BCU 460-3/1W3GBD3S4B1/1"},{"$f":"IF(ISBLANK(BCU400_Database!D317),\"\",BCU400_Database!D317)","v":"P00001"},{"$f":"IF(ISBLANK(BCU400_Database!E317),\"\",BCU400_Database!E317)","v":88611542},"BCU 460-3/1W3GBD3S4B1/1"]
[{"$f":"IF(ISBLANK(BCU400_Database!B318),\"\",BCU400_Database!B318)","v":84631416},{"$f":"IF(ISBLANK(BCU400_Database!C318),\"\",BCU400_Database!C318)","v":"BCU 440-5/1W1D"},{"$f":"IF(ISBLANK(BCU400_Database!D318),\"\",BCU400_Database!D318)","v":"P00001"},{"$f":"IF(ISBLANK(BCU400_Database!E318),\"\",BCU400_Database!E318)","v":88610034},"BCU 440-5/1W1D"]
[{"$f":"IF(ISBLANK(BCU400_Database!B319),\"\",BCU400_Database!B319)","v":84631507},{"$f":"IF(ISBLANK(BCU400_Database!C319),\"\",BCU400_Database!C319)","v":"BCU 460-3/1LW3GBS3B1/1Z0001"},{"$f":"IF(ISBLANK(BCU400_Database!D319),\"\",BCU400_Database!D319)","v":"P00001"},{"$f":"IF(ISBLANK(BCU400_Database!E319),\"\",BCU400_Database!E319)","v":88611562},"BCU 460-3/1LW3GBS3B1/1Z0001"]
[{"$f":"IF(ISBLANK(BCU400_Database!B320),\"\",BCU400_Database!B320)","v":84631361},{"$f":"IF(ISBLANK(BCU400_Database!C320),\"\",BCU400_Database!C320)","v":"BCU 460-5/1LW3D"},{"$f":"IF(ISBLANK(BCU400_Database!D320),\"\",BCU400_Database!D320)","v":"P00001"},{"$f":"IF(ISBLANK(BCU400_Database!E320),\"\",BCU400_Database!E320)","v":88610338},"BCU 460-5/1LW3D"]
[{"$f":"IF(ISBLANK(BCU400_Database!B321),\"\",BCU400_Database!B321)","v":84631840},{"$f":"IF(ISBLANK(BCU400_Database!C321),\"\",BCU400_Database!C321)","v":"BCU465T-10/2LRD3OB1/1"},{"$f":"IF(ISBLANK(BCU400_Database!D321),\"\",BCU400_Database!D321)","v":"P00075"},{"$f":"IF(ISBLANK(BCU400_Database!E321),\"\",BCU400_Database!E321)","v":88611575},"BCU465T-10/2LRD3OB1/1"]
[{"$f":"IF(ISBLANK(BCU400_Database!B322),\"\",BCU400_Database!B322)","v":84632184},{"$f":"IF(ISBLANK(BCU400_Database!C322),\"\",BCU400_Database!C322)","v":"BCU 480-10/10/1LW3GBS2/1B1/2"},{"$f":"IF(ISBLANK(BCU400_Database!D322),\"\",BCU400_Database!D322)","v":"P00163"},{"$f":"IF(ISBLANK(BCU400_Database!E322),\"\",BCU400_Database!E322)","v":88611596},"BCU 480-10/10/1LW3GBS2/1B1/2"]
[{"$f":"IF(ISBLANK(BCU400_Database!B323),\"\",BCU400_Database!B323)","v":84631930},{"$f":"IF(ISBLANK(BCU400_Database!C323),\"\",BCU400_Database!C323)","v":"BCU 480-5/5/1LR3GBS2/2B1/1"},{"$f":"IF(ISBLANK(BCU400_Database!D323),\"\",BCU400_Database!D323)","v":"P00321"},{"$f":"IF(ISBLANK(BCU400_Database!E323),\"\",BCU400_Database!E323)","v":88611355},{"$f":"B323","v":"BCU 480-5/5/1LR3GBS2/2B1/1"}]
[{"$f":"IF(ISBLANK(BCU400_Database!B324),\"\",BCU400_Database!B324)","v":84631365},{"$f":"IF(ISBLANK(BCU400_Database!C324),\"\",BCU400_Database!C324)","v":"BCU 480-5/3/1LW3GBU"},{"$f":"IF(ISBLANK(BCU400_Database!D324),\"\",BCU400_Database!D324)","v":"P00001"},{"$f":"IF(ISBLANK(BCU400_Database!E324),\"\",BCU400_Database!E324)","v":88611598},"BCU 480-5/3/1LW3GBU"]
[{"$f":"IF(ISBLANK(BCU400_Database!B325),\"\",BCU400_Database!B325)","v":84631569},{"$f":"IF(ISBLANK(BCU400_Database!C325),\"\",BCU400_Database!C325)","v":"BCU 465-3/1LW8GBPS2A"},{"$f":"IF(ISBLANK(BCU400_Database!D325),\"\",BCU400_Database!D325)","v":"P00193"},{"$f":"IF(ISBLANK(BCU400_Database!E325),\"\",BCU400_Database!E325)","v":88611642},"BCU 465-3/1LW8GBPS2A"]
[{"$f":"IF(ISBLANK(BCU400_Database!B326),\"\",BCU400_Database!B326)","v":84631563},{"$f":"IF(ISBLANK(BCU400_Database!C326),\"\",BCU400_Database!C326)","v":"BCU 460-5/1W3GBS4CB1/1"},{"$f":"IF(ISBLANK(BCU400_Database!D326),\"\",BCU400_Database!D326)","v":"P00001"},{"$f":"IF(ISBLANK(BCU400_Database!E326),\"\",BCU400_Database!E326)","v":88611657},"BCU 460-5/1W3GBS4CB1/1"]
[{"$f":"IF(ISBLANK(BCU400_Database!B327),\"\",BCU400_Database!B327)","v":84631803},{"$f":"IF(ISBLANK(BCU400_Database!C327),\"\",BCU400_Database!C327)","v":"BCU 480-5/3/1LW1GBS3/1"},{"$f":"IF(ISBLANK(BCU400_Database!D327),\"\",BCU400_Database!D327)","v":"P00001"},{"$f":"IF(ISBLANK(BCU400_Database!E327),\"\",BCU400_Database!E327)","v":88610766},"BCU 480-5/3/1LW1GBS3/1"]
[{"$f":"IF(ISBLANK(BCU400_Database!B328),\"\",BCU400_Database!B328)","v":84632262},{"$f":"IF(ISBLANK(BCU400_Database!C328),\"\",BCU400_Database!C328)","v":"BCU 480-5/3/1LR3GBS2/1B1/2"},{"$f":"IF(ISBLANK(BCU400_Database!D328),\"\",BCU400_Database!D328)","v":"P00498"},{"$f":"IF(ISBLANK(BCU400_Database!E328),\"\",BCU400_Database!E328)","v":88611701},"BCU 480-5/3/1LR3GBS2/1B1/2"]
[{"$f":"IF(ISBLANK(BCU400_Database!B329),\"\",BCU400_Database!B329)","v":84632282},{"$f":"IF(ISBLANK(BCU400_Database!C329),\"\",BCU400_Database!C329)","v":"BCU 465-5/1LW8GBD3AB1/1"},{"$f":"IF(ISBLANK(BCU400_Database!D329),\"\",BCU400_Database!D329)","v":"P00023"},{"$f":"IF(ISBLANK(BCU400_Database!E329),\"\",BCU400_Database!E329)","v":88610392},"BCU 465-5/1LW8GBD3AB1/1"]
[{"$f":"IF(ISBLANK(BCU400_Database!B330),\"\",BCU400_Database!B330)","v":84631779},{"$f":"IF(ISBLANK(BCU400_Database!C330),\"\",BCU400_Database!C330)","v":"BCU 460-3/1LW8GBB1/1"},{"$f":"IF(ISBLANK(BCU400_Database!D330),\"\",BCU400_Database!D330)","v":"P00368"},{"$f":"IF(ISBLANK(BCU400_Database!E330),\"\",BCU400_Database!E330)","v":88610404},"BCU 460-3/1LW8GBB1/1"]
[{"$f":"IF(ISBLANK(BCU400_Database!B331),\"\",BCU400_Database!B331)","v":84631785},{"$f":"IF(ISBLANK(BCU400_Database!C331),\"\",BCU400_Database!C331)","v":"BCU 480-3/3/1LW1GBU"},{"$f":"IF(ISBLANK(BCU400_Database!D331),\"\",BCU400_Database!D331)","v":"P00001"},{"$f":"IF(ISBLANK(BCU400_Database!E331),\"\",BCU400_Database!E331)","v":88611742},"BCU 480-3/3/1LW1GBU"]
[{"$f":"IF(ISBLANK(BCU400_Database!B332),\"\",BCU400_Database!B332)","v":84631358},{"$f":"IF(ISBLANK(BCU400_Database!C332),\"\",BCU400_Database!C332)","v":"BCU 460-10/1LW3GBS4"},{"$f":"IF(ISBLANK(BCU400_Database!D332),\"\",BCU400_Database!D332)","v":"P00004"},{"$f":"IF(ISBLANK(BCU400_Database!E332),\"\",BCU400_Database!E332)","v":88611750},"BCU 460-10/1LW3GBS4"]
[{"$f":"IF(ISBLANK(BCU400_Database!B333),\"\",BCU400_Database!B333)","v":84631556},{"$f":"IF(ISBLANK(BCU400_Database!C333),\"\",BCU400_Database!C333)","v":"BCU 460-3/1LW8GBP"},{"$f":"IF(ISBLANK(BCU400_Database!D333),\"\",BCU400_Database!D333)","v":"P00515"},{"$f":"IF(ISBLANK(BCU400_Database!E333),\"\",BCU400_Database!E333)","v":88611751},"BCU 460-3/1LW8GBP"]
[{"$f":"IF(ISBLANK(BCU400_Database!B334),\"\",BCU400_Database!B334)","v":84631488},{"$f":"IF(ISBLANK(BCU400_Database!C334),\"\",BCU400_Database!C334)","v":"BCU 460-5/1LW3DS2B1/1"},{"$f":"IF(ISBLANK(BCU400_Database!D334),\"\",BCU400_Database!D334)","v":"P00147"},{"$f":"IF(ISBLANK(BCU400_Database!E334),\"\",BCU400_Database!E334)","v":88611785},"BCU 460-5/1LW3DS2B1/1"]
[{"$f":"IF(ISBLANK(BCU400_Database!B335),\"\",BCU400_Database!B335)","v":84632170},{"$f":"IF(ISBLANK(BCU400_Database!C335),\"\",BCU400_Database!C335)","v":"BCU 480-3/5/1LW3GBCB1/1"},{"$f":"IF(ISBLANK(BCU400_Database!D335),\"\",BCU400_Database!D335)","v":"P00001"},{"$f":"IF(ISBLANK(BCU400_Database!E335),\"\",BCU400_Database!E335)","v":88611714},"BCU 480-3/5/1LW3GBCB1/1"]
[{"$f":"IF(ISBLANK(BCU400_Database!B336),\"\",BCU400_Database!B336)","v":84631561},{"$f":"IF(ISBLANK(BCU400_Database!C336),\"\",BCU400_Database!C336)","v":"BCU 460-5/1LW8GB"},{"$f":"IF(ISBLANK(BCU400_Database!D336),\"\",BCU400_Database!D336)","v":"P00173"},{"$f":"IF(ISBLANK(BCU400_Database!E336),\"\",BCU400_Database!E336)","v":88611090},"BCU 460-5/1LW8GB"]
[{"$f":"IF(ISBLANK(BCU400_Database!B337),\"\",BCU400_Database!B337)","v":84631577},{"$f":"IF(ISBLANK(BCU400_Database!C337),\"\",BCU400_Database!C337)","v":"BCU 465-5/1LW3GBAC"},{"$f":"IF(ISBLANK(BCU400_Database!D337),\"\",BCU400_Database!D337)","v":"P00154"},{"$f":"IF(ISBLANK(BCU400_Database!E337),\"\",BCU400_Database!E337)","v":88611808},"BCU 465-5/1LW3GBAC"]
[{"$f":"IF(ISBLANK(BCU400_Database!B338),\"\",BCU400_Database!B338)","v":84631648},{"$f":"IF(ISBLANK(BCU400_Database!C338),\"\",BCU400_Database!C338)","v":"BCU 480-10/3/1LW3GBS2/1U"},{"$f":"IF(ISBLANK(BCU400_Database!D338),\"\",BCU400_Database!D338)","v":"P00001"},{"$f":"IF(ISBLANK(BCU400_Database!E338),\"\",BCU400_Database!E338)","v":88610561},"BCU 480-10/3/1LW3GBS2/1U"]
[{"$f":"IF(ISBLANK(BCU400_Database!B339),\"\",BCU400_Database!B339)","v":84631618},{"$f":"IF(ISBLANK(BCU400_Database!C339),\"\",BCU400_Database!C339)","v":"BCU 465-5/1LW8GBPA"},{"$f":"IF(ISBLANK(BCU400_Database!D339),\"\",BCU400_Database!D339)","v":"P00002"},{"$f":"IF(ISBLANK(BCU400_Database!E339),\"\",BCU400_Database!E339)","v":88611821},"BCU 465-5/1LW8GBPA"]
[{"$f":"IF(ISBLANK(BCU400_Database!B340),\"\",BCU400_Database!B340)","v":84632047},{"$f":"IF(ISBLANK(BCU400_Database!C340),\"\",BCU400_Database!C340)","v":"BCU 480-5/3/1LW3GBD3S4/4"},{"$f":"IF(ISBLANK(BCU400_Database!D340),\"\",BCU400_Database!D340)","v":"P00172"},{"$f":"IF(ISBLANK(BCU400_Database!E340),\"\",BCU400_Database!E340)","v":88611800},"BCU 480-5/3/1LW3GBD3S4/4"]
[{"$f":"IF(ISBLANK(BCU400_Database!B341),\"\",BCU400_Database!B341)","v":84631904},{"$f":"IF(ISBLANK(BCU400_Database!C341),\"\",BCU400_Database!C341)","v":"BCU 460-10/1W3GBS3"},{"$f":"IF(ISBLANK(BCU400_Database!D341),\"\",BCU400_Database!D341)","v":"P00006"},{"$f":"IF(ISBLANK(BCU400_Database!E341),\"\",BCU400_Database!E341)","v":88611305},"BCU 460-10/1W3GBS3"]
[{"$f":"IF(ISBLANK(BCU400_Database!B342),\"\",BCU400_Database!B342)","v":84631424},{"$f":"IF(ISBLANK(BCU400_Database!C342),\"\",BCU400_Database!C342)","v":"BCU 480-10/10/1LW3GB"},{"$f":"IF(ISBLANK(BCU400_Database!D342),\"\",BCU400_Database!D342)","v":"P00001"},{"$f":"IF(ISBLANK(BCU400_Database!E342),\"\",BCU400_Database!E342)","v":88611846},"BCU 480-10/10/1LW3GB"]
[{"$f":"IF(ISBLANK(BCU400_Database!B343),\"\",BCU400_Database!B343)","v":84631621},{"$f":"IF(ISBLANK(BCU400_Database!C343),\"\",BCU400_Database!C343)","v":"BCU 460-3/1W3GBD3"},{"$f":"IF(ISBLANK(BCU400_Database!D343),\"\",BCU400_Database!D343)","v":"P00001"},{"$f":"IF(ISBLANK(BCU400_Database!E343),\"\",BCU400_Database!E343)","v":88610691},"BCU 460-3/1W3GBD3"]
[{"$f":"IF(ISBLANK(BCU400_Database!B344),\"\",BCU400_Database!B344)","v":84632034},{"$f":"IF(ISBLANK(BCU400_Database!C344),\"\",BCU400_Database!C344)","v":"BCU 480-5/5/1LW3GBD2S4/1B1/1"},{"$f":"IF(ISBLANK(BCU400_Database!D344),\"\",BCU400_Database!D344)","v":"P00010"},{"$f":"IF(ISBLANK(BCU400_Database!E344),\"\",BCU400_Database!E344)","v":88611890},"BCU 480-5/5/1LW3GBD2S4/1B1/1"]
[{"$f":"IF(ISBLANK(BCU400_Database!B345),\"\",BCU400_Database!B345)","v":84631981},{"$f":"IF(ISBLANK(BCU400_Database!C345),\"\",BCU400_Database!C345)","v":"BCU 480-5/5/1LW8GBU"},{"$f":"IF(ISBLANK(BCU400_Database!D345),\"\",BCU400_Database!D345)","v":"P00356"},{"$f":"IF(ISBLANK(BCU400_Database!E345),\"\",BCU400_Database!E345)","v":88611909},"BCU 480-5/5/1LW8GBU"]
[{"$f":"IF(ISBLANK(BCU400_Database!B346),\"\",BCU400_Database!B346)","v":84631408},{"$f":"IF(ISBLANK(BCU400_Database!C346),\"\",BCU400_Database!C346)","v":"BCU 460-3/1W3GBD2"},{"$f":"IF(ISBLANK(BCU400_Database!D346),\"\",BCU400_Database!D346)","v":"P00006"},{"$f":"IF(ISBLANK(BCU400_Database!E346),\"\",BCU400_Database!E346)","v":88611921},"BCU 460-3/1W3GBD2"]
[{"$f":"IF(ISBLANK(BCU400_Database!B347),\"\",BCU400_Database!B347)","v":84631728},{"$f":"IF(ISBLANK(BCU400_Database!C347),\"\",BCU400_Database!C347)","v":"BCU 460-3/1WGBB1/1"},{"$f":"IF(ISBLANK(BCU400_Database!D347),\"\",BCU400_Database!D347)","v":"P00001"},{"$f":"IF(ISBLANK(BCU400_Database!E347),\"\",BCU400_Database!E347)","v":88611185},"BCU 460-3/1WGBB1/1"]
[{"$f":"IF(ISBLANK(BCU400_Database!B348),\"\",BCU400_Database!B348)","v":84631946},{"$f":"IF(ISBLANK(BCU400_Database!C348),\"\",BCU400_Database!C348)","v":"BCU 480-3/3/1LW1GBB1/1"},{"$f":"IF(ISBLANK(BCU400_Database!D348),\"\",BCU400_Database!D348)","v":"P00001"},{"$f":"IF(ISBLANK(BCU400_Database!E348),\"\",BCU400_Database!E348)","v":88611651},"BCU 480-3/3/1LW1GBB1/1"]
[{"$f":"IF(ISBLANK(BCU400_Database!B349),\"\",BCU400_Database!B349)","v":84631686},{"$f":"IF(ISBLANK(BCU400_Database!C349),\"\",BCU400_Database!C349)","v":"BCU 460-5/1LW1GBC"},{"$f":"IF(ISBLANK(BCU400_Database!D349),\"\",BCU400_Database!D349)","v":"P00001"},{"$f":"IF(ISBLANK(BCU400_Database!E349),\"\",BCU400_Database!E349)","v":88611134},"BCU 460-5/1LW1GBC"]
[{"$f":"IF(ISBLANK(BCU400_Database!B350),\"\",BCU400_Database!B350)","v":84632009},{"$f":"IF(ISBLANK(BCU400_Database!C350),\"\",BCU400_Database!C350)","v":"BCU 480-5/3/1LW1GBD3S2/1C"},{"$f":"IF(ISBLANK(BCU400_Database!D350),\"\",BCU400_Database!D350)","v":"P00049"},{"$f":"IF(ISBLANK(BCU400_Database!E350),\"\",BCU400_Database!E350)","v":88611264},"BCU 480-5/3/1LW1GBD3S2/1C"]
[{"$f":"IF(ISBLANK(BCU400_Database!B351),\"\",BCU400_Database!B351)","v":84632285},{"$f":"IF(ISBLANK(BCU400_Database!C351),\"\",BCU400_Database!C351)","v":"BCU 460-5/1LW1GBB1/2"},{"$f":"IF(ISBLANK(BCU400_Database!D351),\"\",BCU400_Database!D351)","v":"P00510"},{"$f":"IF(ISBLANK(BCU400_Database!E351),\"\",BCU400_Database!E351)","v":88611943},"BCU 460-5/1LW1GBB1/2"]
[{"$f":"IF(ISBLANK(BCU400_Database!B352),\"\",BCU400_Database!B352)","v":84631556},{"$f":"IF(ISBLANK(BCU400_Database!C352),\"\",BCU400_Database!C352)","v":"BCU 460-3/1LW8GBP"},{"$f":"IF(ISBLANK(BCU400_Database!D352),\"\",BCU400_Database!D352)","v":"P00069"},{"$f":"IF(ISBLANK(BCU400_Database!E352),\"\",BCU400_Database!E352)","v":88611968},"BCU 460-3/1LW8GBP"]
[{"$f":"IF(ISBLANK(BCU400_Database!B353),\"\",BCU400_Database!B353)","v":84631563},{"$f":"IF(ISBLANK(BCU400_Database!C353),\"\",BCU400_Database!C353)","v":"BCU 460-5/1W3GBS4CB1/1"},{"$f":"IF(ISBLANK(BCU400_Database!D353),\"\",BCU400_Database!D353)","v":"P00010"},{"$f":"IF(ISBLANK(BCU400_Database!E353),\"\",BCU400_Database!E353)","v":88611976},"BCU 460-5/1W3GBS4CB1/1"]
[{"$f":"IF(ISBLANK(BCU400_Database!B354),\"\",BCU400_Database!B354)","v":84631518},{"$f":"IF(ISBLANK(BCU400_Database!C354),\"\",BCU400_Database!C354)","v":"BCU 465-5/1LW8GBA"},{"$f":"IF(ISBLANK(BCU400_Database!D354),\"\",BCU400_Database!D354)","v":"P00195"},{"$f":"IF(ISBLANK(BCU400_Database!E354),\"\",BCU400_Database!E354)","v":88611984},"BCU 465-5/1LW8GBA"]
[{"$f":"IF(ISBLANK(BCU400_Database!B355),\"\",BCU400_Database!B355)","v":84631350},{"$f":"IF(ISBLANK(BCU400_Database!C355),\"\",BCU400_Database!C355)","v":"BCU 460-5/1LW1D"},{"$f":"IF(ISBLANK(BCU400_Database!D355),\"\",BCU400_Database!D355)","v":"P00001"},{"$f":"IF(ISBLANK(BCU400_Database!E355),\"\",BCU400_Database!E355)","v":88610410},"BCU 460-5/1LW1D"]
[{"$f":"IF(ISBLANK(BCU400_Database!B356),\"\",BCU400_Database!B356)","v":84631932},{"$f":"IF(ISBLANK(BCU400_Database!C356),\"\",BCU400_Database!C356)","v":"BCU 460-3/1LW3GBD2S3B1/1"},{"$f":"IF(ISBLANK(BCU400_Database!D356),\"\",BCU400_Database!D356)","v":"P00001"},{"$f":"IF(ISBLANK(BCU400_Database!E356),\"\",BCU400_Database!E356)","v":88611999},"BCU 460-3/1LW3GBD2S3B1/1"]
[{"$f":"IF(ISBLANK(BCU400_Database!B357),\"\",BCU400_Database!B357)","v":84631384},{"$f":"IF(ISBLANK(BCU400_Database!C357),\"\",BCU400_Database!C357)","v":"BCU 460-10/1LW3GBS2"},{"$f":"IF(ISBLANK(BCU400_Database!D357),\"\",BCU400_Database!D357)","v":"P00011"},{"$f":"IF(ISBLANK(BCU400_Database!E357),\"\",BCU400_Database!E357)","v":88612006},"BCU 460-10/1LW3GBS2"]
[{"$f":"IF(ISBLANK(BCU400_Database!B358),\"\",BCU400_Database!B358)","v":84630481},{"$f":"IF(ISBLANK(BCU400_Database!C358),\"\",BCU400_Database!C358)","v":"BCU 460-10/1LR3GB"},{"$f":"IF(ISBLANK(BCU400_Database!D358),\"\",BCU400_Database!D358)","v":"P00001"},{"$f":"IF(ISBLANK(BCU400_Database!E358),\"\",BCU400_Database!E358)","v":88611819},"BCU 460-10/1LR3GB"]
[{"$f":"IF(ISBLANK(BCU400_Database!B359),\"\",BCU400_Database!B359)","v":84632288},{"$f":"IF(ISBLANK(BCU400_Database!C359),\"\",BCU400_Database!C359)","v":"BCU 480-5/5/1LW3GBPD3S4/4U"},{"$f":"IF(ISBLANK(BCU400_Database!D359),\"\",BCU400_Database!D359)","v":"P00514"},{"$f":"IF(ISBLANK(BCU400_Database!E359),\"\",BCU400_Database!E359)","v":88612019},"BCU 480-5/5/1LW3GBPD3S4/4U"]
[{"$f":"IF(ISBLANK(BCU400_Database!B360),\"\",BCU400_Database!B360)","v":84631538},{"$f":"IF(ISBLANK(BCU400_Database!C360),\"\",BCU400_Database!C360)","v":"BCU 460-5/1W3GBP"},{"$f":"IF(ISBLANK(BCU400_Database!D360),\"\",BCU400_Database!D360)","v":"P00001"},{"$f":"IF(ISBLANK(BCU400_Database!E360),\"\",BCU400_Database!E360)","v":88611715},"BCU 460-5/1W3GBP"]
[{"$f":"IF(ISBLANK(BCU400_Database!B361),\"\",BCU400_Database!B361)","v":84631424},{"$f":"IF(ISBLANK(BCU400_Database!C361),\"\",BCU400_Database!C361)","v":"BCU 480-10/10/1LW3GB"},{"$f":"IF(ISBLANK(BCU400_Database!D361),\"\",BCU400_Database!D361)","v":"P00001"},{"$f":"IF(ISBLANK(BCU400_Database!E361),\"\",BCU400_Database!E361)","v":88611846},"BCU 480-10/10/1LW3GB"]
[{"$f":"IF(ISBLANK(BCU400_Database!B362),\"\",BCU400_Database!B362)","v":84632028},{"$f":"IF(ISBLANK(BCU400_Database!C362),\"\",BCU400_Database!C362)","v":"BCU 460-5/1R8GBPD3"},{"$f":"IF(ISBLANK(BCU400_Database!D362),\"\",BCU400_Database!D362)","v":"P00386"},{"$f":"IF(ISBLANK(BCU400_Database!E362),\"\",BCU400_Database!E362)","v":88612040},"BCU 460-5/1R8GBPD3"]
[{"$f":"IF(ISBLANK(BCU400_Database!B363),\"\",BCU400_Database!B363)","v":84631385},{"$f":"IF(ISBLANK(BCU400_Database!C363),\"\",BCU400_Database!C363)","v":"BCU 480-5/3/1LW3DU"},{"$f":"IF(ISBLANK(BCU400_Database!D363),\"\",BCU400_Database!D363)","v":"P00001"},{"$f":"IF(ISBLANK(BCU400_Database!E363),\"\",BCU400_Database!E363)","v":88611598},"BCU 480-5/3/1LW3DU"]
[{"$f":"IF(ISBLANK(BCU400_Database!B364),\"\",BCU400_Database!B364)","v":84632078},{"$f":"IF(ISBLANK(BCU400_Database!C364),\"\",BCU400_Database!C364)","v":"BCU 460-5/1LWGBD3S2B1/2Z0001"},{"$f":"IF(ISBLANK(BCU400_Database!D364),\"\",BCU400_Database!D364)","v":"P00001"},{"$f":"IF(ISBLANK(BCU400_Database!E364),\"\",BCU400_Database!E364)","v":88612043},"BCU 460-5/1LWGBD3S2B1/2Z0001"]
[{"$f":"IF(ISBLANK(BCU400_Database!B365),\"\",BCU400_Database!B365)","v":84631389},{"$f":"IF(ISBLANK(BCU400_Database!C365),\"\",BCU400_Database!C365)","v":"BCU 480-5/3/1LW3D"},{"$f":"IF(ISBLANK(BCU400_Database!D365),\"\",BCU400_Database!D365)","v":"P00001"},{"$f":"IF(ISBLANK(BCU400_Database!E365),\"\",BCU400_Database!E365)","v":88610317},"BCU 480-5/3/1LW3D"]
[{"$f":"IF(ISBLANK(BCU400_Database!B366),\"\",BCU400_Database!B366)","v":84631392},{"$f":"IF(ISBLANK(BCU400_Database!C366),\"\",BCU400_Database!C366)","v":"BCU 460-5/1LW3GBP"},{"$f":"IF(ISBLANK(BCU400_Database!D366),\"\",BCU400_Database!D366)","v":"P00017"},{"$f":"IF(ISBLANK(BCU400_Database!E366),\"\",BCU400_Database!E366)","v":88612069},"BCU 460-5/1LW3GBP"]
[{"$f":"IF(ISBLANK(BCU400_Database!B367),\"\",BCU400_Database!B367)","v":84631599},{"$f":"IF(ISBLANK(BCU400_Database!C367),\"\",BCU400_Database!C367)","v":"BCU 460-3/1W1GBD3B1/1"},{"$f":"IF(ISBLANK(BCU400_Database!D367),\"\",BCU400_Database!D367)","v":"P00001"},{"$f":"IF(ISBLANK(BCU400_Database!E367),\"\",BCU400_Database!E367)","v":88612070},"BCU 460-3/1W1GBD3B1/1"]
[{"$f":"IF(ISBLANK(BCU400_Database!B368),\"\",BCU400_Database!B368)","v":84631575},{"$f":"IF(ISBLANK(BCU400_Database!C368),\"\",BCU400_Database!C368)","v":"BCU 465-3/1LW3GBAC"},{"$f":"IF(ISBLANK(BCU400_Database!D368),\"\",BCU400_Database!D368)","v":"P00120"},{"$f":"IF(ISBLANK(BCU400_Database!E368),\"\",BCU400_Database!E368)","v":88612073},"BCU 465-3/1LW3GBAC"]
[{"$f":"IF(ISBLANK(BCU400_Database!B369),\"\",BCU400_Database!B369)","v":84631779},{"$f":"IF(ISBLANK(BCU400_Database!C369),\"\",BCU400_Database!C369)","v":"BCU 460-3/1LW8GBB1/1"},{"$f":"IF(ISBLANK(BCU400_Database!D369),\"\",BCU400_Database!D369)","v":"P00080"},{"$f":"IF(ISBLANK(BCU400_Database!E369),\"\",BCU400_Database!E369)","v":88612092},"BCU 460-3/1LW8GBB1/1"]
[{"$f":"IF(ISBLANK(BCU400_Database!B370),\"\",BCU400_Database!B370)","v":84631388},{"$f":"IF(ISBLANK(BCU400_Database!C370),\"\",BCU400_Database!C370)","v":"BCU 460-3/1LW3GBPZ"},{"$f":"IF(ISBLANK(BCU400_Database!D370),\"\",BCU400_Database!D370)","v":"P00001"},{"$f":"IF(ISBLANK(BCU400_Database!E370),\"\",BCU400_Database!E370)","v":88612098},"BCU 460-3/1LW3GBPZ"]
[{"$f":"IF(ISBLANK(BCU400_Database!B371),\"\",BCU400_Database!B371)","v":84631493},{"$f":"IF(ISBLANK(BCU400_Database!C371),\"\",BCU400_Database!C371)","v":"BCU 480-10/5/1LW2GBD2S2/2"},{"$f":"IF(ISBLANK(BCU400_Database!D371),\"\",BCU400_Database!D371)","v":"P00001"},{"$f":"IF(ISBLANK(BCU400_Database!E371),\"\",BCU400_Database!E371)","v":88612102},"BCU 480-10/5/1LW2GBD2S2/2"]
[{"$f":"IF(ISBLANK(BCU400_Database!B372),\"\",BCU400_Database!B372)","v":84631376},{"$f":"IF(ISBLANK(BCU400_Database!C372),\"\",BCU400_Database!C372)","v":"BCU 460-3/1LW3D"},{"$f":"IF(ISBLANK(BCU400_Database!D372),\"\",BCU400_Database!D372)","v":"P00001"},{"$f":"IF(ISBLANK(BCU400_Database!E372),\"\",BCU400_Database!E372)","v":88610288},"BCU 460-3/1LW3D"]
[{"$f":"IF(ISBLANK(BCU400_Database!B373),\"\",BCU400_Database!B373)","v":84631624},{"$f":"IF(ISBLANK(BCU400_Database!C373),\"\",BCU400_Database!C373)","v":"BCU 480-5/5/1LW1GBS4/2"},{"$f":"IF(ISBLANK(BCU400_Database!D373),\"\",BCU400_Database!D373)","v":"P00133"},{"$f":"IF(ISBLANK(BCU400_Database!E373),\"\",BCU400_Database!E373)","v":88612105},"BCU 480-5/5/1LW1GBS4/2"]
[{"$f":"IF(ISBLANK(BCU400_Database!B374),\"\",BCU400_Database!B374)","v":84631618},{"$f":"IF(ISBLANK(BCU400_Database!C374),\"\",BCU400_Database!C374)","v":"BCU 465-5/1LW8GBPA"},{"$f":"IF(ISBLANK(BCU400_Database!D374),\"\",BCU400_Database!D374)","v":"P00023"},{"$f":"IF(ISBLANK(BCU400_Database!E374),\"\",BCU400_Database!E374)","v":88612146},"BCU 465-5/1LW8GBPA"]
[{"$f":"IF(ISBLANK(BCU400_Database!B375),\"\",BCU400_Database!B375)","v":84631379},{"$f":"IF(ISBLANK(BCU400_Database!C375),\"\",BCU400_Database!C375)","v":"BCU 460-3/1W1D"},{"$f":"IF(ISBLANK(BCU400_Database!D375),\"\",BCU400_Database!D375)","v":"P00001"},{"$f":"IF(ISBLANK(BCU400_Database!E375),\"\",BCU400_Database!E375)","v":88610417},"BCU 460-3/1W1D"]
[{"$f":"IF(ISBLANK(BCU400_Database!B376),\"\",BCU400_Database!B376)","v":84631393},{"$f":"IF(ISBLANK(BCU400_Database!C376),\"\",BCU400_Database!C376)","v":"BCU 440-10/1W1D"},{"$f":"IF(ISBLANK(BCU400_Database!D376),\"\",BCU400_Database!D376)","v":"P00001"},{"$f":"IF(ISBLANK(BCU400_Database!E376),\"\",BCU400_Database!E376)","v":88610214},"BCU 440-10/1W1D"]
[{"$f":"IF(ISBLANK(BCU400_Database!B377),\"\",BCU400_Database!B377)","v":84632178},{"$f":"IF(ISBLANK(BCU400_Database!C377),\"\",BCU400_Database!C377)","v":"BCU 480-10/5/1LW3GBU"},{"$f":"IF(ISBLANK(BCU400_Database!D377),\"\",BCU400_Database!D377)","v":"P00010"},{"$f":"IF(ISBLANK(BCU400_Database!E377),\"\",BCU400_Database!E377)","v":88612172},"BCU 480-10/5/1LW3GBU"]
[{"$f":"IF(ISBLANK(BCU400_Database!B378),\"\",BCU400_Database!B378)","v":84631665},{"$f":"IF(ISBLANK(BCU400_Database!C378),\"\",BCU400_Database!C378)","v":"BCU 480-5/3/1LW1GBS3/1B1/1"},{"$f":"IF(ISBLANK(BCU400_Database!D378),\"\",BCU400_Database!D378)","v":"P00010"},{"$f":"IF(ISBLANK(BCU400_Database!E378),\"\",BCU400_Database!E378)","v":88612210},"BCU 480-5/3/1LW1GBS3/1B1/1"]
[{"$f":"IF(ISBLANK(BCU400_Database!B379),\"\",BCU400_Database!B379)","v":84631877},{"$f":"IF(ISBLANK(BCU400_Database!C379),\"\",BCU400_Database!C379)","v":"BCU 480-5/3/2LW1GBS2/1CB1/1"},{"$f":"IF(ISBLANK(BCU400_Database!D379),\"\",BCU400_Database!D379)","v":"P00270"},{"$f":"IF(ISBLANK(BCU400_Database!E379),\"\",BCU400_Database!E379)","v":88611278},"BCU 480-5/3/2LW1GBS2/1CB1/1"]
[{"$f":"IF(ISBLANK(BCU400_Database!B380),\"\",BCU400_Database!B380)","v":84631717},{"$f":"IF(ISBLANK(BCU400_Database!C380),\"\",BCU400_Database!C380)","v":"BCU 480-5/5/1LR3GBB1/1"},{"$f":"IF(ISBLANK(BCU400_Database!D380),\"\",BCU400_Database!D380)","v":"P00001"},{"$f":"IF(ISBLANK(BCU400_Database!E380),\"\",BCU400_Database!E380)","v":88610833},"BCU 480-5/5/1LR3GBB1/1"]
[{"$f":"IF(ISBLANK(BCU400_Database!B381),\"\",BCU400_Database!B381)","v":84632216},{"$f":"IF(ISBLANK(BCU400_Database!C381),\"\",BCU400_Database!C381)","v":"BCU 465-5/1LW3GBS2ACB1/1"},{"$f":"IF(ISBLANK(BCU400_Database!D381),\"\",BCU400_Database!D381)","v":"P00137"},{"$f":"IF(ISBLANK(BCU400_Database!E381),\"\",BCU400_Database!E381)","v":88612212},"BCU 465-5/1LW3GBS2ACB1/1"]
[{"$f":"IF(ISBLANK(BCU400_Database!B382),\"\",BCU400_Database!B382)","v":84632002},{"$f":"IF(ISBLANK(BCU400_Database!C382),\"\",BCU400_Database!C382)","v":"BCU 480-5/3/1LW1GBS2/1C"},{"$f":"IF(ISBLANK(BCU400_Database!D382),\"\",BCU400_Database!D382)","v":"P00094"},{"$f":"IF(ISBLANK(BCU400_Database!E382),\"\",BCU400_Database!E382)","v":88612243},"BCU 480-5/3/1LW1GBS2/1C"]
[{"$f":"IF(ISBLANK(BCU400_Database!B383),\"\",BCU400_Database!B383)","v":84631757},{"$f":"IF(ISBLANK(BCU400_Database!C383),\"\",BCU400_Database!C383)","v":"BCU 465-3/1LW2GBAB1/1"},{"$f":"IF(ISBLANK(BCU400_Database!D383),\"\",BCU400_Database!D383)","v":"P00157"},{"$f":"IF(ISBLANK(BCU400_Database!E383),\"\",BCU400_Database!E383)","v":88612260},"BCU 465-3/1LW2GBAB1/1"]
[{"$f":"IF(ISBLANK(BCU400_Database!B384),\"\",BCU400_Database!B384)","v":84630656},{"$f":"IF(ISBLANK(BCU400_Database!C384),\"\",BCU400_Database!C384)","v":"BCU 480-5/3/1LW2GB"},{"$f":"IF(ISBLANK(BCU400_Database!D384),\"\",BCU400_Database!D384)","v":"P00001"},{"$f":"IF(ISBLANK(BCU400_Database!E384),\"\",BCU400_Database!E384)","v":88610280},"BCU 480-5/3/1LW2GB"]
[{"$f":"IF(ISBLANK(BCU400_Database!B385),\"\",BCU400_Database!B385)","v":84630450},{"$f":"IF(ISBLANK(BCU400_Database!C385),\"\",BCU400_Database!C385)","v":"BCU 460-10/1W1GB"},{"$f":"IF(ISBLANK(BCU400_Database!D385),\"\",BCU400_Database!D385)","v":"P00001"},{"$f":"IF(ISBLANK(BCU400_Database!E385),\"\",BCU400_Database!E385)","v":88610629},"BCU 460-10/1W1GB"]
[{"$f":"IF(ISBLANK(BCU400_Database!B386),\"\",BCU400_Database!B386)","v":84631545},{"$f":"IF(ISBLANK(BCU400_Database!C386),\"\",BCU400_Database!C386)","v":"BCU 460-5/1LW3GBB1/1"},{"$f":"IF(ISBLANK(BCU400_Database!D386),\"\",BCU400_Database!D386)","v":"P00221"},{"$f":"IF(ISBLANK(BCU400_Database!E386),\"\",BCU400_Database!E386)","v":88610657},"BCU 460-5/1LW3GBB1/1"]
[{"$f":"IF(ISBLANK(BCU400_Database!B387),\"\",BCU400_Database!B387)","v":84631842},{"$f":"IF(ISBLANK(BCU400_Database!C387),\"\",BCU400_Database!C387)","v":"BCU 480-5/3/1LW3GBD2S3/1B1/1"},{"$f":"IF(ISBLANK(BCU400_Database!D387),\"\",BCU400_Database!D387)","v":"P00437"},{"$f":"IF(ISBLANK(BCU400_Database!E387),\"\",BCU400_Database!E387)","v":88612254},{"$f":"B387","v":"BCU 480-5/3/1LW3GBD2S3/1B1/1"}]
[{"$f":"IF(ISBLANK(BCU400_Database!B388),\"\",BCU400_Database!B388)","v":84632024},{"$f":"IF(ISBLANK(BCU400_Database!C388),\"\",BCU400_Database!C388)","v":"BCU 480-10/5/1LW3GBD2S2/1B1/2"},{"$f":"IF(ISBLANK(BCU400_Database!D388),\"\",BCU400_Database!D388)","v":"P00388"},{"$f":"IF(ISBLANK(BCU400_Database!E388),\"\",BCU400_Database!E388)","v":88612396},"BCU 480-10/5/1LW3GBD2S2/1B1/2"]
[{"$f":"IF(ISBLANK(BCU400_Database!B389),\"\",BCU400_Database!B389)","v":84631376},{"$f":"IF(ISBLANK(BCU400_Database!C389),\"\",BCU400_Database!C389)","v":"BCU 460-3/1LW3D"},{"$f":"IF(ISBLANK(BCU400_Database!D389),\"\",BCU400_Database!D389)","v":"P00010"},{"$f":"IF(ISBLANK(BCU400_Database!E389),\"\",BCU400_Database!E389)","v":88612487},"BCU 460-3/1LW3D"]
[{"$f":"IF(ISBLANK(BCU400_Database!B390),\"\",BCU400_Database!B390)","v":84631422},{"$f":"IF(ISBLANK(BCU400_Database!C390),\"\",BCU400_Database!C390)","v":"BCU 460-5/1LW3GBS2"},{"$f":"IF(ISBLANK(BCU400_Database!D390),\"\",BCU400_Database!D390)","v":"P00006"},{"$f":"IF(ISBLANK(BCU400_Database!E390),\"\",BCU400_Database!E390)","v":88611329},"BCU 460-5/1LW3GBS2"]
[{"$f":"IF(ISBLANK(BCU400_Database!B391),\"\",BCU400_Database!B391)","v":84631394},{"$f":"IF(ISBLANK(BCU400_Database!C391),\"\",BCU400_Database!C391)","v":"BCU 480-5/10/1LW1GB"},{"$f":"IF(ISBLANK(BCU400_Database!D391),\"\",BCU400_Database!D391)","v":"P00001"},{"$f":"IF(ISBLANK(BCU400_Database!E391),\"\",BCU400_Database!E391)","v":88612390},"BCU 480-5/10/1LW1GB"]
[{"$f":"IF(ISBLANK(BCU400_Database!B392),\"\",BCU400_Database!B392)","v":84631888},{"$f":"IF(ISBLANK(BCU400_Database!C392),\"\",BCU400_Database!C392)","v":"BCU 480-10/5/1LW3GBS4/1"},{"$f":"IF(ISBLANK(BCU400_Database!D392),\"\",BCU400_Database!D392)","v":"P00001"},{"$f":"IF(ISBLANK(BCU400_Database!E392),\"\",BCU400_Database!E392)","v":88612498},"BCU 480-10/5/1LW3GBS4/1"]
[{"$f":"IF(ISBLANK(BCU400_Database!B393),\"\",BCU400_Database!B393)","v":84630280},{"$f":"IF(ISBLANK(BCU400_Database!C393),\"\",BCU400_Database!C393)","v":"BCU 460-3/1R3GB "},{"$f":"IF(ISBLANK(BCU400_Database!D393),\"\",BCU400_Database!D393)","v":"P00001"},{"$f":"IF(ISBLANK(BCU400_Database!E393),\"\",BCU400_Database!E393)","v":88610498},"BCU 460-3/1R3GB "]
[{"$f":"IF(ISBLANK(BCU400_Database!B394),\"\",BCU400_Database!B394)","v":84631859},{"$f":"IF(ISBLANK(BCU400_Database!C394),\"\",BCU400_Database!C394)","v":"BCU 480-5/3/1LW3GBD2S2/2CB1/1"},{"$f":"IF(ISBLANK(BCU400_Database!D394),\"\",BCU400_Database!D394)","v":"P00157"},{"$f":"IF(ISBLANK(BCU400_Database!E394),\"\",BCU400_Database!E394)","v":88612513},"BCU 480-5/3/1LW3GBD2S2/2CB1/1"]
[{"$f":"IF(ISBLANK(BCU400_Database!B395),\"\",BCU400_Database!B395)","v":84631439},{"$f":"IF(ISBLANK(BCU400_Database!C395),\"\",BCU400_Database!C395)","v":"BCU 460T-5/2LR3"},{"$f":"IF(ISBLANK(BCU400_Database!D395),\"\",BCU400_Database!D395)","v":"P00020"},{"$f":"IF(ISBLANK(BCU400_Database!E395),\"\",BCU400_Database!E395)","v":88612531},"BCU 460T-5/2LR3"]
[{"$f":"IF(ISBLANK(BCU400_Database!B396),\"\",BCU400_Database!B396)","v":84631671},{"$f":"IF(ISBLANK(BCU400_Database!C396),\"\",BCU400_Database!C396)","v":"BCU 460-3/1W3GBS3"},{"$f":"IF(ISBLANK(BCU400_Database!D396),\"\",BCU400_Database!D396)","v":"P00001"},{"$f":"IF(ISBLANK(BCU400_Database!E396),\"\",BCU400_Database!E396)","v":88610359},"BCU 460-3/1W3GBS3"]
[{"$f":"IF(ISBLANK(BCU400_Database!B397),\"\",BCU400_Database!B397)","v":84631422},{"$f":"IF(ISBLANK(BCU400_Database!C397),\"\",BCU400_Database!C397)","v":"BCU 460-5/1LW3GBS2"},{"$f":"IF(ISBLANK(BCU400_Database!D397),\"\",BCU400_Database!D397)","v":"P00258"},{"$f":"IF(ISBLANK(BCU400_Database!E397),\"\",BCU400_Database!E397)","v":88612601},"BCU 460-5/1LW3GBS2"]
[{"$f":"IF(ISBLANK(BCU400_Database!B398),\"\",BCU400_Database!B398)","v":84631399},{"$f":"IF(ISBLANK(BCU400_Database!C398),\"\",BCU400_Database!C398)","v":"BCU 460-5/1LW8D"},{"$f":"IF(ISBLANK(BCU400_Database!D398),\"\",BCU400_Database!D398)","v":"P00017"},{"$f":"IF(ISBLANK(BCU400_Database!E398),\"\",BCU400_Database!E398)","v":88610438},"BCU 460-5/1LW8D"]
[{"$f":"IF(ISBLANK(BCU400_Database!B399),\"\",BCU400_Database!B399)","v":84631689},{"$f":"IF(ISBLANK(BCU400_Database!C399),\"\",BCU400_Database!C399)","v":"BCU 460-5/1W8GBP"},{"$f":"IF(ISBLANK(BCU400_Database!D399),\"\",BCU400_Database!D399)","v":"P00160"},{"$f":"IF(ISBLANK(BCU400_Database!E399),\"\",BCU400_Database!E399)","v":88612323},"BCU 460-5/1W8GBP"]
[{"$f":"IF(ISBLANK(BCU400_Database!B400),\"\",BCU400_Database!B400)","v":84630261},{"$f":"IF(ISBLANK(BCU400_Database!C400),\"\",BCU400_Database!C400)","v":"BCU 460-3/1LW3GB"},{"$f":"IF(ISBLANK(BCU400_Database!D400),\"\",BCU400_Database!D400)","v":"P00109"},{"$f":"IF(ISBLANK(BCU400_Database!E400),\"\",BCU400_Database!E400)","v":88612625},"BCU 460-3/1LW3GB"]
[{"$f":"IF(ISBLANK(BCU400_Database!B401),\"\",BCU400_Database!B401)","v":84632215},{"$f":"IF(ISBLANK(BCU400_Database!C401),\"\",BCU400_Database!C401)","v":"BCU 480-5/5/1LW3GBS2/1"},{"$f":"IF(ISBLANK(BCU400_Database!D401),\"\",BCU400_Database!D401)","v":"P00001"},{"$f":"IF(ISBLANK(BCU400_Database!E401),\"\",BCU400_Database!E401)","v":88611147},"BCU 480-5/5/1LW3GBS2/1"]
[{"$f":"IF(ISBLANK(BCU400_Database!B402),\"\",BCU400_Database!B402)","v":84631958},{"$f":"IF(ISBLANK(BCU400_Database!C402),\"\",BCU400_Database!C402)","v":"BCU 460-3/1W3GBD3S3"},{"$f":"IF(ISBLANK(BCU400_Database!D402),\"\",BCU400_Database!D402)","v":"P00001"},{"$f":"IF(ISBLANK(BCU400_Database!E402),\"\",BCU400_Database!E402)","v":88611555},"BCU 460-3/1W3GBD3S3"]
[{"$f":"IF(ISBLANK(BCU400_Database!B403),\"\",BCU400_Database!B403)","v":84631626},{"$f":"IF(ISBLANK(BCU400_Database!C403),\"\",BCU400_Database!C403)","v":"BCU 480-10/5/1LW2GBS1/4C"},{"$f":"IF(ISBLANK(BCU400_Database!D403),\"\",BCU400_Database!D403)","v":"P00019"},{"$f":"IF(ISBLANK(BCU400_Database!E403),\"\",BCU400_Database!E403)","v":88612723},"BCU 480-10/5/1LW2GBS1/4C"]
[{"$f":"IF(ISBLANK(BCU400_Database!B404),\"\",BCU400_Database!B404)","v":84632010},{"$f":"IF(ISBLANK(BCU400_Database!C404),\"\",BCU400_Database!C404)","v":"BCU 480-3/3/1L5W1GBPD3U"},{"$f":"IF(ISBLANK(BCU400_Database!D404),\"\",BCU400_Database!D404)","v":"P00001"},{"$f":"IF(ISBLANK(BCU400_Database!E404),\"\",BCU400_Database!E404)","v":88612584},"BCU 480-3/3/1L5W1GBPD3U"]
[{"$f":"IF(ISBLANK(BCU400_Database!B405),\"\",BCU400_Database!B405)","v":84632055},{"$f":"IF(ISBLANK(BCU400_Database!C405),\"\",BCU400_Database!C405)","v":"BCU 480-10/5/2LW8GBS3/1B1/1"},{"$f":"IF(ISBLANK(BCU400_Database!D405),\"\",BCU400_Database!D405)","v":"P00463"},{"$f":"IF(ISBLANK(BCU400_Database!E405),\"\",BCU400_Database!E405)","v":88612730},"BCU 480-10/5/2LW8GBS3/1B1/1"]
[{"$f":"IF(ISBLANK(BCU400_Database!B406),\"\",BCU400_Database!B406)","v":84631788},{"$f":"IF(ISBLANK(BCU400_Database!C406),\"\",BCU400_Database!C406)","v":"BCU 460-5/1LW8GBD3S2"},{"$f":"IF(ISBLANK(BCU400_Database!D406),\"\",BCU400_Database!D406)","v":"P00308"},{"$f":"IF(ISBLANK(BCU400_Database!E406),\"\",BCU400_Database!E406)","v":88612758},"BCU 460-5/1LW8GBD3S2"]
[{"$f":"IF(ISBLANK(BCU400_Database!B407),\"\",BCU400_Database!B407)","v":84630681},{"$f":"IF(ISBLANK(BCU400_Database!C407),\"\",BCU400_Database!C407)","v":"BCU 480-5/3/1LR3GB"},{"$f":"IF(ISBLANK(BCU400_Database!D407),\"\",BCU400_Database!D407)","v":"P00001"},{"$f":"IF(ISBLANK(BCU400_Database!E407),\"\",BCU400_Database!E407)","v":88610494},"BCU 480-5/3/1LR3GB"]
[{"$f":"IF(ISBLANK(BCU400_Database!B408),\"\",BCU400_Database!B408)","v":84631572},{"$f":"IF(ISBLANK(BCU400_Database!C408),\"\",BCU400_Database!C408)","v":"BCU 460-3/1W1GBB1/1"},{"$f":"IF(ISBLANK(BCU400_Database!D408),\"\",BCU400_Database!D408)","v":"P00112"},{"$f":"IF(ISBLANK(BCU400_Database!E408),\"\",BCU400_Database!E408)","v":88612778},"BCU 460-3/1W1GBB1/1"]
[{"$f":"IF(ISBLANK(BCU400_Database!B409),\"\",BCU400_Database!B409)","v":84631764},{"$f":"IF(ISBLANK(BCU400_Database!C409),\"\",BCU400_Database!C409)","v":"BCU 460-3/1LW1GBP"},{"$f":"IF(ISBLANK(BCU400_Database!D409),\"\",BCU400_Database!D409)","v":"P00001"},{"$f":"IF(ISBLANK(BCU400_Database!E409),\"\",BCU400_Database!E409)","v":88612779},"BCU 460-3/1LW1GBP"]
[{"$f":"IF(ISBLANK(BCU400_Database!B410),\"\",BCU400_Database!B410)","v":84632247},{"$f":"IF(ISBLANK(BCU400_Database!C410),\"\",BCU400_Database!C410)","v":"BCU 465-5/1LR8GBS3AB1/1"},{"$f":"IF(ISBLANK(BCU400_Database!D410),\"\",BCU400_Database!D410)","v":"P00198"},{"$f":"IF(ISBLANK(BCU400_Database!E410),\"\",BCU400_Database!E410)","v":88612792},"BCU 465-5/1LR8GBS3AB1/1"]
[{"$f":"IF(ISBLANK(BCU400_Database!B411),\"\",BCU400_Database!B411)","v":84632050},{"$f":"IF(ISBLANK(BCU400_Database!C411),\"\",BCU400_Database!C411)","v":"BCU 480-5/3/1LW3GBS2/1U"},{"$f":"IF(ISBLANK(BCU400_Database!D411),\"\",BCU400_Database!D411)","v":"P00268"},{"$f":"IF(ISBLANK(BCU400_Database!E411),\"\",BCU400_Database!E411)","v":88612804},"BCU 480-5/3/1LW3GBS2/1U"]
[{"$f":"IF(ISBLANK(BCU400_Database!B412),\"\",BCU400_Database!B412)","v":84631478},{"$f":"IF(ISBLANK(BCU400_Database!C412),\"\",BCU400_Database!C412)","v":"BCU 460-5/1LW3GBPD3U"},{"$f":"IF(ISBLANK(BCU400_Database!D412),\"\",BCU400_Database!D412)","v":"P00463"},{"$f":"IF(ISBLANK(BCU400_Database!E412),\"\",BCU400_Database!E412)","v":88612834},"BCU 460-5/1LW3GBPD3U"]
[{"$f":"IF(ISBLANK(BCU400_Database!B413),\"\",BCU400_Database!B413)","v":84631813},{"$f":"IF(ISBLANK(BCU400_Database!C413),\"\",BCU400_Database!C413)","v":"BCU 465-3/1LW3GBPA"},{"$f":"IF(ISBLANK(BCU400_Database!D413),\"\",BCU400_Database!D413)","v":"P00064"},{"$f":"IF(ISBLANK(BCU400_Database!E413),\"\",BCU400_Database!E413)","v":88612843},"BCU 465-3/1LW3GBPA"]
[{"$f":"IF(ISBLANK(BCU400_Database!B414),\"\",BCU400_Database!B414)","v":84631940},{"$f":"IF(ISBLANK(BCU400_Database!C414),\"\",BCU400_Database!C414)","v":"BCU 460-3/1LW1GBB1/1"},{"$f":"IF(ISBLANK(BCU400_Database!D414),\"\",BCU400_Database!D414)","v":"P00025"},{"$f":"IF(ISBLANK(BCU400_Database!E414),\"\",BCU400_Database!E414)","v":88612904},"BCU 460-3/1LW1GBB1/1"]
[{"$f":"IF(ISBLANK(BCU400_Database!B415),\"\",BCU400_Database!B415)","v":84631744},{"$f":"IF(ISBLANK(BCU400_Database!C415),\"\",BCU400_Database!C415)","v":"BCU 465-5/1LW3GBS2AB1/1"},{"$f":"IF(ISBLANK(BCU400_Database!D415),\"\",BCU400_Database!D415)","v":"P00067"},{"$f":"IF(ISBLANK(BCU400_Database!E415),\"\",BCU400_Database!E415)","v":88612905},"BCU 465-5/1LW3GBS2AB1/1"]
[{"$f":"IF(ISBLANK(BCU400_Database!B416),\"\",BCU400_Database!B416)","v":84631715},{"$f":"IF(ISBLANK(BCU400_Database!C416),\"\",BCU400_Database!C416)","v":"BCU 480-10/3/1LW1GBS3/1B^/1"},{"$f":"IF(ISBLANK(BCU400_Database!D416),\"\",BCU400_Database!D416)","v":"P00169"},{"$f":"IF(ISBLANK(BCU400_Database!E416),\"\",BCU400_Database!E416)","v":88612917},"BCU 480-10/3/1LW1GBS3/1B^/1"]
[{"$f":"IF(ISBLANK(BCU400_Database!B417),\"\",BCU400_Database!B417)","v":84630261},{"$f":"IF(ISBLANK(BCU400_Database!C417),\"\",BCU400_Database!C417)","v":"BCU 460-3/1LW3GB"},{"$f":"IF(ISBLANK(BCU400_Database!D417),\"\",BCU400_Database!D417)","v":"P00028"},{"$f":"IF(ISBLANK(BCU400_Database!E417),\"\",BCU400_Database!E417)","v":88612944},"BCU 460-3/1LW3GB"]
[{"$f":"IF(ISBLANK(BCU400_Database!B418),\"\",BCU400_Database!B418)","v":84630261},{"$f":"IF(ISBLANK(BCU400_Database!C418),\"\",BCU400_Database!C418)","v":"BCU 460-3/1LW3GB"},{"$f":"IF(ISBLANK(BCU400_Database!D418),\"\",BCU400_Database!D418)","v":"P00060"},{"$f":"IF(ISBLANK(BCU400_Database!E418),\"\",BCU400_Database!E418)","v":88611374},"BCU 460-3/1LW3GB"]
[{"$f":"IF(ISBLANK(BCU400_Database!B419),\"\",BCU400_Database!B419)","v":84631825},{"$f":"IF(ISBLANK(BCU400_Database!C419),\"\",BCU400_Database!C419)","v":"BCU 480-5/3/1LW3GBD3S2/1B1/1"},{"$f":"IF(ISBLANK(BCU400_Database!D419),\"\",BCU400_Database!D419)","v":"P00165"},{"$f":"IF(ISBLANK(BCU400_Database!E419),\"\",BCU400_Database!E419)","v":88610429},"BCU 480-5/3/1LW3GBD3S2/1B1/1"]
[{"$f":"IF(ISBLANK(BCU400_Database!B420),\"\",BCU400_Database!B420)","v":84631709},{"$f":"IF(ISBLANK(BCU400_Database!C420),\"\",BCU400_Database!C420)","v":"BCU 460-5/1LR3GBD3S2CZ001"},{"$f":"IF(ISBLANK(BCU400_Database!D420),\"\",BCU400_Database!D420)","v":"P00163"},{"$f":"IF(ISBLANK(BCU400_Database!E420),\"\",BCU400_Database!E420)","v":88612198},"BCU 460-5/1LR3GBD3S2CZ001"]
[{"$f":"IF(ISBLANK(BCU400_Database!B421),\"\",BCU400_Database!B421)","v":84631473},{"$f":"IF(ISBLANK(BCU400_Database!C421),\"\",BCU400_Database!C421)","v":"BCU 480-5/3/1LW3GBD2S2/1B1/1"},{"$f":"IF(ISBLANK(BCU400_Database!D421),\"\",BCU400_Database!D421)","v":"P00186"},{"$f":"IF(ISBLANK(BCU400_Database!E421),\"\",BCU400_Database!E421)","v":88610828},"BCU 480-5/3/1LW3GBD2S2/1B1/1"]
[{"$f":"IF(ISBLANK(BCU400_Database!B422),\"\",BCU400_Database!B422)","v":84630261},{"$f":"IF(ISBLANK(BCU400_Database!C422),\"\",BCU400_Database!C422)","v":"BCU 460-3/1LW3GB"},{"$f":"IF(ISBLANK(BCU400_Database!D422),\"\",BCU400_Database!D422)","v":"P00221"},{"$f":"IF(ISBLANK(BCU400_Database!E422),\"\",BCU400_Database!E422)","v":88611796},"BCU 460-3/1LW3GB"]
[{"$f":"IF(ISBLANK(BCU400_Database!B423),\"\",BCU400_Database!B423)","v":84630681},{"$f":"IF(ISBLANK(BCU400_Database!C423),\"\",BCU400_Database!C423)","v":"BCU 480-5/3/1LR3GB"},{"$f":"IF(ISBLANK(BCU400_Database!D423),\"\",BCU400_Database!D423)","v":"P00299"},{"$f":"IF(ISBLANK(BCU400_Database!E423),\"\",BCU400_Database!E423)","v":88611733},"BCU 480-5/3/1LR3GB"]
[{"$f":"IF(ISBLANK(BCU400_Database!B424),\"\",BCU400_Database!B424)","v":84631830},{"$f":"IF(ISBLANK(BCU400_Database!C424),\"\",BCU400_Database!C424)","v":"BCU 480-5/3/1LW1GBS3/3B1/1"},{"$f":"IF(ISBLANK(BCU400_Database!D424),\"\",BCU400_Database!D424)","v":"P00023"},{"$f":"IF(ISBLANK(BCU400_Database!E424),\"\",BCU400_Database!E424)","v":88613041},"BCU 480-5/3/1LW1GBS3/3B1/1"]
[{"$f":"IF(ISBLANK(BCU400_Database!B425),\"\",BCU400_Database!B425)","v":84631703},{"$f":"IF(ISBLANK(BCU400_Database!C425),\"\",BCU400_Database!C425)","v":"BCU 460-5/1LW3GBD2B1/1"},{"$f":"IF(ISBLANK(BCU400_Database!D425),\"\",BCU400_Database!D425)","v":"P00006"},{"$f":"IF(ISBLANK(BCU400_Database!E425),\"\",BCU400_Database!E425)","v":88613067},"BCU 460-5/1LW3GBD2B1/1"]
[{"$f":"IF(ISBLANK(BCU400_Database!B426),\"\",BCU400_Database!B426)","v":84631473},{"$f":"IF(ISBLANK(BCU400_Database!C426),\"\",BCU400_Database!C426)","v":"BCU 480-5/3/1LW3GBD2S2/1B1/1"},{"$f":"IF(ISBLANK(BCU400_Database!D426),\"\",BCU400_Database!D426)","v":"P00186"},{"$f":"IF(ISBLANK(BCU400_Database!E426),\"\",BCU400_Database!E426)","v":88613084},"BCU 480-5/3/1LW3GBD2S2/1B1/1"]
[{"$f":"IF(ISBLANK(BCU400_Database!B427),\"\",BCU400_Database!B427)","v":84630360},{"$f":"IF(ISBLANK(BCU400_Database!C427),\"\",BCU400_Database!C427)","v":"BCU 460-5/1W3GB"},{"$f":"IF(ISBLANK(BCU400_Database!D427),\"\",BCU400_Database!D427)","v":"P00398"},{"$f":"IF(ISBLANK(BCU400_Database!E427),\"\",BCU400_Database!E427)","v":88613087},"BCU 460-5/1W3GB"]
[{"$f":"IF(ISBLANK(BCU400_Database!B428),\"\",BCU400_Database!B428)","v":84630380},{"$f":"IF(ISBLANK(BCU400_Database!C428),\"\",BCU400_Database!C428)","v":"BCU 460-5/1R3GB"},{"$f":"IF(ISBLANK(BCU400_Database!D428),\"\",BCU400_Database!D428)","v":"P00011"},{"$f":"IF(ISBLANK(BCU400_Database!E428),\"\",BCU400_Database!E428)","v":88610308},"BCU 460-5/1R3GB"]
[{"$f":"IF(ISBLANK(BCU400_Database!B429),\"\",BCU400_Database!B429)","v":84631424},{"$f":"IF(ISBLANK(BCU400_Database!C429),\"\",BCU400_Database!C429)","v":"BCU 480-10/10/1LW3GB"},{"$f":"IF(ISBLANK(BCU400_Database!D429),\"\",BCU400_Database!D429)","v":"P00002"},{"$f":"IF(ISBLANK(BCU400_Database!E429),\"\",BCU400_Database!E429)","v":88613137},"BCU 480-10/10/1LW3GB"]
[{"$f":"IF(ISBLANK(BCU400_Database!B430),\"\",BCU400_Database!B430)","v":84630353},{"$f":"IF(ISBLANK(BCU400_Database!C430),\"\",BCU400_Database!C430)","v":"BCU 460-5/1LW1GBP"},{"$f":"IF(ISBLANK(BCU400_Database!D430),\"\",BCU400_Database!D430)","v":"P00001"},{"$f":"IF(ISBLANK(BCU400_Database!E430),\"\",BCU400_Database!E430)","v":88612638},"BCU 460-5/1LW1GBP"]
[{"$f":"IF(ISBLANK(BCU400_Database!B431),\"\",BCU400_Database!B431)","v":84631939},{"$f":"IF(ISBLANK(BCU400_Database!C431),\"\",BCU400_Database!C431)","v":"BCU 460-3/1WGB   "},{"$f":"IF(ISBLANK(BCU400_Database!D431),\"\",BCU400_Database!D431)","v":"P00001"},{"$f":"IF(ISBLANK(BCU400_Database!E431),\"\",BCU400_Database!E431)","v":88610451},"BCU 460-3/1WGB   "]
[{"$f":"IF(ISBLANK(BCU400_Database!B432),\"\",BCU400_Database!B432)","v":84631700},{"$f":"IF(ISBLANK(BCU400_Database!C432),\"\",BCU400_Database!C432)","v":"BCU 460-3/1LWGBU"},{"$f":"IF(ISBLANK(BCU400_Database!D432),\"\",BCU400_Database!D432)","v":"P00020"},{"$f":"IF(ISBLANK(BCU400_Database!E432),\"\",BCU400_Database!E432)","v":88613204},"BCU 460-3/1LWGBU"]
[{"$f":"IF(ISBLANK(BCU400_Database!B433),\"\",BCU400_Database!B433)","v":84631496},{"$f":"IF(ISBLANK(BCU400_Database!C433),\"\",BCU400_Database!C433)","v":"BCU 460-5/1LW8GBCB1/1"},{"$f":"IF(ISBLANK(BCU400_Database!D433),\"\",BCU400_Database!D433)","v":"P00033"},{"$f":"IF(ISBLANK(BCU400_Database!E433),\"\",BCU400_Database!E433)","v":88613197},"BCU 460-5/1LW8GBCB1/1"]
[{"$f":"IF(ISBLANK(BCU400_Database!B434),\"\",BCU400_Database!B434)","v":84631779},{"$f":"IF(ISBLANK(BCU400_Database!C434),\"\",BCU400_Database!C434)","v":"BCU 460-3/1LW8GBB1/1"},{"$f":"IF(ISBLANK(BCU400_Database!D434),\"\",BCU400_Database!D434)","v":"P00358"},{"$f":"IF(ISBLANK(BCU400_Database!E434),\"\",BCU400_Database!E434)","v":88613192},"BCU 460-3/1LW8GBB1/1"]
[{"$f":"IF(ISBLANK(BCU400_Database!B435),\"\",BCU400_Database!B435)","v":84631494},{"$f":"IF(ISBLANK(BCU400_Database!C435),\"\",BCU400_Database!C435)","v":"BCU 460-5/1LW3DB1/1"},{"$f":"IF(ISBLANK(BCU400_Database!D435),\"\",BCU400_Database!D435)","v":"P00001"},{"$f":"IF(ISBLANK(BCU400_Database!E435),\"\",BCU400_Database!E435)","v":88610353},"BCU 460-5/1LW3DB1/1"]
[{"$f":"IF(ISBLANK(BCU400_Database!B436),\"\",BCU400_Database!B436)","v":84631639},{"$f":"IF(ISBLANK(BCU400_Database!C436),\"\",BCU400_Database!C436)","v":"BCU 460-3/1W3GBU"},{"$f":"IF(ISBLANK(BCU400_Database!D436),\"\",BCU400_Database!D436)","v":"P00001"},{"$f":"IF(ISBLANK(BCU400_Database!E436),\"\",BCU400_Database!E436)","v":88610270},"BCU 460-3/1W3GBU"]
[{"$f":"IF(ISBLANK(BCU400_Database!B437),\"\",BCU400_Database!B437)","v":84630361},{"$f":"IF(ISBLANK(BCU400_Database!C437),\"\",BCU400_Database!C437)","v":"BCU 460-5/1LW3GB"},{"$f":"IF(ISBLANK(BCU400_Database!D437),\"\",BCU400_Database!D437)","v":"P00258"},{"$f":"IF(ISBLANK(BCU400_Database!E437),\"\",BCU400_Database!E437)","v":88610541},"BCU 460-5/1LW3GB"]
[{"$f":"IF(ISBLANK(BCU400_Database!B438),\"\",BCU400_Database!B438)","v":84630365},{"$f":"IF(ISBLANK(BCU400_Database!C438),\"\",BCU400_Database!C438)","v":"BCU 460-5/1R1GB"},{"$f":"IF(ISBLANK(BCU400_Database!D438),\"\",BCU400_Database!D438)","v":"P00001"},{"$f":"IF(ISBLANK(BCU400_Database!E438),\"\",BCU400_Database!E438)","v":88612021},"BCU 460-5/1R1GB"]
[{"$f":"IF(ISBLANK(BCU400_Database!B439),\"\",BCU400_Database!B439)","v":84631720},{"$f":"IF(ISBLANK(BCU400_Database!C439),\"\",BCU400_Database!C439)","v":"BCU 460-3/1LW3GBS3B1/1 "},{"$f":"IF(ISBLANK(BCU400_Database!D439),\"\",BCU400_Database!D439)","v":"P00001"},{"$f":"IF(ISBLANK(BCU400_Database!E439),\"\",BCU400_Database!E439)","v":88613315},"BCU 460-3/1LW3GBS3B1/1 "]
[{"$f":"IF(ISBLANK(BCU400_Database!B440),\"\",BCU400_Database!B440)","v":84631518},{"$f":"IF(ISBLANK(BCU400_Database!C440),\"\",BCU400_Database!C440)","v":"BCU 465-5/1LW8GBA"},{"$f":"IF(ISBLANK(BCU400_Database!D440),\"\",BCU400_Database!D440)","v":"P00114"},{"$f":"IF(ISBLANK(BCU400_Database!E440),\"\",BCU400_Database!E440)","v":88613362},"BCU 465-5/1LW8GBA"]
[{"$f":"IF(ISBLANK(BCU400_Database!B441),\"\",BCU400_Database!B441)","v":84631415},{"$f":"IF(ISBLANK(BCU400_Database!C441),\"\",BCU400_Database!C441)","v":"BCU 460-5/1LW1GBPS2"},{"$f":"IF(ISBLANK(BCU400_Database!D441),\"\",BCU400_Database!D441)","v":"P00029"},{"$f":"IF(ISBLANK(BCU400_Database!E441),\"\",BCU400_Database!E441)","v":88613383},"BCU 460-5/1LW1GBPS2"]
[{"$f":"IF(ISBLANK(BCU400_Database!B442),\"\",BCU400_Database!B442)","v":84631594},{"$f":"IF(ISBLANK(BCU400_Database!C442),\"\",BCU400_Database!C442)","v":"BCU 460-3/1LW2GBCB1/1"},{"$f":"IF(ISBLANK(BCU400_Database!D442),\"\",BCU400_Database!D442)","v":"P00282"},{"$f":"IF(ISBLANK(BCU400_Database!E442),\"\",BCU400_Database!E442)","v":88613385},"BCU 460-3/1LW2GBCB1/1"]
[{"$f":"IF(ISBLANK(BCU400_Database!B443),\"\",BCU400_Database!B443)","v":84631716},{"$f":"IF(ISBLANK(BCU400_Database!C443),\"\",BCU400_Database!C443)","v":"BCU 480-5/3/1LW3GBD2S2/1B1/1"},{"$f":"IF(ISBLANK(BCU400_Database!D443),\"\",BCU400_Database!D443)","v":"P00311"},{"$f":"IF(ISBLANK(BCU400_Database!E443),\"\",BCU400_Database!E443)","v":88613406},"BCU 480-5/3/1LW3GBD2S2/1B1/1"]
[{"$f":"IF(ISBLANK(BCU400_Database!B444),\"\",BCU400_Database!B444)","v":84631447},{"$f":"IF(ISBLANK(BCU400_Database!C444),\"\",BCU400_Database!C444)","v":"BCU 480-r/3/1LW1GBU"},{"$f":"IF(ISBLANK(BCU400_Database!D444),\"\",BCU400_Database!D444)","v":"P00024"},{"$f":"IF(ISBLANK(BCU400_Database!E444),\"\",BCU400_Database!E444)","v":88613410},"BCU 480-r/3/1LW1GBU"]
[{"$f":"IF(ISBLANK(BCU400_Database!B445),\"\",BCU400_Database!B445)","v":84631430},{"$f":"IF(ISBLANK(BCU400_Database!C445),\"\",BCU400_Database!C445)","v":"BCU 460-3/1W3DD2"},{"$f":"IF(ISBLANK(BCU400_Database!D445),\"\",BCU400_Database!D445)","v":"P00001"},{"$f":"IF(ISBLANK(BCU400_Database!E445),\"\",BCU400_Database!E445)","v":88610642},"BCU 460-3/1W3DD2"]
[{"$f":"IF(ISBLANK(BCU400_Database!B446),\"\",BCU400_Database!B446)","v":84631577},{"$f":"IF(ISBLANK(BCU400_Database!C446),\"\",BCU400_Database!C446)","v":"BCU 465-5/1LW3GBAC"},{"$f":"IF(ISBLANK(BCU400_Database!D446),\"\",BCU400_Database!D446)","v":"P00051"},{"$f":"IF(ISBLANK(BCU400_Database!E446),\"\",BCU400_Database!E446)","v":88613426},"BCU 465-5/1LW3GBAC"]
[{"$f":"IF(ISBLANK(BCU400_Database!B447),\"\",BCU400_Database!B447)","v":84631410},{"$f":"IF(ISBLANK(BCU400_Database!C447),\"\",BCU400_Database!C447)","v":"BCU 460-3/1LW3GBS3"},{"$f":"IF(ISBLANK(BCU400_Database!D447),\"\",BCU400_Database!D447)","v":"P00029"},{"$f":"IF(ISBLANK(BCU400_Database!E447),\"\",BCU400_Database!E447)","v":88613430},"BCU 460-3/1LW3GBS3"]
[{"$f":"IF(ISBLANK(BCU400_Database!B448),\"\",BCU400_Database!B448)","v":84631564},{"$f":"IF(ISBLANK(BCU400_Database!C448),\"\",BCU400_Database!C448)","v":"BCU 480-5/3/2LW3GBD2"},{"$f":"IF(ISBLANK(BCU400_Database!D448),\"\",BCU400_Database!D448)","v":"P00111"},{"$f":"IF(ISBLANK(BCU400_Database!E448),\"\",BCU400_Database!E448)","v":88613468},"BCU 480-5/3/2LW3GBD2"]
[{"$f":"IF(ISBLANK(BCU400_Database!B449),\"\",BCU400_Database!B449)","v":84632151},{"$f":"IF(ISBLANK(BCU400_Database!C449),\"\",BCU400_Database!C449)","v":"BCU 465-5/1LW1GBAB1/1"},{"$f":"IF(ISBLANK(BCU400_Database!D449),\"\",BCU400_Database!D449)","v":"P00168"},{"$f":"IF(ISBLANK(BCU400_Database!E449),\"\",BCU400_Database!E449)","v":88613131},"BCU 465-5/1LW1GBAB1/1"]
[{"$f":"IF(ISBLANK(BCU400_Database!B450),\"\",BCU400_Database!B450)","v":84631618},{"$f":"IF(ISBLANK(BCU400_Database!C450),\"\",BCU400_Database!C450)","v":"BCU 465-5/1LW8GBPA"},{"$f":"IF(ISBLANK(BCU400_Database!D450),\"\",BCU400_Database!D450)","v":"P00111"},{"$f":"IF(ISBLANK(BCU400_Database!E450),\"\",BCU400_Database!E450)","v":88613499},"BCU 465-5/1LW8GBPA"]
[{"$f":"IF(ISBLANK(BCU400_Database!B451),\"\",BCU400_Database!B451)","v":84631960},{"$f":"IF(ISBLANK(BCU400_Database!C451),\"\",BCU400_Database!C451)","v":"BCU 480-5/3/1LW8GBS2/1"},{"$f":"IF(ISBLANK(BCU400_Database!D451),\"\",BCU400_Database!D451)","v":"P00001"},{"$f":"IF(ISBLANK(BCU400_Database!E451),\"\",BCU400_Database!E451)","v":88613304},{"$f":"B451","v":"BCU 480-5/3/1LW8GBS2/1"}]
[{"$f":"IF(ISBLANK(BCU400_Database!B452),\"\",BCU400_Database!B452)","v":84630361},{"$f":"IF(ISBLANK(BCU400_Database!C452),\"\",BCU400_Database!C452)","v":"BCU 460-5/1LW3GB"},{"$f":"IF(ISBLANK(BCU400_Database!D452),\"\",BCU400_Database!D452)","v":"P00258"},{"$f":"IF(ISBLANK(BCU400_Database!E452),\"\",BCU400_Database!E452)","v":88610541},"BCU 460-5/1LW3GB"]
[{"$f":"IF(ISBLANK(BCU400_Database!B453),\"\",BCU400_Database!B453)","v":84630661},{"$f":"IF(ISBLANK(BCU400_Database!C453),\"\",BCU400_Database!C453)","v":"BCU 480-5/3/1LW3GB"},{"$f":"IF(ISBLANK(BCU400_Database!D453),\"\",BCU400_Database!D453)","v":"P00202"},{"$f":"IF(ISBLANK(BCU400_Database!E453),\"\",BCU400_Database!E453)","v":88613523},"BCU 480-5/3/1LW3GB"]
[{"$f":"IF(ISBLANK(BCU400_Database!B454),\"\",BCU400_Database!B454)","v":84631612},{"$f":"IF(ISBLANK(BCU400_Database!C454),\"\",BCU400_Database!C454)","v":"BCU 480-10/3/1LW1GBU"},{"$f":"IF(ISBLANK(BCU400_Database!D454),\"\",BCU400_Database!D454)","v":"P00002"},{"$f":"IF(ISBLANK(BCU400_Database!E454),\"\",BCU400_Database!E454)","v":88613524},"BCU 480-10/3/1LW1GBU"]
[{"$f":"IF(ISBLANK(BCU400_Database!B455),\"\",BCU400_Database!B455)","v":84631797},{"$f":"IF(ISBLANK(BCU400_Database!C455),\"\",BCU400_Database!C455)","v":"BCU 480-5/3/1LW3GBS2/1B1/1"},{"$f":"IF(ISBLANK(BCU400_Database!D455),\"\",BCU400_Database!D455)","v":"P00288"},{"$f":"IF(ISBLANK(BCU400_Database!E455),\"\",BCU400_Database!E455)","v":88613527},"BCU 480-5/3/1LW3GBS2/1B1/1"]
[{"$f":"IF(ISBLANK(BCU400_Database!B456),\"\",BCU400_Database!B456)","v":84631761},{"$f":"IF(ISBLANK(BCU400_Database!C456),\"\",BCU400_Database!C456)","v":"BCU 460-5/1LW3GBS2B1/1"},{"$f":"IF(ISBLANK(BCU400_Database!D456),\"\",BCU400_Database!D456)","v":"P00481"},{"$f":"IF(ISBLANK(BCU400_Database!E456),\"\",BCU400_Database!E456)","v":88613403},"BCU 460-5/1LW3GBS2B1/1"]
[{"$f":"IF(ISBLANK(BCU400_Database!B457),\"\",BCU400_Database!B457)","v":84630561},{"$f":"IF(ISBLANK(BCU400_Database!C457),\"\",BCU400_Database!C457)","v":"BCU 480-3/3/1LW3GB"},{"$f":"IF(ISBLANK(BCU400_Database!D457),\"\",BCU400_Database!D457)","v":"P00034"},{"$f":"IF(ISBLANK(BCU400_Database!E457),\"\",BCU400_Database!E457)","v":88613567},"BCU 480-3/3/1LW3GB"]
[{"$f":"IF(ISBLANK(BCU400_Database!B458),\"\",BCU400_Database!B458)","v":84630361},{"$f":"IF(ISBLANK(BCU400_Database!C458),\"\",BCU400_Database!C458)","v":"BCU 460-5/1LW3GB"},{"$f":"IF(ISBLANK(BCU400_Database!D458),\"\",BCU400_Database!D458)","v":"P00026"},{"$f":"IF(ISBLANK(BCU400_Database!E458),\"\",BCU400_Database!E458)","v":88610677},"BCU 460-5/1LW3GB"]
[{"$f":"IF(ISBLANK(BCU400_Database!B459),\"\",BCU400_Database!B459)","v":84631766},{"$f":"IF(ISBLANK(BCU400_Database!C459),\"\",BCU400_Database!C459)","v":"BCU 465-5/1LR3GBS4ACB1/1"},{"$f":"IF(ISBLANK(BCU400_Database!D459),\"\",BCU400_Database!D459)","v":"P00055"},{"$f":"IF(ISBLANK(BCU400_Database!E459),\"\",BCU400_Database!E459)","v":88613560},"BCU 465-5/1LR3GBS4ACB1/1"]
[{"$f":"IF(ISBLANK(BCU400_Database!B460),\"\",BCU400_Database!B460)","v":84631450},{"$f":"IF(ISBLANK(BCU400_Database!C460),\"\",BCU400_Database!C460)","v":"BCU 480-5/3/1LR3GBPD3S4/2"},{"$f":"IF(ISBLANK(BCU400_Database!D460),\"\",BCU400_Database!D460)","v":"P00001"},{"$f":"IF(ISBLANK(BCU400_Database!E460),\"\",BCU400_Database!E460)","v":88613562},"BCU 480-5/3/1LR3GBPD3S4/2"]
[{"$f":"IF(ISBLANK(BCU400_Database!B461),\"\",BCU400_Database!B461)","v":84631427},{"$f":"IF(ISBLANK(BCU400_Database!C461),\"\",BCU400_Database!C461)","v":"BCU 480-5/3/1LR1GBD3"},{"$f":"IF(ISBLANK(BCU400_Database!D461),\"\",BCU400_Database!D461)","v":"P00011"},{"$f":"IF(ISBLANK(BCU400_Database!E461),\"\",BCU400_Database!E461)","v":88613561},"BCU 480-5/3/1LR1GBD3"]
[{"$f":"IF(ISBLANK(BCU400_Database!B462),\"\",BCU400_Database!B462)","v":84631622},{"$f":"IF(ISBLANK(BCU400_Database!C462),\"\",BCU400_Database!C462)","v":"BCU 480-5/3/1LW3GBB1/1"},{"$f":"IF(ISBLANK(BCU400_Database!D462),\"\",BCU400_Database!D462)","v":"P00015"},{"$f":"IF(ISBLANK(BCU400_Database!E462),\"\",BCU400_Database!E462)","v":88613598},"BCU 480-5/3/1LW3GBB1/1"]
[{"$f":"IF(ISBLANK(BCU400_Database!B463),\"\",BCU400_Database!B463)","v":84631444},{"$f":"IF(ISBLANK(BCU400_Database!C463),\"\",BCU400_Database!C463)","v":"BCU480-5/3/1LW1GBS2/1"},{"$f":"IF(ISBLANK(BCU400_Database!D463),\"\",BCU400_Database!D463)","v":"P00155"},{"$f":"IF(ISBLANK(BCU400_Database!E463),\"\",BCU400_Database!E463)","v":88613605},"BCU480-5/3/1LW1GBS2/1"]
[{"$f":"IF(ISBLANK(BCU400_Database!B464),\"\",BCU400_Database!B464)","v":84632186},{"$f":"IF(ISBLANK(BCU400_Database!C464),\"\",BCU400_Database!C464)","v":"BCU 460-5/2W3GBS4B1/1"},{"$f":"IF(ISBLANK(BCU400_Database!D464),\"\",BCU400_Database!D464)","v":"P00455"},{"$f":"IF(ISBLANK(BCU400_Database!E464),\"\",BCU400_Database!E464)","v":88610578},"BCU 460-5/2W3GBS4B1/1"]
[{"$f":"IF(ISBLANK(BCU400_Database!B465),\"\",BCU400_Database!B465)","v":84631873},{"$f":"IF(ISBLANK(BCU400_Database!C465),\"\",BCU400_Database!C465)","v":"BCU 480-5/3/1LW3GBD2CB1/1"},{"$f":"IF(ISBLANK(BCU400_Database!D465),\"\",BCU400_Database!D465)","v":"P00001"},{"$f":"IF(ISBLANK(BCU400_Database!E465),\"\",BCU400_Database!E465)","v":88610285},"BCU 480-5/3/1LW3GBD2CB1/1"]
[{"$f":"IF(ISBLANK(BCU400_Database!B466),\"\",BCU400_Database!B466)","v":84631972},{"$f":"IF(ISBLANK(BCU400_Database!C466),\"\",BCU400_Database!C466)","v":"BCU 465-5/1LW8GBD2S2AB1/1"},{"$f":"IF(ISBLANK(BCU400_Database!D466),\"\",BCU400_Database!D466)","v":"P00185"},{"$f":"IF(ISBLANK(BCU400_Database!E466),\"\",BCU400_Database!E466)","v":88613618},"BCU 465-5/1LW8GBD2S2AB1/1"]
[{"$f":"IF(ISBLANK(BCU400_Database!B467),\"\",BCU400_Database!B467)","v":84630866},{"$f":"IF(ISBLANK(BCU400_Database!C467),\"\",BCU400_Database!C467)","v":"BCU 480-5/5/1LR1GB"},{"$f":"IF(ISBLANK(BCU400_Database!D467),\"\",BCU400_Database!D467)","v":"P00102"},{"$f":"IF(ISBLANK(BCU400_Database!E467),\"\",BCU400_Database!E467)","v":88613619},"BCU 480-5/5/1LR1GB"]
[{"$f":"IF(ISBLANK(BCU400_Database!B468),\"\",BCU400_Database!B468)","v":84632043},{"$f":"IF(ISBLANK(BCU400_Database!C468),\"\",BCU400_Database!C468)","v":"BCU 480-10/5/2LW3GBD3S2/1"},{"$f":"IF(ISBLANK(BCU400_Database!D468),\"\",BCU400_Database!D468)","v":"P00001"},{"$f":"IF(ISBLANK(BCU400_Database!E468),\"\",BCU400_Database!E468)","v":88613629},"BCU 480-10/5/2LW3GBD3S2/1"]
[{"$f":"IF(ISBLANK(BCU400_Database!B469),\"\",BCU400_Database!B469)","v":84631619},{"$f":"IF(ISBLANK(BCU400_Database!C469),\"\",BCU400_Database!C469)","v":"BCU 465-5/1LW3GBPA"},{"$f":"IF(ISBLANK(BCU400_Database!D469),\"\",BCU400_Database!D469)","v":"P00213"},{"$f":"IF(ISBLANK(BCU400_Database!E469),\"\",BCU400_Database!E469)","v":88610510},"BCU 465-5/1LW3GBPA"]
[{"$f":"IF(ISBLANK(BCU400_Database!B470),\"\",BCU400_Database!B470)","v":84631376},{"$f":"IF(ISBLANK(BCU400_Database!C470),\"\",BCU400_Database!C470)","v":"BCU 460-3/1LW3D"},{"$f":"IF(ISBLANK(BCU400_Database!D470),\"\",BCU400_Database!D470)","v":"P00322"},{"$f":"IF(ISBLANK(BCU400_Database!E470),\"\",BCU400_Database!E470)","v":88613658},"BCU 460-3/1LW3D"]
[{"$f":"IF(ISBLANK(BCU400_Database!B471),\"\",BCU400_Database!B471)","v":84631499},{"$f":"IF(ISBLANK(BCU400_Database!C471),\"\",BCU400_Database!C471)","v":"BCU 480-5/3/1LW3GBS2/1"},{"$f":"IF(ISBLANK(BCU400_Database!D471),\"\",BCU400_Database!D471)","v":"P00001"},{"$f":"IF(ISBLANK(BCU400_Database!E471),\"\",BCU400_Database!E471)","v":88611443},"BCU 480-5/3/1LW3GBS2/1"]
[{"$f":"IF(ISBLANK(BCU400_Database!B472),\"\",BCU400_Database!B472)","v":84631797},{"$f":"IF(ISBLANK(BCU400_Database!C472),\"\",BCU400_Database!C472)","v":"BCU 480-5/3/1LW3BS2/1B1/1 "},{"$f":"IF(ISBLANK(BCU400_Database!D472),\"\",BCU400_Database!D472)","v":"P00053"},{"$f":"IF(ISBLANK(BCU400_Database!E472),\"\",BCU400_Database!E472)","v":88613675},"BCU 480-5/3/1LW3BS2/1B1/1 "]
[{"$f":"IF(ISBLANK(BCU400_Database!B473),\"\",BCU400_Database!B473)","v":84631365},{"$f":"IF(ISBLANK(BCU400_Database!C473),\"\",BCU400_Database!C473)","v":"BCU 480-5/3/1LW3GBU"},{"$f":"IF(ISBLANK(BCU400_Database!D473),\"\",BCU400_Database!D473)","v":"P00060"},{"$f":"IF(ISBLANK(BCU400_Database!E473),\"\",BCU400_Database!E473)","v":88613339},"BCU 480-5/3/1LW3GBU"]
[{"$f":"IF(ISBLANK(BCU400_Database!B474),\"\",BCU400_Database!B474)","v":84630350},{"$f":"IF(ISBLANK(BCU400_Database!C474),\"\",BCU400_Database!C474)","v":"BCU 460-5/1W1GB"},{"$f":"IF(ISBLANK(BCU400_Database!D474),\"\",BCU400_Database!D474)","v":"P00010"},{"$f":"IF(ISBLANK(BCU400_Database!E474),\"\",BCU400_Database!E474)","v":88611002},"BCU 460-5/1W1GB"]
[{"$f":"IF(ISBLANK(BCU400_Database!B475),\"\",BCU400_Database!B475)","v":84631392},{"$f":"IF(ISBLANK(BCU400_Database!C475),\"\",BCU400_Database!C475)","v":"BCU 460-5/1LW3GBP"},{"$f":"IF(ISBLANK(BCU400_Database!D475),\"\",BCU400_Database!D475)","v":"P00020"},{"$f":"IF(ISBLANK(BCU400_Database!E475),\"\",BCU400_Database!E475)","v":88613794},"BCU 460-5/1LW3GBP"]
[{"$f":"IF(ISBLANK(BCU400_Database!B476),\"\",BCU400_Database!B476)","v":84631761},{"$f":"IF(ISBLANK(BCU400_Database!C476),\"\",BCU400_Database!C476)","v":"BCU 460-5/1LW3GBS2B1/1"},{"$f":"IF(ISBLANK(BCU400_Database!D476),\"\",BCU400_Database!D476)","v":"P00147"},{"$f":"IF(ISBLANK(BCU400_Database!E476),\"\",BCU400_Database!E476)","v":88611785},"BCU 460-5/1LW3GBS2B1/1"]
[{"$f":"IF(ISBLANK(BCU400_Database!B477),\"\",BCU400_Database!B477)","v":84631545},{"$f":"IF(ISBLANK(BCU400_Database!C477),\"\",BCU400_Database!C477)","v":"BCU 460-5/1LW3GBB1/1"},{"$f":"IF(ISBLANK(BCU400_Database!D477),\"\",BCU400_Database!D477)","v":"P00243"},{"$f":"IF(ISBLANK(BCU400_Database!E477),\"\",BCU400_Database!E477)","v":88613812},"BCU 460-5/1LW3GBB1/1"]
[{"$f":"IF(ISBLANK(BCU400_Database!B478),\"\",BCU400_Database!B478)","v":84631955},{"$f":"IF(ISBLANK(BCU400_Database!C478),\"\",BCU400_Database!C478)","v":"BCU 480-5/3/1LW1GBS4/1B1/1"},{"$f":"IF(ISBLANK(BCU400_Database!D478),\"\",BCU400_Database!D478)","v":"P00001"},{"$f":"IF(ISBLANK(BCU400_Database!E478),\"\",BCU400_Database!E478)","v":88611811},"BCU 480-5/3/1LW1GBS4/1B1/1"]
[{"$f":"IF(ISBLANK(BCU400_Database!B479),\"\",BCU400_Database!B479)","v":84631671},{"$f":"IF(ISBLANK(BCU400_Database!C479),\"\",BCU400_Database!C479)","v":"BCU 4600-3/1W3DS3"},{"$f":"IF(ISBLANK(BCU400_Database!D479),\"\",BCU400_Database!D479)","v":"P00001"},{"$f":"IF(ISBLANK(BCU400_Database!E479),\"\",BCU400_Database!E479)","v":88610359},"BCU 4600-3/1W3DS3"]
[{"$f":"IF(ISBLANK(BCU400_Database!B480),\"\",BCU400_Database!B480)","v":84631361},{"$f":"IF(ISBLANK(BCU400_Database!C480),\"\",BCU400_Database!C480)","v":"BCU 460-5/1LW3D"},{"$f":"IF(ISBLANK(BCU400_Database!D480),\"\",BCU400_Database!D480)","v":"P00020"},{"$f":"IF(ISBLANK(BCU400_Database!E480),\"\",BCU400_Database!E480)","v":88611070},"BCU 460-5/1LW3D"]
[{"$f":"IF(ISBLANK(BCU400_Database!B481),\"\",BCU400_Database!B481)","v":84631658},{"$f":"IF(ISBLANK(BCU400_Database!C481),\"\",BCU400_Database!C481)","v":"BCU 480-5/5/2LW1DS4/2"},{"$f":"IF(ISBLANK(BCU400_Database!D481),\"\",BCU400_Database!D481)","v":"P00133"},{"$f":"IF(ISBLANK(BCU400_Database!E481),\"\",BCU400_Database!E481)","v":88612199},"BCU 480-5/5/2LW1DS4/2"]
[{"$f":"IF(ISBLANK(BCU400_Database!B482),\"\",BCU400_Database!B482)","v":84632029},{"$f":"IF(ISBLANK(BCU400_Database!C482),\"\",BCU400_Database!C482)","v":"BCU 480-10/3/1LW3GBS2/1B1/2"},{"$f":"IF(ISBLANK(BCU400_Database!D482),\"\",BCU400_Database!D482)","v":"P00387"},{"$f":"IF(ISBLANK(BCU400_Database!E482),\"\",BCU400_Database!E482)","v":88613964},"BCU 480-10/3/1LW3GBS2/1B1/2"]
[{"$f":"IF(ISBLANK(BCU400_Database!B483),\"\",BCU400_Database!B483)","v":84632041},{"$f":"IF(ISBLANK(BCU400_Database!C483),\"\",BCU400_Database!C483)","v":"BCU 480-10/5/2LW8GBS3/1BS3/1"},{"$f":"IF(ISBLANK(BCU400_Database!D483),\"\",BCU400_Database!D483)","v":"P00157"},{"$f":"IF(ISBLANK(BCU400_Database!E483),\"\",BCU400_Database!E483)","v":88611062},"BCU 480-10/5/2LW8GBS3/1BS3/1"]
[{"$f":"IF(ISBLANK(BCU400_Database!B484),\"\",BCU400_Database!B484)","v":84631804},{"$f":"IF(ISBLANK(BCU400_Database!C484),\"\",BCU400_Database!C484)","v":"BCU 465-5/1LW3GBAB1/1"},{"$f":"IF(ISBLANK(BCU400_Database!D484),\"\",BCU400_Database!D484)","v":"P00023"},{"$f":"IF(ISBLANK(BCU400_Database!E484),\"\",BCU400_Database!E484)","v":88610535},"BCU 465-5/1LW3GBAB1/1"]
[{"$f":"IF(ISBLANK(BCU400_Database!B485),\"\",BCU400_Database!B485)","v":84632001},{"$f":"IF(ISBLANK(BCU400_Database!C485),\"\",BCU400_Database!C485)","v":"BCU 460-3/1WGBD3S4U"},{"$f":"IF(ISBLANK(BCU400_Database!D485),\"\",BCU400_Database!D485)","v":"P00040"},{"$f":"IF(ISBLANK(BCU400_Database!E485),\"\",BCU400_Database!E485)","v":88613114},"BCU 460-3/1WGBD3S4U"]
[{"$f":"IF(ISBLANK(BCU400_Database!B486),\"\",BCU400_Database!B486)","v":84631949},{"$f":"IF(ISBLANK(BCU400_Database!C486),\"\",BCU400_Database!C486)","v":"BCU 480-10/5/1LWGBB1/1"},{"$f":"IF(ISBLANK(BCU400_Database!D486),\"\",BCU400_Database!D486)","v":"P00001"},{"$f":"IF(ISBLANK(BCU400_Database!E486),\"\",BCU400_Database!E486)","v":88610694},"BCU 480-10/5/1LWGBB1/1"]
[{"$f":"IF(ISBLANK(BCU400_Database!B487),\"\",BCU400_Database!B487)","v":84631917},{"$f":"IF(ISBLANK(BCU400_Database!C487),\"\",BCU400_Database!C487)","v":"BCU 480-5/3/1LR3GBS4/1"},{"$f":"IF(ISBLANK(BCU400_Database!D487),\"\",BCU400_Database!D487)","v":"P00236"},{"$f":"IF(ISBLANK(BCU400_Database!E487),\"\",BCU400_Database!E487)","v":88614015},"BCU 480-5/3/1LR3GBS4/1"]
[{"$f":"IF(ISBLANK(BCU400_Database!B488),\"\",BCU400_Database!B488)","v":84631771},{"$f":"IF(ISBLANK(BCU400_Database!C488),\"\",BCU400_Database!C488)","v":"BCU 480-10/3/1LW3GBPD3"},{"$f":"IF(ISBLANK(BCU400_Database!D488),\"\",BCU400_Database!D488)","v":"P00024"},{"$f":"IF(ISBLANK(BCU400_Database!E488),\"\",BCU400_Database!E488)","v":88610839},"BCU 480-10/3/1LW3GBPD3"]
[{"$f":"IF(ISBLANK(BCU400_Database!B489),\"\",BCU400_Database!B489)","v":84632027},{"$f":"IF(ISBLANK(BCU400_Database!C489),\"\",BCU400_Database!C489)","v":"BCU 460-10/1LW3GBD3S4"},{"$f":"IF(ISBLANK(BCU400_Database!D489),\"\",BCU400_Database!D489)","v":"P00001"},{"$f":"IF(ISBLANK(BCU400_Database!E489),\"\",BCU400_Database!E489)","v":88614115},"BCU 460-10/1LW3GBD3S4"]
[{"$f":"IF(ISBLANK(BCU400_Database!B490),\"\",BCU400_Database!B490)","v":84631913},{"$f":"IF(ISBLANK(BCU400_Database!C490),\"\",BCU400_Database!C490)","v":"BCU 480-5/3/1LW3GBS3/1B1/1"},{"$f":"IF(ISBLANK(BCU400_Database!D490),\"\",BCU400_Database!D490)","v":"P00105"},{"$f":"IF(ISBLANK(BCU400_Database!E490),\"\",BCU400_Database!E490)","v":88614017},"BCU 480-5/3/1LW3GBS3/1B1/1"]
[{"$f":"IF(ISBLANK(BCU400_Database!B491),\"\",BCU400_Database!B491)","v":84631745},{"$f":"IF(ISBLANK(BCU400_Database!C491),\"\",BCU400_Database!C491)","v":"BCU 465-5/1L-LR3GBS4AB1/1"},{"$f":"IF(ISBLANK(BCU400_Database!D491),\"\",BCU400_Database!D491)","v":"P00048"},{"$f":"IF(ISBLANK(BCU400_Database!E491),\"\",BCU400_Database!E491)","v":88613983},"BCU 465-5/1L-LR3GBS4AB1/1"]
[{"$f":"IF(ISBLANK(BCU400_Database!B492),\"\",BCU400_Database!B492)","v":84630656},{"$f":"IF(ISBLANK(BCU400_Database!C492),\"\",BCU400_Database!C492)","v":"BCU 480-5/3/1LW2GB"},{"$f":"IF(ISBLANK(BCU400_Database!D492),\"\",BCU400_Database!D492)","v":"P00112"},{"$f":"IF(ISBLANK(BCU400_Database!E492),\"\",BCU400_Database!E492)","v":88614089},"BCU 480-5/3/1LW2GB"]
[{"$f":"IF(ISBLANK(BCU400_Database!B493),\"\",BCU400_Database!B493)","v":84631718},{"$f":"IF(ISBLANK(BCU400_Database!C493),\"\",BCU400_Database!C493)","v":"BCU 460-5/1LW8GBP"},{"$f":"IF(ISBLANK(BCU400_Database!D493),\"\",BCU400_Database!D493)","v":"P00223"},{"$f":"IF(ISBLANK(BCU400_Database!E493),\"\",BCU400_Database!E493)","v":88614154},"BCU 460-5/1LW8GBP"]
[{"$f":"IF(ISBLANK(BCU400_Database!B494),\"\",BCU400_Database!B494)","v":84632104},{"$f":"IF(ISBLANK(BCU400_Database!C494),\"\",BCU400_Database!C494)","v":"BCU 460-5/1LW1GB3S3B1/1Z0001"},{"$f":"IF(ISBLANK(BCU400_Database!D494),\"\",BCU400_Database!D494)","v":"P00426"},{"$f":"IF(ISBLANK(BCU400_Database!E494),\"\",BCU400_Database!E494)","v":88614156},"BCU 460-5/1LW1GB3S3B1/1Z0001"]
[{"$f":"IF(ISBLANK(BCU400_Database!B495),\"\",BCU400_Database!B495)","v":84631392},{"$f":"IF(ISBLANK(BCU400_Database!C495),\"\",BCU400_Database!C495)","v":"BCU 460-25/1LW3GBP"},{"$f":"IF(ISBLANK(BCU400_Database!D495),\"\",BCU400_Database!D495)","v":"P00001"},{"$f":"IF(ISBLANK(BCU400_Database!E495),\"\",BCU400_Database!E495)","v":88612398},"BCU 460-25/1LW3GBP"]
[{"$f":"IF(ISBLANK(BCU400_Database!B496),\"\",BCU400_Database!B496)","v":84631746},{"$f":"IF(ISBLANK(BCU400_Database!C496),\"\",BCU400_Database!C496)","v":"BCU 465-3/1LW2GBA"},{"$f":"IF(ISBLANK(BCU400_Database!D496),\"\",BCU400_Database!D496)","v":"P00046"},{"$f":"IF(ISBLANK(BCU400_Database!E496),\"\",BCU400_Database!E496)","v":88614197},"BCU 465-3/1LW2GBA"]
[{"$f":"IF(ISBLANK(BCU400_Database!B497),\"\",BCU400_Database!B497)","v":84630460},{"$f":"IF(ISBLANK(BCU400_Database!C497),\"\",BCU400_Database!C497)","v":"BCU 460-10/1W3GB"},{"$f":"IF(ISBLANK(BCU400_Database!D497),\"\",BCU400_Database!D497)","v":"P00080"},{"$f":"IF(ISBLANK(BCU400_Database!E497),\"\",BCU400_Database!E497)","v":88614198},"BCU 460-10/1W3GB"]
[{"$f":"IF(ISBLANK(BCU400_Database!B498),\"\",BCU400_Database!B498)","v":84631930},{"$f":"IF(ISBLANK(BCU400_Database!C498),\"\",BCU400_Database!C498)","v":"BCU 480-5/5/1LR3GBS2/2B1/1"},{"$f":"IF(ISBLANK(BCU400_Database!D498),\"\",BCU400_Database!D498)","v":"P00001"},{"$f":"IF(ISBLANK(BCU400_Database!E498),\"\",BCU400_Database!E498)","v":88614202},"BCU 480-5/5/1LR3GBS2/2B1/1"]
[{"$f":"IF(ISBLANK(BCU400_Database!B499),\"\",BCU400_Database!B499)","v":84631628},{"$f":"IF(ISBLANK(BCU400_Database!C499),\"\",BCU400_Database!C499)","v":"BCU 465-10/1LWGBPAC"},{"$f":"IF(ISBLANK(BCU400_Database!D499),\"\",BCU400_Database!D499)","v":"P00020"},{"$f":"IF(ISBLANK(BCU400_Database!E499),\"\",BCU400_Database!E499)","v":88610123},"BCU 465-10/1LWGBPAC"]
[{"$f":"IF(ISBLANK(BCU400_Database!B500),\"\",BCU400_Database!B500)","v":84631618},{"$f":"IF(ISBLANK(BCU400_Database!C500),\"\",BCU400_Database!C500)","v":"BCU 465-5/1LW8GBPA"},{"$f":"IF(ISBLANK(BCU400_Database!D500),\"\",BCU400_Database!D500)","v":"P00039"},{"$f":"IF(ISBLANK(BCU400_Database!E500),\"\",BCU400_Database!E500)","v":88612596},"BCU 465-5/1LW8GBPA"]
[{"$f":"IF(ISBLANK(BCU400_Database!B501),\"\",BCU400_Database!B501)","v":84631858},{"$f":"IF(ISBLANK(BCU400_Database!C501),\"\",BCU400_Database!C501)","v":"BCU 480-5/3/1LW3GBCB1/1"},{"$f":"IF(ISBLANK(BCU400_Database!D501),\"\",BCU400_Database!D501)","v":"P00165"},{"$f":"IF(ISBLANK(BCU400_Database!E501),\"\",BCU400_Database!E501)","v":88612310},"BCU 480-5/3/1LW3GBCB1/1"]
[{"$f":"IF(ISBLANK(BCU400_Database!B502),\"\",BCU400_Database!B502)","v":84631518},{"$f":"IF(ISBLANK(BCU400_Database!C502),\"\",BCU400_Database!C502)","v":"BCU 465-5/1LW8GBA"},{"$f":"IF(ISBLANK(BCU400_Database!D502),\"\",BCU400_Database!D502)","v":"P00001"},{"$f":"IF(ISBLANK(BCU400_Database!E502),\"\",BCU400_Database!E502)","v":88614248},"BCU 465-5/1LW8GBA"]
[{"$f":"IF(ISBLANK(BCU400_Database!B503),\"\",BCU400_Database!B503)","v":84631381},{"$f":"IF(ISBLANK(BCU400_Database!C503),\"\",BCU400_Database!C503)","v":"BCU 460-5/1W1GBD3"},{"$f":"IF(ISBLANK(BCU400_Database!D503),\"\",BCU400_Database!D503)","v":"P00001"},{"$f":"IF(ISBLANK(BCU400_Database!E503),\"\",BCU400_Database!E503)","v":88610933},"BCU 460-5/1W1GBD3"]
[{"$f":"IF(ISBLANK(BCU400_Database!B504),\"\",BCU400_Database!B504)","v":84631506},{"$f":"IF(ISBLANK(BCU400_Database!C504),\"\",BCU400_Database!C504)","v":"BCU 460-3/1W3GBB1/1"},{"$f":"IF(ISBLANK(BCU400_Database!D504),\"\",BCU400_Database!D504)","v":"P00026"},{"$f":"IF(ISBLANK(BCU400_Database!E504),\"\",BCU400_Database!E504)","v":88610281},"BCU 460-3/1W3GBB1/1"]
[{"$f":"IF(ISBLANK(BCU400_Database!B505),\"\",BCU400_Database!B505)","v":84631417},{"$f":"IF(ISBLANK(BCU400_Database!C505),\"\",BCU400_Database!C505)","v":"BCU 460-5/1LW3GBPD3"},{"$f":"IF(ISBLANK(BCU400_Database!D505),\"\",BCU400_Database!D505)","v":"P00033"},{"$f":"IF(ISBLANK(BCU400_Database!E505),\"\",BCU400_Database!E505)","v":88614302},"BCU 460-5/1LW3GBPD3"]
[{"$f":"IF(ISBLANK(BCU400_Database!B506),\"\",BCU400_Database!B506)","v":84631682},{"$f":"IF(ISBLANK(BCU400_Database!C506),\"\",BCU400_Database!C506)","v":"BCU 460-5/1LW3GBD3S2B1/1"},{"$f":"IF(ISBLANK(BCU400_Database!D506),\"\",BCU400_Database!D506)","v":"P00015"},{"$f":"IF(ISBLANK(BCU400_Database!E506),\"\",BCU400_Database!E506)","v":88613717},"BCU 460-5/1LW3GBD3S2B1/1"]
[{"$f":"IF(ISBLANK(BCU400_Database!B507),\"\",BCU400_Database!B507)","v":84631364},{"$f":"IF(ISBLANK(BCU400_Database!C507),\"\",BCU400_Database!C507)","v":"BCU 480-5/3/1LW1D"},{"$f":"IF(ISBLANK(BCU400_Database!D507),\"\",BCU400_Database!D507)","v":"P00001"},{"$f":"IF(ISBLANK(BCU400_Database!E507),\"\",BCU400_Database!E507)","v":88610390},"BCU 480-5/3/1LW1D"]
[{"$f":"IF(ISBLANK(BCU400_Database!B508),\"\",BCU400_Database!B508)","v":84631818},{"$f":"IF(ISBLANK(BCU400_Database!C508),\"\",BCU400_Database!C508)","v":"BCU 480-5/3/1L5R3GBS3/1"},{"$f":"IF(ISBLANK(BCU400_Database!D508),\"\",BCU400_Database!D508)","v":"P00235"},{"$f":"IF(ISBLANK(BCU400_Database!E508),\"\",BCU400_Database!E508)","v":88611957},"BCU 480-5/3/1L5R3GBS3/1"]
[{"$f":"IF(ISBLANK(BCU400_Database!B509),\"\",BCU400_Database!B509)","v":84631842},{"$f":"IF(ISBLANK(BCU400_Database!C509),\"\",BCU400_Database!C509)","v":"BCU 480-5/3/1LW3GBD2S3/1B1/1"},{"$f":"IF(ISBLANK(BCU400_Database!D509),\"\",BCU400_Database!D509)","v":"P00163"},{"$f":"IF(ISBLANK(BCU400_Database!E509),\"\",BCU400_Database!E509)","v":88614366},"BCU 480-5/3/1LW3GBD2S3/1B1/1"]
[{"$f":"IF(ISBLANK(BCU400_Database!B510),\"\",BCU400_Database!B510)","v":84630360},{"$f":"IF(ISBLANK(BCU400_Database!C510),\"\",BCU400_Database!C510)","v":"BCU 460-5/1W3GB"},{"$f":"IF(ISBLANK(BCU400_Database!D510),\"\",BCU400_Database!D510)","v":"P00398"},{"$f":"IF(ISBLANK(BCU400_Database!E510),\"\",BCU400_Database!E510)","v":88613087},"BCU 460-5/1W3GB"]
[{"$f":"IF(ISBLANK(BCU400_Database!B511),\"\",BCU400_Database!B511)","v":84631617},{"$f":"IF(ISBLANK(BCU400_Database!C511),\"\",BCU400_Database!C511)","v":"BCU 465-5/1LW3GBS4A"},{"$f":"IF(ISBLANK(BCU400_Database!D511),\"\",BCU400_Database!D511)","v":"P00022"},{"$f":"IF(ISBLANK(BCU400_Database!E511),\"\",BCU400_Database!E511)","v":88610169},"BCU 465-5/1LW3GBS4A"]
[{"$f":"IF(ISBLANK(BCU400_Database!B512),\"\",BCU400_Database!B512)","v":84631607},{"$f":"IF(ISBLANK(BCU400_Database!C512),\"\",BCU400_Database!C512)","v":"BCU 465-3/1LW8GBAC"},{"$f":"IF(ISBLANK(BCU400_Database!D512),\"\",BCU400_Database!D512)","v":"P00005"},{"$f":"IF(ISBLANK(BCU400_Database!E512),\"\",BCU400_Database!E512)","v":88614388},"BCU 465-3/1LW8GBAC"]
[{"$f":"IF(ISBLANK(BCU400_Database!B513),\"\",BCU400_Database!B513)","v":84631604},{"$f":"IF(ISBLANK(BCU400_Database!C513),\"\",BCU400_Database!C513)","v":"BCU 460-5/1R3GBS3"},{"$f":"IF(ISBLANK(BCU400_Database!D513),\"\",BCU400_Database!D513)","v":"P00001"},{"$f":"IF(ISBLANK(BCU400_Database!E513),\"\",BCU400_Database!E513)","v":88610748},"BCU 460-5/1R3GBS3"]
[{"$f":"IF(ISBLANK(BCU400_Database!B514),\"\",BCU400_Database!B514)","v":84631404},{"$f":"IF(ISBLANK(BCU400_Database!C514),\"\",BCU400_Database!C514)","v":"BCU 460-5/2LW3GBD2S2"},{"$f":"IF(ISBLANK(BCU400_Database!D514),\"\",BCU400_Database!D514)","v":"P00017"},{"$f":"IF(ISBLANK(BCU400_Database!E514),\"\",BCU400_Database!E514)","v":88614409},"BCU 460-5/2LW3GBD2S2"]
[{"$f":"IF(ISBLANK(BCU400_Database!B515),\"\",BCU400_Database!B515)","v":84631556},{"$f":"IF(ISBLANK(BCU400_Database!C515),\"\",BCU400_Database!C515)","v":"BCU 460-3/1LW8GBP"},{"$f":"IF(ISBLANK(BCU400_Database!D515),\"\",BCU400_Database!D515)","v":"P00138"},{"$f":"IF(ISBLANK(BCU400_Database!E515),\"\",BCU400_Database!E515)","v":88614410},{"$f":"B515","v":"BCU 460-3/1LW8GBP"}]
[{"$f":"IF(ISBLANK(BCU400_Database!B516),\"\",BCU400_Database!B516)","v":84631422},{"$f":"IF(ISBLANK(BCU400_Database!C516),\"\",BCU400_Database!C516)","v":"BCU 460-5/1LW3GBS2"},{"$f":"IF(ISBLANK(BCU400_Database!D516),\"\",BCU400_Database!D516)","v":"P00026"},{"$f":"IF(ISBLANK(BCU400_Database!E516),\"\",BCU400_Database!E516)","v":88614425},"BCU 460-5/1LW3GBS2"]
[{"$f":"IF(ISBLANK(BCU400_Database!B526),\"\",BCU400_Database!B526)","v":84631591},{"$f":"IF(ISBLANK(BCU400_Database!C526),\"\",BCU400_Database!C526)","v":"BCU 480-5/3/1LR3GBD3U"},{"$f":"IF(ISBLANK(BCU400_Database!D526),\"\",BCU400_Database!D526)","v":"P00019"},{"$f":"IF(ISBLANK(BCU400_Database!E526),\"\",BCU400_Database!E526)","v":88614593},"BCU 480-5/3/1LR3GBD3U"]
[{"$f":"IF(ISBLANK(BCU400_Database!B571),\"\",BCU400_Database!B571)","v":""},{"$f":"IF(ISBLANK(BCU400_Database!C571),\"\",BCU400_Database!C571)","v":""},{"$f":"IF(ISBLANK(BCU400_Database!D571),\"\",BCU400_Database!D571)","v":""},{"$f":"IF(ISBLANK(BCU400_Database!E571),\"\",BCU400_Database!E571)","v":""},""]
[{"$f":"IF(ISBLANK(BCU400_Database!B572),\"\",BCU400_Database!B572)","v":""},{"$f":"IF(ISBLANK(BCU400_Database!C572),\"\",BCU400_Database!C572)","v":""},{"$f":"IF(ISBLANK(BCU400_Database!D572),\"\",BCU400_Database!D572)","v":""},{"$f":"IF(ISBLANK(BCU400_Database!E572),\"\",BCU400_Database!E572)","v":""},""]
[{"$f":"IF(ISBLANK(BCU400_Database!B573),\"\",BCU400_Database!B573)","v":""},{"$f":"IF(ISBLANK(BCU400_Database!C573),\"\",BCU400_Database!C573)","v":""},{"$f":"IF(ISBLANK(BCU400_Database!D573),\"\",BCU400_Database!D573)","v":""},{"$f":"IF(ISBLANK(BCU400_Database!E573),\"\",BCU400_Database!E573)","v":""},""]
[{"$f":"IF(ISBLANK(BCU400_Database!B574),\"\",BCU400_Database!B574)","v":""},{"$f":"IF(ISBLANK(BCU400_Database!C574),\"\",BCU400_Database!C574)","v":""},{"$f":"IF(ISBLANK(BCU400_Database!D574),\"\",BCU400_Database!D574)","v":""},{"$f":"IF(ISBLANK(BCU400_Database!E574),\"\",BCU400_Database!E574)","v":""},""]
[{"$f":"IF(ISBLANK(BCU400_Database!B575),\"\",BCU400_Database!B575)","v":""},{"$f":"IF(ISBLANK(BCU400_Database!C575),\"\",BCU400_Database!C575)","v":""},{"$f":"IF(ISBLANK(BCU400_Database!D575),\"\",BCU400_Database!D575)","v":""},{"$f":"IF(ISBLANK(BCU400_Database!E575),\"\",BCU400_Database!E575)","v":""},""]
[{"$f":"IF(ISBLANK(BCU400_Database!B576),\"\",BCU400_Database!B576)","v":""},{"$f":"IF(ISBLANK(BCU400_Database!C576),\"\",BCU400_Database!C576)","v":""},{"$f":"IF(ISBLANK(BCU400_Database!D576),\"\",BCU400_Database!D576)","v":""},{"$f":"IF(ISBLANK(BCU400_Database!E576),\"\",BCU400_Database!E576)","v":""},""]
[{"$f":"IF(ISBLANK(BCU400_Database!B577),\"\",BCU400_Database!B577)","v":""},{"$f":"IF(ISBLANK(BCU400_Database!C577),\"\",BCU400_Database!C577)","v":""},{"$f":"IF(ISBLANK(BCU400_Database!D577),\"\",BCU400_Database!D577)","v":""},{"$f":"IF(ISBLANK(BCU400_Database!E577),\"\",BCU400_Database!E577)","v":""},""]
[{"$f":"IF(ISBLANK(BCU400_Database!B578),\"\",BCU400_Database!B578)","v":""},{"$f":"IF(ISBLANK(BCU400_Database!C578),\"\",BCU400_Database!C578)","v":""},{"$f":"IF(ISBLANK(BCU400_Database!D578),\"\",BCU400_Database!D578)","v":""},{"$f":"IF(ISBLANK(BCU400_Database!E578),\"\",BCU400_Database!E578)","v":""},""]
[{"$f":"IF(ISBLANK(BCU400_Database!B579),\"\",BCU400_Database!B579)","v":""},{"$f":"IF(ISBLANK(BCU400_Database!C579),\"\",BCU400_Database!C579)","v":""},{"$f":"IF(ISBLANK(BCU400_Database!D579),\"\",BCU400_Database!D579)","v":""},{"$f":"IF(ISBLANK(BCU400_Database!E579),\"\",BCU400_Database!E579)","v":""},""]
[{"$f":"IF(ISBLANK(BCU400_Database!B580),\"\",BCU400_Database!B580)","v":""},{"$f":"IF(ISBLANK(BCU400_Database!C580),\"\",BCU400_Database!C580)","v":""},{"$f":"IF(ISBLANK(BCU400_Database!D580),\"\",BCU400_Database!D580)","v":""},{"$f":"IF(ISBLANK(BCU400_Database!E580),\"\",BCU400_Database!E580)","v":""},""]
[{"$f":"IF(ISBLANK(BCU400_Database!B581),\"\",BCU400_Database!B581)","v":""},{"$f":"IF(ISBLANK(BCU400_Database!C581),\"\",BCU400_Database!C581)","v":""},{"$f":"IF(ISBLANK(BCU400_Database!D581),\"\",BCU400_Database!D581)","v":""},{"$f":"IF(ISBLANK(BCU400_Database!E581),\"\",BCU400_Database!E581)","v":""},""]
[{"$f":"IF(ISBLANK(BCU400_Database!B582),\"\",BCU400_Database!B582)","v":""},{"$f":"IF(ISBLANK(BCU400_Database!C582),\"\",BCU400_Database!C582)","v":""},{"$f":"IF(ISBLANK(BCU400_Database!D582),\"\",BCU400_Database!D582)","v":""},{"$f":"IF(ISBLANK(BCU400_Database!E582),\"\",BCU400_Database!E582)","v":""},""]
[{"$f":"IF(ISBLANK(BCU400_Database!B583),\"\",BCU400_Database!B583)","v":""},{"$f":"IF(ISBLANK(BCU400_Database!C583),\"\",BCU400_Database!C583)","v":""},{"$f":"IF(ISBLANK(BCU400_Database!D583),\"\",BCU400_Database!D583)","v":""},{"$f":"IF(ISBLANK(BCU400_Database!E583),\"\",BCU400_Database!E583)","v":""},""]
[{"$f":"IF(ISBLANK(BCU400_Database!B584),\"\",BCU400_Database!B584)","v":""},{"$f":"IF(ISBLANK(BCU400_Database!C584),\"\",BCU400_Database!C584)","v":""},{"$f":"IF(ISBLANK(BCU400_Database!D584),\"\",BCU400_Database!D584)","v":""},{"$f":"IF(ISBLANK(BCU400_Database!E584),\"\",BCU400_Database!E584)","v":""},""]
[{"$f":"IF(ISBLANK(BCU400_Database!B585),\"\",BCU400_Database!B585)","v":""},{"$f":"IF(ISBLANK(BCU400_Database!C585),\"\",BCU400_Database!C585)","v":""},{"$f":"IF(ISBLANK(BCU400_Database!D585),\"\",BCU400_Database!D585)","v":""},{"$f":"IF(ISBLANK(BCU400_Database!E585),\"\",BCU400_Database!E585)","v":""},""]
[{"$f":"IF(ISBLANK(BCU400_Database!B586),\"\",BCU400_Database!B586)","v":""},{"$f":"IF(ISBLANK(BCU400_Database!C586),\"\",BCU400_Database!C586)","v":""},{"$f":"IF(ISBLANK(BCU400_Database!D586),\"\",BCU400_Database!D586)","v":""},{"$f":"IF(ISBLANK(BCU400_Database!E586),\"\",BCU400_Database!E586)","v":""},""]
[{"$f":"IF(ISBLANK(BCU400_Database!B587),\"\",BCU400_Database!B587)","v":""},{"$f":"IF(ISBLANK(BCU400_Database!C587),\"\",BCU400_Database!C587)","v":""},{"$f":"IF(ISBLANK(BCU400_Database!D587),\"\",BCU400_Database!D587)","v":""},{"$f":"IF(ISBLANK(BCU400_Database!E587),\"\",BCU400_Database!E587)","v":""},""]
[{"$f":"IF(ISBLANK(BCU400_Database!B588),\"\",BCU400_Database!B588)","v":""},{"$f":"IF(ISBLANK(BCU400_Database!C588),\"\",BCU400_Database!C588)","v":""},{"$f":"IF(ISBLANK(BCU400_Database!D588),\"\",BCU400_Database!D588)","v":""},{"$f":"IF(ISBLANK(BCU400_Database!E588),\"\",BCU400_Database!E588)","v":""},""]
[{"$f":"IF(ISBLANK(BCU400_Database!B589),\"\",BCU400_Database!B589)","v":""},{"$f":"IF(ISBLANK(BCU400_Database!C589),\"\",BCU400_Database!C589)","v":""},{"$f":"IF(ISBLANK(BCU400_Database!D589),\"\",BCU400_Database!D589)","v":""},{"$f":"IF(ISBLANK(BCU400_Database!E589),\"\",BCU400_Database!E589)","v":""},""]
[{"$f":"IF(ISBLANK(BCU400_Database!B590),\"\",BCU400_Database!B590)","v":""},{"$f":"IF(ISBLANK(BCU400_Database!C590),\"\",BCU400_Database!C590)","v":""},{"$f":"IF(ISBLANK(BCU400_Database!D590),\"\",BCU400_Database!D590)","v":""},{"$f":"IF(ISBLANK(BCU400_Database!E590),\"\",BCU400_Database!E590)","v":""},""]
[{"$f":"IF(ISBLANK(BCU400_Database!B591),\"\",BCU400_Database!B591)","v":""},{"$f":"IF(ISBLANK(BCU400_Database!C591),\"\",BCU400_Database!C591)","v":""},{"$f":"IF(ISBLANK(BCU400_Database!D591),\"\",BCU400_Database!D591)","v":""},{"$f":"IF(ISBLANK(BCU400_Database!E591),\"\",BCU400_Database!E591)","v":""},""]
[{"$f":"IF(ISBLANK(BCU400_Database!B592),\"\",BCU400_Database!B592)","v":""},{"$f":"IF(ISBLANK(BCU400_Database!C592),\"\",BCU400_Database!C592)","v":""},{"$f":"IF(ISBLANK(BCU400_Database!D592),\"\",BCU400_Database!D592)","v":""},{"$f":"IF(ISBLANK(BCU400_Database!E592),\"\",BCU400_Database!E592)","v":""},""]
[{"$f":"IF(ISBLANK(BCU400_Database!B593),\"\",BCU400_Database!B593)","v":""},{"$f":"IF(ISBLANK(BCU400_Database!C593),\"\",BCU400_Database!C593)","v":""},{"$f":"IF(ISBLANK(BCU400_Database!D593),\"\",BCU400_Database!D593)","v":""},{"$f":"IF(ISBLANK(BCU400_Database!E593),\"\",BCU400_Database!E593)","v":""},""]
[{"$f":"IF(ISBLANK(BCU400_Database!B594),\"\",BCU400_Database!B594)","v":""},{"$f":"IF(ISBLANK(BCU400_Database!C594),\"\",BCU400_Database!C594)","v":""},{"$f":"IF(ISBLANK(BCU400_Database!D594),\"\",BCU400_Database!D594)","v":""},{"$f":"IF(ISBLANK(BCU400_Database!E594),\"\",BCU400_Database!E594)","v":""},""]
[{"$f":"IF(ISBLANK(BCU400_Database!B595),\"\",BCU400_Database!B595)","v":""},{"$f":"IF(ISBLANK(BCU400_Database!C595),\"\",BCU400_Database!C595)","v":""},{"$f":"IF(ISBLANK(BCU400_Database!D595),\"\",BCU400_Database!D595)","v":""},{"$f":"IF(ISBLANK(BCU400_Database!E595),\"\",BCU400_Database!E595)","v":""},""]
[{"$f":"IF(ISBLANK(BCU400_Database!B596),\"\",BCU400_Database!B596)","v":""},{"$f":"IF(ISBLANK(BCU400_Database!C596),\"\",BCU400_Database!C596)","v":""},{"$f":"IF(ISBLANK(BCU400_Database!D596),\"\",BCU400_Database!D596)","v":""},{"$f":"IF(ISBLANK(BCU400_Database!E596),\"\",BCU400_Database!E596)","v":""},""]
[{"$f":"IF(ISBLANK(BCU400_Database!B597),\"\",BCU400_Database!B597)","v":""},{"$f":"IF(ISBLANK(BCU400_Database!C597),\"\",BCU400_Database!C597)","v":""},{"$f":"IF(ISBLANK(BCU400_Database!D597),\"\",BCU400_Database!D597)","v":""},{"$f":"IF(ISBLANK(BCU400_Database!E597),\"\",BCU400_Database!E597)","v":""},""]
[{"$f":"IF(ISBLANK(BCU400_Database!B598),\"\",BCU400_Database!B598)","v":""},{"$f":"IF(ISBLANK(BCU400_Database!C598),\"\",BCU400_Database!C598)","v":""},{"$f":"IF(ISBLANK(BCU400_Database!D598),\"\",BCU400_Database!D598)","v":""},{"$f":"IF(ISBLANK(BCU400_Database!E598),\"\",BCU400_Database!E598)","v":""},""]
[{"$f":"IF(ISBLANK(BCU400_Database!B599),\"\",BCU400_Database!B599)","v":""},{"$f":"IF(ISBLANK(BCU400_Database!C599),\"\",BCU400_Database!C599)","v":""},{"$f":"IF(ISBLANK(BCU400_Database!D599),\"\",BCU400_Database!D599)","v":""},{"$f":"IF(ISBLANK(BCU400_Database!E599),\"\",BCU400_Database!E599)","v":""},""]
[{"$f":"IF(ISBLANK(BCU400_Database!B600),\"\",BCU400_Database!B600)","v":""},{"$f":"IF(ISBLANK(BCU400_Database!C600),\"\",BCU400_Database!C600)","v":""},{"$f":"IF(ISBLANK(BCU400_Database!D600),\"\",BCU400_Database!D600)","v":""},{"$f":"IF(ISBLANK(BCU400_Database!E600),\"\",BCU400_Database!E600)","v":""},""]
[{"$f":"IF(ISBLANK(BCU400_Database!B601),\"\",BCU400_Database!B601)","v":""},{"$f":"IF(ISBLANK(BCU400_Database!C601),\"\",BCU400_Database!C601)","v":""},{"$f":"IF(ISBLANK(BCU400_Database!D601),\"\",BCU400_Database!D601)","v":""},{"$f":"IF(ISBLANK(BCU400_Database!E601),\"\",BCU400_Database!E601)","v":""},""]
[{"$f":"IF(ISBLANK(BCU400_Database!B602),\"\",BCU400_Database!B602)","v":""},{"$f":"IF(ISBLANK(BCU400_Database!C602),\"\",BCU400_Database!C602)","v":""},{"$f":"IF(ISBLANK(BCU400_Database!D602),\"\",BCU400_Database!D602)","v":""},{"$f":"IF(ISBLANK(BCU400_Database!E602),\"\",BCU400_Database!E602)","v":""},""]
[{"$f":"IF(ISBLANK(BCU400_Database!B603),\"\",BCU400_Database!B603)","v":""},{"$f":"IF(ISBLANK(BCU400_Database!C603),\"\",BCU400_Database!C603)","v":""},{"$f":"IF(ISBLANK(BCU400_Database!D603),\"\",BCU400_Database!D603)","v":""},{"$f":"IF(ISBLANK(BCU400_Database!E603),\"\",BCU400_Database!E603)","v":""},""]
[{"$f":"IF(ISBLANK(BCU400_Database!B604),\"\",BCU400_Database!B604)","v":""},{"$f":"IF(ISBLANK(BCU400_Database!C604),\"\",BCU400_Database!C604)","v":""},{"$f":"IF(ISBLANK(BCU400_Database!D604),\"\",BCU400_Database!D604)","v":""},{"$f":"IF(ISBLANK(BCU400_Database!E604),\"\",BCU400_Database!E604)","v":""},""]
[{"$f":"IF(ISBLANK(BCU400_Database!B605),\"\",BCU400_Database!B605)","v":""},{"$f":"IF(ISBLANK(BCU400_Database!C605),\"\",BCU400_Database!C605)","v":""},{"$f":"IF(ISBLANK(BCU400_Database!D605),\"\",BCU400_Database!D605)","v":""},{"$f":"IF(ISBLANK(BCU400_Database!E605),\"\",BCU400_Database!E605)","v":""},""]
[{"$f":"IF(ISBLANK(BCU400_Database!B606),\"\",BCU400_Database!B606)","v":""},{"$f":"IF(ISBLANK(BCU400_Database!C606),\"\",BCU400_Database!C606)","v":""},{"$f":"IF(ISBLANK(BCU400_Database!D606),\"\",BCU400_Database!D606)","v":""},{"$f":"IF(ISBLANK(BCU400_Database!E606),\"\",BCU400_Database!E606)","v":""},""]
[{"$f":"IF(ISBLANK(BCU400_Database!B607),\"\",BCU400_Database!B607)","v":""},{"$f":"IF(ISBLANK(BCU400_Database!C607),\"\",BCU400_Database!C607)","v":""},{"$f":"IF(ISBLANK(BCU400_Database!D607),\"\",BCU400_Database!D607)","v":""},{"$f":"IF(ISBLANK(BCU400_Database!E607),\"\",BCU400_Database!E607)","v":""},""]
[{"$f":"IF(ISBLANK(BCU400_Database!B608),\"\",BCU400_Database!B608)","v":""},{"$f":"IF(ISBLANK(BCU400_Database!C608),\"\",BCU400_Database!C608)","v":""},{"$f":"IF(ISBLANK(BCU400_Database!D608),\"\",BCU400_Database!D608)","v":""},{"$f":"IF(ISBLANK(BCU400_Database!E608),\"\",BCU400_Database!E608)","v":""},""]
[{"$f":"IF(ISBLANK(BCU400_Database!B609),\"\",BCU400_Database!B609)","v":""},{"$f":"IF(ISBLANK(BCU400_Database!C609),\"\",BCU400_Database!C609)","v":""},{"$f":"IF(ISBLANK(BCU400_Database!D609),\"\",BCU400_Database!D609)","v":""},{"$f":"IF(ISBLANK(BCU400_Database!E609),\"\",BCU400_Database!E609)","v":""},""]
[{"$f":"IF(ISBLANK(BCU400_Database!B610),\"\",BCU400_Database!B610)","v":""},{"$f":"IF(ISBLANK(BCU400_Database!C610),\"\",BCU400_Database!C610)","v":""},{"$f":"IF(ISBLANK(BCU400_Database!D610),\"\",BCU400_Database!D610)","v":""},{"$f":"IF(ISBLANK(BCU400_Database!E610),\"\",BCU400_Database!E610)","v":""},""]
[{"$f":"IF(ISBLANK(BCU400_Database!B611),\"\",BCU400_Database!B611)","v":""},{"$f":"IF(ISBLANK(BCU400_Database!C611),\"\",BCU400_Database!C611)","v":""},{"$f":"IF(ISBLANK(BCU400_Database!D611),\"\",BCU400_Database!D611)","v":""},{"$f":"IF(ISBLANK(BCU400_Database!E611),\"\",BCU400_Database!E611)","v":""},""]
[{"$f":"IF(ISBLANK(BCU400_Database!B612),\"\",BCU400_Database!B612)","v":""},{"$f":"IF(ISBLANK(BCU400_Database!C612),\"\",BCU400_Database!C612)","v":""},{"$f":"IF(ISBLANK(BCU400_Database!D612),\"\",BCU400_Database!D612)","v":""},{"$f":"IF(ISBLANK(BCU400_Database!E612),\"\",BCU400_Database!E612)","v":""},""]
[{"$f":"IF(ISBLANK(BCU400_Database!B613),\"\",BCU400_Database!B613)","v":""},{"$f":"IF(ISBLANK(BCU400_Database!C613),\"\",BCU400_Database!C613)","v":""},{"$f":"IF(ISBLANK(BCU400_Database!D613),\"\",BCU400_Database!D613)","v":""},{"$f":"IF(ISBLANK(BCU400_Database!E613),\"\",BCU400_Database!E613)","v":""},""]
[{"$f":"IF(ISBLANK(BCU400_Database!B614),\"\",BCU400_Database!B614)","v":""},{"$f":"IF(ISBLANK(BCU400_Database!C614),\"\",BCU400_Database!C614)","v":""},{"$f":"IF(ISBLANK(BCU400_Database!D614),\"\",BCU400_Database!D614)","v":""},{"$f":"IF(ISBLANK(BCU400_Database!E614),\"\",BCU400_Database!E614)","v":""},""]
[{"$f":"IF(ISBLANK(BCU400_Database!B615),\"\",BCU400_Database!B615)","v":""},{"$f":"IF(ISBLANK(BCU400_Database!C615),\"\",BCU400_Database!C615)","v":""},{"$f":"IF(ISBLANK(BCU400_Database!D615),\"\",BCU400_Database!D615)","v":""},{"$f":"IF(ISBLANK(BCU400_Database!E615),\"\",BCU400_Database!E615)","v":""},""]
[{"$f":"IF(ISBLANK(BCU400_Database!B616),\"\",BCU400_Database!B616)","v":""},{"$f":"IF(ISBLANK(BCU400_Database!C616),\"\",BCU400_Database!C616)","v":""},{"$f":"IF(ISBLANK(BCU400_Database!D616),\"\",BCU400_Database!D616)","v":""},{"$f":"IF(ISBLANK(BCU400_Database!E616),\"\",BCU400_Database!E616)","v":""},""]
[{"$f":"IF(ISBLANK(BCU400_Database!B617),\"\",BCU400_Database!B617)","v":""},{"$f":"IF(ISBLANK(BCU400_Database!C617),\"\",BCU400_Database!C617)","v":""},{"$f":"IF(ISBLANK(BCU400_Database!D617),\"\",BCU400_Database!D617)","v":""},{"$f":"IF(ISBLANK(BCU400_Database!E617),\"\",BCU400_Database!E617)","v":""},""]
[{"$f":"IF(ISBLANK(BCU400_Database!B618),\"\",BCU400_Database!B618)","v":""},{"$f":"IF(ISBLANK(BCU400_Database!C618),\"\",BCU400_Database!C618)","v":""},{"$f":"IF(ISBLANK(BCU400_Database!D618),\"\",BCU400_Database!D618)","v":""},{"$f":"IF(ISBLANK(BCU400_Database!E618),\"\",BCU400_Database!E618)","v":""},""]
[{"$f":"IF(ISBLANK(BCU400_Database!B619),\"\",BCU400_Database!B619)","v":""},{"$f":"IF(ISBLANK(BCU400_Database!C619),\"\",BCU400_Database!C619)","v":""},{"$f":"IF(ISBLANK(BCU400_Database!D619),\"\",BCU400_Database!D619)","v":""},{"$f":"IF(ISBLANK(BCU400_Database!E619),\"\",BCU400_Database!E619)","v":""},""]
[{"$f":"IF(ISBLANK(BCU400_Database!B620),\"\",BCU400_Database!B620)","v":""},{"$f":"IF(ISBLANK(BCU400_Database!C620),\"\",BCU400_Database!C620)","v":""},{"$f":"IF(ISBLANK(BCU400_Database!D620),\"\",BCU400_Database!D620)","v":""},{"$f":"IF(ISBLANK(BCU400_Database!E620),\"\",BCU400_Database!E620)","v":""},""]
[{"$f":"IF(ISBLANK(BCU400_Database!B621),\"\",BCU400_Database!B621)","v":""},{"$f":"IF(ISBLANK(BCU400_Database!C621),\"\",BCU400_Database!C621)","v":""},{"$f":"IF(ISBLANK(BCU400_Database!D621),\"\",BCU400_Database!D621)","v":""},{"$f":"IF(ISBLANK(BCU400_Database!E621),\"\",BCU400_Database!E621)","v":""},""]
[{"$f":"IF(ISBLANK(BCU400_Database!B622),\"\",BCU400_Database!B622)","v":""},{"$f":"IF(ISBLANK(BCU400_Database!C622),\"\",BCU400_Database!C622)","v":""},{"$f":"IF(ISBLANK(BCU400_Database!D622),\"\",BCU400_Database!D622)","v":""},{"$f":"IF(ISBLANK(BCU400_Database!E622),\"\",BCU400_Database!E622)","v":""},""]
[{"$f":"IF(ISBLANK(BCU400_Database!B623),\"\",BCU400_Database!B623)","v":""},{"$f":"IF(ISBLANK(BCU400_Database!C623),\"\",BCU400_Database!C623)","v":""},{"$f":"IF(ISBLANK(BCU400_Database!D623),\"\",BCU400_Database!D623)","v":""},{"$f":"IF(ISBLANK(BCU400_Database!E623),\"\",BCU400_Database!E623)","v":""},""]
[{"$f":"IF(ISBLANK(BCU400_Database!B624),\"\",BCU400_Database!B624)","v":""},{"$f":"IF(ISBLANK(BCU400_Database!C624),\"\",BCU400_Database!C624)","v":""},{"$f":"IF(ISBLANK(BCU400_Database!D624),\"\",BCU400_Database!D624)","v":""},{"$f":"IF(ISBLANK(BCU400_Database!E624),\"\",BCU400_Database!E624)","v":""},""]
[{"$f":"IF(ISBLANK(BCU400_Database!B625),\"\",BCU400_Database!B625)","v":""},{"$f":"IF(ISBLANK(BCU400_Database!C625),\"\",BCU400_Database!C625)","v":""},{"$f":"IF(ISBLANK(BCU400_Database!D625),\"\",BCU400_Database!D625)","v":""},{"$f":"IF(ISBLANK(BCU400_Database!E625),\"\",BCU400_Database!E625)","v":""},""]
[{"$f":"IF(ISBLANK(BCU400_Database!B626),\"\",BCU400_Database!B626)","v":""},{"$f":"IF(ISBLANK(BCU400_Database!C626),\"\",BCU400_Database!C626)","v":""},{"$f":"IF(ISBLANK(BCU400_Database!D626),\"\",BCU400_Database!D626)","v":""},{"$f":"IF(ISBLANK(BCU400_Database!E626),\"\",BCU400_Database!E626)","v":""},""]
[{"$f":"IF(ISBLANK(BCU400_Database!B627),\"\",BCU400_Database!B627)","v":""},{"$f":"IF(ISBLANK(BCU400_Database!C627),\"\",BCU400_Database!C627)","v":""},{"$f":"IF(ISBLANK(BCU400_Database!D627),\"\",BCU400_Database!D627)","v":""},{"$f":"IF(ISBLANK(BCU400_Database!E627),\"\",BCU400_Database!E627)","v":""},""]
[{"$f":"IF(ISBLANK(BCU400_Database!B628),\"\",BCU400_Database!B628)","v":""},{"$f":"IF(ISBLANK(BCU400_Database!C628),\"\",BCU400_Database!C628)","v":""},{"$f":"IF(ISBLANK(BCU400_Database!D628),\"\",BCU400_Database!D628)","v":""},{"$f":"IF(ISBLANK(BCU400_Database!E628),\"\",BCU400_Database!E628)","v":""},""]
[{"$f":"IF(ISBLANK(BCU400_Database!B629),\"\",BCU400_Database!B629)","v":""},{"$f":"IF(ISBLANK(BCU400_Database!C629),\"\",BCU400_Database!C629)","v":""},{"$f":"IF(ISBLANK(BCU400_Database!D629),\"\",BCU400_Database!D629)","v":""},{"$f":"IF(ISBLANK(BCU400_Database!E629),\"\",BCU400_Database!E629)","v":""},""]
[{"$f":"IF(ISBLANK(BCU400_Database!B630),\"\",BCU400_Database!B630)","v":""},{"$f":"IF(ISBLANK(BCU400_Database!C630),\"\",BCU400_Database!C630)","v":""},{"$f":"IF(ISBLANK(BCU400_Database!D630),\"\",BCU400_Database!D630)","v":""},{"$f":"IF(ISBLANK(BCU400_Database!E630),\"\",BCU400_Database!E630)","v":""},""]
[{"$f":"IF(ISBLANK(BCU400_Database!B631),\"\",BCU400_Database!B631)","v":""},{"$f":"IF(ISBLANK(BCU400_Database!C631),\"\",BCU400_Database!C631)","v":""},{"$f":"IF(ISBLANK(BCU400_Database!D631),\"\",BCU400_Database!D631)","v":""},{"$f":"IF(ISBLANK(BCU400_Database!E631),\"\",BCU400_Database!E631)","v":""},""]
[{"$f":"IF(ISBLANK(BCU400_Database!B632),\"\",BCU400_Database!B632)","v":""},{"$f":"IF(ISBLANK(BCU400_Database!C632),\"\",BCU400_Database!C632)","v":""},{"$f":"IF(ISBLANK(BCU400_Database!D632),\"\",BCU400_Database!D632)","v":""},{"$f":"IF(ISBLANK(BCU400_Database!E632),\"\",BCU400_Database!E632)","v":""},{"$f":"B579","v":""}]
[{"$f":"IF(ISBLANK(BCU400_Database!B633),\"\",BCU400_Database!B633)","v":""},{"$f":"IF(ISBLANK(BCU400_Database!C633),\"\",BCU400_Database!C633)","v":""},{"$f":"IF(ISBLANK(BCU400_Database!D633),\"\",BCU400_Database!D633)","v":""},{"$f":"IF(ISBLANK(BCU400_Database!E633),\"\",BCU400_Database!E633)","v":""},""]
[{"$f":"IF(ISBLANK(BCU400_Database!B634),\"\",BCU400_Database!B634)","v":""},{"$f":"IF(ISBLANK(BCU400_Database!C634),\"\",BCU400_Database!C634)","v":""},{"$f":"IF(ISBLANK(BCU400_Database!D634),\"\",BCU400_Database!D634)","v":""},{"$f":"IF(ISBLANK(BCU400_Database!E634),\"\",BCU400_Database!E634)","v":""},""]
[{"$f":"IF(ISBLANK(BCU400_Database!B635),\"\",BCU400_Database!B635)","v":""},{"$f":"IF(ISBLANK(BCU400_Database!C635),\"\",BCU400_Database!C635)","v":""},{"$f":"IF(ISBLANK(BCU400_Database!D635),\"\",BCU400_Database!D635)","v":""},{"$f":"IF(ISBLANK(BCU400_Database!E635),\"\",BCU400_Database!E635)","v":""},""]
[{"$f":"IF(ISBLANK(BCU400_Database!B636),\"\",BCU400_Database!B636)","v":""},{"$f":"IF(ISBLANK(BCU400_Database!C636),\"\",BCU400_Database!C636)","v":""},{"$f":"IF(ISBLANK(BCU400_Database!D636),\"\",BCU400_Database!D636)","v":""},{"$f":"IF(ISBLANK(BCU400_Database!E636),\"\",BCU400_Database!E636)","v":""},""]
[{"$f":"IF(ISBLANK(BCU400_Database!B637),\"\",BCU400_Database!B637)","v":""},{"$f":"IF(ISBLANK(BCU400_Database!C637),\"\",BCU400_Database!C637)","v":""},{"$f":"IF(ISBLANK(BCU400_Database!D637),\"\",BCU400_Database!D637)","v":""},{"$f":"IF(ISBLANK(BCU400_Database!E637),\"\",BCU400_Database!E637)","v":""},""]
[{"$f":"IF(ISBLANK(BCU400_Database!B638),\"\",BCU400_Database!B638)","v":""},{"$f":"IF(ISBLANK(BCU400_Database!C638),\"\",BCU400_Database!C638)","v":""},{"$f":"IF(ISBLANK(BCU400_Database!D638),\"\",BCU400_Database!D638)","v":""},{"$f":"IF(ISBLANK(BCU400_Database!E638),\"\",BCU400_Database!E638)","v":""},""]
[{"$f":"IF(ISBLANK(BCU400_Database!B639),\"\",BCU400_Database!B639)","v":""},{"$f":"IF(ISBLANK(BCU400_Database!C639),\"\",BCU400_Database!C639)","v":""},{"$f":"IF(ISBLANK(BCU400_Database!D639),\"\",BCU400_Database!D639)","v":""},{"$f":"IF(ISBLANK(BCU400_Database!E639),\"\",BCU400_Database!E639)","v":""},""]
[{"$f":"IF(ISBLANK(BCU400_Database!B640),\"\",BCU400_Database!B640)","v":""},{"$f":"IF(ISBLANK(BCU400_Database!C640),\"\",BCU400_Database!C640)","v":""},{"$f":"IF(ISBLANK(BCU400_Database!D640),\"\",BCU400_Database!D640)","v":""},{"$f":"IF(ISBLANK(BCU400_Database!E640),\"\",BCU400_Database!E640)","v":""},""]
[{"$f":"IF(ISBLANK(BCU400_Database!B641),\"\",BCU400_Database!B641)","v":""},{"$f":"IF(ISBLANK(BCU400_Database!C641),\"\",BCU400_Database!C641)","v":""},{"$f":"IF(ISBLANK(BCU400_Database!D641),\"\",BCU400_Database!D641)","v":""},{"$f":"IF(ISBLANK(BCU400_Database!E641),\"\",BCU400_Database!E641)","v":""},""]
[{"$f":"IF(ISBLANK(BCU400_Database!B642),\"\",BCU400_Database!B642)","v":""},{"$f":"IF(ISBLANK(BCU400_Database!C642),\"\",BCU400_Database!C642)","v":""},{"$f":"IF(ISBLANK(BCU400_Database!D642),\"\",BCU400_Database!D642)","v":""},{"$f":"IF(ISBLANK(BCU400_Database!E642),\"\",BCU400_Database!E642)","v":""},""]
[{"$f":"IF(ISBLANK(BCU400_Database!B643),\"\",BCU400_Database!B643)","v":""},{"$f":"IF(ISBLANK(BCU400_Database!C643),\"\",BCU400_Database!C643)","v":""},{"$f":"IF(ISBLANK(BCU400_Database!D643),\"\",BCU400_Database!D643)","v":""},{"$f":"IF(ISBLANK(BCU400_Database!E643),\"\",BCU400_Database!E643)","v":""},""]
[{"$f":"IF(ISBLANK(BCU400_Database!B644),\"\",BCU400_Database!B644)","v":""},{"$f":"IF(ISBLANK(BCU400_Database!C644),\"\",BCU400_Database!C644)","v":""},{"$f":"IF(ISBLANK(BCU400_Database!D644),\"\",BCU400_Database!D644)","v":""},{"$f":"IF(ISBLANK(BCU400_Database!E644),\"\",BCU400_Database!E644)","v":""},""]
[{"$f":"IF(ISBLANK(BCU400_Database!B645),\"\",BCU400_Database!B645)","v":""},{"$f":"IF(ISBLANK(BCU400_Database!C645),\"\",BCU400_Database!C645)","v":""},{"$f":"IF(ISBLANK(BCU400_Database!D645),\"\",BCU400_Database!D645)","v":""},{"$f":"IF(ISBLANK(BCU400_Database!E645),\"\",BCU400_Database!E645)","v":""},""]
[{"$f":"IF(ISBLANK(BCU400_Database!B646),\"\",BCU400_Database!B646)","v":""},{"$f":"IF(ISBLANK(BCU400_Database!C646),\"\",BCU400_Database!C646)","v":""},{"$f":"IF(ISBLANK(BCU400_Database!D646),\"\",BCU400_Database!D646)","v":""},{"$f":"IF(ISBLANK(BCU400_Database!E646),\"\",BCU400_Database!E646)","v":""},""]
[{"$f":"IF(ISBLANK(BCU400_Database!B647),\"\",BCU400_Database!B647)","v":""},{"$f":"IF(ISBLANK(BCU400_Database!C647),\"\",BCU400_Database!C647)","v":""},{"$f":"IF(ISBLANK(BCU400_Database!D647),\"\",BCU400_Database!D647)","v":""},{"$f":"IF(ISBLANK(BCU400_Database!E647),\"\",BCU400_Database!E647)","v":""},""]
[{"$f":"IF(ISBLANK(BCU400_Database!B648),\"\",BCU400_Database!B648)","v":""},{"$f":"IF(ISBLANK(BCU400_Database!C648),\"\",BCU400_Database!C648)","v":""},{"$f":"IF(ISBLANK(BCU400_Database!D648),\"\",BCU400_Database!D648)","v":""},{"$f":"IF(ISBLANK(BCU400_Database!E648),\"\",BCU400_Database!E648)","v":""},""]
[{"$f":"IF(ISBLANK(BCU400_Database!B649),\"\",BCU400_Database!B649)","v":""},{"$f":"IF(ISBLANK(BCU400_Database!C649),\"\",BCU400_Database!C649)","v":""},{"$f":"IF(ISBLANK(BCU400_Database!D649),\"\",BCU400_Database!D649)","v":""},{"$f":"IF(ISBLANK(BCU400_Database!E649),\"\",BCU400_Database!E649)","v":""},""]
[{"$f":"IF(ISBLANK(BCU400_Database!B650),\"\",BCU400_Database!B650)","v":""},{"$f":"IF(ISBLANK(BCU400_Database!C650),\"\",BCU400_Database!C650)","v":""},{"$f":"IF(ISBLANK(BCU400_Database!D650),\"\",BCU400_Database!D650)","v":""},{"$f":"IF(ISBLANK(BCU400_Database!E650),\"\",BCU400_Database!E650)","v":""},""]
[{"$f":"IF(ISBLANK(BCU400_Database!B651),\"\",BCU400_Database!B651)","v":""},{"$f":"IF(ISBLANK(BCU400_Database!C651),\"\",BCU400_Database!C651)","v":""},{"$f":"IF(ISBLANK(BCU400_Database!D651),\"\",BCU400_Database!D651)","v":""},{"$f":"IF(ISBLANK(BCU400_Database!E651),\"\",BCU400_Database!E651)","v":""},""]
[{"$f":"IF(ISBLANK(BCU400_Database!B652),\"\",BCU400_Database!B652)","v":""},{"$f":"IF(ISBLANK(BCU400_Database!C652),\"\",BCU400_Database!C652)","v":""},{"$f":"IF(ISBLANK(BCU400_Database!D652),\"\",BCU400_Database!D652)","v":""},{"$f":"IF(ISBLANK(BCU400_Database!E652),\"\",BCU400_Database!E652)","v":""},""]
[{"$f":"IF(ISBLANK(BCU400_Database!B653),\"\",BCU400_Database!B653)","v":""},{"$f":"IF(ISBLANK(BCU400_Database!C653),\"\",BCU400_Database!C653)","v":""},{"$f":"IF(ISBLANK(BCU400_Database!D653),\"\",BCU400_Database!D653)","v":""},{"$f":"IF(ISBLANK(BCU400_Database!E653),\"\",BCU400_Database!E653)","v":""},""]
[{"$f":"IF(ISBLANK(BCU400_Database!B654),\"\",BCU400_Database!B654)","v":""},{"$f":"IF(ISBLANK(BCU400_Database!C654),\"\",BCU400_Database!C654)","v":""},{"$f":"IF(ISBLANK(BCU400_Database!D654),\"\",BCU400_Database!D654)","v":""},{"$f":"IF(ISBLANK(BCU400_Database!E654),\"\",BCU400_Database!E654)","v":""},""]
[{"$f":"IF(ISBLANK(BCU400_Database!B655),\"\",BCU400_Database!B655)","v":""},{"$f":"IF(ISBLANK(BCU400_Database!C655),\"\",BCU400_Database!C655)","v":""},{"$f":"IF(ISBLANK(BCU400_Database!D655),\"\",BCU400_Database!D655)","v":""},{"$f":"IF(ISBLANK(BCU400_Database!E655),\"\",BCU400_Database!E655)","v":""},""]
[{"$f":"IF(ISBLANK(BCU400_Database!B656),\"\",BCU400_Database!B656)","v":""},{"$f":"IF(ISBLANK(BCU400_Database!C656),\"\",BCU400_Database!C656)","v":""},{"$f":"IF(ISBLANK(BCU400_Database!D656),\"\",BCU400_Database!D656)","v":""},{"$f":"IF(ISBLANK(BCU400_Database!E656),\"\",BCU400_Database!E656)","v":""},""]
[{"$f":"IF(ISBLANK(BCU400_Database!B657),\"\",BCU400_Database!B657)","v":""},{"$f":"IF(ISBLANK(BCU400_Database!C657),\"\",BCU400_Database!C657)","v":""},{"$f":"IF(ISBLANK(BCU400_Database!D657),\"\",BCU400_Database!D657)","v":""},{"$f":"IF(ISBLANK(BCU400_Database!E657),\"\",BCU400_Database!E657)","v":""},""]
[{"$f":"IF(ISBLANK(BCU400_Database!B658),\"\",BCU400_Database!B658)","v":""},{"$f":"IF(ISBLANK(BCU400_Database!C658),\"\",BCU400_Database!C658)","v":""},{"$f":"IF(ISBLANK(BCU400_Database!D658),\"\",BCU400_Database!D658)","v":""},{"$f":"IF(ISBLANK(BCU400_Database!E658),\"\",BCU400_Database!E658)","v":""},""]
[{"$f":"IF(ISBLANK(BCU400_Database!B659),\"\",BCU400_Database!B659)","v":""},{"$f":"IF(ISBLANK(BCU400_Database!C659),\"\",BCU400_Database!C659)","v":""},{"$f":"IF(ISBLANK(BCU400_Database!D659),\"\",BCU400_Database!D659)","v":""},{"$f":"IF(ISBLANK(BCU400_Database!E659),\"\",BCU400_Database!E659)","v":""},""]
[{"$f":"IF(ISBLANK(BCU400_Database!B660),\"\",BCU400_Database!B660)","v":""},{"$f":"IF(ISBLANK(BCU400_Database!C660),\"\",BCU400_Database!C660)","v":""},{"$f":"IF(ISBLANK(BCU400_Database!D660),\"\",BCU400_Database!D660)","v":""},{"$f":"IF(ISBLANK(BCU400_Database!E660),\"\",BCU400_Database!E660)","v":""},""]
[{"$f":"IF(ISBLANK(BCU400_Database!B661),\"\",BCU400_Database!B661)","v":""},{"$f":"IF(ISBLANK(BCU400_Database!C661),\"\",BCU400_Database!C661)","v":""},{"$f":"IF(ISBLANK(BCU400_Database!D661),\"\",BCU400_Database!D661)","v":""},{"$f":"IF(ISBLANK(BCU400_Database!E661),\"\",BCU400_Database!E661)","v":""},""]
[{"$f":"IF(ISBLANK(BCU400_Database!B662),\"\",BCU400_Database!B662)","v":""},{"$f":"IF(ISBLANK(BCU400_Database!C662),\"\",BCU400_Database!C662)","v":""},{"$f":"IF(ISBLANK(BCU400_Database!D662),\"\",BCU400_Database!D662)","v":""},{"$f":"IF(ISBLANK(BCU400_Database!E662),\"\",BCU400_Database!E662)","v":""},""]
[{"$f":"IF(ISBLANK(BCU400_Database!B663),\"\",BCU400_Database!B663)","v":""},{"$f":"IF(ISBLANK(BCU400_Database!C663),\"\",BCU400_Database!C663)","v":""},{"$f":"IF(ISBLANK(BCU400_Database!D663),\"\",BCU400_Database!D663)","v":""},{"$f":"IF(ISBLANK(BCU400_Database!E663),\"\",BCU400_Database!E663)","v":""},""]
[{"$f":"IF(ISBLANK(BCU400_Database!B664),\"\",BCU400_Database!B664)","v":""},{"$f":"IF(ISBLANK(BCU400_Database!C664),\"\",BCU400_Database!C664)","v":""},{"$f":"IF(ISBLANK(BCU400_Database!D664),\"\",BCU400_Database!D664)","v":""},{"$f":"IF(ISBLANK(BCU400_Database!E664),\"\",BCU400_Database!E664)","v":""},""]
[{"$f":"IF(ISBLANK(BCU400_Database!B665),\"\",BCU400_Database!B665)","v":""},{"$f":"IF(ISBLANK(BCU400_Database!C665),\"\",BCU400_Database!C665)","v":""},{"$f":"IF(ISBLANK(BCU400_Database!D665),\"\",BCU400_Database!D665)","v":""},{"$f":"IF(ISBLANK(BCU400_Database!E665),\"\",BCU400_Database!E665)","v":""},""]
[{"$f":"IF(ISBLANK(BCU400_Database!B666),\"\",BCU400_Database!B666)","v":""},{"$f":"IF(ISBLANK(BCU400_Database!C666),\"\",BCU400_Database!C666)","v":""},{"$f":"IF(ISBLANK(BCU400_Database!D666),\"\",BCU400_Database!D666)","v":""},{"$f":"IF(ISBLANK(BCU400_Database!E666),\"\",BCU400_Database!E666)","v":""},""]
[{"$f":"IF(ISBLANK(BCU400_Database!B667),\"\",BCU400_Database!B667)","v":""},{"$f":"IF(ISBLANK(BCU400_Database!C667),\"\",BCU400_Database!C667)","v":""},{"$f":"IF(ISBLANK(BCU400_Database!D667),\"\",BCU400_Database!D667)","v":""},{"$f":"IF(ISBLANK(BCU400_Database!E667),\"\",BCU400_Database!E667)","v":""},""]
[{"$f":"IF(ISBLANK(BCU400_Database!B668),\"\",BCU400_Database!B668)","v":""},{"$f":"IF(ISBLANK(BCU400_Database!C668),\"\",BCU400_Database!C668)","v":""},{"$f":"IF(ISBLANK(BCU400_Database!D668),\"\",BCU400_Database!D668)","v":""},{"$f":"IF(ISBLANK(BCU400_Database!E668),\"\",BCU400_Database!E668)","v":""},""]
[{"$f":"IF(ISBLANK(BCU400_Database!B669),\"\",BCU400_Database!B669)","v":""},{"$f":"IF(ISBLANK(BCU400_Database!C669),\"\",BCU400_Database!C669)","v":""},{"$f":"IF(ISBLANK(BCU400_Database!D669),\"\",BCU400_Database!D669)","v":""},{"$f":"IF(ISBLANK(BCU400_Database!E669),\"\",BCU400_Database!E669)","v":""},""]
[{"$f":"IF(ISBLANK(BCU400_Database!B670),\"\",BCU400_Database!B670)","v":""},{"$f":"IF(ISBLANK(BCU400_Database!C670),\"\",BCU400_Database!C670)","v":""},{"$f":"IF(ISBLANK(BCU400_Database!D670),\"\",BCU400_Database!D670)","v":""},{"$f":"IF(ISBLANK(BCU400_Database!E670),\"\",BCU400_Database!E670)","v":""},""]
[{"$f":"IF(ISBLANK(BCU400_Database!B671),\"\",BCU400_Database!B671)","v":""},{"$f":"IF(ISBLANK(BCU400_Database!C671),\"\",BCU400_Database!C671)","v":""},{"$f":"IF(ISBLANK(BCU400_Database!D671),\"\",BCU400_Database!D671)","v":""},{"$f":"IF(ISBLANK(BCU400_Database!E671),\"\",BCU400_Database!E671)","v":""},""]
[{"$f":"IF(ISBLANK(BCU400_Database!B672),\"\",BCU400_Database!B672)","v":""},{"$f":"IF(ISBLANK(BCU400_Database!C672),\"\",BCU400_Database!C672)","v":""},{"$f":"IF(ISBLANK(BCU400_Database!D672),\"\",BCU400_Database!D672)","v":""},{"$f":"IF(ISBLANK(BCU400_Database!E672),\"\",BCU400_Database!E672)","v":""},""]
[{"$f":"IF(ISBLANK(BCU400_Database!B673),\"\",BCU400_Database!B673)","v":""},{"$f":"IF(ISBLANK(BCU400_Database!C673),\"\",BCU400_Database!C673)","v":""},{"$f":"IF(ISBLANK(BCU400_Database!D673),\"\",BCU400_Database!D673)","v":""},{"$f":"IF(ISBLANK(BCU400_Database!E673),\"\",BCU400_Database!E673)","v":""},""]
[{"$f":"IF(ISBLANK(BCU400_Database!B674),\"\",BCU400_Database!B674)","v":""},{"$f":"IF(ISBLANK(BCU400_Database!C674),\"\",BCU400_Database!C674)","v":""},{"$f":"IF(ISBLANK(BCU400_Database!D674),\"\",BCU400_Database!D674)","v":""},{"$f":"IF(ISBLANK(BCU400_Database!E674),\"\",BCU400_Database!E674)","v":""},""]
[{"$f":"IF(ISBLANK(BCU400_Database!B675),\"\",BCU400_Database!B675)","v":""},{"$f":"IF(ISBLANK(BCU400_Database!C675),\"\",BCU400_Database!C675)","v":""},{"$f":"IF(ISBLANK(BCU400_Database!D675),\"\",BCU400_Database!D675)","v":""},{"$f":"IF(ISBLANK(BCU400_Database!E675),\"\",BCU400_Database!E675)","v":""},""]
[{"$f":"IF(ISBLANK(BCU400_Database!B676),\"\",BCU400_Database!B676)","v":""},{"$f":"IF(ISBLANK(BCU400_Database!C676),\"\",BCU400_Database!C676)","v":""},{"$f":"IF(ISBLANK(BCU400_Database!D676),\"\",BCU400_Database!D676)","v":""},{"$f":"IF(ISBLANK(BCU400_Database!E676),\"\",BCU400_Database!E676)","v":""},""]
[{"$f":"IF(ISBLANK(BCU400_Database!B677),\"\",BCU400_Database!B677)","v":""},{"$f":"IF(ISBLANK(BCU400_Database!C677),\"\",BCU400_Database!C677)","v":""},{"$f":"IF(ISBLANK(BCU400_Database!D677),\"\",BCU400_Database!D677)","v":""},{"$f":"IF(ISBLANK(BCU400_Database!E677),\"\",BCU400_Database!E677)","v":""},""]
[{"$f":"IF(ISBLANK(BCU400_Database!B678),\"\",BCU400_Database!B678)","v":""},{"$f":"IF(ISBLANK(BCU400_Database!C678),\"\",BCU400_Database!C678)","v":""},{"$f":"IF(ISBLANK(BCU400_Database!D678),\"\",BCU400_Database!D678)","v":""},{"$f":"IF(ISBLANK(BCU400_Database!E678),\"\",BCU400_Database!E678)","v":""},""]
[{"$f":"IF(ISBLANK(BCU400_Database!B679),\"\",BCU400_Database!B679)","v":""},{"$f":"IF(ISBLANK(BCU400_Database!C679),\"\",BCU400_Database!C679)","v":""},{"$f":"IF(ISBLANK(BCU400_Database!D679),\"\",BCU400_Database!D679)","v":""},{"$f":"IF(ISBLANK(BCU400_Database!E679),\"\",BCU400_Database!E679)","v":""},""]
[{"$f":"IF(ISBLANK(BCU400_Database!B680),\"\",BCU400_Database!B680)","v":""},{"$f":"IF(ISBLANK(BCU400_Database!C680),\"\",BCU400_Database!C680)","v":""},{"$f":"IF(ISBLANK(BCU400_Database!D680),\"\",BCU400_Database!D680)","v":""},{"$f":"IF(ISBLANK(BCU400_Database!E680),\"\",BCU400_Database!E680)","v":""},""]
[{"$f":"IF(ISBLANK(BCU400_Database!B681),\"\",BCU400_Database!B681)","v":""},{"$f":"IF(ISBLANK(BCU400_Database!C681),\"\",BCU400_Database!C681)","v":""},{"$f":"IF(ISBLANK(BCU400_Database!D681),\"\",BCU400_Database!D681)","v":""},{"$f":"IF(ISBLANK(BCU400_Database!E681),\"\",BCU400_Database!E681)","v":""},""]
[{"$f":"IF(ISBLANK(BCU400_Database!B682),\"\",BCU400_Database!B682)","v":""},{"$f":"IF(ISBLANK(BCU400_Database!C682),\"\",BCU400_Database!C682)","v":""},{"$f":"IF(ISBLANK(BCU400_Database!D682),\"\",BCU400_Database!D682)","v":""},{"$f":"IF(ISBLANK(BCU400_Database!E682),\"\",BCU400_Database!E682)","v":""},""]
[{"$f":"IF(ISBLANK(BCU400_Database!B683),\"\",BCU400_Database!B683)","v":""},{"$f":"IF(ISBLANK(BCU400_Database!C683),\"\",BCU400_Database!C683)","v":""},{"$f":"IF(ISBLANK(BCU400_Database!D683),\"\",BCU400_Database!D683)","v":""},{"$f":"IF(ISBLANK(BCU400_Database!E683),\"\",BCU400_Database!E683)","v":""},""]
[{"$f":"IF(ISBLANK(BCU400_Database!B684),\"\",BCU400_Database!B684)","v":""},{"$f":"IF(ISBLANK(BCU400_Database!C684),\"\",BCU400_Database!C684)","v":""},{"$f":"IF(ISBLANK(BCU400_Database!D684),\"\",BCU400_Database!D684)","v":""},{"$f":"IF(ISBLANK(BCU400_Database!E684),\"\",BCU400_Database!E684)","v":""},""]
[{"$f":"IF(ISBLANK(BCU400_Database!B685),\"\",BCU400_Database!B685)","v":""},{"$f":"IF(ISBLANK(BCU400_Database!C685),\"\",BCU400_Database!C685)","v":""},{"$f":"IF(ISBLANK(BCU400_Database!D685),\"\",BCU400_Database!D685)","v":""},{"$f":"IF(ISBLANK(BCU400_Database!E685),\"\",BCU400_Database!E685)","v":""},""]
[{"$f":"IF(ISBLANK(BCU400_Database!B686),\"\",BCU400_Database!B686)","v":""},{"$f":"IF(ISBLANK(BCU400_Database!C686),\"\",BCU400_Database!C686)","v":""},{"$f":"IF(ISBLANK(BCU400_Database!D686),\"\",BCU400_Database!D686)","v":""},{"$f":"IF(ISBLANK(BCU400_Database!E686),\"\",BCU400_Database!E686)","v":""},""]
[{"$f":"IF(ISBLANK(BCU400_Database!B687),\"\",BCU400_Database!B687)","v":""},{"$f":"IF(ISBLANK(BCU400_Database!C687),\"\",BCU400_Database!C687)","v":""},{"$f":"IF(ISBLANK(BCU400_Database!D687),\"\",BCU400_Database!D687)","v":""},{"$f":"IF(ISBLANK(BCU400_Database!E687),\"\",BCU400_Database!E687)","v":""},""]
[{"$f":"IF(ISBLANK(BCU400_Database!B688),\"\",BCU400_Database!B688)","v":""},{"$f":"IF(ISBLANK(BCU400_Database!C688),\"\",BCU400_Database!C688)","v":""},{"$f":"IF(ISBLANK(BCU400_Database!D688),\"\",BCU400_Database!D688)","v":""},{"$f":"IF(ISBLANK(BCU400_Database!E688),\"\",BCU400_Database!E688)","v":""},""]
[{"$f":"IF(ISBLANK(BCU400_Database!B689),\"\",BCU400_Database!B689)","v":""},{"$f":"IF(ISBLANK(BCU400_Database!C689),\"\",BCU400_Database!C689)","v":""},{"$f":"IF(ISBLANK(BCU400_Database!D689),\"\",BCU400_Database!D689)","v":""},{"$f":"IF(ISBLANK(BCU400_Database!E689),\"\",BCU400_Database!E689)","v":""},""]
[{"$f":"IF(ISBLANK(BCU400_Database!B690),\"\",BCU400_Database!B690)","v":""},{"$f":"IF(ISBLANK(BCU400_Database!C690),\"\",BCU400_Database!C690)","v":""},{"$f":"IF(ISBLANK(BCU400_Database!D690),\"\",BCU400_Database!D690)","v":""},{"$f":"IF(ISBLANK(BCU400_Database!E690),\"\",BCU400_Database!E690)","v":""},""]
[{"$f":"IF(ISBLANK(BCU400_Database!B691),\"\",BCU400_Database!B691)","v":""},{"$f":"IF(ISBLANK(BCU400_Database!C691),\"\",BCU400_Database!C691)","v":""},{"$f":"IF(ISBLANK(BCU400_Database!D691),\"\",BCU400_Database!D691)","v":""},{"$f":"IF(ISBLANK(BCU400_Database!E691),\"\",BCU400_Database!E691)","v":""},""]
[{"$f":"IF(ISBLANK(BCU400_Database!B692),\"\",BCU400_Database!B692)","v":""},{"$f":"IF(ISBLANK(BCU400_Database!C692),\"\",BCU400_Database!C692)","v":""},{"$f":"IF(ISBLANK(BCU400_Database!D692),\"\",BCU400_Database!D692)","v":""},{"$f":"IF(ISBLANK(BCU400_Database!E692),\"\",BCU400_Database!E692)","v":""},""]
[{"$f":"IF(ISBLANK(BCU400_Database!B693),\"\",BCU400_Database!B693)","v":""},{"$f":"IF(ISBLANK(BCU400_Database!C693),\"\",BCU400_Database!C693)","v":""},{"$f":"IF(ISBLANK(BCU400_Database!D693),\"\",BCU400_Database!D693)","v":""},{"$f":"IF(ISBLANK(BCU400_Database!E693),\"\",BCU400_Database!E693)","v":""},""]
[{"$f":"IF(ISBLANK(BCU400_Database!B694),\"\",BCU400_Database!B694)","v":""},{"$f":"IF(ISBLANK(BCU400_Database!C694),\"\",BCU400_Database!C694)","v":""},{"$f":"IF(ISBLANK(BCU400_Database!D694),\"\",BCU400_Database!D694)","v":""},{"$f":"IF(ISBLANK(BCU400_Database!E694),\"\",BCU400_Database!E694)","v":""},""]
[{"$f":"IF(ISBLANK(BCU400_Database!B695),\"\",BCU400_Database!B695)","v":""},{"$f":"IF(ISBLANK(BCU400_Database!C695),\"\",BCU400_Database!C695)","v":""},{"$f":"IF(ISBLANK(BCU400_Database!D695),\"\",BCU400_Database!D695)","v":""},{"$f":"IF(ISBLANK(BCU400_Database!E695),\"\",BCU400_Database!E695)","v":""},""]
[{"$f":"IF(ISBLANK(BCU400_Database!B696),\"\",BCU400_Database!B696)","v":""},{"$f":"IF(ISBLANK(BCU400_Database!C696),\"\",BCU400_Database!C696)","v":""},{"$f":"IF(ISBLANK(BCU400_Database!D696),\"\",BCU400_Database!D696)","v":""},{"$f":"IF(ISBLANK(BCU400_Database!E696),\"\",BCU400_Database!E696)","v":""},{"$f":"B643","v":""}]
[{"$f":"IF(ISBLANK(BCU400_Database!B697),\"\",BCU400_Database!B697)","v":""},{"$f":"IF(ISBLANK(BCU400_Database!C697),\"\",BCU400_Database!C697)","v":""},{"$f":"IF(ISBLANK(BCU400_Database!D697),\"\",BCU400_Database!D697)","v":""},{"$f":"IF(ISBLANK(BCU400_Database!E697),\"\",BCU400_Database!E697)","v":""},""]
[{"$f":"IF(ISBLANK(BCU400_Database!B698),\"\",BCU400_Database!B698)","v":""},{"$f":"IF(ISBLANK(BCU400_Database!C698),\"\",BCU400_Database!C698)","v":""},{"$f":"IF(ISBLANK(BCU400_Database!D698),\"\",BCU400_Database!D698)","v":""},{"$f":"IF(ISBLANK(BCU400_Database!E698),\"\",BCU400_Database!E698)","v":""},""]
[{"$f":"IF(ISBLANK(BCU400_Database!B699),\"\",BCU400_Database!B699)","v":""},{"$f":"IF(ISBLANK(BCU400_Database!C699),\"\",BCU400_Database!C699)","v":""},{"$f":"IF(ISBLANK(BCU400_Database!D699),\"\",BCU400_Database!D699)","v":""},{"$f":"IF(ISBLANK(BCU400_Database!E699),\"\",BCU400_Database!E699)","v":""},""]
[{"$f":"IF(ISBLANK(BCU400_Database!B700),\"\",BCU400_Database!B700)","v":""},{"$f":"IF(ISBLANK(BCU400_Database!C700),\"\",BCU400_Database!C700)","v":""},{"$f":"IF(ISBLANK(BCU400_Database!D700),\"\",BCU400_Database!D700)","v":""},{"$f":"IF(ISBLANK(BCU400_Database!E700),\"\",BCU400_Database!E700)","v":""},""]
[{"$f":"IF(ISBLANK(BCU400_Database!B701),\"\",BCU400_Database!B701)","v":""},{"$f":"IF(ISBLANK(BCU400_Database!C701),\"\",BCU400_Database!C701)","v":""},{"$f":"IF(ISBLANK(BCU400_Database!D701),\"\",BCU400_Database!D701)","v":""},{"$f":"IF(ISBLANK(BCU400_Database!E701),\"\",BCU400_Database!E701)","v":""},""]
[{"$f":"IF(ISBLANK(BCU400_Database!B702),\"\",BCU400_Database!B702)","v":""},{"$f":"IF(ISBLANK(BCU400_Database!C702),\"\",BCU400_Database!C702)","v":""},{"$f":"IF(ISBLANK(BCU400_Database!D702),\"\",BCU400_Database!D702)","v":""},{"$f":"IF(ISBLANK(BCU400_Database!E702),\"\",BCU400_Database!E702)","v":""},""]
[{"$f":"IF(ISBLANK(BCU400_Database!B703),\"\",BCU400_Database!B703)","v":""},{"$f":"IF(ISBLANK(BCU400_Database!C703),\"\",BCU400_Database!C703)","v":""},{"$f":"IF(ISBLANK(BCU400_Database!D703),\"\",BCU400_Database!D703)","v":""},{"$f":"IF(ISBLANK(BCU400_Database!E703),\"\",BCU400_Database!E703)","v":""},""]
[{"$f":"IF(ISBLANK(BCU400_Database!B704),\"\",BCU400_Database!B704)","v":""},{"$f":"IF(ISBLANK(BCU400_Database!C704),\"\",BCU400_Database!C704)","v":""},{"$f":"IF(ISBLANK(BCU400_Database!D704),\"\",BCU400_Database!D704)","v":""},{"$f":"IF(ISBLANK(BCU400_Database!E704),\"\",BCU400_Database!E704)","v":""},""]
[{"$f":"IF(ISBLANK(BCU400_Database!B705),\"\",BCU400_Database!B705)","v":""},{"$f":"IF(ISBLANK(BCU400_Database!C705),\"\",BCU400_Database!C705)","v":""},{"$f":"IF(ISBLANK(BCU400_Database!D705),\"\",BCU400_Database!D705)","v":""},{"$f":"IF(ISBLANK(BCU400_Database!E705),\"\",BCU400_Database!E705)","v":""},""]
[{"$f":"IF(ISBLANK(BCU400_Database!B706),\"\",BCU400_Database!B706)","v":""},{"$f":"IF(ISBLANK(BCU400_Database!C706),\"\",BCU400_Database!C706)","v":""},{"$f":"IF(ISBLANK(BCU400_Database!D706),\"\",BCU400_Database!D706)","v":""},{"$f":"IF(ISBLANK(BCU400_Database!E706),\"\",BCU400_Database!E706)","v":""},""]
[{"$f":"IF(ISBLANK(BCU400_Database!B707),\"\",BCU400_Database!B707)","v":""},{"$f":"IF(ISBLANK(BCU400_Database!C707),\"\",BCU400_Database!C707)","v":""},{"$f":"IF(ISBLANK(BCU400_Database!D707),\"\",BCU400_Database!D707)","v":""},{"$f":"IF(ISBLANK(BCU400_Database!E707),\"\",BCU400_Database!E707)","v":""},""]
[{"$f":"IF(ISBLANK(BCU400_Database!B708),\"\",BCU400_Database!B708)","v":""},{"$f":"IF(ISBLANK(BCU400_Database!C708),\"\",BCU400_Database!C708)","v":""},{"$f":"IF(ISBLANK(BCU400_Database!D708),\"\",BCU400_Database!D708)","v":""},{"$f":"IF(ISBLANK(BCU400_Database!E708),\"\",BCU400_Database!E708)","v":""},""]
[{"$f":"IF(ISBLANK(BCU400_Database!B709),\"\",BCU400_Database!B709)","v":""},{"$f":"IF(ISBLANK(BCU400_Database!C709),\"\",BCU400_Database!C709)","v":""},{"$f":"IF(ISBLANK(BCU400_Database!D709),\"\",BCU400_Database!D709)","v":""},{"$f":"IF(ISBLANK(BCU400_Database!E709),\"\",BCU400_Database!E709)","v":""},""]
[{"$f":"IF(ISBLANK(BCU400_Database!B710),\"\",BCU400_Database!B710)","v":""},{"$f":"IF(ISBLANK(BCU400_Database!C710),\"\",BCU400_Database!C710)","v":""},{"$f":"IF(ISBLANK(BCU400_Database!D710),\"\",BCU400_Database!D710)","v":""},{"$f":"IF(ISBLANK(BCU400_Database!E710),\"\",BCU400_Database!E710)","v":""},""]
[{"$f":"IF(ISBLANK(BCU400_Database!B711),\"\",BCU400_Database!B711)","v":""},{"$f":"IF(ISBLANK(BCU400_Database!C711),\"\",BCU400_Database!C711)","v":""},{"$f":"IF(ISBLANK(BCU400_Database!D711),\"\",BCU400_Database!D711)","v":""},{"$f":"IF(ISBLANK(BCU400_Database!E711),\"\",BCU400_Database!E711)","v":""},""]
[{"$f":"IF(ISBLANK(BCU400_Database!B712),\"\",BCU400_Database!B712)","v":""},{"$f":"IF(ISBLANK(BCU400_Database!C712),\"\",BCU400_Database!C712)","v":""},{"$f":"IF(ISBLANK(BCU400_Database!D712),\"\",BCU400_Database!D712)","v":""},{"$f":"IF(ISBLANK(BCU400_Database!E712),\"\",BCU400_Database!E712)","v":""},""]
[{"$f":"IF(ISBLANK(BCU400_Database!B713),\"\",BCU400_Database!B713)","v":""},{"$f":"IF(ISBLANK(BCU400_Database!C713),\"\",BCU400_Database!C713)","v":""},{"$f":"IF(ISBLANK(BCU400_Database!D713),\"\",BCU400_Database!D713)","v":""},{"$f":"IF(ISBLANK(BCU400_Database!E713),\"\",BCU400_Database!E713)","v":""},""]
[{"$f":"IF(ISBLANK(BCU400_Database!B714),\"\",BCU400_Database!B714)","v":""},{"$f":"IF(ISBLANK(BCU400_Database!C714),\"\",BCU400_Database!C714)","v":""},{"$f":"IF(ISBLANK(BCU400_Database!D714),\"\",BCU400_Database!D714)","v":""},{"$f":"IF(ISBLANK(BCU400_Database!E714),\"\",BCU400_Database!E714)","v":""},""]
[{"$f":"IF(ISBLANK(BCU400_Database!B715),\"\",BCU400_Database!B715)","v":""},{"$f":"IF(ISBLANK(BCU400_Database!C715),\"\",BCU400_Database!C715)","v":""},{"$f":"IF(ISBLANK(BCU400_Database!D715),\"\",BCU400_Database!D715)","v":""},{"$f":"IF(ISBLANK(BCU400_Database!E715),\"\",BCU400_Database!E715)","v":""},""]
[{"$f":"IF(ISBLANK(BCU400_Database!B716),\"\",BCU400_Database!B716)","v":""},{"$f":"IF(ISBLANK(BCU400_Database!C716),\"\",BCU400_Database!C716)","v":""},{"$f":"IF(ISBLANK(BCU400_Database!D716),\"\",BCU400_Database!D716)","v":""},{"$f":"IF(ISBLANK(BCU400_Database!E716),\"\",BCU400_Database!E716)","v":""},""]
[{"$f":"IF(ISBLANK(BCU400_Database!B717),\"\",BCU400_Database!B717)","v":""},{"$f":"IF(ISBLANK(BCU400_Database!C717),\"\",BCU400_Database!C717)","v":""},{"$f":"IF(ISBLANK(BCU400_Database!D717),\"\",BCU400_Database!D717)","v":""},{"$f":"IF(ISBLANK(BCU400_Database!E717),\"\",BCU400_Database!E717)","v":""},""]
[{"$f":"IF(ISBLANK(BCU400_Database!B718),\"\",BCU400_Database!B718)","v":""},{"$f":"IF(ISBLANK(BCU400_Database!C718),\"\",BCU400_Database!C718)","v":""},{"$f":"IF(ISBLANK(BCU400_Database!D718),\"\",BCU400_Database!D718)","v":""},{"$f":"IF(ISBLANK(BCU400_Database!E718),\"\",BCU400_Database!E718)","v":""},""]
[{"$f":"IF(ISBLANK(BCU400_Database!B719),\"\",BCU400_Database!B719)","v":""},{"$f":"IF(ISBLANK(BCU400_Database!C719),\"\",BCU400_Database!C719)","v":""},{"$f":"IF(ISBLANK(BCU400_Database!D719),\"\",BCU400_Database!D719)","v":""},{"$f":"IF(ISBLANK(BCU400_Database!E719),\"\",BCU400_Database!E719)","v":""},""]
[{"$f":"IF(ISBLANK(BCU400_Database!B720),\"\",BCU400_Database!B720)","v":""},{"$f":"IF(ISBLANK(BCU400_Database!C720),\"\",BCU400_Database!C720)","v":""},{"$f":"IF(ISBLANK(BCU400_Database!D720),\"\",BCU400_Database!D720)","v":""},{"$f":"IF(ISBLANK(BCU400_Database!E720),\"\",BCU400_Database!E720)","v":""},""]
[{"$f":"IF(ISBLANK(BCU400_Database!B721),\"\",BCU400_Database!B721)","v":""},{"$f":"IF(ISBLANK(BCU400_Database!C721),\"\",BCU400_Database!C721)","v":""},{"$f":"IF(ISBLANK(BCU400_Database!D721),\"\",BCU400_Database!D721)","v":""},{"$f":"IF(ISBLANK(BCU400_Database!E721),\"\",BCU400_Database!E721)","v":""},""]
[{"$f":"IF(ISBLANK(BCU400_Database!B722),\"\",BCU400_Database!B722)","v":""},{"$f":"IF(ISBLANK(BCU400_Database!C722),\"\",BCU400_Database!C722)","v":""},{"$f":"IF(ISBLANK(BCU400_Database!D722),\"\",BCU400_Database!D722)","v":""},{"$f":"IF(ISBLANK(BCU400_Database!E722),\"\",BCU400_Database!E722)","v":""},""]
[{"$f":"IF(ISBLANK(BCU400_Database!B723),\"\",BCU400_Database!B723)","v":""},{"$f":"IF(ISBLANK(BCU400_Database!C723),\"\",BCU400_Database!C723)","v":""},{"$f":"IF(ISBLANK(BCU400_Database!D723),\"\",BCU400_Database!D723)","v":""},{"$f":"IF(ISBLANK(BCU400_Database!E723),\"\",BCU400_Database!E723)","v":""},""]
[{"$f":"IF(ISBLANK(BCU400_Database!B724),\"\",BCU400_Database!B724)","v":""},{"$f":"IF(ISBLANK(BCU400_Database!C724),\"\",BCU400_Database!C724)","v":""},{"$f":"IF(ISBLANK(BCU400_Database!D724),\"\",BCU400_Database!D724)","v":""},{"$f":"IF(ISBLANK(BCU400_Database!E724),\"\",BCU400_Database!E724)","v":""},""]
[{"$f":"IF(ISBLANK(BCU400_Database!B725),\"\",BCU400_Database!B725)","v":""},{"$f":"IF(ISBLANK(BCU400_Database!C725),\"\",BCU400_Database!C725)","v":""},{"$f":"IF(ISBLANK(BCU400_Database!D725),\"\",BCU400_Database!D725)","v":""},{"$f":"IF(ISBLANK(BCU400_Database!E725),\"\",BCU400_Database!E725)","v":""},""]
[{"$f":"IF(ISBLANK(BCU400_Database!B726),\"\",BCU400_Database!B726)","v":""},{"$f":"IF(ISBLANK(BCU400_Database!C726),\"\",BCU400_Database!C726)","v":""},{"$f":"IF(ISBLANK(BCU400_Database!D726),\"\",BCU400_Database!D726)","v":""},{"$f":"IF(ISBLANK(BCU400_Database!E726),\"\",BCU400_Database!E726)","v":""},""]
[{"$f":"IF(ISBLANK(BCU400_Database!B727),\"\",BCU400_Database!B727)","v":""},{"$f":"IF(ISBLANK(BCU400_Database!C727),\"\",BCU400_Database!C727)","v":""},{"$f":"IF(ISBLANK(BCU400_Database!D727),\"\",BCU400_Database!D727)","v":""},{"$f":"IF(ISBLANK(BCU400_Database!E727),\"\",BCU400_Database!E727)","v":""},""]
[{"$f":"IF(ISBLANK(BCU400_Database!B728),\"\",BCU400_Database!B728)","v":""},{"$f":"IF(ISBLANK(BCU400_Database!C728),\"\",BCU400_Database!C728)","v":""},{"$f":"IF(ISBLANK(BCU400_Database!D728),\"\",BCU400_Database!D728)","v":""},{"$f":"IF(ISBLANK(BCU400_Database!E728),\"\",BCU400_Database!E728)","v":""},""]
[{"$f":"IF(ISBLANK(BCU400_Database!B729),\"\",BCU400_Database!B729)","v":""},{"$f":"IF(ISBLANK(BCU400_Database!C729),\"\",BCU400_Database!C729)","v":""},{"$f":"IF(ISBLANK(BCU400_Database!D729),\"\",BCU400_Database!D729)","v":""},{"$f":"IF(ISBLANK(BCU400_Database!E729),\"\",BCU400_Database!E729)","v":""},""]
[{"$f":"IF(ISBLANK(BCU400_Database!B730),\"\",BCU400_Database!B730)","v":""},{"$f":"IF(ISBLANK(BCU400_Database!C730),\"\",BCU400_Database!C730)","v":""},{"$f":"IF(ISBLANK(BCU400_Database!D730),\"\",BCU400_Database!D730)","v":""},{"$f":"IF(ISBLANK(BCU400_Database!E730),\"\",BCU400_Database!E730)","v":""},""]
[{"$f":"IF(ISBLANK(BCU400_Database!B731),\"\",BCU400_Database!B731)","v":""},{"$f":"IF(ISBLANK(BCU400_Database!C731),\"\",BCU400_Database!C731)","v":""},{"$f":"IF(ISBLANK(BCU400_Database!D731),\"\",BCU400_Database!D731)","v":""},{"$f":"IF(ISBLANK(BCU400_Database!E731),\"\",BCU400_Database!E731)","v":""},""]
[{"$f":"IF(ISBLANK(BCU400_Database!B732),\"\",BCU400_Database!B732)","v":""},{"$f":"IF(ISBLANK(BCU400_Database!C732),\"\",BCU400_Database!C732)","v":""},{"$f":"IF(ISBLANK(BCU400_Database!D732),\"\",BCU400_Database!D732)","v":""},{"$f":"IF(ISBLANK(BCU400_Database!E732),\"\",BCU400_Database!E732)","v":""},""]
[{"$f":"IF(ISBLANK(BCU400_Database!B733),\"\",BCU400_Database!B733)","v":""},{"$f":"IF(ISBLANK(BCU400_Database!C733),\"\",BCU400_Database!C733)","v":""},{"$f":"IF(ISBLANK(BCU400_Database!D733),\"\",BCU400_Database!D733)","v":""},{"$f":"IF(ISBLANK(BCU400_Database!E733),\"\",BCU400_Database!E733)","v":""},""]
[{"$f":"IF(ISBLANK(BCU400_Database!B734),\"\",BCU400_Database!B734)","v":""},{"$f":"IF(ISBLANK(BCU400_Database!C734),\"\",BCU400_Database!C734)","v":""},{"$f":"IF(ISBLANK(BCU400_Database!D734),\"\",BCU400_Database!D734)","v":""},{"$f":"IF(ISBLANK(BCU400_Database!E734),\"\",BCU400_Database!E734)","v":""},""]
[{"$f":"IF(ISBLANK(BCU400_Database!B735),\"\",BCU400_Database!B735)","v":""},{"$f":"IF(ISBLANK(BCU400_Database!C735),\"\",BCU400_Database!C735)","v":""},{"$f":"IF(ISBLANK(BCU400_Database!D735),\"\",BCU400_Database!D735)","v":""},{"$f":"IF(ISBLANK(BCU400_Database!E735),\"\",BCU400_Database!E735)","v":""},""]
[{"$f":"IF(ISBLANK(BCU400_Database!B736),\"\",BCU400_Database!B736)","v":""},{"$f":"IF(ISBLANK(BCU400_Database!C736),\"\",BCU400_Database!C736)","v":""},{"$f":"IF(ISBLANK(BCU400_Database!D736),\"\",BCU400_Database!D736)","v":""},{"$f":"IF(ISBLANK(BCU400_Database!E736),\"\",BCU400_Database!E736)","v":""},""]
[{"$f":"IF(ISBLANK(BCU400_Database!B737),\"\",BCU400_Database!B737)","v":""},{"$f":"IF(ISBLANK(BCU400_Database!C737),\"\",BCU400_Database!C737)","v":""},{"$f":"IF(ISBLANK(BCU400_Database!D737),\"\",BCU400_Database!D737)","v":""},{"$f":"IF(ISBLANK(BCU400_Database!E737),\"\",BCU400_Database!E737)","v":""},""]
[{"$f":"IF(ISBLANK(BCU400_Database!B738),\"\",BCU400_Database!B738)","v":""},{"$f":"IF(ISBLANK(BCU400_Database!C738),\"\",BCU400_Database!C738)","v":""},{"$f":"IF(ISBLANK(BCU400_Database!D738),\"\",BCU400_Database!D738)","v":""},{"$f":"IF(ISBLANK(BCU400_Database!E738),\"\",BCU400_Database!E738)","v":""},""]
[{"$f":"IF(ISBLANK(BCU400_Database!B739),\"\",BCU400_Database!B739)","v":""},{"$f":"IF(ISBLANK(BCU400_Database!C739),\"\",BCU400_Database!C739)","v":""},{"$f":"IF(ISBLANK(BCU400_Database!D739),\"\",BCU400_Database!D739)","v":""},{"$f":"IF(ISBLANK(BCU400_Database!E739),\"\",BCU400_Database!E739)","v":""},""]
[{"$f":"IF(ISBLANK(BCU400_Database!B740),\"\",BCU400_Database!B740)","v":""},{"$f":"IF(ISBLANK(BCU400_Database!C740),\"\",BCU400_Database!C740)","v":""},{"$f":"IF(ISBLANK(BCU400_Database!D740),\"\",BCU400_Database!D740)","v":""},{"$f":"IF(ISBLANK(BCU400_Database!E740),\"\",BCU400_Database!E740)","v":""},""]
[{"$f":"IF(ISBLANK(BCU400_Database!B741),\"\",BCU400_Database!B741)","v":""},{"$f":"IF(ISBLANK(BCU400_Database!C741),\"\",BCU400_Database!C741)","v":""},{"$f":"IF(ISBLANK(BCU400_Database!D741),\"\",BCU400_Database!D741)","v":""},{"$f":"IF(ISBLANK(BCU400_Database!E741),\"\",BCU400_Database!E741)","v":""},""]
[{"$f":"IF(ISBLANK(BCU400_Database!B742),\"\",BCU400_Database!B742)","v":""},{"$f":"IF(ISBLANK(BCU400_Database!C742),\"\",BCU400_Database!C742)","v":""},{"$f":"IF(ISBLANK(BCU400_Database!D742),\"\",BCU400_Database!D742)","v":""},{"$f":"IF(ISBLANK(BCU400_Database!E742),\"\",BCU400_Database!E742)","v":""},""]
[{"$f":"IF(ISBLANK(BCU400_Database!B743),\"\",BCU400_Database!B743)","v":""},{"$f":"IF(ISBLANK(BCU400_Database!C743),\"\",BCU400_Database!C743)","v":""},{"$f":"IF(ISBLANK(BCU400_Database!D743),\"\",BCU400_Database!D743)","v":""},{"$f":"IF(ISBLANK(BCU400_Database!E743),\"\",BCU400_Database!E743)","v":""},""]
[{"$f":"IF(ISBLANK(BCU400_Database!B744),\"\",BCU400_Database!B744)","v":""},{"$f":"IF(ISBLANK(BCU400_Database!C744),\"\",BCU400_Database!C744)","v":""},{"$f":"IF(ISBLANK(BCU400_Database!D744),\"\",BCU400_Database!D744)","v":""},{"$f":"IF(ISBLANK(BCU400_Database!E744),\"\",BCU400_Database!E744)","v":""},""]
[{"$f":"IF(ISBLANK(BCU400_Database!B745),\"\",BCU400_Database!B745)","v":""},{"$f":"IF(ISBLANK(BCU400_Database!C745),\"\",BCU400_Database!C745)","v":""},{"$f":"IF(ISBLANK(BCU400_Database!D745),\"\",BCU400_Database!D745)","v":""},{"$f":"IF(ISBLANK(BCU400_Database!E745),\"\",BCU400_Database!E745)","v":""},""]
[{"$f":"IF(ISBLANK(BCU400_Database!B746),\"\",BCU400_Database!B746)","v":""},{"$f":"IF(ISBLANK(BCU400_Database!C746),\"\",BCU400_Database!C746)","v":""},{"$f":"IF(ISBLANK(BCU400_Database!D746),\"\",BCU400_Database!D746)","v":""},{"$f":"IF(ISBLANK(BCU400_Database!E746),\"\",BCU400_Database!E746)","v":""},""]
[{"$f":"IF(ISBLANK(BCU400_Database!B747),\"\",BCU400_Database!B747)","v":""},{"$f":"IF(ISBLANK(BCU400_Database!C747),\"\",BCU400_Database!C747)","v":""},{"$f":"IF(ISBLANK(BCU400_Database!D747),\"\",BCU400_Database!D747)","v":""},{"$f":"IF(ISBLANK(BCU400_Database!E747),\"\",BCU400_Database!E747)","v":""},""]
[{"$f":"IF(ISBLANK(BCU400_Database!B748),\"\",BCU400_Database!B748)","v":""},{"$f":"IF(ISBLANK(BCU400_Database!C748),\"\",BCU400_Database!C748)","v":""},{"$f":"IF(ISBLANK(BCU400_Database!D748),\"\",BCU400_Database!D748)","v":""},{"$f":"IF(ISBLANK(BCU400_Database!E748),\"\",BCU400_Database!E748)","v":""},""]
[{"$f":"IF(ISBLANK(BCU400_Database!B749),\"\",BCU400_Database!B749)","v":""},{"$f":"IF(ISBLANK(BCU400_Database!C749),\"\",BCU400_Database!C749)","v":""},{"$f":"IF(ISBLANK(BCU400_Database!D749),\"\",BCU400_Database!D749)","v":""},{"$f":"IF(ISBLANK(BCU400_Database!E749),\"\",BCU400_Database!E749)","v":""},""]
[{"$f":"IF(ISBLANK(BCU400_Database!B750),\"\",BCU400_Database!B750)","v":""},{"$f":"IF(ISBLANK(BCU400_Database!C750),\"\",BCU400_Database!C750)","v":""},{"$f":"IF(ISBLANK(BCU400_Database!D750),\"\",BCU400_Database!D750)","v":""},{"$f":"IF(ISBLANK(BCU400_Database!E750),\"\",BCU400_Database!E750)","v":""},""]
[{"$f":"IF(ISBLANK(BCU400_Database!B751),\"\",BCU400_Database!B751)","v":""},{"$f":"IF(ISBLANK(BCU400_Database!C751),\"\",BCU400_Database!C751)","v":""},{"$f":"IF(ISBLANK(BCU400_Database!D751),\"\",BCU400_Database!D751)","v":""},{"$f":"IF(ISBLANK(BCU400_Database!E751),\"\",BCU400_Database!E751)","v":""},""]
[{"$f":"IF(ISBLANK(BCU400_Database!B752),\"\",BCU400_Database!B752)","v":""},{"$f":"IF(ISBLANK(BCU400_Database!C752),\"\",BCU400_Database!C752)","v":""},{"$f":"IF(ISBLANK(BCU400_Database!D752),\"\",BCU400_Database!D752)","v":""},{"$f":"IF(ISBLANK(BCU400_Database!E752),\"\",BCU400_Database!E752)","v":""},""]
[{"$f":"IF(ISBLANK(BCU400_Database!B753),\"\",BCU400_Database!B753)","v":""},{"$f":"IF(ISBLANK(BCU400_Database!C753),\"\",BCU400_Database!C753)","v":""},{"$f":"IF(ISBLANK(BCU400_Database!D753),\"\",BCU400_Database!D753)","v":""},{"$f":"IF(ISBLANK(BCU400_Database!E753),\"\",BCU400_Database!E753)","v":""},""]
[{"$f":"IF(ISBLANK(BCU400_Database!B754),\"\",BCU400_Database!B754)","v":""},{"$f":"IF(ISBLANK(BCU400_Database!C754),\"\",BCU400_Database!C754)","v":""},{"$f":"IF(ISBLANK(BCU400_Database!D754),\"\",BCU400_Database!D754)","v":""},{"$f":"IF(ISBLANK(BCU400_Database!E754),\"\",BCU400_Database!E754)","v":""},""]
[{"$f":"IF(ISBLANK(BCU400_Database!B755),\"\",BCU400_Database!B755)","v":""},{"$f":"IF(ISBLANK(BCU400_Database!C755),\"\",BCU400_Database!C755)","v":""},{"$f":"IF(ISBLANK(BCU400_Database!D755),\"\",BCU400_Database!D755)","v":""},{"$f":"IF(ISBLANK(BCU400_Database!E755),\"\",BCU400_Database!E755)","v":""},""]
[{"$f":"IF(ISBLANK(BCU400_Database!B756),\"\",BCU400_Database!B756)","v":""},{"$f":"IF(ISBLANK(BCU400_Database!C756),\"\",BCU400_Database!C756)","v":""},{"$f":"IF(ISBLANK(BCU400_Database!D756),\"\",BCU400_Database!D756)","v":""},{"$f":"IF(ISBLANK(BCU400_Database!E756),\"\",BCU400_Database!E756)","v":""},""]
[{"$f":"IF(ISBLANK(BCU400_Database!B757),\"\",BCU400_Database!B757)","v":""},{"$f":"IF(ISBLANK(BCU400_Database!C757),\"\",BCU400_Database!C757)","v":""},{"$f":"IF(ISBLANK(BCU400_Database!D757),\"\",BCU400_Database!D757)","v":""},{"$f":"IF(ISBLANK(BCU400_Database!E757),\"\",BCU400_Database!E757)","v":""},""]
[{"$f":"IF(ISBLANK(BCU400_Database!B758),\"\",BCU400_Database!B758)","v":""},{"$f":"IF(ISBLANK(BCU400_Database!C758),\"\",BCU400_Database!C758)","v":""},{"$f":"IF(ISBLANK(BCU400_Database!D758),\"\",BCU400_Database!D758)","v":""},{"$f":"IF(ISBLANK(BCU400_Database!E758),\"\",BCU400_Database!E758)","v":""},""]
[{"$f":"IF(ISBLANK(BCU400_Database!B759),\"\",BCU400_Database!B759)","v":""},{"$f":"IF(ISBLANK(BCU400_Database!C759),\"\",BCU400_Database!C759)","v":""},{"$f":"IF(ISBLANK(BCU400_Database!D759),\"\",BCU400_Database!D759)","v":""},{"$f":"IF(ISBLANK(BCU400_Database!E759),\"\",BCU400_Database!E759)","v":""},""]
[{"$f":"IF(ISBLANK(BCU400_Database!B760),\"\",BCU400_Database!B760)","v":""},{"$f":"IF(ISBLANK(BCU400_Database!C760),\"\",BCU400_Database!C760)","v":""},{"$f":"IF(ISBLANK(BCU400_Database!D760),\"\",BCU400_Database!D760)","v":""},{"$f":"IF(ISBLANK(BCU400_Database!E760),\"\",BCU400_Database!E760)","v":""},{"$f":"B707","v":""}]
[{"$f":"IF(ISBLANK(BCU400_Database!B761),\"\",BCU400_Database!B761)","v":""},{"$f":"IF(ISBLANK(BCU400_Database!C761),\"\",BCU400_Database!C761)","v":""},{"$f":"IF(ISBLANK(BCU400_Database!D761),\"\",BCU400_Database!D761)","v":""},{"$f":"IF(ISBLANK(BCU400_Database!E761),\"\",BCU400_Database!E761)","v":""},""]
[{"$f":"IF(ISBLANK(BCU400_Database!B762),\"\",BCU400_Database!B762)","v":""},{"$f":"IF(ISBLANK(BCU400_Database!C762),\"\",BCU400_Database!C762)","v":""},{"$f":"IF(ISBLANK(BCU400_Database!D762),\"\",BCU400_Database!D762)","v":""},{"$f":"IF(ISBLANK(BCU400_Database!E762),\"\",BCU400_Database!E762)","v":""},""]
[{"$f":"IF(ISBLANK(BCU400_Database!B763),\"\",BCU400_Database!B763)","v":""},{"$f":"IF(ISBLANK(BCU400_Database!C763),\"\",BCU400_Database!C763)","v":""},{"$f":"IF(ISBLANK(BCU400_Database!D763),\"\",BCU400_Database!D763)","v":""},{"$f":"IF(ISBLANK(BCU400_Database!E763),\"\",BCU400_Database!E763)","v":""},""]
[{"$f":"IF(ISBLANK(BCU400_Database!B764),\"\",BCU400_Database!B764)","v":""},{"$f":"IF(ISBLANK(BCU400_Database!C764),\"\",BCU400_Database!C764)","v":""},{"$f":"IF(ISBLANK(BCU400_Database!D764),\"\",BCU400_Database!D764)","v":""},{"$f":"IF(ISBLANK(BCU400_Database!E764),\"\",BCU400_Database!E764)","v":""},""]
[{"$f":"IF(ISBLANK(BCU400_Database!B765),\"\",BCU400_Database!B765)","v":""},{"$f":"IF(ISBLANK(BCU400_Database!C765),\"\",BCU400_Database!C765)","v":""},{"$f":"IF(ISBLANK(BCU400_Database!D765),\"\",BCU400_Database!D765)","v":""},{"$f":"IF(ISBLANK(BCU400_Database!E765),\"\",BCU400_Database!E765)","v":""},""]
[{"$f":"IF(ISBLANK(BCU400_Database!B766),\"\",BCU400_Database!B766)","v":""},{"$f":"IF(ISBLANK(BCU400_Database!C766),\"\",BCU400_Database!C766)","v":""},{"$f":"IF(ISBLANK(BCU400_Database!D766),\"\",BCU400_Database!D766)","v":""},{"$f":"IF(ISBLANK(BCU400_Database!E766),\"\",BCU400_Database!E766)","v":""},""]
[{"$f":"IF(ISBLANK(BCU400_Database!B767),\"\",BCU400_Database!B767)","v":""},{"$f":"IF(ISBLANK(BCU400_Database!C767),\"\",BCU400_Database!C767)","v":""},{"$f":"IF(ISBLANK(BCU400_Database!D767),\"\",BCU400_Database!D767)","v":""},{"$f":"IF(ISBLANK(BCU400_Database!E767),\"\",BCU400_Database!E767)","v":""},""]
[{"$f":"IF(ISBLANK(BCU400_Database!B768),\"\",BCU400_Database!B768)","v":""},{"$f":"IF(ISBLANK(BCU400_Database!C768),\"\",BCU400_Database!C768)","v":""},{"$f":"IF(ISBLANK(BCU400_Database!D768),\"\",BCU400_Database!D768)","v":""},{"$f":"IF(ISBLANK(BCU400_Database!E768),\"\",BCU400_Database!E768)","v":""},""]
[{"$f":"IF(ISBLANK(BCU400_Database!B769),\"\",BCU400_Database!B769)","v":""},{"$f":"IF(ISBLANK(BCU400_Database!C769),\"\",BCU400_Database!C769)","v":""},{"$f":"IF(ISBLANK(BCU400_Database!D769),\"\",BCU400_Database!D769)","v":""},{"$f":"IF(ISBLANK(BCU400_Database!E769),\"\",BCU400_Database!E769)","v":""},""]
[{"$f":"IF(ISBLANK(BCU400_Database!B770),\"\",BCU400_Database!B770)","v":""},{"$f":"IF(ISBLANK(BCU400_Database!C770),\"\",BCU400_Database!C770)","v":""},{"$f":"IF(ISBLANK(BCU400_Database!D770),\"\",BCU400_Database!D770)","v":""},{"$f":"IF(ISBLANK(BCU400_Database!E770),\"\",BCU400_Database!E770)","v":""},""]
[{"$f":"IF(ISBLANK(BCU400_Database!B771),\"\",BCU400_Database!B771)","v":""},{"$f":"IF(ISBLANK(BCU400_Database!C771),\"\",BCU400_Database!C771)","v":""},{"$f":"IF(ISBLANK(BCU400_Database!D771),\"\",BCU400_Database!D771)","v":""},{"$f":"IF(ISBLANK(BCU400_Database!E771),\"\",BCU400_Database!E771)","v":""},""]
[{"$f":"IF(ISBLANK(BCU400_Database!B772),\"\",BCU400_Database!B772)","v":""},{"$f":"IF(ISBLANK(BCU400_Database!C772),\"\",BCU400_Database!C772)","v":""},{"$f":"IF(ISBLANK(BCU400_Database!D772),\"\",BCU400_Database!D772)","v":""},{"$f":"IF(ISBLANK(BCU400_Database!E772),\"\",BCU400_Database!E772)","v":""},""]
[{"$f":"IF(ISBLANK(BCU400_Database!B773),\"\",BCU400_Database!B773)","v":""},{"$f":"IF(ISBLANK(BCU400_Database!C773),\"\",BCU400_Database!C773)","v":""},{"$f":"IF(ISBLANK(BCU400_Database!D773),\"\",BCU400_Database!D773)","v":""},{"$f":"IF(ISBLANK(BCU400_Database!E773),\"\",BCU400_Database!E773)","v":""},""]
[{"$f":"IF(ISBLANK(BCU400_Database!B774),\"\",BCU400_Database!B774)","v":""},{"$f":"IF(ISBLANK(BCU400_Database!C774),\"\",BCU400_Database!C774)","v":""},{"$f":"IF(ISBLANK(BCU400_Database!D774),\"\",BCU400_Database!D774)","v":""},{"$f":"IF(ISBLANK(BCU400_Database!E774),\"\",BCU400_Database!E774)","v":""},""]
[{"$f":"IF(ISBLANK(BCU400_Database!B775),\"\",BCU400_Database!B775)","v":""},{"$f":"IF(ISBLANK(BCU400_Database!C775),\"\",BCU400_Database!C775)","v":""},{"$f":"IF(ISBLANK(BCU400_Database!D775),\"\",BCU400_Database!D775)","v":""},{"$f":"IF(ISBLANK(BCU400_Database!E775),\"\",BCU400_Database!E775)","v":""},""]
[{"$f":"IF(ISBLANK(BCU400_Database!B776),\"\",BCU400_Database!B776)","v":""},{"$f":"IF(ISBLANK(BCU400_Database!C776),\"\",BCU400_Database!C776)","v":""},{"$f":"IF(ISBLANK(BCU400_Database!D776),\"\",BCU400_Database!D776)","v":""},{"$f":"IF(ISBLANK(BCU400_Database!E776),\"\",BCU400_Database!E776)","v":""},""]
[{"$f":"IF(ISBLANK(BCU400_Database!B777),\"\",BCU400_Database!B777)","v":""},{"$f":"IF(ISBLANK(BCU400_Database!C777),\"\",BCU400_Database!C777)","v":""},{"$f":"IF(ISBLANK(BCU400_Database!D777),\"\",BCU400_Database!D777)","v":""},{"$f":"IF(ISBLANK(BCU400_Database!E777),\"\",BCU400_Database!E777)","v":""},""]
[{"$f":"IF(ISBLANK(BCU400_Database!B778),\"\",BCU400_Database!B778)","v":""},{"$f":"IF(ISBLANK(BCU400_Database!C778),\"\",BCU400_Database!C778)","v":""},{"$f":"IF(ISBLANK(BCU400_Database!D778),\"\",BCU400_Database!D778)","v":""},{"$f":"IF(ISBLANK(BCU400_Database!E778),\"\",BCU400_Database!E778)","v":""},""]
[{"$f":"IF(ISBLANK(BCU400_Database!B779),\"\",BCU400_Database!B779)","v":""},{"$f":"IF(ISBLANK(BCU400_Database!C779),\"\",BCU400_Database!C779)","v":""},{"$f":"IF(ISBLANK(BCU400_Database!D779),\"\",BCU400_Database!D779)","v":""},{"$f":"IF(ISBLANK(BCU400_Database!E779),\"\",BCU400_Database!E779)","v":""},""]
[{"$f":"IF(ISBLANK(BCU400_Database!B780),\"\",BCU400_Database!B780)","v":""},{"$f":"IF(ISBLANK(BCU400_Database!C780),\"\",BCU400_Database!C780)","v":""},{"$f":"IF(ISBLANK(BCU400_Database!D780),\"\",BCU400_Database!D780)","v":""},{"$f":"IF(ISBLANK(BCU400_Database!E780),\"\",BCU400_Database!E780)","v":""},""]
[{"$f":"IF(ISBLANK(BCU400_Database!B781),\"\",BCU400_Database!B781)","v":""},{"$f":"IF(ISBLANK(BCU400_Database!C781),\"\",BCU400_Database!C781)","v":""},{"$f":"IF(ISBLANK(BCU400_Database!D781),\"\",BCU400_Database!D781)","v":""},{"$f":"IF(ISBLANK(BCU400_Database!E781),\"\",BCU400_Database!E781)","v":""},""]
[{"$f":"IF(ISBLANK(BCU400_Database!B782),\"\",BCU400_Database!B782)","v":""},{"$f":"IF(ISBLANK(BCU400_Database!C782),\"\",BCU400_Database!C782)","v":""},{"$f":"IF(ISBLANK(BCU400_Database!D782),\"\",BCU400_Database!D782)","v":""},{"$f":"IF(ISBLANK(BCU400_Database!E782),\"\",BCU400_Database!E782)","v":""},""]
[{"$f":"IF(ISBLANK(BCU400_Database!B783),\"\",BCU400_Database!B783)","v":""},{"$f":"IF(ISBLANK(BCU400_Database!C783),\"\",BCU400_Database!C783)","v":""},{"$f":"IF(ISBLANK(BCU400_Database!D783),\"\",BCU400_Database!D783)","v":""},{"$f":"IF(ISBLANK(BCU400_Database!E783),\"\",BCU400_Database!E783)","v":""},""]
[{"$f":"IF(ISBLANK(BCU400_Database!B784),\"\",BCU400_Database!B784)","v":""},{"$f":"IF(ISBLANK(BCU400_Database!C784),\"\",BCU400_Database!C784)","v":""},{"$f":"IF(ISBLANK(BCU400_Database!D784),\"\",BCU400_Database!D784)","v":""},{"$f":"IF(ISBLANK(BCU400_Database!E784),\"\",BCU400_Database!E784)","v":""},""]
[{"$f":"IF(ISBLANK(BCU400_Database!B785),\"\",BCU400_Database!B785)","v":""},{"$f":"IF(ISBLANK(BCU400_Database!C785),\"\",BCU400_Database!C785)","v":""},{"$f":"IF(ISBLANK(BCU400_Database!D785),\"\",BCU400_Database!D785)","v":""},{"$f":"IF(ISBLANK(BCU400_Database!E785),\"\",BCU400_Database!E785)","v":""},""]
[{"$f":"IF(ISBLANK(BCU400_Database!B786),\"\",BCU400_Database!B786)","v":""},{"$f":"IF(ISBLANK(BCU400_Database!C786),\"\",BCU400_Database!C786)","v":""},{"$f":"IF(ISBLANK(BCU400_Database!D786),\"\",BCU400_Database!D786)","v":""},{"$f":"IF(ISBLANK(BCU400_Database!E786),\"\",BCU400_Database!E786)","v":""},""]
[{"$f":"IF(ISBLANK(BCU400_Database!B787),\"\",BCU400_Database!B787)","v":""},{"$f":"IF(ISBLANK(BCU400_Database!C787),\"\",BCU400_Database!C787)","v":""},{"$f":"IF(ISBLANK(BCU400_Database!D787),\"\",BCU400_Database!D787)","v":""},{"$f":"IF(ISBLANK(BCU400_Database!E787),\"\",BCU400_Database!E787)","v":""},""]
[{"$f":"IF(ISBLANK(BCU400_Database!B788),\"\",BCU400_Database!B788)","v":""},{"$f":"IF(ISBLANK(BCU400_Database!C788),\"\",BCU400_Database!C788)","v":""},{"$f":"IF(ISBLANK(BCU400_Database!D788),\"\",BCU400_Database!D788)","v":""},{"$f":"IF(ISBLANK(BCU400_Database!E788),\"\",BCU400_Database!E788)","v":""},""]
[{"$f":"IF(ISBLANK(BCU400_Database!B789),\"\",BCU400_Database!B789)","v":""},{"$f":"IF(ISBLANK(BCU400_Database!C789),\"\",BCU400_Database!C789)","v":""},{"$f":"IF(ISBLANK(BCU400_Database!D789),\"\",BCU400_Database!D789)","v":""},{"$f":"IF(ISBLANK(BCU400_Database!E789),\"\",BCU400_Database!E789)","v":""},""]
[{"$f":"IF(ISBLANK(BCU400_Database!B790),\"\",BCU400_Database!B790)","v":""},{"$f":"IF(ISBLANK(BCU400_Database!C790),\"\",BCU400_Database!C790)","v":""},{"$f":"IF(ISBLANK(BCU400_Database!D790),\"\",BCU400_Database!D790)","v":""},{"$f":"IF(ISBLANK(BCU400_Database!E790),\"\",BCU400_Database!E790)","v":""},""]
[{"$f":"IF(ISBLANK(BCU400_Database!B791),\"\",BCU400_Database!B791)","v":""},{"$f":"IF(ISBLANK(BCU400_Database!C791),\"\",BCU400_Database!C791)","v":""},{"$f":"IF(ISBLANK(BCU400_Database!D791),\"\",BCU400_Database!D791)","v":""},{"$f":"IF(ISBLANK(BCU400_Database!E791),\"\",BCU400_Database!E791)","v":""},""]
[{"$f":"IF(ISBLANK(BCU400_Database!B792),\"\",BCU400_Database!B792)","v":""},{"$f":"IF(ISBLANK(BCU400_Database!C792),\"\",BCU400_Database!C792)","v":""},{"$f":"IF(ISBLANK(BCU400_Database!D792),\"\",BCU400_Database!D792)","v":""},{"$f":"IF(ISBLANK(BCU400_Database!E792),\"\",BCU400_Database!E792)","v":""},""]
[{"$f":"IF(ISBLANK(BCU400_Database!B793),\"\",BCU400_Database!B793)","v":""},{"$f":"IF(ISBLANK(BCU400_Database!C793),\"\",BCU400_Database!C793)","v":""},{"$f":"IF(ISBLANK(BCU400_Database!D793),\"\",BCU400_Database!D793)","v":""},{"$f":"IF(ISBLANK(BCU400_Database!E793),\"\",BCU400_Database!E793)","v":""},""]
[{"$f":"IF(ISBLANK(BCU400_Database!B794),\"\",BCU400_Database!B794)","v":""},{"$f":"IF(ISBLANK(BCU400_Database!C794),\"\",BCU400_Database!C794)","v":""},{"$f":"IF(ISBLANK(BCU400_Database!D794),\"\",BCU400_Database!D794)","v":""},{"$f":"IF(ISBLANK(BCU400_Database!E794),\"\",BCU400_Database!E794)","v":""},""]
[{"$f":"IF(ISBLANK(BCU400_Database!B795),\"\",BCU400_Database!B795)","v":""},{"$f":"IF(ISBLANK(BCU400_Database!C795),\"\",BCU400_Database!C795)","v":""},{"$f":"IF(ISBLANK(BCU400_Database!D795),\"\",BCU400_Database!D795)","v":""},{"$f":"IF(ISBLANK(BCU400_Database!E795),\"\",BCU400_Database!E795)","v":""},""]
[{"$f":"IF(ISBLANK(BCU400_Database!B796),\"\",BCU400_Database!B796)","v":""},{"$f":"IF(ISBLANK(BCU400_Database!C796),\"\",BCU400_Database!C796)","v":""},{"$f":"IF(ISBLANK(BCU400_Database!D796),\"\",BCU400_Database!D796)","v":""},{"$f":"IF(ISBLANK(BCU400_Database!E796),\"\",BCU400_Database!E796)","v":""},""]
[{"$f":"IF(ISBLANK(BCU400_Database!B797),\"\",BCU400_Database!B797)","v":""},{"$f":"IF(ISBLANK(BCU400_Database!C797),\"\",BCU400_Database!C797)","v":""},{"$f":"IF(ISBLANK(BCU400_Database!D797),\"\",BCU400_Database!D797)","v":""},{"$f":"IF(ISBLANK(BCU400_Database!E797),\"\",BCU400_Database!E797)","v":""},""]
[{"$f":"IF(ISBLANK(BCU400_Database!B798),\"\",BCU400_Database!B798)","v":""},{"$f":"IF(ISBLANK(BCU400_Database!C798),\"\",BCU400_Database!C798)","v":""},{"$f":"IF(ISBLANK(BCU400_Database!D798),\"\",BCU400_Database!D798)","v":""},{"$f":"IF(ISBLANK(BCU400_Database!E798),\"\",BCU400_Database!E798)","v":""},""]
[{"$f":"IF(ISBLANK(BCU400_Database!B799),\"\",BCU400_Database!B799)","v":""},{"$f":"IF(ISBLANK(BCU400_Database!C799),\"\",BCU400_Database!C799)","v":""},{"$f":"IF(ISBLANK(BCU400_Database!D799),\"\",BCU400_Database!D799)","v":""},{"$f":"IF(ISBLANK(BCU400_Database!E799),\"\",BCU400_Database!E799)","v":""},""]
[{"$f":"IF(ISBLANK(BCU400_Database!B800),\"\",BCU400_Database!B800)","v":""},{"$f":"IF(ISBLANK(BCU400_Database!C800),\"\",BCU400_Database!C800)","v":""},{"$f":"IF(ISBLANK(BCU400_Database!D800),\"\",BCU400_Database!D800)","v":""},{"$f":"IF(ISBLANK(BCU400_Database!E800),\"\",BCU400_Database!E800)","v":""},""]
[{"$f":"IF(ISBLANK(BCU400_Database!B801),\"\",BCU400_Database!B801)","v":""},{"$f":"IF(ISBLANK(BCU400_Database!C801),\"\",BCU400_Database!C801)","v":""},{"$f":"IF(ISBLANK(BCU400_Database!D801),\"\",BCU400_Database!D801)","v":""},{"$f":"IF(ISBLANK(BCU400_Database!E801),\"\",BCU400_Database!E801)","v":""},""]
[{"$f":"IF(ISBLANK(BCU400_Database!B802),\"\",BCU400_Database!B802)","v":""},{"$f":"IF(ISBLANK(BCU400_Database!C802),\"\",BCU400_Database!C802)","v":""},{"$f":"IF(ISBLANK(BCU400_Database!D802),\"\",BCU400_Database!D802)","v":""},{"$f":"IF(ISBLANK(BCU400_Database!E802),\"\",BCU400_Database!E802)","v":""},""]
[{"$f":"IF(ISBLANK(BCU400_Database!B803),\"\",BCU400_Database!B803)","v":""},{"$f":"IF(ISBLANK(BCU400_Database!C803),\"\",BCU400_Database!C803)","v":""},{"$f":"IF(ISBLANK(BCU400_Database!D803),\"\",BCU400_Database!D803)","v":""},{"$f":"IF(ISBLANK(BCU400_Database!E803),\"\",BCU400_Database!E803)","v":""},""]
[{"$f":"IF(ISBLANK(BCU400_Database!B804),\"\",BCU400_Database!B804)","v":""},{"$f":"IF(ISBLANK(BCU400_Database!C804),\"\",BCU400_Database!C804)","v":""},{"$f":"IF(ISBLANK(BCU400_Database!D804),\"\",BCU400_Database!D804)","v":""},{"$f":"IF(ISBLANK(BCU400_Database!E804),\"\",BCU400_Database!E804)","v":""},""]
[{"$f":"IF(ISBLANK(BCU400_Database!B805),\"\",BCU400_Database!B805)","v":""},{"$f":"IF(ISBLANK(BCU400_Database!C805),\"\",BCU400_Database!C805)","v":""},{"$f":"IF(ISBLANK(BCU400_Database!D805),\"\",BCU400_Database!D805)","v":""},{"$f":"IF(ISBLANK(BCU400_Database!E805),\"\",BCU400_Database!E805)","v":""},""]
[{"$f":"IF(ISBLANK(BCU400_Database!B806),\"\",BCU400_Database!B806)","v":""},{"$f":"IF(ISBLANK(BCU400_Database!C806),\"\",BCU400_Database!C806)","v":""},{"$f":"IF(ISBLANK(BCU400_Database!D806),\"\",BCU400_Database!D806)","v":""},{"$f":"IF(ISBLANK(BCU400_Database!E806),\"\",BCU400_Database!E806)","v":""},""]
[{"$f":"IF(ISBLANK(BCU400_Database!B807),\"\",BCU400_Database!B807)","v":""},{"$f":"IF(ISBLANK(BCU400_Database!C807),\"\",BCU400_Database!C807)","v":""},{"$f":"IF(ISBLANK(BCU400_Database!D807),\"\",BCU400_Database!D807)","v":""},{"$f":"IF(ISBLANK(BCU400_Database!E807),\"\",BCU400_Database!E807)","v":""},""]
[{"$f":"IF(ISBLANK(BCU400_Database!B808),\"\",BCU400_Database!B808)","v":""},{"$f":"IF(ISBLANK(BCU400_Database!C808),\"\",BCU400_Database!C808)","v":""},{"$f":"IF(ISBLANK(BCU400_Database!D808),\"\",BCU400_Database!D808)","v":""},{"$f":"IF(ISBLANK(BCU400_Database!E808),\"\",BCU400_Database!E808)","v":""},""]
[{"$f":"IF(ISBLANK(BCU400_Database!B809),\"\",BCU400_Database!B809)","v":""},{"$f":"IF(ISBLANK(BCU400_Database!C809),\"\",BCU400_Database!C809)","v":""},{"$f":"IF(ISBLANK(BCU400_Database!D809),\"\",BCU400_Database!D809)","v":""},{"$f":"IF(ISBLANK(BCU400_Database!E809),\"\",BCU400_Database!E809)","v":""},""]
[{"$f":"IF(ISBLANK(BCU400_Database!B810),\"\",BCU400_Database!B810)","v":""},{"$f":"IF(ISBLANK(BCU400_Database!C810),\"\",BCU400_Database!C810)","v":""},{"$f":"IF(ISBLANK(BCU400_Database!D810),\"\",BCU400_Database!D810)","v":""},{"$f":"IF(ISBLANK(BCU400_Database!E810),\"\",BCU400_Database!E810)","v":""},""]
[{"$f":"IF(ISBLANK(BCU400_Database!B811),\"\",BCU400_Database!B811)","v":""},{"$f":"IF(ISBLANK(BCU400_Database!C811),\"\",BCU400_Database!C811)","v":""},{"$f":"IF(ISBLANK(BCU400_Database!D811),\"\",BCU400_Database!D811)","v":""},{"$f":"IF(ISBLANK(BCU400_Database!E811),\"\",BCU400_Database!E811)","v":""},""]
[{"$f":"IF(ISBLANK(BCU400_Database!B812),\"\",BCU400_Database!B812)","v":""},{"$f":"IF(ISBLANK(BCU400_Database!C812),\"\",BCU400_Database!C812)","v":""},{"$f":"IF(ISBLANK(BCU400_Database!D812),\"\",BCU400_Database!D812)","v":""},{"$f":"IF(ISBLANK(BCU400_Database!E812),\"\",BCU400_Database!E812)","v":""},""]
[{"$f":"IF(ISBLANK(BCU400_Database!B813),\"\",BCU400_Database!B813)","v":""},{"$f":"IF(ISBLANK(BCU400_Database!C813),\"\",BCU400_Database!C813)","v":""},{"$f":"IF(ISBLANK(BCU400_Database!D813),\"\",BCU400_Database!D813)","v":""},{"$f":"IF(ISBLANK(BCU400_Database!E813),\"\",BCU400_Database!E813)","v":""},""]
[{"$f":"IF(ISBLANK(BCU400_Database!B814),\"\",BCU400_Database!B814)","v":""},{"$f":"IF(ISBLANK(BCU400_Database!C814),\"\",BCU400_Database!C814)","v":""},{"$f":"IF(ISBLANK(BCU400_Database!D814),\"\",BCU400_Database!D814)","v":""},{"$f":"IF(ISBLANK(BCU400_Database!E814),\"\",BCU400_Database!E814)","v":""},""]
[{"$f":"IF(ISBLANK(BCU400_Database!B815),\"\",BCU400_Database!B815)","v":""},{"$f":"IF(ISBLANK(BCU400_Database!C815),\"\",BCU400_Database!C815)","v":""},{"$f":"IF(ISBLANK(BCU400_Database!D815),\"\",BCU400_Database!D815)","v":""},{"$f":"IF(ISBLANK(BCU400_Database!E815),\"\",BCU400_Database!E815)","v":""},""]
[{"$f":"IF(ISBLANK(BCU400_Database!B816),\"\",BCU400_Database!B816)","v":""},{"$f":"IF(ISBLANK(BCU400_Database!C816),\"\",BCU400_Database!C816)","v":""},{"$f":"IF(ISBLANK(BCU400_Database!D816),\"\",BCU400_Database!D816)","v":""},{"$f":"IF(ISBLANK(BCU400_Database!E816),\"\",BCU400_Database!E816)","v":""},""]
[{"$f":"IF(ISBLANK(BCU400_Database!B817),\"\",BCU400_Database!B817)","v":""},{"$f":"IF(ISBLANK(BCU400_Database!C817),\"\",BCU400_Database!C817)","v":""},{"$f":"IF(ISBLANK(BCU400_Database!D817),\"\",BCU400_Database!D817)","v":""},{"$f":"IF(ISBLANK(BCU400_Database!E817),\"\",BCU400_Database!E817)","v":""},""]
[{"$f":"IF(ISBLANK(BCU400_Database!B818),\"\",BCU400_Database!B818)","v":""},{"$f":"IF(ISBLANK(BCU400_Database!C818),\"\",BCU400_Database!C818)","v":""},{"$f":"IF(ISBLANK(BCU400_Database!D818),\"\",BCU400_Database!D818)","v":""},{"$f":"IF(ISBLANK(BCU400_Database!E818),\"\",BCU400_Database!E818)","v":""},""]
[{"$f":"IF(ISBLANK(BCU400_Database!B819),\"\",BCU400_Database!B819)","v":""},{"$f":"IF(ISBLANK(BCU400_Database!C819),\"\",BCU400_Database!C819)","v":""},{"$f":"IF(ISBLANK(BCU400_Database!D819),\"\",BCU400_Database!D819)","v":""},{"$f":"IF(ISBLANK(BCU400_Database!E819),\"\",BCU400_Database!E819)","v":""},""]
[{"$f":"IF(ISBLANK(BCU400_Database!B820),\"\",BCU400_Database!B820)","v":""},{"$f":"IF(ISBLANK(BCU400_Database!C820),\"\",BCU400_Database!C820)","v":""},{"$f":"IF(ISBLANK(BCU400_Database!D820),\"\",BCU400_Database!D820)","v":""},{"$f":"IF(ISBLANK(BCU400_Database!E820),\"\",BCU400_Database!E820)","v":""},""]
[{"$f":"IF(ISBLANK(BCU400_Database!B821),\"\",BCU400_Database!B821)","v":""},{"$f":"IF(ISBLANK(BCU400_Database!C821),\"\",BCU400_Database!C821)","v":""},{"$f":"IF(ISBLANK(BCU400_Database!D821),\"\",BCU400_Database!D821)","v":""},{"$f":"IF(ISBLANK(BCU400_Database!E821),\"\",BCU400_Database!E821)","v":""},""]
[{"$f":"IF(ISBLANK(BCU400_Database!B822),\"\",BCU400_Database!B822)","v":""},{"$f":"IF(ISBLANK(BCU400_Database!C822),\"\",BCU400_Database!C822)","v":""},{"$f":"IF(ISBLANK(BCU400_Database!D822),\"\",BCU400_Database!D822)","v":""},{"$f":"IF(ISBLANK(BCU400_Database!E822),\"\",BCU400_Database!E822)","v":""},""]
[{"$f":"IF(ISBLANK(BCU400_Database!B823),\"\",BCU400_Database!B823)","v":""},{"$f":"IF(ISBLANK(BCU400_Database!C823),\"\",BCU400_Database!C823)","v":""},{"$f":"IF(ISBLANK(BCU400_Database!D823),\"\",BCU400_Database!D823)","v":""},{"$f":"IF(ISBLANK(BCU400_Database!E823),\"\",BCU400_Database!E823)","v":""},""]
[{"$f":"IF(ISBLANK(BCU400_Database!B824),\"\",BCU400_Database!B824)","v":""},{"$f":"IF(ISBLANK(BCU400_Database!C824),\"\",BCU400_Database!C824)","v":""},{"$f":"IF(ISBLANK(BCU400_Database!D824),\"\",BCU400_Database!D824)","v":""},{"$f":"IF(ISBLANK(BCU400_Database!E824),\"\",BCU400_Database!E824)","v":""},{"$f":"B771","v":""}]
[{"$f":"IF(ISBLANK(BCU400_Database!B825),\"\",BCU400_Database!B825)","v":""},{"$f":"IF(ISBLANK(BCU400_Database!C825),\"\",BCU400_Database!C825)","v":""},{"$f":"IF(ISBLANK(BCU400_Database!D825),\"\",BCU400_Database!D825)","v":""},{"$f":"IF(ISBLANK(BCU400_Database!E825),\"\",BCU400_Database!E825)","v":""},""]
[{"$f":"IF(ISBLANK(BCU400_Database!B826),\"\",BCU400_Database!B826)","v":""},{"$f":"IF(ISBLANK(BCU400_Database!C826),\"\",BCU400_Database!C826)","v":""},{"$f":"IF(ISBLANK(BCU400_Database!D826),\"\",BCU400_Database!D826)","v":""},{"$f":"IF(ISBLANK(BCU400_Database!E826),\"\",BCU400_Database!E826)","v":""},""]
[{"$f":"IF(ISBLANK(BCU400_Database!B827),\"\",BCU400_Database!B827)","v":""},{"$f":"IF(ISBLANK(BCU400_Database!C827),\"\",BCU400_Database!C827)","v":""},{"$f":"IF(ISBLANK(BCU400_Database!D827),\"\",BCU400_Database!D827)","v":""},{"$f":"IF(ISBLANK(BCU400_Database!E827),\"\",BCU400_Database!E827)","v":""},""]
[{"$f":"IF(ISBLANK(BCU400_Database!B828),\"\",BCU400_Database!B828)","v":""},{"$f":"IF(ISBLANK(BCU400_Database!C828),\"\",BCU400_Database!C828)","v":""},{"$f":"IF(ISBLANK(BCU400_Database!D828),\"\",BCU400_Database!D828)","v":""},{"$f":"IF(ISBLANK(BCU400_Database!E828),\"\",BCU400_Database!E828)","v":""},""]
[{"$f":"IF(ISBLANK(BCU400_Database!B829),\"\",BCU400_Database!B829)","v":""},{"$f":"IF(ISBLANK(BCU400_Database!C829),\"\",BCU400_Database!C829)","v":""},{"$f":"IF(ISBLANK(BCU400_Database!D829),\"\",BCU400_Database!D829)","v":""},{"$f":"IF(ISBLANK(BCU400_Database!E829),\"\",BCU400_Database!E829)","v":""},""]
[{"$f":"IF(ISBLANK(BCU400_Database!B830),\"\",BCU400_Database!B830)","v":""},{"$f":"IF(ISBLANK(BCU400_Database!C830),\"\",BCU400_Database!C830)","v":""},{"$f":"IF(ISBLANK(BCU400_Database!D830),\"\",BCU400_Database!D830)","v":""},{"$f":"IF(ISBLANK(BCU400_Database!E830),\"\",BCU400_Database!E830)","v":""},""]
[{"$f":"IF(ISBLANK(BCU400_Database!B831),\"\",BCU400_Database!B831)","v":""},{"$f":"IF(ISBLANK(BCU400_Database!C831),\"\",BCU400_Database!C831)","v":""},{"$f":"IF(ISBLANK(BCU400_Database!D831),\"\",BCU400_Database!D831)","v":""},{"$f":"IF(ISBLANK(BCU400_Database!E831),\"\",BCU400_Database!E831)","v":""},""]
[{"$f":"IF(ISBLANK(BCU400_Database!B832),\"\",BCU400_Database!B832)","v":""},{"$f":"IF(ISBLANK(BCU400_Database!C832),\"\",BCU400_Database!C832)","v":""},{"$f":"IF(ISBLANK(BCU400_Database!D832),\"\",BCU400_Database!D832)","v":""},{"$f":"IF(ISBLANK(BCU400_Database!E832),\"\",BCU400_Database!E832)","v":""},""]
[{"$f":"IF(ISBLANK(BCU400_Database!B833),\"\",BCU400_Database!B833)","v":""},{"$f":"IF(ISBLANK(BCU400_Database!C833),\"\",BCU400_Database!C833)","v":""},{"$f":"IF(ISBLANK(BCU400_Database!D833),\"\",BCU400_Database!D833)","v":""},{"$f":"IF(ISBLANK(BCU400_Database!E833),\"\",BCU400_Database!E833)","v":""},""]
[{"$f":"IF(ISBLANK(BCU400_Database!B834),\"\",BCU400_Database!B834)","v":""},{"$f":"IF(ISBLANK(BCU400_Database!C834),\"\",BCU400_Database!C834)","v":""},{"$f":"IF(ISBLANK(BCU400_Database!D834),\"\",BCU400_Database!D834)","v":""},{"$f":"IF(ISBLANK(BCU400_Database!E834),\"\",BCU400_Database!E834)","v":""},""]
[{"$f":"IF(ISBLANK(BCU400_Database!B835),\"\",BCU400_Database!B835)","v":""},{"$f":"IF(ISBLANK(BCU400_Database!C835),\"\",BCU400_Database!C835)","v":""},{"$f":"IF(ISBLANK(BCU400_Database!D835),\"\",BCU400_Database!D835)","v":""},{"$f":"IF(ISBLANK(BCU400_Database!E835),\"\",BCU400_Database!E835)","v":""},""]
[{"$f":"IF(ISBLANK(BCU400_Database!B836),\"\",BCU400_Database!B836)","v":""},{"$f":"IF(ISBLANK(BCU400_Database!C836),\"\",BCU400_Database!C836)","v":""},{"$f":"IF(ISBLANK(BCU400_Database!D836),\"\",BCU400_Database!D836)","v":""},{"$f":"IF(ISBLANK(BCU400_Database!E836),\"\",BCU400_Database!E836)","v":""},""]
[{"$f":"IF(ISBLANK(BCU400_Database!B837),\"\",BCU400_Database!B837)","v":""},{"$f":"IF(ISBLANK(BCU400_Database!C837),\"\",BCU400_Database!C837)","v":""},{"$f":"IF(ISBLANK(BCU400_Database!D837),\"\",BCU400_Database!D837)","v":""},{"$f":"IF(ISBLANK(BCU400_Database!E837),\"\",BCU400_Database!E837)","v":""},""]
[{"$f":"IF(ISBLANK(BCU400_Database!B838),\"\",BCU400_Database!B838)","v":""},{"$f":"IF(ISBLANK(BCU400_Database!C838),\"\",BCU400_Database!C838)","v":""},{"$f":"IF(ISBLANK(BCU400_Database!D838),\"\",BCU400_Database!D838)","v":""},{"$f":"IF(ISBLANK(BCU400_Database!E838),\"\",BCU400_Database!E838)","v":""},""]
[{"$f":"IF(ISBLANK(BCU400_Database!B839),\"\",BCU400_Database!B839)","v":""},{"$f":"IF(ISBLANK(BCU400_Database!C839),\"\",BCU400_Database!C839)","v":""},{"$f":"IF(ISBLANK(BCU400_Database!D839),\"\",BCU400_Database!D839)","v":""},{"$f":"IF(ISBLANK(BCU400_Database!E839),\"\",BCU400_Database!E839)","v":""},""]
[{"$f":"IF(ISBLANK(BCU400_Database!B840),\"\",BCU400_Database!B840)","v":""},{"$f":"IF(ISBLANK(BCU400_Database!C840),\"\",BCU400_Database!C840)","v":""},{"$f":"IF(ISBLANK(BCU400_Database!D840),\"\",BCU400_Database!D840)","v":""},{"$f":"IF(ISBLANK(BCU400_Database!E840),\"\",BCU400_Database!E840)","v":""},""]
[{"$f":"IF(ISBLANK(BCU400_Database!B841),\"\",BCU400_Database!B841)","v":""},{"$f":"IF(ISBLANK(BCU400_Database!C841),\"\",BCU400_Database!C841)","v":""},{"$f":"IF(ISBLANK(BCU400_Database!D841),\"\",BCU400_Database!D841)","v":""},{"$f":"IF(ISBLANK(BCU400_Database!E841),\"\",BCU400_Database!E841)","v":""},""]
[{"$f":"IF(ISBLANK(BCU400_Database!B842),\"\",BCU400_Database!B842)","v":""},{"$f":"IF(ISBLANK(BCU400_Database!C842),\"\",BCU400_Database!C842)","v":""},{"$f":"IF(ISBLANK(BCU400_Database!D842),\"\",BCU400_Database!D842)","v":""},{"$f":"IF(ISBLANK(BCU400_Database!E842),\"\",BCU400_Database!E842)","v":""},""]
[{"$f":"IF(ISBLANK(BCU400_Database!B843),\"\",BCU400_Database!B843)","v":""},{"$f":"IF(ISBLANK(BCU400_Database!C843),\"\",BCU400_Database!C843)","v":""},{"$f":"IF(ISBLANK(BCU400_Database!D843),\"\",BCU400_Database!D843)","v":""},{"$f":"IF(ISBLANK(BCU400_Database!E843),\"\",BCU400_Database!E843)","v":""},""]
[{"$f":"IF(ISBLANK(BCU400_Database!B844),\"\",BCU400_Database!B844)","v":""},{"$f":"IF(ISBLANK(BCU400_Database!C844),\"\",BCU400_Database!C844)","v":""},{"$f":"IF(ISBLANK(BCU400_Database!D844),\"\",BCU400_Database!D844)","v":""},{"$f":"IF(ISBLANK(BCU400_Database!E844),\"\",BCU400_Database!E844)","v":""},""]
[{"$f":"IF(ISBLANK(BCU400_Database!B845),\"\",BCU400_Database!B845)","v":""},{"$f":"IF(ISBLANK(BCU400_Database!C845),\"\",BCU400_Database!C845)","v":""},{"$f":"IF(ISBLANK(BCU400_Database!D845),\"\",BCU400_Database!D845)","v":""},{"$f":"IF(ISBLANK(BCU400_Database!E845),\"\",BCU400_Database!E845)","v":""},""]
[{"$f":"IF(ISBLANK(BCU400_Database!B846),\"\",BCU400_Database!B846)","v":""},{"$f":"IF(ISBLANK(BCU400_Database!C846),\"\",BCU400_Database!C846)","v":""},{"$f":"IF(ISBLANK(BCU400_Database!D846),\"\",BCU400_Database!D846)","v":""},{"$f":"IF(ISBLANK(BCU400_Database!E846),\"\",BCU400_Database!E846)","v":""},""]
[{"$f":"IF(ISBLANK(BCU400_Database!B847),\"\",BCU400_Database!B847)","v":""},{"$f":"IF(ISBLANK(BCU400_Database!C847),\"\",BCU400_Database!C847)","v":""},{"$f":"IF(ISBLANK(BCU400_Database!D847),\"\",BCU400_Database!D847)","v":""},{"$f":"IF(ISBLANK(BCU400_Database!E847),\"\",BCU400_Database!E847)","v":""},""]
[{"$f":"IF(ISBLANK(BCU400_Database!B848),\"\",BCU400_Database!B848)","v":""},{"$f":"IF(ISBLANK(BCU400_Database!C848),\"\",BCU400_Database!C848)","v":""},{"$f":"IF(ISBLANK(BCU400_Database!D848),\"\",BCU400_Database!D848)","v":""},{"$f":"IF(ISBLANK(BCU400_Database!E848),\"\",BCU400_Database!E848)","v":""},""]
[{"$f":"IF(ISBLANK(BCU400_Database!B849),\"\",BCU400_Database!B849)","v":""},{"$f":"IF(ISBLANK(BCU400_Database!C849),\"\",BCU400_Database!C849)","v":""},{"$f":"IF(ISBLANK(BCU400_Database!D849),\"\",BCU400_Database!D849)","v":""},{"$f":"IF(ISBLANK(BCU400_Database!E849),\"\",BCU400_Database!E849)","v":""},""]
[{"$f":"IF(ISBLANK(BCU400_Database!B850),\"\",BCU400_Database!B850)","v":""},{"$f":"IF(ISBLANK(BCU400_Database!C850),\"\",BCU400_Database!C850)","v":""},{"$f":"IF(ISBLANK(BCU400_Database!D850),\"\",BCU400_Database!D850)","v":""},{"$f":"IF(ISBLANK(BCU400_Database!E850),\"\",BCU400_Database!E850)","v":""},""]
[{"$f":"IF(ISBLANK(BCU400_Database!B851),\"\",BCU400_Database!B851)","v":""},{"$f":"IF(ISBLANK(BCU400_Database!C851),\"\",BCU400_Database!C851)","v":""},{"$f":"IF(ISBLANK(BCU400_Database!D851),\"\",BCU400_Database!D851)","v":""},{"$f":"IF(ISBLANK(BCU400_Database!E851),\"\",BCU400_Database!E851)","v":""},""]
[{"$f":"IF(ISBLANK(BCU400_Database!B852),\"\",BCU400_Database!B852)","v":""},{"$f":"IF(ISBLANK(BCU400_Database!C852),\"\",BCU400_Database!C852)","v":""},{"$f":"IF(ISBLANK(BCU400_Database!D852),\"\",BCU400_Database!D852)","v":""},{"$f":"IF(ISBLANK(BCU400_Database!E852),\"\",BCU400_Database!E852)","v":""},""]
[{"$f":"IF(ISBLANK(BCU400_Database!B853),\"\",BCU400_Database!B853)","v":""},{"$f":"IF(ISBLANK(BCU400_Database!C853),\"\",BCU400_Database!C853)","v":""},{"$f":"IF(ISBLANK(BCU400_Database!D853),\"\",BCU400_Database!D853)","v":""},{"$f":"IF(ISBLANK(BCU400_Database!E853),\"\",BCU400_Database!E853)","v":""},""]
[{"$f":"IF(ISBLANK(BCU400_Database!B854),\"\",BCU400_Database!B854)","v":""},{"$f":"IF(ISBLANK(BCU400_Database!C854),\"\",BCU400_Database!C854)","v":""},{"$f":"IF(ISBLANK(BCU400_Database!D854),\"\",BCU400_Database!D854)","v":""},{"$f":"IF(ISBLANK(BCU400_Database!E854),\"\",BCU400_Database!E854)","v":""},""]
[{"$f":"IF(ISBLANK(BCU400_Database!B855),\"\",BCU400_Database!B855)","v":""},{"$f":"IF(ISBLANK(BCU400_Database!C855),\"\",BCU400_Database!C855)","v":""},{"$f":"IF(ISBLANK(BCU400_Database!D855),\"\",BCU400_Database!D855)","v":""},{"$f":"IF(ISBLANK(BCU400_Database!E855),\"\",BCU400_Database!E855)","v":""},""]
[{"$f":"IF(ISBLANK(BCU400_Database!B856),\"\",BCU400_Database!B856)","v":""},{"$f":"IF(ISBLANK(BCU400_Database!C856),\"\",BCU400_Database!C856)","v":""},{"$f":"IF(ISBLANK(BCU400_Database!D856),\"\",BCU400_Database!D856)","v":""},{"$f":"IF(ISBLANK(BCU400_Database!E856),\"\",BCU400_Database!E856)","v":""},""]
[{"$f":"IF(ISBLANK(BCU400_Database!B857),\"\",BCU400_Database!B857)","v":""},{"$f":"IF(ISBLANK(BCU400_Database!C857),\"\",BCU400_Database!C857)","v":""},{"$f":"IF(ISBLANK(BCU400_Database!D857),\"\",BCU400_Database!D857)","v":""},{"$f":"IF(ISBLANK(BCU400_Database!E857),\"\",BCU400_Database!E857)","v":""},""]
[{"$f":"IF(ISBLANK(BCU400_Database!B858),\"\",BCU400_Database!B858)","v":""},{"$f":"IF(ISBLANK(BCU400_Database!C858),\"\",BCU400_Database!C858)","v":""},{"$f":"IF(ISBLANK(BCU400_Database!D858),\"\",BCU400_Database!D858)","v":""},{"$f":"IF(ISBLANK(BCU400_Database!E858),\"\",BCU400_Database!E858)","v":""},""]
[{"$f":"IF(ISBLANK(BCU400_Database!B859),\"\",BCU400_Database!B859)","v":""},{"$f":"IF(ISBLANK(BCU400_Database!C859),\"\",BCU400_Database!C859)","v":""},{"$f":"IF(ISBLANK(BCU400_Database!D859),\"\",BCU400_Database!D859)","v":""},{"$f":"IF(ISBLANK(BCU400_Database!E859),\"\",BCU400_Database!E859)","v":""},""]
[{"$f":"IF(ISBLANK(BCU400_Database!B860),\"\",BCU400_Database!B860)","v":""},{"$f":"IF(ISBLANK(BCU400_Database!C860),\"\",BCU400_Database!C860)","v":""},{"$f":"IF(ISBLANK(BCU400_Database!D860),\"\",BCU400_Database!D860)","v":""},{"$f":"IF(ISBLANK(BCU400_Database!E860),\"\",BCU400_Database!E860)","v":""},""]
[{"$f":"IF(ISBLANK(BCU400_Database!B861),\"\",BCU400_Database!B861)","v":""},{"$f":"IF(ISBLANK(BCU400_Database!C861),\"\",BCU400_Database!C861)","v":""},{"$f":"IF(ISBLANK(BCU400_Database!D861),\"\",BCU400_Database!D861)","v":""},{"$f":"IF(ISBLANK(BCU400_Database!E861),\"\",BCU400_Database!E861)","v":""},""]
[{"$f":"IF(ISBLANK(BCU400_Database!B862),\"\",BCU400_Database!B862)","v":""},{"$f":"IF(ISBLANK(BCU400_Database!C862),\"\",BCU400_Database!C862)","v":""},{"$f":"IF(ISBLANK(BCU400_Database!D862),\"\",BCU400_Database!D862)","v":""},{"$f":"IF(ISBLANK(BCU400_Database!E862),\"\",BCU400_Database!E862)","v":""},""]
[{"$f":"IF(ISBLANK(BCU400_Database!B863),\"\",BCU400_Database!B863)","v":""},{"$f":"IF(ISBLANK(BCU400_Database!C863),\"\",BCU400_Database!C863)","v":""},{"$f":"IF(ISBLANK(BCU400_Database!D863),\"\",BCU400_Database!D863)","v":""},{"$f":"IF(ISBLANK(BCU400_Database!E863),\"\",BCU400_Database!E863)","v":""},""]
[{"$f":"IF(ISBLANK(BCU400_Database!B864),\"\",BCU400_Database!B864)","v":""},{"$f":"IF(ISBLANK(BCU400_Database!C864),\"\",BCU400_Database!C864)","v":""},{"$f":"IF(ISBLANK(BCU400_Database!D864),\"\",BCU400_Database!D864)","v":""},{"$f":"IF(ISBLANK(BCU400_Database!E864),\"\",BCU400_Database!E864)","v":""},""]
[{"$f":"IF(ISBLANK(BCU400_Database!B865),\"\",BCU400_Database!B865)","v":""},{"$f":"IF(ISBLANK(BCU400_Database!C865),\"\",BCU400_Database!C865)","v":""},{"$f":"IF(ISBLANK(BCU400_Database!D865),\"\",BCU400_Database!D865)","v":""},{"$f":"IF(ISBLANK(BCU400_Database!E865),\"\",BCU400_Database!E865)","v":""},""]
[{"$f":"IF(ISBLANK(BCU400_Database!B866),\"\",BCU400_Database!B866)","v":""},{"$f":"IF(ISBLANK(BCU400_Database!C866),\"\",BCU400_Database!C866)","v":""},{"$f":"IF(ISBLANK(BCU400_Database!D866),\"\",BCU400_Database!D866)","v":""},{"$f":"IF(ISBLANK(BCU400_Database!E866),\"\",BCU400_Database!E866)","v":""},""]
[{"$f":"IF(ISBLANK(BCU400_Database!B867),\"\",BCU400_Database!B867)","v":""},{"$f":"IF(ISBLANK(BCU400_Database!C867),\"\",BCU400_Database!C867)","v":""},{"$f":"IF(ISBLANK(BCU400_Database!D867),\"\",BCU400_Database!D867)","v":""},{"$f":"IF(ISBLANK(BCU400_Database!E867),\"\",BCU400_Database!E867)","v":""},""]
[{"$f":"IF(ISBLANK(BCU400_Database!B868),\"\",BCU400_Database!B868)","v":""},{"$f":"IF(ISBLANK(BCU400_Database!C868),\"\",BCU400_Database!C868)","v":""},{"$f":"IF(ISBLANK(BCU400_Database!D868),\"\",BCU400_Database!D868)","v":""},{"$f":"IF(ISBLANK(BCU400_Database!E868),\"\",BCU400_Database!E868)","v":""},""]
[{"$f":"IF(ISBLANK(BCU400_Database!B869),\"\",BCU400_Database!B869)","v":""},{"$f":"IF(ISBLANK(BCU400_Database!C869),\"\",BCU400_Database!C869)","v":""},{"$f":"IF(ISBLANK(BCU400_Database!D869),\"\",BCU400_Database!D869)","v":""},{"$f":"IF(ISBLANK(BCU400_Database!E869),\"\",BCU400_Database!E869)","v":""},""]
[{"$f":"IF(ISBLANK(BCU400_Database!B870),\"\",BCU400_Database!B870)","v":""},{"$f":"IF(ISBLANK(BCU400_Database!C870),\"\",BCU400_Database!C870)","v":""},{"$f":"IF(ISBLANK(BCU400_Database!D870),\"\",BCU400_Database!D870)","v":""},{"$f":"IF(ISBLANK(BCU400_Database!E870),\"\",BCU400_Database!E870)","v":""},""]
[{"$f":"IF(ISBLANK(BCU400_Database!B871),\"\",BCU400_Database!B871)","v":""},{"$f":"IF(ISBLANK(BCU400_Database!C871),\"\",BCU400_Database!C871)","v":""},{"$f":"IF(ISBLANK(BCU400_Database!D871),\"\",BCU400_Database!D871)","v":""},{"$f":"IF(ISBLANK(BCU400_Database!E871),\"\",BCU400_Database!E871)","v":""},""]
[{"$f":"IF(ISBLANK(BCU400_Database!B872),\"\",BCU400_Database!B872)","v":""},{"$f":"IF(ISBLANK(BCU400_Database!C872),\"\",BCU400_Database!C872)","v":""},{"$f":"IF(ISBLANK(BCU400_Database!D872),\"\",BCU400_Database!D872)","v":""},{"$f":"IF(ISBLANK(BCU400_Database!E872),\"\",BCU400_Database!E872)","v":""},""]
[{"$f":"IF(ISBLANK(BCU400_Database!B873),\"\",BCU400_Database!B873)","v":""},{"$f":"IF(ISBLANK(BCU400_Database!C873),\"\",BCU400_Database!C873)","v":""},{"$f":"IF(ISBLANK(BCU400_Database!D873),\"\",BCU400_Database!D873)","v":""},{"$f":"IF(ISBLANK(BCU400_Database!E873),\"\",BCU400_Database!E873)","v":""},""]
[{"$f":"IF(ISBLANK(BCU400_Database!B874),\"\",BCU400_Database!B874)","v":""},{"$f":"IF(ISBLANK(BCU400_Database!C874),\"\",BCU400_Database!C874)","v":""},{"$f":"IF(ISBLANK(BCU400_Database!D874),\"\",BCU400_Database!D874)","v":""},{"$f":"IF(ISBLANK(BCU400_Database!E874),\"\",BCU400_Database!E874)","v":""},""]
[{"$f":"IF(ISBLANK(BCU400_Database!B875),\"\",BCU400_Database!B875)","v":""},{"$f":"IF(ISBLANK(BCU400_Database!C875),\"\",BCU400_Database!C875)","v":""},{"$f":"IF(ISBLANK(BCU400_Database!D875),\"\",BCU400_Database!D875)","v":""},{"$f":"IF(ISBLANK(BCU400_Database!E875),\"\",BCU400_Database!E875)","v":""},""]
[{"$f":"IF(ISBLANK(BCU400_Database!B876),\"\",BCU400_Database!B876)","v":""},{"$f":"IF(ISBLANK(BCU400_Database!C876),\"\",BCU400_Database!C876)","v":""},{"$f":"IF(ISBLANK(BCU400_Database!D876),\"\",BCU400_Database!D876)","v":""},{"$f":"IF(ISBLANK(BCU400_Database!E876),\"\",BCU400_Database!E876)","v":""},""]
[{"$f":"IF(ISBLANK(BCU400_Database!B877),\"\",BCU400_Database!B877)","v":""},{"$f":"IF(ISBLANK(BCU400_Database!C877),\"\",BCU400_Database!C877)","v":""},{"$f":"IF(ISBLANK(BCU400_Database!D877),\"\",BCU400_Database!D877)","v":""},{"$f":"IF(ISBLANK(BCU400_Database!E877),\"\",BCU400_Database!E877)","v":""},""]
[{"$f":"IF(ISBLANK(BCU400_Database!B878),\"\",BCU400_Database!B878)","v":""},{"$f":"IF(ISBLANK(BCU400_Database!C878),\"\",BCU400_Database!C878)","v":""},{"$f":"IF(ISBLANK(BCU400_Database!D878),\"\",BCU400_Database!D878)","v":""},{"$f":"IF(ISBLANK(BCU400_Database!E878),\"\",BCU400_Database!E878)","v":""},""]
[{"$f":"IF(ISBLANK(BCU400_Database!B879),\"\",BCU400_Database!B879)","v":""},{"$f":"IF(ISBLANK(BCU400_Database!C879),\"\",BCU400_Database!C879)","v":""},{"$f":"IF(ISBLANK(BCU400_Database!D879),\"\",BCU400_Database!D879)","v":""},{"$f":"IF(ISBLANK(BCU400_Database!E879),\"\",BCU400_Database!E879)","v":""},""]
[{"$f":"IF(ISBLANK(BCU400_Database!B880),\"\",BCU400_Database!B880)","v":""},{"$f":"IF(ISBLANK(BCU400_Database!C880),\"\",BCU400_Database!C880)","v":""},{"$f":"IF(ISBLANK(BCU400_Database!D880),\"\",BCU400_Database!D880)","v":""},{"$f":"IF(ISBLANK(BCU400_Database!E880),\"\",BCU400_Database!E880)","v":""},""]
[{"$f":"IF(ISBLANK(BCU400_Database!B881),\"\",BCU400_Database!B881)","v":""},{"$f":"IF(ISBLANK(BCU400_Database!C881),\"\",BCU400_Database!C881)","v":""},{"$f":"IF(ISBLANK(BCU400_Database!D881),\"\",BCU400_Database!D881)","v":""},{"$f":"IF(ISBLANK(BCU400_Database!E881),\"\",BCU400_Database!E881)","v":""},""]
[{"$f":"IF(ISBLANK(BCU400_Database!B882),\"\",BCU400_Database!B882)","v":""},{"$f":"IF(ISBLANK(BCU400_Database!C882),\"\",BCU400_Database!C882)","v":""},{"$f":"IF(ISBLANK(BCU400_Database!D882),\"\",BCU400_Database!D882)","v":""},{"$f":"IF(ISBLANK(BCU400_Database!E882),\"\",BCU400_Database!E882)","v":""},""]
[{"$f":"IF(ISBLANK(BCU400_Database!B883),\"\",BCU400_Database!B883)","v":""},{"$f":"IF(ISBLANK(BCU400_Database!C883),\"\",BCU400_Database!C883)","v":""},{"$f":"IF(ISBLANK(BCU400_Database!D883),\"\",BCU400_Database!D883)","v":""},{"$f":"IF(ISBLANK(BCU400_Database!E883),\"\",BCU400_Database!E883)","v":""},""]
[{"$f":"IF(ISBLANK(BCU400_Database!B884),\"\",BCU400_Database!B884)","v":""},{"$f":"IF(ISBLANK(BCU400_Database!C884),\"\",BCU400_Database!C884)","v":""},{"$f":"IF(ISBLANK(BCU400_Database!D884),\"\",BCU400_Database!D884)","v":""},{"$f":"IF(ISBLANK(BCU400_Database!E884),\"\",BCU400_Database!E884)","v":""},""]
[{"$f":"IF(ISBLANK(BCU400_Database!B885),\"\",BCU400_Database!B885)","v":""},{"$f":"IF(ISBLANK(BCU400_Database!C885),\"\",BCU400_Database!C885)","v":""},{"$f":"IF(ISBLANK(BCU400_Database!D885),\"\",BCU400_Database!D885)","v":""},{"$f":"IF(ISBLANK(BCU400_Database!E885),\"\",BCU400_Database!E885)","v":""},""]
[{"$f":"IF(ISBLANK(BCU400_Database!B886),\"\",BCU400_Database!B886)","v":""},{"$f":"IF(ISBLANK(BCU400_Database!C886),\"\",BCU400_Database!C886)","v":""},{"$f":"IF(ISBLANK(BCU400_Database!D886),\"\",BCU400_Database!D886)","v":""},{"$f":"IF(ISBLANK(BCU400_Database!E886),\"\",BCU400_Database!E886)","v":""},""]
[{"$f":"IF(ISBLANK(BCU400_Database!B887),\"\",BCU400_Database!B887)","v":""},{"$f":"IF(ISBLANK(BCU400_Database!C887),\"\",BCU400_Database!C887)","v":""},{"$f":"IF(ISBLANK(BCU400_Database!D887),\"\",BCU400_Database!D887)","v":""},{"$f":"IF(ISBLANK(BCU400_Database!E887),\"\",BCU400_Database!E887)","v":""},""]
[{"$f":"IF(ISBLANK(BCU400_Database!B888),\"\",BCU400_Database!B888)","v":""},{"$f":"IF(ISBLANK(BCU400_Database!C888),\"\",BCU400_Database!C888)","v":""},{"$f":"IF(ISBLANK(BCU400_Database!D888),\"\",BCU400_Database!D888)","v":""},{"$f":"IF(ISBLANK(BCU400_Database!E888),\"\",BCU400_Database!E888)","v":""},{"$f":"B835","v":""}]
[{"$f":"IF(ISBLANK(BCU400_Database!B889),\"\",BCU400_Database!B889)","v":""},{"$f":"IF(ISBLANK(BCU400_Database!C889),\"\",BCU400_Database!C889)","v":""},{"$f":"IF(ISBLANK(BCU400_Database!D889),\"\",BCU400_Database!D889)","v":""},{"$f":"IF(ISBLANK(BCU400_Database!E889),\"\",BCU400_Database!E889)","v":""},""]
[{"$f":"IF(ISBLANK(BCU400_Database!B890),\"\",BCU400_Database!B890)","v":""},{"$f":"IF(ISBLANK(BCU400_Database!C890),\"\",BCU400_Database!C890)","v":""},{"$f":"IF(ISBLANK(BCU400_Database!D890),\"\",BCU400_Database!D890)","v":""},{"$f":"IF(ISBLANK(BCU400_Database!E890),\"\",BCU400_Database!E890)","v":""},""]
[{"$f":"IF(ISBLANK(BCU400_Database!B891),\"\",BCU400_Database!B891)","v":""},{"$f":"IF(ISBLANK(BCU400_Database!C891),\"\",BCU400_Database!C891)","v":""},{"$f":"IF(ISBLANK(BCU400_Database!D891),\"\",BCU400_Database!D891)","v":""},{"$f":"IF(ISBLANK(BCU400_Database!E891),\"\",BCU400_Database!E891)","v":""},""]
[{"$f":"IF(ISBLANK(BCU400_Database!B892),\"\",BCU400_Database!B892)","v":""},{"$f":"IF(ISBLANK(BCU400_Database!C892),\"\",BCU400_Database!C892)","v":""},{"$f":"IF(ISBLANK(BCU400_Database!D892),\"\",BCU400_Database!D892)","v":""},{"$f":"IF(ISBLANK(BCU400_Database!E892),\"\",BCU400_Database!E892)","v":""},""]
[{"$f":"IF(ISBLANK(BCU400_Database!B893),\"\",BCU400_Database!B893)","v":""},{"$f":"IF(ISBLANK(BCU400_Database!C893),\"\",BCU400_Database!C893)","v":""},{"$f":"IF(ISBLANK(BCU400_Database!D893),\"\",BCU400_Database!D893)","v":""},{"$f":"IF(ISBLANK(BCU400_Database!E893),\"\",BCU400_Database!E893)","v":""},""]
[{"$f":"IF(ISBLANK(BCU400_Database!B894),\"\",BCU400_Database!B894)","v":""},{"$f":"IF(ISBLANK(BCU400_Database!C894),\"\",BCU400_Database!C894)","v":""},{"$f":"IF(ISBLANK(BCU400_Database!D894),\"\",BCU400_Database!D894)","v":""},{"$f":"IF(ISBLANK(BCU400_Database!E894),\"\",BCU400_Database!E894)","v":""},""]
[{"$f":"IF(ISBLANK(BCU400_Database!B895),\"\",BCU400_Database!B895)","v":""},{"$f":"IF(ISBLANK(BCU400_Database!C895),\"\",BCU400_Database!C895)","v":""},{"$f":"IF(ISBLANK(BCU400_Database!D895),\"\",BCU400_Database!D895)","v":""},{"$f":"IF(ISBLANK(BCU400_Database!E895),\"\",BCU400_Database!E895)","v":""},""]
[{"$f":"IF(ISBLANK(BCU400_Database!B896),\"\",BCU400_Database!B896)","v":""},{"$f":"IF(ISBLANK(BCU400_Database!C896),\"\",BCU400_Database!C896)","v":""},{"$f":"IF(ISBLANK(BCU400_Database!D896),\"\",BCU400_Database!D896)","v":""},{"$f":"IF(ISBLANK(BCU400_Database!E896),\"\",BCU400_Database!E896)","v":""},""]
[{"$f":"IF(ISBLANK(BCU400_Database!B897),\"\",BCU400_Database!B897)","v":""},{"$f":"IF(ISBLANK(BCU400_Database!C897),\"\",BCU400_Database!C897)","v":""},{"$f":"IF(ISBLANK(BCU400_Database!D897),\"\",BCU400_Database!D897)","v":""},{"$f":"IF(ISBLANK(BCU400_Database!E897),\"\",BCU400_Database!E897)","v":""},""]
[{"$f":"IF(ISBLANK(BCU400_Database!B898),\"\",BCU400_Database!B898)","v":""},{"$f":"IF(ISBLANK(BCU400_Database!C898),\"\",BCU400_Database!C898)","v":""},{"$f":"IF(ISBLANK(BCU400_Database!D898),\"\",BCU400_Database!D898)","v":""},{"$f":"IF(ISBLANK(BCU400_Database!E898),\"\",BCU400_Database!E898)","v":""},""]
[{"$f":"IF(ISBLANK(BCU400_Database!B899),\"\",BCU400_Database!B899)","v":""},{"$f":"IF(ISBLANK(BCU400_Database!C899),\"\",BCU400_Database!C899)","v":""},{"$f":"IF(ISBLANK(BCU400_Database!D899),\"\",BCU400_Database!D899)","v":""},{"$f":"IF(ISBLANK(BCU400_Database!E899),\"\",BCU400_Database!E899)","v":""},""]
[{"$f":"IF(ISBLANK(BCU400_Database!B900),\"\",BCU400_Database!B900)","v":""},{"$f":"IF(ISBLANK(BCU400_Database!C900),\"\",BCU400_Database!C900)","v":""},{"$f":"IF(ISBLANK(BCU400_Database!D900),\"\",BCU400_Database!D900)","v":""},{"$f":"IF(ISBLANK(BCU400_Database!E900),\"\",BCU400_Database!E900)","v":""},""]
[{"$f":"IF(ISBLANK(BCU400_Database!B901),\"\",BCU400_Database!B901)","v":""},{"$f":"IF(ISBLANK(BCU400_Database!C901),\"\",BCU400_Database!C901)","v":""},{"$f":"IF(ISBLANK(BCU400_Database!D901),\"\",BCU400_Database!D901)","v":""},{"$f":"IF(ISBLANK(BCU400_Database!E901),\"\",BCU400_Database!E901)","v":""},""]
[{"$f":"IF(ISBLANK(BCU400_Database!B902),\"\",BCU400_Database!B902)","v":""},{"$f":"IF(ISBLANK(BCU400_Database!C902),\"\",BCU400_Database!C902)","v":""},{"$f":"IF(ISBLANK(BCU400_Database!D902),\"\",BCU400_Database!D902)","v":""},{"$f":"IF(ISBLANK(BCU400_Database!E902),\"\",BCU400_Database!E902)","v":""},""]
[{"$f":"IF(ISBLANK(BCU400_Database!B903),\"\",BCU400_Database!B903)","v":""},{"$f":"IF(ISBLANK(BCU400_Database!C903),\"\",BCU400_Database!C903)","v":""},{"$f":"IF(ISBLANK(BCU400_Database!D903),\"\",BCU400_Database!D903)","v":""},{"$f":"IF(ISBLANK(BCU400_Database!E903),\"\",BCU400_Database!E903)","v":""},""]
[{"$f":"IF(ISBLANK(BCU400_Database!B904),\"\",BCU400_Database!B904)","v":""},{"$f":"IF(ISBLANK(BCU400_Database!C904),\"\",BCU400_Database!C904)","v":""},{"$f":"IF(ISBLANK(BCU400_Database!D904),\"\",BCU400_Database!D904)","v":""},{"$f":"IF(ISBLANK(BCU400_Database!E904),\"\",BCU400_Database!E904)","v":""},""]
[{"$f":"IF(ISBLANK(BCU400_Database!B905),\"\",BCU400_Database!B905)","v":""},{"$f":"IF(ISBLANK(BCU400_Database!C905),\"\",BCU400_Database!C905)","v":""},{"$f":"IF(ISBLANK(BCU400_Database!D905),\"\",BCU400_Database!D905)","v":""},{"$f":"IF(ISBLANK(BCU400_Database!E905),\"\",BCU400_Database!E905)","v":""},""]
[{"$f":"IF(ISBLANK(BCU400_Database!B906),\"\",BCU400_Database!B906)","v":""},{"$f":"IF(ISBLANK(BCU400_Database!C906),\"\",BCU400_Database!C906)","v":""},{"$f":"IF(ISBLANK(BCU400_Database!D906),\"\",BCU400_Database!D906)","v":""},{"$f":"IF(ISBLANK(BCU400_Database!E906),\"\",BCU400_Database!E906)","v":""},""]
[{"$f":"IF(ISBLANK(BCU400_Database!B907),\"\",BCU400_Database!B907)","v":""},{"$f":"IF(ISBLANK(BCU400_Database!C907),\"\",BCU400_Database!C907)","v":""},{"$f":"IF(ISBLANK(BCU400_Database!D907),\"\",BCU400_Database!D907)","v":""},{"$f":"IF(ISBLANK(BCU400_Database!E907),\"\",BCU400_Database!E907)","v":""},""]
[{"$f":"IF(ISBLANK(BCU400_Database!B908),\"\",BCU400_Database!B908)","v":""},{"$f":"IF(ISBLANK(BCU400_Database!C908),\"\",BCU400_Database!C908)","v":""},{"$f":"IF(ISBLANK(BCU400_Database!D908),\"\",BCU400_Database!D908)","v":""},{"$f":"IF(ISBLANK(BCU400_Database!E908),\"\",BCU400_Database!E908)","v":""},""]
[{"$f":"IF(ISBLANK(BCU400_Database!B909),\"\",BCU400_Database!B909)","v":""},{"$f":"IF(ISBLANK(BCU400_Database!C909),\"\",BCU400_Database!C909)","v":""},{"$f":"IF(ISBLANK(BCU400_Database!D909),\"\",BCU400_Database!D909)","v":""},{"$f":"IF(ISBLANK(BCU400_Database!E909),\"\",BCU400_Database!E909)","v":""},""]
[{"$f":"IF(ISBLANK(BCU400_Database!B910),\"\",BCU400_Database!B910)","v":""},{"$f":"IF(ISBLANK(BCU400_Database!C910),\"\",BCU400_Database!C910)","v":""},{"$f":"IF(ISBLANK(BCU400_Database!D910),\"\",BCU400_Database!D910)","v":""},{"$f":"IF(ISBLANK(BCU400_Database!E910),\"\",BCU400_Database!E910)","v":""},""]
[{"$f":"IF(ISBLANK(BCU400_Database!B911),\"\",BCU400_Database!B911)","v":""},{"$f":"IF(ISBLANK(BCU400_Database!C911),\"\",BCU400_Database!C911)","v":""},{"$f":"IF(ISBLANK(BCU400_Database!D911),\"\",BCU400_Database!D911)","v":""},{"$f":"IF(ISBLANK(BCU400_Database!E911),\"\",BCU400_Database!E911)","v":""},""]
[{"$f":"IF(ISBLANK(BCU400_Database!B912),\"\",BCU400_Database!B912)","v":""},{"$f":"IF(ISBLANK(BCU400_Database!C912),\"\",BCU400_Database!C912)","v":""},{"$f":"IF(ISBLANK(BCU400_Database!D912),\"\",BCU400_Database!D912)","v":""},{"$f":"IF(ISBLANK(BCU400_Database!E912),\"\",BCU400_Database!E912)","v":""},""]
[{"$f":"IF(ISBLANK(BCU400_Database!B913),\"\",BCU400_Database!B913)","v":""},{"$f":"IF(ISBLANK(BCU400_Database!C913),\"\",BCU400_Database!C913)","v":""},{"$f":"IF(ISBLANK(BCU400_Database!D913),\"\",BCU400_Database!D913)","v":""},{"$f":"IF(ISBLANK(BCU400_Database!E913),\"\",BCU400_Database!E913)","v":""},""]
[{"$f":"IF(ISBLANK(BCU400_Database!B914),\"\",BCU400_Database!B914)","v":""},{"$f":"IF(ISBLANK(BCU400_Database!C914),\"\",BCU400_Database!C914)","v":""},{"$f":"IF(ISBLANK(BCU400_Database!D914),\"\",BCU400_Database!D914)","v":""},{"$f":"IF(ISBLANK(BCU400_Database!E914),\"\",BCU400_Database!E914)","v":""},""]
[{"$f":"IF(ISBLANK(BCU400_Database!B915),\"\",BCU400_Database!B915)","v":""},{"$f":"IF(ISBLANK(BCU400_Database!C915),\"\",BCU400_Database!C915)","v":""},{"$f":"IF(ISBLANK(BCU400_Database!D915),\"\",BCU400_Database!D915)","v":""},{"$f":"IF(ISBLANK(BCU400_Database!E915),\"\",BCU400_Database!E915)","v":""},""]
[{"$f":"IF(ISBLANK(BCU400_Database!B916),\"\",BCU400_Database!B916)","v":""},{"$f":"IF(ISBLANK(BCU400_Database!C916),\"\",BCU400_Database!C916)","v":""},{"$f":"IF(ISBLANK(BCU400_Database!D916),\"\",BCU400_Database!D916)","v":""},{"$f":"IF(ISBLANK(BCU400_Database!E916),\"\",BCU400_Database!E916)","v":""},""]
[{"$f":"IF(ISBLANK(BCU400_Database!B917),\"\",BCU400_Database!B917)","v":""},{"$f":"IF(ISBLANK(BCU400_Database!C917),\"\",BCU400_Database!C917)","v":""},{"$f":"IF(ISBLANK(BCU400_Database!D917),\"\",BCU400_Database!D917)","v":""},{"$f":"IF(ISBLANK(BCU400_Database!E917),\"\",BCU400_Database!E917)","v":""},""]
[{"$f":"IF(ISBLANK(BCU400_Database!B918),\"\",BCU400_Database!B918)","v":""},{"$f":"IF(ISBLANK(BCU400_Database!C918),\"\",BCU400_Database!C918)","v":""},{"$f":"IF(ISBLANK(BCU400_Database!D918),\"\",BCU400_Database!D918)","v":""},{"$f":"IF(ISBLANK(BCU400_Database!E918),\"\",BCU400_Database!E918)","v":""},""]
[{"$f":"IF(ISBLANK(BCU400_Database!B919),\"\",BCU400_Database!B919)","v":""},{"$f":"IF(ISBLANK(BCU400_Database!C919),\"\",BCU400_Database!C919)","v":""},{"$f":"IF(ISBLANK(BCU400_Database!D919),\"\",BCU400_Database!D919)","v":""},{"$f":"IF(ISBLANK(BCU400_Database!E919),\"\",BCU400_Database!E919)","v":""},""]
[{"$f":"IF(ISBLANK(BCU400_Database!B920),\"\",BCU400_Database!B920)","v":""},{"$f":"IF(ISBLANK(BCU400_Database!C920),\"\",BCU400_Database!C920)","v":""},{"$f":"IF(ISBLANK(BCU400_Database!D920),\"\",BCU400_Database!D920)","v":""},{"$f":"IF(ISBLANK(BCU400_Database!E920),\"\",BCU400_Database!E920)","v":""},""]
[{"$f":"IF(ISBLANK(BCU400_Database!B921),\"\",BCU400_Database!B921)","v":""},{"$f":"IF(ISBLANK(BCU400_Database!C921),\"\",BCU400_Database!C921)","v":""},{"$f":"IF(ISBLANK(BCU400_Database!D921),\"\",BCU400_Database!D921)","v":""},{"$f":"IF(ISBLANK(BCU400_Database!E921),\"\",BCU400_Database!E921)","v":""},""]
[{"$f":"IF(ISBLANK(BCU400_Database!B922),\"\",BCU400_Database!B922)","v":""},{"$f":"IF(ISBLANK(BCU400_Database!C922),\"\",BCU400_Database!C922)","v":""},{"$f":"IF(ISBLANK(BCU400_Database!D922),\"\",BCU400_Database!D922)","v":""},{"$f":"IF(ISBLANK(BCU400_Database!E922),\"\",BCU400_Database!E922)","v":""},""]
[{"$f":"IF(ISBLANK(BCU400_Database!B923),\"\",BCU400_Database!B923)","v":""},{"$f":"IF(ISBLANK(BCU400_Database!C923),\"\",BCU400_Database!C923)","v":""},{"$f":"IF(ISBLANK(BCU400_Database!D923),\"\",BCU400_Database!D923)","v":""},{"$f":"IF(ISBLANK(BCU400_Database!E923),\"\",BCU400_Database!E923)","v":""},""]
[{"$f":"IF(ISBLANK(BCU400_Database!B924),\"\",BCU400_Database!B924)","v":""},{"$f":"IF(ISBLANK(BCU400_Database!C924),\"\",BCU400_Database!C924)","v":""},{"$f":"IF(ISBLANK(BCU400_Database!D924),\"\",BCU400_Database!D924)","v":""},{"$f":"IF(ISBLANK(BCU400_Database!E924),\"\",BCU400_Database!E924)","v":""},""]
[{"$f":"IF(ISBLANK(BCU400_Database!B925),\"\",BCU400_Database!B925)","v":""},{"$f":"IF(ISBLANK(BCU400_Database!C925),\"\",BCU400_Database!C925)","v":""},{"$f":"IF(ISBLANK(BCU400_Database!D925),\"\",BCU400_Database!D925)","v":""},{"$f":"IF(ISBLANK(BCU400_Database!E925),\"\",BCU400_Database!E925)","v":""},""]
[{"$f":"IF(ISBLANK(BCU400_Database!B926),\"\",BCU400_Database!B926)","v":""},{"$f":"IF(ISBLANK(BCU400_Database!C926),\"\",BCU400_Database!C926)","v":""},{"$f":"IF(ISBLANK(BCU400_Database!D926),\"\",BCU400_Database!D926)","v":""},{"$f":"IF(ISBLANK(BCU400_Database!E926),\"\",BCU400_Database!E926)","v":""},""]
[{"$f":"IF(ISBLANK(BCU400_Database!B927),\"\",BCU400_Database!B927)","v":""},{"$f":"IF(ISBLANK(BCU400_Database!C927),\"\",BCU400_Database!C927)","v":""},{"$f":"IF(ISBLANK(BCU400_Database!D927),\"\",BCU400_Database!D927)","v":""},{"$f":"IF(ISBLANK(BCU400_Database!E927),\"\",BCU400_Database!E927)","v":""},""]
[{"$f":"IF(ISBLANK(BCU400_Database!B928),\"\",BCU400_Database!B928)","v":""},{"$f":"IF(ISBLANK(BCU400_Database!C928),\"\",BCU400_Database!C928)","v":""},{"$f":"IF(ISBLANK(BCU400_Database!D928),\"\",BCU400_Database!D928)","v":""},{"$f":"IF(ISBLANK(BCU400_Database!E928),\"\",BCU400_Database!E928)","v":""},""]
[{"$f":"IF(ISBLANK(BCU400_Database!B929),\"\",BCU400_Database!B929)","v":""},{"$f":"IF(ISBLANK(BCU400_Database!C929),\"\",BCU400_Database!C929)","v":""},{"$f":"IF(ISBLANK(BCU400_Database!D929),\"\",BCU400_Database!D929)","v":""},{"$f":"IF(ISBLANK(BCU400_Database!E929),\"\",BCU400_Database!E929)","v":""},""]
[{"$f":"IF(ISBLANK(BCU400_Database!B930),\"\",BCU400_Database!B930)","v":""},{"$f":"IF(ISBLANK(BCU400_Database!C930),\"\",BCU400_Database!C930)","v":""},{"$f":"IF(ISBLANK(BCU400_Database!D930),\"\",BCU400_Database!D930)","v":""},{"$f":"IF(ISBLANK(BCU400_Database!E930),\"\",BCU400_Database!E930)","v":""},""]
[{"$f":"IF(ISBLANK(BCU400_Database!B931),\"\",BCU400_Database!B931)","v":""},{"$f":"IF(ISBLANK(BCU400_Database!C931),\"\",BCU400_Database!C931)","v":""},{"$f":"IF(ISBLANK(BCU400_Database!D931),\"\",BCU400_Database!D931)","v":""},{"$f":"IF(ISBLANK(BCU400_Database!E931),\"\",BCU400_Database!E931)","v":""},""]
[{"$f":"IF(ISBLANK(BCU400_Database!B932),\"\",BCU400_Database!B932)","v":""},{"$f":"IF(ISBLANK(BCU400_Database!C932),\"\",BCU400_Database!C932)","v":""},{"$f":"IF(ISBLANK(BCU400_Database!D932),\"\",BCU400_Database!D932)","v":""},{"$f":"IF(ISBLANK(BCU400_Database!E932),\"\",BCU400_Database!E932)","v":""},""]
[{"$f":"IF(ISBLANK(BCU400_Database!B933),\"\",BCU400_Database!B933)","v":""},{"$f":"IF(ISBLANK(BCU400_Database!C933),\"\",BCU400_Database!C933)","v":""},{"$f":"IF(ISBLANK(BCU400_Database!D933),\"\",BCU400_Database!D933)","v":""},{"$f":"IF(ISBLANK(BCU400_Database!E933),\"\",BCU400_Database!E933)","v":""},""]
[{"$f":"IF(ISBLANK(BCU400_Database!B934),\"\",BCU400_Database!B934)","v":""},{"$f":"IF(ISBLANK(BCU400_Database!C934),\"\",BCU400_Database!C934)","v":""},{"$f":"IF(ISBLANK(BCU400_Database!D934),\"\",BCU400_Database!D934)","v":""},{"$f":"IF(ISBLANK(BCU400_Database!E934),\"\",BCU400_Database!E934)","v":""},""]
[{"$f":"IF(ISBLANK(BCU400_Database!B935),\"\",BCU400_Database!B935)","v":""},{"$f":"IF(ISBLANK(BCU400_Database!C935),\"\",BCU400_Database!C935)","v":""},{"$f":"IF(ISBLANK(BCU400_Database!D935),\"\",BCU400_Database!D935)","v":""},{"$f":"IF(ISBLANK(BCU400_Database!E935),\"\",BCU400_Database!E935)","v":""},""]
[{"$f":"IF(ISBLANK(BCU400_Database!B936),\"\",BCU400_Database!B936)","v":""},{"$f":"IF(ISBLANK(BCU400_Database!C936),\"\",BCU400_Database!C936)","v":""},{"$f":"IF(ISBLANK(BCU400_Database!D936),\"\",BCU400_Database!D936)","v":""},{"$f":"IF(ISBLANK(BCU400_Database!E936),\"\",BCU400_Database!E936)","v":""},""]
[{"$f":"IF(ISBLANK(BCU400_Database!B937),\"\",BCU400_Database!B937)","v":""},{"$f":"IF(ISBLANK(BCU400_Database!C937),\"\",BCU400_Database!C937)","v":""},{"$f":"IF(ISBLANK(BCU400_Database!D937),\"\",BCU400_Database!D937)","v":""},{"$f":"IF(ISBLANK(BCU400_Database!E937),\"\",BCU400_Database!E937)","v":""},""]
[{"$f":"IF(ISBLANK(BCU400_Database!B938),\"\",BCU400_Database!B938)","v":""},{"$f":"IF(ISBLANK(BCU400_Database!C938),\"\",BCU400_Database!C938)","v":""},{"$f":"IF(ISBLANK(BCU400_Database!D938),\"\",BCU400_Database!D938)","v":""},{"$f":"IF(ISBLANK(BCU400_Database!E938),\"\",BCU400_Database!E938)","v":""},""]
[{"$f":"IF(ISBLANK(BCU400_Database!B939),\"\",BCU400_Database!B939)","v":""},{"$f":"IF(ISBLANK(BCU400_Database!C939),\"\",BCU400_Database!C939)","v":""},{"$f":"IF(ISBLANK(BCU400_Database!D939),\"\",BCU400_Database!D939)","v":""},{"$f":"IF(ISBLANK(BCU400_Database!E939),\"\",BCU400_Database!E939)","v":""},""]
[{"$f":"IF(ISBLANK(BCU400_Database!B940),\"\",BCU400_Database!B940)","v":""},{"$f":"IF(ISBLANK(BCU400_Database!C940),\"\",BCU400_Database!C940)","v":""},{"$f":"IF(ISBLANK(BCU400_Database!D940),\"\",BCU400_Database!D940)","v":""},{"$f":"IF(ISBLANK(BCU400_Database!E940),\"\",BCU400_Database!E940)","v":""},""]
[{"$f":"IF(ISBLANK(BCU400_Database!B941),\"\",BCU400_Database!B941)","v":""},{"$f":"IF(ISBLANK(BCU400_Database!C941),\"\",BCU400_Database!C941)","v":""},{"$f":"IF(ISBLANK(BCU400_Database!D941),\"\",BCU400_Database!D941)","v":""},{"$f":"IF(ISBLANK(BCU400_Database!E941),\"\",BCU400_Database!E941)","v":""},""]
[{"$f":"IF(ISBLANK(BCU400_Database!B942),\"\",BCU400_Database!B942)","v":""},{"$f":"IF(ISBLANK(BCU400_Database!C942),\"\",BCU400_Database!C942)","v":""},{"$f":"IF(ISBLANK(BCU400_Database!D942),\"\",BCU400_Database!D942)","v":""},{"$f":"IF(ISBLANK(BCU400_Database!E942),\"\",BCU400_Database!E942)","v":""},""]
[{"$f":"IF(ISBLANK(BCU400_Database!B943),\"\",BCU400_Database!B943)","v":""},{"$f":"IF(ISBLANK(BCU400_Database!C943),\"\",BCU400_Database!C943)","v":""},{"$f":"IF(ISBLANK(BCU400_Database!D943),\"\",BCU400_Database!D943)","v":""},{"$f":"IF(ISBLANK(BCU400_Database!E943),\"\",BCU400_Database!E943)","v":""},""]
[{"$f":"IF(ISBLANK(BCU400_Database!B944),\"\",BCU400_Database!B944)","v":""},{"$f":"IF(ISBLANK(BCU400_Database!C944),\"\",BCU400_Database!C944)","v":""},{"$f":"IF(ISBLANK(BCU400_Database!D944),\"\",BCU400_Database!D944)","v":""},{"$f":"IF(ISBLANK(BCU400_Database!E944),\"\",BCU400_Database!E944)","v":""},""]
[{"$f":"IF(ISBLANK(BCU400_Database!B945),\"\",BCU400_Database!B945)","v":""},{"$f":"IF(ISBLANK(BCU400_Database!C945),\"\",BCU400_Database!C945)","v":""},{"$f":"IF(ISBLANK(BCU400_Database!D945),\"\",BCU400_Database!D945)","v":""},{"$f":"IF(ISBLANK(BCU400_Database!E945),\"\",BCU400_Database!E945)","v":""},""]
[{"$f":"IF(ISBLANK(BCU400_Database!B946),\"\",BCU400_Database!B946)","v":""},{"$f":"IF(ISBLANK(BCU400_Database!C946),\"\",BCU400_Database!C946)","v":""},{"$f":"IF(ISBLANK(BCU400_Database!D946),\"\",BCU400_Database!D946)","v":""},{"$f":"IF(ISBLANK(BCU400_Database!E946),\"\",BCU400_Database!E946)","v":""},""]
[{"$f":"IF(ISBLANK(BCU400_Database!B947),\"\",BCU400_Database!B947)","v":""},{"$f":"IF(ISBLANK(BCU400_Database!C947),\"\",BCU400_Database!C947)","v":""},{"$f":"IF(ISBLANK(BCU400_Database!D947),\"\",BCU400_Database!D947)","v":""},{"$f":"IF(ISBLANK(BCU400_Database!E947),\"\",BCU400_Database!E947)","v":""},""]
[{"$f":"IF(ISBLANK(BCU400_Database!B948),\"\",BCU400_Database!B948)","v":""},{"$f":"IF(ISBLANK(BCU400_Database!C948),\"\",BCU400_Database!C948)","v":""},{"$f":"IF(ISBLANK(BCU400_Database!D948),\"\",BCU400_Database!D948)","v":""},{"$f":"IF(ISBLANK(BCU400_Database!E948),\"\",BCU400_Database!E948)","v":""},""]
[{"$f":"IF(ISBLANK(BCU400_Database!B949),\"\",BCU400_Database!B949)","v":""},{"$f":"IF(ISBLANK(BCU400_Database!C949),\"\",BCU400_Database!C949)","v":""},{"$f":"IF(ISBLANK(BCU400_Database!D949),\"\",BCU400_Database!D949)","v":""},{"$f":"IF(ISBLANK(BCU400_Database!E949),\"\",BCU400_Database!E949)","v":""},""]
[{"$f":"IF(ISBLANK(BCU400_Database!B950),\"\",BCU400_Database!B950)","v":""},{"$f":"IF(ISBLANK(BCU400_Database!C950),\"\",BCU400_Database!C950)","v":""},{"$f":"IF(ISBLANK(BCU400_Database!D950),\"\",BCU400_Database!D950)","v":""},{"$f":"IF(ISBLANK(BCU400_Database!E950),\"\",BCU400_Database!E950)","v":""},""]
[{"$f":"IF(ISBLANK(BCU400_Database!B951),\"\",BCU400_Database!B951)","v":""},{"$f":"IF(ISBLANK(BCU400_Database!C951),\"\",BCU400_Database!C951)","v":""},{"$f":"IF(ISBLANK(BCU400_Database!D951),\"\",BCU400_Database!D951)","v":""},{"$f":"IF(ISBLANK(BCU400_Database!E951),\"\",BCU400_Database!E951)","v":""},""]
[{"$f":"IF(ISBLANK(BCU400_Database!B952),\"\",BCU400_Database!B952)","v":""},{"$f":"IF(ISBLANK(BCU400_Database!C952),\"\",BCU400_Database!C952)","v":""},{"$f":"IF(ISBLANK(BCU400_Database!D952),\"\",BCU400_Database!D952)","v":""},{"$f":"IF(ISBLANK(BCU400_Database!E952),\"\",BCU400_Database!E952)","v":""},{"$f":"B899","v":""}]
[{"$f":"IF(ISBLANK(BCU400_Database!B953),\"\",BCU400_Database!B953)","v":""},{"$f":"IF(ISBLANK(BCU400_Database!C953),\"\",BCU400_Database!C953)","v":""},{"$f":"IF(ISBLANK(BCU400_Database!D953),\"\",BCU400_Database!D953)","v":""},{"$f":"IF(ISBLANK(BCU400_Database!E953),\"\",BCU400_Database!E953)","v":""},""]
[{"$f":"IF(ISBLANK(BCU400_Database!B954),\"\",BCU400_Database!B954)","v":""},{"$f":"IF(ISBLANK(BCU400_Database!C954),\"\",BCU400_Database!C954)","v":""},{"$f":"IF(ISBLANK(BCU400_Database!D954),\"\",BCU400_Database!D954)","v":""},{"$f":"IF(ISBLANK(BCU400_Database!E954),\"\",BCU400_Database!E954)","v":""},""]
[{"$f":"IF(ISBLANK(BCU400_Database!B955),\"\",BCU400_Database!B955)","v":""},{"$f":"IF(ISBLANK(BCU400_Database!C955),\"\",BCU400_Database!C955)","v":""},{"$f":"IF(ISBLANK(BCU400_Database!D955),\"\",BCU400_Database!D955)","v":""},{"$f":"IF(ISBLANK(BCU400_Database!E955),\"\",BCU400_Database!E955)","v":""},""]
[{"$f":"IF(ISBLANK(BCU400_Database!B956),\"\",BCU400_Database!B956)","v":""},{"$f":"IF(ISBLANK(BCU400_Database!C956),\"\",BCU400_Database!C956)","v":""},{"$f":"IF(ISBLANK(BCU400_Database!D956),\"\",BCU400_Database!D956)","v":""},{"$f":"IF(ISBLANK(BCU400_Database!E956),\"\",BCU400_Database!E956)","v":""},""]
[{"$f":"IF(ISBLANK(BCU400_Database!B957),\"\",BCU400_Database!B957)","v":""},{"$f":"IF(ISBLANK(BCU400_Database!C957),\"\",BCU400_Database!C957)","v":""},{"$f":"IF(ISBLANK(BCU400_Database!D957),\"\",BCU400_Database!D957)","v":""},{"$f":"IF(ISBLANK(BCU400_Database!E957),\"\",BCU400_Database!E957)","v":""},""]
[{"$f":"IF(ISBLANK(BCU400_Database!B958),\"\",BCU400_Database!B958)","v":""},{"$f":"IF(ISBLANK(BCU400_Database!C958),\"\",BCU400_Database!C958)","v":""},{"$f":"IF(ISBLANK(BCU400_Database!D958),\"\",BCU400_Database!D958)","v":""},{"$f":"IF(ISBLANK(BCU400_Database!E958),\"\",BCU400_Database!E958)","v":""},""]
[{"$f":"IF(ISBLANK(BCU400_Database!B959),\"\",BCU400_Database!B959)","v":""},{"$f":"IF(ISBLANK(BCU400_Database!C959),\"\",BCU400_Database!C959)","v":""},{"$f":"IF(ISBLANK(BCU400_Database!D959),\"\",BCU400_Database!D959)","v":""},{"$f":"IF(ISBLANK(BCU400_Database!E959),\"\",BCU400_Database!E959)","v":""},""]
[{"$f":"IF(ISBLANK(BCU400_Database!B960),\"\",BCU400_Database!B960)","v":""},{"$f":"IF(ISBLANK(BCU400_Database!C960),\"\",BCU400_Database!C960)","v":""},{"$f":"IF(ISBLANK(BCU400_Database!D960),\"\",BCU400_Database!D960)","v":""},{"$f":"IF(ISBLANK(BCU400_Database!E960),\"\",BCU400_Database!E960)","v":""},""]
[{"$f":"IF(ISBLANK(BCU400_Database!B961),\"\",BCU400_Database!B961)","v":""},{"$f":"IF(ISBLANK(BCU400_Database!C961),\"\",BCU400_Database!C961)","v":""},{"$f":"IF(ISBLANK(BCU400_Database!D961),\"\",BCU400_Database!D961)","v":""},{"$f":"IF(ISBLANK(BCU400_Database!E961),\"\",BCU400_Database!E961)","v":""},""]
[{"$f":"IF(ISBLANK(BCU400_Database!B962),\"\",BCU400_Database!B962)","v":""},{"$f":"IF(ISBLANK(BCU400_Database!C962),\"\",BCU400_Database!C962)","v":""},{"$f":"IF(ISBLANK(BCU400_Database!D962),\"\",BCU400_Database!D962)","v":""},{"$f":"IF(ISBLANK(BCU400_Database!E962),\"\",BCU400_Database!E962)","v":""},""]
[{"$f":"IF(ISBLANK(BCU400_Database!B963),\"\",BCU400_Database!B963)","v":""},{"$f":"IF(ISBLANK(BCU400_Database!C963),\"\",BCU400_Database!C963)","v":""},{"$f":"IF(ISBLANK(BCU400_Database!D963),\"\",BCU400_Database!D963)","v":""},{"$f":"IF(ISBLANK(BCU400_Database!E963),\"\",BCU400_Database!E963)","v":""},""]
[{"$f":"IF(ISBLANK(BCU400_Database!B964),\"\",BCU400_Database!B964)","v":""},{"$f":"IF(ISBLANK(BCU400_Database!C964),\"\",BCU400_Database!C964)","v":""},{"$f":"IF(ISBLANK(BCU400_Database!D964),\"\",BCU400_Database!D964)","v":""},{"$f":"IF(ISBLANK(BCU400_Database!E964),\"\",BCU400_Database!E964)","v":""},""]
[{"$f":"IF(ISBLANK(BCU400_Database!B965),\"\",BCU400_Database!B965)","v":""},{"$f":"IF(ISBLANK(BCU400_Database!C965),\"\",BCU400_Database!C965)","v":""},{"$f":"IF(ISBLANK(BCU400_Database!D965),\"\",BCU400_Database!D965)","v":""},{"$f":"IF(ISBLANK(BCU400_Database!E965),\"\",BCU400_Database!E965)","v":""},""]
[{"$f":"IF(ISBLANK(BCU400_Database!B966),\"\",BCU400_Database!B966)","v":""},{"$f":"IF(ISBLANK(BCU400_Database!C966),\"\",BCU400_Database!C966)","v":""},{"$f":"IF(ISBLANK(BCU400_Database!D966),\"\",BCU400_Database!D966)","v":""},{"$f":"IF(ISBLANK(BCU400_Database!E966),\"\",BCU400_Database!E966)","v":""},""]
[{"$f":"IF(ISBLANK(BCU400_Database!B967),\"\",BCU400_Database!B967)","v":""},{"$f":"IF(ISBLANK(BCU400_Database!C967),\"\",BCU400_Database!C967)","v":""},{"$f":"IF(ISBLANK(BCU400_Database!D967),\"\",BCU400_Database!D967)","v":""},{"$f":"IF(ISBLANK(BCU400_Database!E967),\"\",BCU400_Database!E967)","v":""},""]
[{"$f":"IF(ISBLANK(BCU400_Database!B968),\"\",BCU400_Database!B968)","v":""},{"$f":"IF(ISBLANK(BCU400_Database!C968),\"\",BCU400_Database!C968)","v":""},{"$f":"IF(ISBLANK(BCU400_Database!D968),\"\",BCU400_Database!D968)","v":""},{"$f":"IF(ISBLANK(BCU400_Database!E968),\"\",BCU400_Database!E968)","v":""},""]
[{"$f":"IF(ISBLANK(BCU400_Database!B969),\"\",BCU400_Database!B969)","v":""},{"$f":"IF(ISBLANK(BCU400_Database!C969),\"\",BCU400_Database!C969)","v":""},{"$f":"IF(ISBLANK(BCU400_Database!D969),\"\",BCU400_Database!D969)","v":""},{"$f":"IF(ISBLANK(BCU400_Database!E969),\"\",BCU400_Database!E969)","v":""},""]
[{"$f":"IF(ISBLANK(BCU400_Database!B970),\"\",BCU400_Database!B970)","v":""},{"$f":"IF(ISBLANK(BCU400_Database!C970),\"\",BCU400_Database!C970)","v":""},{"$f":"IF(ISBLANK(BCU400_Database!D970),\"\",BCU400_Database!D970)","v":""},{"$f":"IF(ISBLANK(BCU400_Database!E970),\"\",BCU400_Database!E970)","v":""},""]
[{"$f":"IF(ISBLANK(BCU400_Database!B971),\"\",BCU400_Database!B971)","v":""},{"$f":"IF(ISBLANK(BCU400_Database!C971),\"\",BCU400_Database!C971)","v":""},{"$f":"IF(ISBLANK(BCU400_Database!D971),\"\",BCU400_Database!D971)","v":""},{"$f":"IF(ISBLANK(BCU400_Database!E971),\"\",BCU400_Database!E971)","v":""},""]
[{"$f":"IF(ISBLANK(BCU400_Database!B972),\"\",BCU400_Database!B972)","v":""},{"$f":"IF(ISBLANK(BCU400_Database!C972),\"\",BCU400_Database!C972)","v":""},{"$f":"IF(ISBLANK(BCU400_Database!D972),\"\",BCU400_Database!D972)","v":""},{"$f":"IF(ISBLANK(BCU400_Database!E972),\"\",BCU400_Database!E972)","v":""},""]
[{"$f":"IF(ISBLANK(BCU400_Database!B973),\"\",BCU400_Database!B973)","v":""},{"$f":"IF(ISBLANK(BCU400_Database!C973),\"\",BCU400_Database!C973)","v":""},{"$f":"IF(ISBLANK(BCU400_Database!D973),\"\",BCU400_Database!D973)","v":""},{"$f":"IF(ISBLANK(BCU400_Database!E973),\"\",BCU400_Database!E973)","v":""},""]
[{"$f":"IF(ISBLANK(BCU400_Database!B974),\"\",BCU400_Database!B974)","v":""},{"$f":"IF(ISBLANK(BCU400_Database!C974),\"\",BCU400_Database!C974)","v":""},{"$f":"IF(ISBLANK(BCU400_Database!D974),\"\",BCU400_Database!D974)","v":""},{"$f":"IF(ISBLANK(BCU400_Database!E974),\"\",BCU400_Database!E974)","v":""},""]
[{"$f":"IF(ISBLANK(BCU400_Database!B975),\"\",BCU400_Database!B975)","v":""},{"$f":"IF(ISBLANK(BCU400_Database!C975),\"\",BCU400_Database!C975)","v":""},{"$f":"IF(ISBLANK(BCU400_Database!D975),\"\",BCU400_Database!D975)","v":""},{"$f":"IF(ISBLANK(BCU400_Database!E975),\"\",BCU400_Database!E975)","v":""},""]
[{"$f":"IF(ISBLANK(BCU400_Database!B976),\"\",BCU400_Database!B976)","v":""},{"$f":"IF(ISBLANK(BCU400_Database!C976),\"\",BCU400_Database!C976)","v":""},{"$f":"IF(ISBLANK(BCU400_Database!D976),\"\",BCU400_Database!D976)","v":""},{"$f":"IF(ISBLANK(BCU400_Database!E976),\"\",BCU400_Database!E976)","v":""},""]
[{"$f":"IF(ISBLANK(BCU400_Database!B977),\"\",BCU400_Database!B977)","v":""},{"$f":"IF(ISBLANK(BCU400_Database!C977),\"\",BCU400_Database!C977)","v":""},{"$f":"IF(ISBLANK(BCU400_Database!D977),\"\",BCU400_Database!D977)","v":""},{"$f":"IF(ISBLANK(BCU400_Database!E977),\"\",BCU400_Database!E977)","v":""},""]
[{"$f":"IF(ISBLANK(BCU400_Database!B978),\"\",BCU400_Database!B978)","v":""},{"$f":"IF(ISBLANK(BCU400_Database!C978),\"\",BCU400_Database!C978)","v":""},{"$f":"IF(ISBLANK(BCU400_Database!D978),\"\",BCU400_Database!D978)","v":""},{"$f":"IF(ISBLANK(BCU400_Database!E978),\"\",BCU400_Database!E978)","v":""},""]
[{"$f":"IF(ISBLANK(BCU400_Database!B979),\"\",BCU400_Database!B979)","v":""},{"$f":"IF(ISBLANK(BCU400_Database!C979),\"\",BCU400_Database!C979)","v":""},{"$f":"IF(ISBLANK(BCU400_Database!D979),\"\",BCU400_Database!D979)","v":""},{"$f":"IF(ISBLANK(BCU400_Database!E979),\"\",BCU400_Database!E979)","v":""},""]
[{"$f":"IF(ISBLANK(BCU400_Database!B980),\"\",BCU400_Database!B980)","v":""},{"$f":"IF(ISBLANK(BCU400_Database!C980),\"\",BCU400_Database!C980)","v":""},{"$f":"IF(ISBLANK(BCU400_Database!D980),\"\",BCU400_Database!D980)","v":""},{"$f":"IF(ISBLANK(BCU400_Database!E980),\"\",BCU400_Database!E980)","v":""},""]
[{"$f":"IF(ISBLANK(BCU400_Database!B981),\"\",BCU400_Database!B981)","v":""},{"$f":"IF(ISBLANK(BCU400_Database!C981),\"\",BCU400_Database!C981)","v":""},{"$f":"IF(ISBLANK(BCU400_Database!D981),\"\",BCU400_Database!D981)","v":""},{"$f":"IF(ISBLANK(BCU400_Database!E981),\"\",BCU400_Database!E981)","v":""},""]
[{"$f":"IF(ISBLANK(BCU400_Database!B982),\"\",BCU400_Database!B982)","v":""},{"$f":"IF(ISBLANK(BCU400_Database!C982),\"\",BCU400_Database!C982)","v":""},{"$f":"IF(ISBLANK(BCU400_Database!D982),\"\",BCU400_Database!D982)","v":""},{"$f":"IF(ISBLANK(BCU400_Database!E982),\"\",BCU400_Database!E982)","v":""},""]
[{"$f":"IF(ISBLANK(BCU400_Database!B983),\"\",BCU400_Database!B983)","v":""},{"$f":"IF(ISBLANK(BCU400_Database!C983),\"\",BCU400_Database!C983)","v":""},{"$f":"IF(ISBLANK(BCU400_Database!D983),\"\",BCU400_Database!D983)","v":""},{"$f":"IF(ISBLANK(BCU400_Database!E983),\"\",BCU400_Database!E983)","v":""},""]
[{"$f":"IF(ISBLANK(BCU400_Database!B984),\"\",BCU400_Database!B984)","v":""},{"$f":"IF(ISBLANK(BCU400_Database!C984),\"\",BCU400_Database!C984)","v":""},{"$f":"IF(ISBLANK(BCU400_Database!D984),\"\",BCU400_Database!D984)","v":""},{"$f":"IF(ISBLANK(BCU400_Database!E984),\"\",BCU400_Database!E984)","v":""},""]
[{"$f":"IF(ISBLANK(BCU400_Database!B985),\"\",BCU400_Database!B985)","v":""},{"$f":"IF(ISBLANK(BCU400_Database!C985),\"\",BCU400_Database!C985)","v":""},{"$f":"IF(ISBLANK(BCU400_Database!D985),\"\",BCU400_Database!D985)","v":""},{"$f":"IF(ISBLANK(BCU400_Database!E985),\"\",BCU400_Database!E985)","v":""},""]
[{"$f":"IF(ISBLANK(BCU400_Database!B986),\"\",BCU400_Database!B986)","v":""},{"$f":"IF(ISBLANK(BCU400_Database!C986),\"\",BCU400_Database!C986)","v":""},{"$f":"IF(ISBLANK(BCU400_Database!D986),\"\",BCU400_Database!D986)","v":""},{"$f":"IF(ISBLANK(BCU400_Database!E986),\"\",BCU400_Database!E986)","v":""},""]
[{"$f":"IF(ISBLANK(BCU400_Database!B987),\"\",BCU400_Database!B987)","v":""},{"$f":"IF(ISBLANK(BCU400_Database!C987),\"\",BCU400_Database!C987)","v":""},{"$f":"IF(ISBLANK(BCU400_Database!D987),\"\",BCU400_Database!D987)","v":""},{"$f":"IF(ISBLANK(BCU400_Database!E987),\"\",BCU400_Database!E987)","v":""},""]
[{"$f":"IF(ISBLANK(BCU400_Database!B988),\"\",BCU400_Database!B988)","v":""},{"$f":"IF(ISBLANK(BCU400_Database!C988),\"\",BCU400_Database!C988)","v":""},{"$f":"IF(ISBLANK(BCU400_Database!D988),\"\",BCU400_Database!D988)","v":""},{"$f":"IF(ISBLANK(BCU400_Database!E988),\"\",BCU400_Database!E988)","v":""},""]
[{"$f":"IF(ISBLANK(BCU400_Database!B989),\"\",BCU400_Database!B989)","v":""},{"$f":"IF(ISBLANK(BCU400_Database!C989),\"\",BCU400_Database!C989)","v":""},{"$f":"IF(ISBLANK(BCU400_Database!D989),\"\",BCU400_Database!D989)","v":""},{"$f":"IF(ISBLANK(BCU400_Database!E989),\"\",BCU400_Database!E989)","v":""},""]
[{"$f":"IF(ISBLANK(BCU400_Database!B990),\"\",BCU400_Database!B990)","v":""},{"$f":"IF(ISBLANK(BCU400_Database!C990),\"\",BCU400_Database!C990)","v":""},{"$f":"IF(ISBLANK(BCU400_Database!D990),\"\",BCU400_Database!D990)","v":""},{"$f":"IF(ISBLANK(BCU400_Database!E990),\"\",BCU400_Database!E990)","v":""},""]
[{"$f":"IF(ISBLANK(BCU400_Database!B991),\"\",BCU400_Database!B991)","v":""},{"$f":"IF(ISBLANK(BCU400_Database!C991),\"\",BCU400_Database!C991)","v":""},{"$f":"IF(ISBLANK(BCU400_Database!D991),\"\",BCU400_Database!D991)","v":""},{"$f":"IF(ISBLANK(BCU400_Database!E991),\"\",BCU400_Database!E991)","v":""},""]
[{"$f":"IF(ISBLANK(BCU400_Database!B992),\"\",BCU400_Database!B992)","v":""},{"$f":"IF(ISBLANK(BCU400_Database!C992),\"\",BCU400_Database!C992)","v":""},{"$f":"IF(ISBLANK(BCU400_Database!D992),\"\",BCU400_Database!D992)","v":""},{"$f":"IF(ISBLANK(BCU400_Database!E992),\"\",BCU400_Database!E992)","v":""},""]
[{"$f":"IF(ISBLANK(BCU400_Database!B993),\"\",BCU400_Database!B993)","v":""},{"$f":"IF(ISBLANK(BCU400_Database!C993),\"\",BCU400_Database!C993)","v":""},{"$f":"IF(ISBLANK(BCU400_Database!D993),\"\",BCU400_Database!D993)","v":""},{"$f":"IF(ISBLANK(BCU400_Database!E993),\"\",BCU400_Database!E993)","v":""},""]
[{"$f":"IF(ISBLANK(BCU400_Database!B994),\"\",BCU400_Database!B994)","v":""},{"$f":"IF(ISBLANK(BCU400_Database!C994),\"\",BCU400_Database!C994)","v":""},{"$f":"IF(ISBLANK(BCU400_Database!D994),\"\",BCU400_Database!D994)","v":""},{"$f":"IF(ISBLANK(BCU400_Database!E994),\"\",BCU400_Database!E994)","v":""},""]
[{"$f":"IF(ISBLANK(BCU400_Database!B995),\"\",BCU400_Database!B995)","v":""},{"$f":"IF(ISBLANK(BCU400_Database!C995),\"\",BCU400_Database!C995)","v":""},{"$f":"IF(ISBLANK(BCU400_Database!D995),\"\",BCU400_Database!D995)","v":""},{"$f":"IF(ISBLANK(BCU400_Database!E995),\"\",BCU400_Database!E995)","v":""},""]
[{"$f":"IF(ISBLANK(BCU400_Database!B996),\"\",BCU400_Database!B996)","v":""},{"$f":"IF(ISBLANK(BCU400_Database!C996),\"\",BCU400_Database!C996)","v":""},{"$f":"IF(ISBLANK(BCU400_Database!D996),\"\",BCU400_Database!D996)","v":""},{"$f":"IF(ISBLANK(BCU400_Database!E996),\"\",BCU400_Database!E996)","v":""},""]
[{"$f":"IF(ISBLANK(BCU400_Database!B997),\"\",BCU400_Database!B997)","v":""},{"$f":"IF(ISBLANK(BCU400_Database!C997),\"\",BCU400_Database!C997)","v":""},{"$f":"IF(ISBLANK(BCU400_Database!D997),\"\",BCU400_Database!D997)","v":""},{"$f":"IF(ISBLANK(BCU400_Database!E997),\"\",BCU400_Database!E997)","v":""},""]
[{"$f":"IF(ISBLANK(BCU400_Database!B998),\"\",BCU400_Database!B998)","v":""},{"$f":"IF(ISBLANK(BCU400_Database!C998),\"\",BCU400_Database!C998)","v":""},{"$f":"IF(ISBLANK(BCU400_Database!D998),\"\",BCU400_Database!D998)","v":""},{"$f":"IF(ISBLANK(BCU400_Database!E998),\"\",BCU400_Database!E998)","v":""},""]
[{"$f":"IF(ISBLANK(BCU400_Database!B999),\"\",BCU400_Database!B999)","v":""},{"$f":"IF(ISBLANK(BCU400_Database!C999),\"\",BCU400_Database!C999)","v":""},{"$f":"IF(ISBLANK(BCU400_Database!D999),\"\",BCU400_Database!D999)","v":""},{"$f":"IF(ISBLANK(BCU400_Database!E999),\"\",BCU400_Database!E999)","v":""},""]
[{"$f":"IF(ISBLANK(BCU400_Database!B1000),\"\",BCU400_Database!B1000)","v":""},{"$f":"IF(ISBLANK(BCU400_Database!C1000),\"\",BCU400_Database!C1000)","v":""},{"$f":"IF(ISBLANK(BCU400_Database!D1000),\"\",BCU400_Database!D1000)","v":""},{"$f":"IF(ISBLANK(BCU400_Database!E1000),\"\",BCU400_Database!E1000)","v":""},""]
[{"$f":"IF(ISBLANK(BCU400_Database!B1001),\"\",BCU400_Database!B1001)","v":""},{"$f":"IF(ISBLANK(BCU400_Database!C1001),\"\",BCU400_Database!C1001)","v":""},{"$f":"IF(ISBLANK(BCU400_Database!D1001),\"\",BCU400_Database!D1001)","v":""},{"$f":"IF(ISBLANK(BCU400_Database!E1001),\"\",BCU400_Database!E1001)","v":""},""]
[{"$f":"IF(ISBLANK(BCU400_Database!B1002),\"\",BCU400_Database!B1002)","v":""},{"$f":"IF(ISBLANK(BCU400_Database!C1002),\"\",BCU400_Database!C1002)","v":""},{"$f":"IF(ISBLANK(BCU400_Database!D1002),\"\",BCU400_Database!D1002)","v":""},{"$f":"IF(ISBLANK(BCU400_Database!E1002),\"\",BCU400_Database!E1002)","v":""},""]
[{"$f":"IF(ISBLANK(BCU400_Database!B1003),\"\",BCU400_Database!B1003)","v":""},{"$f":"IF(ISBLANK(BCU400_Database!C1003),\"\",BCU400_Database!C1003)","v":""},{"$f":"IF(ISBLANK(BCU400_Database!D1003),\"\",BCU400_Database!D1003)","v":""},{"$f":"IF(ISBLANK(BCU400_Database!E1003),\"\",BCU400_Database!E1003)","v":""},""]
[{"$f":"IF(ISBLANK(BCU400_Database!B1004),\"\",BCU400_Database!B1004)","v":""},{"$f":"IF(ISBLANK(BCU400_Database!C1004),\"\",BCU400_Database!C1004)","v":""},{"$f":"IF(ISBLANK(BCU400_Database!D1004),\"\",BCU400_Database!D1004)","v":""},{"$f":"IF(ISBLANK(BCU400_Database!E1004),\"\",BCU400_Database!E1004)","v":""},""]
[{"$f":"IF(ISBLANK(BCU400_Database!B1005),\"\",BCU400_Database!B1005)","v":""},{"$f":"IF(ISBLANK(BCU400_Database!C1005),\"\",BCU400_Database!C1005)","v":""},{"$f":"IF(ISBLANK(BCU400_Database!D1005),\"\",BCU400_Database!D1005)","v":""},{"$f":"IF(ISBLANK(BCU400_Database!E1005),\"\",BCU400_Database!E1005)","v":""},""]
[{"$f":"IF(ISBLANK(BCU400_Database!B1006),\"\",BCU400_Database!B1006)","v":""},{"$f":"IF(ISBLANK(BCU400_Database!C1006),\"\",BCU400_Database!C1006)","v":""},{"$f":"IF(ISBLANK(BCU400_Database!D1006),\"\",BCU400_Database!D1006)","v":""},{"$f":"IF(ISBLANK(BCU400_Database!E1006),\"\",BCU400_Database!E1006)","v":""},""]
[{"$f":"IF(ISBLANK(BCU400_Database!B1007),\"\",BCU400_Database!B1007)","v":""},{"$f":"IF(ISBLANK(BCU400_Database!C1007),\"\",BCU400_Database!C1007)","v":""},{"$f":"IF(ISBLANK(BCU400_Database!D1007),\"\",BCU400_Database!D1007)","v":""},{"$f":"IF(ISBLANK(BCU400_Database!E1007),\"\",BCU400_Database!E1007)","v":""},""]
[{"$f":"IF(ISBLANK(BCU400_Database!B1008),\"\",BCU400_Database!B1008)","v":""},{"$f":"IF(ISBLANK(BCU400_Database!C1008),\"\",BCU400_Database!C1008)","v":""},{"$f":"IF(ISBLANK(BCU400_Database!D1008),\"\",BCU400_Database!D1008)","v":""},{"$f":"IF(ISBLANK(BCU400_Database!E1008),\"\",BCU400_Database!E1008)","v":""},""]
[{"$f":"IF(ISBLANK(BCU400_Database!B1009),\"\",BCU400_Database!B1009)","v":""},{"$f":"IF(ISBLANK(BCU400_Database!C1009),\"\",BCU400_Database!C1009)","v":""},{"$f":"IF(ISBLANK(BCU400_Database!D1009),\"\",BCU400_Database!D1009)","v":""},{"$f":"IF(ISBLANK(BCU400_Database!E1009),\"\",BCU400_Database!E1009)","v":""},""]
[{"$f":"IF(ISBLANK(BCU400_Database!B1010),\"\",BCU400_Database!B1010)","v":""},{"$f":"IF(ISBLANK(BCU400_Database!C1010),\"\",BCU400_Database!C1010)","v":""},{"$f":"IF(ISBLANK(BCU400_Database!D1010),\"\",BCU400_Database!D1010)","v":""},{"$f":"IF(ISBLANK(BCU400_Database!E1010),\"\",BCU400_Database!E1010)","v":""},""]
[{"$f":"IF(ISBLANK(BCU400_Database!B1011),\"\",BCU400_Database!B1011)","v":""},{"$f":"IF(ISBLANK(BCU400_Database!C1011),\"\",BCU400_Database!C1011)","v":""},{"$f":"IF(ISBLANK(BCU400_Database!D1011),\"\",BCU400_Database!D1011)","v":""},{"$f":"IF(ISBLANK(BCU400_Database!E1011),\"\",BCU400_Database!E1011)","v":""},""]
[{"$f":"IF(ISBLANK(BCU400_Database!B1012),\"\",BCU400_Database!B1012)","v":""},{"$f":"IF(ISBLANK(BCU400_Database!C1012),\"\",BCU400_Database!C1012)","v":""},{"$f":"IF(ISBLANK(BCU400_Database!D1012),\"\",BCU400_Database!D1012)","v":""},{"$f":"IF(ISBLANK(BCU400_Database!E1012),\"\",BCU400_Database!E1012)","v":""},""]
[{"$f":"IF(ISBLANK(BCU400_Database!B1013),\"\",BCU400_Database!B1013)","v":""},{"$f":"IF(ISBLANK(BCU400_Database!C1013),\"\",BCU400_Database!C1013)","v":""},{"$f":"IF(ISBLANK(BCU400_Database!D1013),\"\",BCU400_Database!D1013)","v":""},{"$f":"IF(ISBLANK(BCU400_Database!E1013),\"\",BCU400_Database!E1013)","v":""},""]
[{"$f":"IF(ISBLANK(BCU400_Database!B1014),\"\",BCU400_Database!B1014)","v":""},{"$f":"IF(ISBLANK(BCU400_Database!C1014),\"\",BCU400_Database!C1014)","v":""},{"$f":"IF(ISBLANK(BCU400_Database!D1014),\"\",BCU400_Database!D1014)","v":""},{"$f":"IF(ISBLANK(BCU400_Database!E1014),\"\",BCU400_Database!E1014)","v":""},""]
[{"$f":"IF(ISBLANK(BCU400_Database!B1015),\"\",BCU400_Database!B1015)","v":""},{"$f":"IF(ISBLANK(BCU400_Database!C1015),\"\",BCU400_Database!C1015)","v":""},{"$f":"IF(ISBLANK(BCU400_Database!D1015),\"\",BCU400_Database!D1015)","v":""},{"$f":"IF(ISBLANK(BCU400_Database!E1015),\"\",BCU400_Database!E1015)","v":""},""]
[{"$f":"IF(ISBLANK(BCU400_Database!B1016),\"\",BCU400_Database!B1016)","v":""},{"$f":"IF(ISBLANK(BCU400_Database!C1016),\"\",BCU400_Database!C1016)","v":""},{"$f":"IF(ISBLANK(BCU400_Database!D1016),\"\",BCU400_Database!D1016)","v":""},{"$f":"IF(ISBLANK(BCU400_Database!E1016),\"\",BCU400_Database!E1016)","v":""},{"$f":"B963","v":""}]
[{"$f":"IF(ISBLANK(BCU400_Database!B1017),\"\",BCU400_Database!B1017)","v":""},{"$f":"IF(ISBLANK(BCU400_Database!C1017),\"\",BCU400_Database!C1017)","v":""},{"$f":"IF(ISBLANK(BCU400_Database!D1017),\"\",BCU400_Database!D1017)","v":""},{"$f":"IF(ISBLANK(BCU400_Database!E1017),\"\",BCU400_Database!E1017)","v":""},""]
[{"$f":"IF(ISBLANK(BCU400_Database!B1018),\"\",BCU400_Database!B1018)","v":""},{"$f":"IF(ISBLANK(BCU400_Database!C1018),\"\",BCU400_Database!C1018)","v":""},{"$f":"IF(ISBLANK(BCU400_Database!D1018),\"\",BCU400_Database!D1018)","v":""},{"$f":"IF(ISBLANK(BCU400_Database!E1018),\"\",BCU400_Database!E1018)","v":""},""]
[{"$f":"IF(ISBLANK(BCU400_Database!B1019),\"\",BCU400_Database!B1019)","v":""},{"$f":"IF(ISBLANK(BCU400_Database!C1019),\"\",BCU400_Database!C1019)","v":""},{"$f":"IF(ISBLANK(BCU400_Database!D1019),\"\",BCU400_Database!D1019)","v":""},{"$f":"IF(ISBLANK(BCU400_Database!E1019),\"\",BCU400_Database!E1019)","v":""},""]
[{"$f":"IF(ISBLANK(BCU400_Database!B1020),\"\",BCU400_Database!B1020)","v":""},{"$f":"IF(ISBLANK(BCU400_Database!C1020),\"\",BCU400_Database!C1020)","v":""},{"$f":"IF(ISBLANK(BCU400_Database!D1020),\"\",BCU400_Database!D1020)","v":""},{"$f":"IF(ISBLANK(BCU400_Database!E1020),\"\",BCU400_Database!E1020)","v":""},""]
[{"$f":"IF(ISBLANK(BCU400_Database!B1021),\"\",BCU400_Database!B1021)","v":""},{"$f":"IF(ISBLANK(BCU400_Database!C1021),\"\",BCU400_Database!C1021)","v":""},{"$f":"IF(ISBLANK(BCU400_Database!D1021),\"\",BCU400_Database!D1021)","v":""},{"$f":"IF(ISBLANK(BCU400_Database!E1021),\"\",BCU400_Database!E1021)","v":""},""]
[{"$f":"IF(ISBLANK(BCU400_Database!B1022),\"\",BCU400_Database!B1022)","v":""},{"$f":"IF(ISBLANK(BCU400_Database!C1022),\"\",BCU400_Database!C1022)","v":""},{"$f":"IF(ISBLANK(BCU400_Database!D1022),\"\",BCU400_Database!D1022)","v":""},{"$f":"IF(ISBLANK(BCU400_Database!E1022),\"\",BCU400_Database!E1022)","v":""},""]
[{"$f":"IF(ISBLANK(BCU400_Database!B1023),\"\",BCU400_Database!B1023)","v":""},{"$f":"IF(ISBLANK(BCU400_Database!C1023),\"\",BCU400_Database!C1023)","v":""},{"$f":"IF(ISBLANK(BCU400_Database!D1023),\"\",BCU400_Database!D1023)","v":""},{"$f":"IF(ISBLANK(BCU400_Database!E1023),\"\",BCU400_Database!E1023)","v":""},""]
[{"$f":"IF(ISBLANK(BCU400_Database!B1024),\"\",BCU400_Database!B1024)","v":""},{"$f":"IF(ISBLANK(BCU400_Database!C1024),\"\",BCU400_Database!C1024)","v":""},{"$f":"IF(ISBLANK(BCU400_Database!D1024),\"\",BCU400_Database!D1024)","v":""},{"$f":"IF(ISBLANK(BCU400_Database!E1024),\"\",BCU400_Database!E1024)","v":""},""]
[{"$f":"IF(ISBLANK(BCU400_Database!B1025),\"\",BCU400_Database!B1025)","v":""},{"$f":"IF(ISBLANK(BCU400_Database!C1025),\"\",BCU400_Database!C1025)","v":""},{"$f":"IF(ISBLANK(BCU400_Database!D1025),\"\",BCU400_Database!D1025)","v":""},{"$f":"IF(ISBLANK(BCU400_Database!E1025),\"\",BCU400_Database!E1025)","v":""},""]
[{"$f":"IF(ISBLANK(BCU400_Database!B1026),\"\",BCU400_Database!B1026)","v":""},{"$f":"IF(ISBLANK(BCU400_Database!C1026),\"\",BCU400_Database!C1026)","v":""},{"$f":"IF(ISBLANK(BCU400_Database!D1026),\"\",BCU400_Database!D1026)","v":""},{"$f":"IF(ISBLANK(BCU400_Database!E1026),\"\",BCU400_Database!E1026)","v":""},""]
[{"$f":"IF(ISBLANK(BCU400_Database!B1027),\"\",BCU400_Database!B1027)","v":""},{"$f":"IF(ISBLANK(BCU400_Database!C1027),\"\",BCU400_Database!C1027)","v":""},{"$f":"IF(ISBLANK(BCU400_Database!D1027),\"\",BCU400_Database!D1027)","v":""},{"$f":"IF(ISBLANK(BCU400_Database!E1027),\"\",BCU400_Database!E1027)","v":""},""]
[{"$f":"IF(ISBLANK(BCU400_Database!B1028),\"\",BCU400_Database!B1028)","v":""},{"$f":"IF(ISBLANK(BCU400_Database!C1028),\"\",BCU400_Database!C1028)","v":""},{"$f":"IF(ISBLANK(BCU400_Database!D1028),\"\",BCU400_Database!D1028)","v":""},{"$f":"IF(ISBLANK(BCU400_Database!E1028),\"\",BCU400_Database!E1028)","v":""},""]
[{"$f":"IF(ISBLANK(BCU400_Database!B1029),\"\",BCU400_Database!B1029)","v":""},{"$f":"IF(ISBLANK(BCU400_Database!C1029),\"\",BCU400_Database!C1029)","v":""},{"$f":"IF(ISBLANK(BCU400_Database!D1029),\"\",BCU400_Database!D1029)","v":""},{"$f":"IF(ISBLANK(BCU400_Database!E1029),\"\",BCU400_Database!E1029)","v":""},""]
[{"$f":"IF(ISBLANK(BCU400_Database!B1030),\"\",BCU400_Database!B1030)","v":""},{"$f":"IF(ISBLANK(BCU400_Database!C1030),\"\",BCU400_Database!C1030)","v":""},{"$f":"IF(ISBLANK(BCU400_Database!D1030),\"\",BCU400_Database!D1030)","v":""},{"$f":"IF(ISBLANK(BCU400_Database!E1030),\"\",BCU400_Database!E1030)","v":""},""]
[{"$f":"IF(ISBLANK(BCU400_Database!B1031),\"\",BCU400_Database!B1031)","v":""},{"$f":"IF(ISBLANK(BCU400_Database!C1031),\"\",BCU400_Database!C1031)","v":""},{"$f":"IF(ISBLANK(BCU400_Database!D1031),\"\",BCU400_Database!D1031)","v":""},{"$f":"IF(ISBLANK(BCU400_Database!E1031),\"\",BCU400_Database!E1031)","v":""},""]
[{"$f":"IF(ISBLANK(BCU400_Database!B1032),\"\",BCU400_Database!B1032)","v":""},{"$f":"IF(ISBLANK(BCU400_Database!C1032),\"\",BCU400_Database!C1032)","v":""},{"$f":"IF(ISBLANK(BCU400_Database!D1032),\"\",BCU400_Database!D1032)","v":""},{"$f":"IF(ISBLANK(BCU400_Database!E1032),\"\",BCU400_Database!E1032)","v":""},""]
[{"$f":"IF(ISBLANK(BCU400_Database!B1033),\"\",BCU400_Database!B1033)","v":""},{"$f":"IF(ISBLANK(BCU400_Database!C1033),\"\",BCU400_Database!C1033)","v":""},{"$f":"IF(ISBLANK(BCU400_Database!D1033),\"\",BCU400_Database!D1033)","v":""},{"$f":"IF(ISBLANK(BCU400_Database!E1033),\"\",BCU400_Database!E1033)","v":""},""]
[{"$f":"IF(ISBLANK(BCU400_Database!B1034),\"\",BCU400_Database!B1034)","v":""},{"$f":"IF(ISBLANK(BCU400_Database!C1034),\"\",BCU400_Database!C1034)","v":""},{"$f":"IF(ISBLANK(BCU400_Database!D1034),\"\",BCU400_Database!D1034)","v":""},{"$f":"IF(ISBLANK(BCU400_Database!E1034),\"\",BCU400_Database!E1034)","v":""},""]
[{"$f":"IF(ISBLANK(BCU400_Database!B1035),\"\",BCU400_Database!B1035)","v":""},{"$f":"IF(ISBLANK(BCU400_Database!C1035),\"\",BCU400_Database!C1035)","v":""},{"$f":"IF(ISBLANK(BCU400_Database!D1035),\"\",BCU400_Database!D1035)","v":""},{"$f":"IF(ISBLANK(BCU400_Database!E1035),\"\",BCU400_Database!E1035)","v":""},""]
[{"$f":"IF(ISBLANK(BCU400_Database!B1036),\"\",BCU400_Database!B1036)","v":""},{"$f":"IF(ISBLANK(BCU400_Database!C1036),\"\",BCU400_Database!C1036)","v":""},{"$f":"IF(ISBLANK(BCU400_Database!D1036),\"\",BCU400_Database!D1036)","v":""},{"$f":"IF(ISBLANK(BCU400_Database!E1036),\"\",BCU400_Database!E1036)","v":""},""]
[{"$f":"IF(ISBLANK(BCU400_Database!B1037),\"\",BCU400_Database!B1037)","v":""},{"$f":"IF(ISBLANK(BCU400_Database!C1037),\"\",BCU400_Database!C1037)","v":""},{"$f":"IF(ISBLANK(BCU400_Database!D1037),\"\",BCU400_Database!D1037)","v":""},{"$f":"IF(ISBLANK(BCU400_Database!E1037),\"\",BCU400_Database!E1037)","v":""},""]
[{"$f":"IF(ISBLANK(BCU400_Database!B1038),\"\",BCU400_Database!B1038)","v":""},{"$f":"IF(ISBLANK(BCU400_Database!C1038),\"\",BCU400_Database!C1038)","v":""},{"$f":"IF(ISBLANK(BCU400_Database!D1038),\"\",BCU400_Database!D1038)","v":""},{"$f":"IF(ISBLANK(BCU400_Database!E1038),\"\",BCU400_Database!E1038)","v":""},""]
[{"$f":"IF(ISBLANK(BCU400_Database!B1039),\"\",BCU400_Database!B1039)","v":""},{"$f":"IF(ISBLANK(BCU400_Database!C1039),\"\",BCU400_Database!C1039)","v":""},{"$f":"IF(ISBLANK(BCU400_Database!D1039),\"\",BCU400_Database!D1039)","v":""},{"$f":"IF(ISBLANK(BCU400_Database!E1039),\"\",BCU400_Database!E1039)","v":""},""]
[{"$f":"IF(ISBLANK(BCU400_Database!B1040),\"\",BCU400_Database!B1040)","v":""},{"$f":"IF(ISBLANK(BCU400_Database!C1040),\"\",BCU400_Database!C1040)","v":""},{"$f":"IF(ISBLANK(BCU400_Database!D1040),\"\",BCU400_Database!D1040)","v":""},{"$f":"IF(ISBLANK(BCU400_Database!E1040),\"\",BCU400_Database!E1040)","v":""},""]
[{"$f":"IF(ISBLANK(BCU400_Database!B1041),\"\",BCU400_Database!B1041)","v":""},{"$f":"IF(ISBLANK(BCU400_Database!C1041),\"\",BCU400_Database!C1041)","v":""},{"$f":"IF(ISBLANK(BCU400_Database!D1041),\"\",BCU400_Database!D1041)","v":""},{"$f":"IF(ISBLANK(BCU400_Database!E1041),\"\",BCU400_Database!E1041)","v":""},""]
[{"$f":"IF(ISBLANK(BCU400_Database!B1042),\"\",BCU400_Database!B1042)","v":""},{"$f":"IF(ISBLANK(BCU400_Database!C1042),\"\",BCU400_Database!C1042)","v":""},{"$f":"IF(ISBLANK(BCU400_Database!D1042),\"\",BCU400_Database!D1042)","v":""},{"$f":"IF(ISBLANK(BCU400_Database!E1042),\"\",BCU400_Database!E1042)","v":""},""]
[{"$f":"IF(ISBLANK(BCU400_Database!B1043),\"\",BCU400_Database!B1043)","v":""},{"$f":"IF(ISBLANK(BCU400_Database!C1043),\"\",BCU400_Database!C1043)","v":""},{"$f":"IF(ISBLANK(BCU400_Database!D1043),\"\",BCU400_Database!D1043)","v":""},{"$f":"IF(ISBLANK(BCU400_Database!E1043),\"\",BCU400_Database!E1043)","v":""},""]
[{"$f":"IF(ISBLANK(BCU400_Database!B1044),\"\",BCU400_Database!B1044)","v":""},{"$f":"IF(ISBLANK(BCU400_Database!C1044),\"\",BCU400_Database!C1044)","v":""},{"$f":"IF(ISBLANK(BCU400_Database!D1044),\"\",BCU400_Database!D1044)","v":""},{"$f":"IF(ISBLANK(BCU400_Database!E1044),\"\",BCU400_Database!E1044)","v":""},""]
[{"$f":"IF(ISBLANK(BCU400_Database!B1045),\"\",BCU400_Database!B1045)","v":""},{"$f":"IF(ISBLANK(BCU400_Database!C1045),\"\",BCU400_Database!C1045)","v":""},{"$f":"IF(ISBLANK(BCU400_Database!D1045),\"\",BCU400_Database!D1045)","v":""},{"$f":"IF(ISBLANK(BCU400_Database!E1045),\"\",BCU400_Database!E1045)","v":""},""]
[{"$f":"IF(ISBLANK(BCU400_Database!B1046),\"\",BCU400_Database!B1046)","v":""},{"$f":"IF(ISBLANK(BCU400_Database!C1046),\"\",BCU400_Database!C1046)","v":""},{"$f":"IF(ISBLANK(BCU400_Database!D1046),\"\",BCU400_Database!D1046)","v":""},{"$f":"IF(ISBLANK(BCU400_Database!E1046),\"\",BCU400_Database!E1046)","v":""},""]
[{"$f":"IF(ISBLANK(BCU400_Database!B1047),\"\",BCU400_Database!B1047)","v":""},{"$f":"IF(ISBLANK(BCU400_Database!C1047),\"\",BCU400_Database!C1047)","v":""},{"$f":"IF(ISBLANK(BCU400_Database!D1047),\"\",BCU400_Database!D1047)","v":""},{"$f":"IF(ISBLANK(BCU400_Database!E1047),\"\",BCU400_Database!E1047)","v":""},""]
[{"$f":"IF(ISBLANK(BCU400_Database!B1048),\"\",BCU400_Database!B1048)","v":""},{"$f":"IF(ISBLANK(BCU400_Database!C1048),\"\",BCU400_Database!C1048)","v":""},{"$f":"IF(ISBLANK(BCU400_Database!D1048),\"\",BCU400_Database!D1048)","v":""},{"$f":"IF(ISBLANK(BCU400_Database!E1048),\"\",BCU400_Database!E1048)","v":""},""]
[{"$f":"IF(ISBLANK(BCU400_Database!B1049),\"\",BCU400_Database!B1049)","v":""},{"$f":"IF(ISBLANK(BCU400_Database!C1049),\"\",BCU400_Database!C1049)","v":""},{"$f":"IF(ISBLANK(BCU400_Database!D1049),\"\",BCU400_Database!D1049)","v":""},{"$f":"IF(ISBLANK(BCU400_Database!E1049),\"\",BCU400_Database!E1049)","v":""},""]
[{"$f":"IF(ISBLANK(BCU400_Database!B1050),\"\",BCU400_Database!B1050)","v":""},{"$f":"IF(ISBLANK(BCU400_Database!C1050),\"\",BCU400_Database!C1050)","v":""},{"$f":"IF(ISBLANK(BCU400_Database!D1050),\"\",BCU400_Database!D1050)","v":""},{"$f":"IF(ISBLANK(BCU400_Database!E1050),\"\",BCU400_Database!E1050)","v":""},""]
[{"$f":"IF(ISBLANK(BCU400_Database!B1051),\"\",BCU400_Database!B1051)","v":""},{"$f":"IF(ISBLANK(BCU400_Database!C1051),\"\",BCU400_Database!C1051)","v":""},{"$f":"IF(ISBLANK(BCU400_Database!D1051),\"\",BCU400_Database!D1051)","v":""},{"$f":"IF(ISBLANK(BCU400_Database!E1051),\"\",BCU400_Database!E1051)","v":""},""]
[{"$f":"IF(ISBLANK(BCU400_Database!B1052),\"\",BCU400_Database!B1052)","v":""},{"$f":"IF(ISBLANK(BCU400_Database!C1052),\"\",BCU400_Database!C1052)","v":""},{"$f":"IF(ISBLANK(BCU400_Database!D1052),\"\",BCU400_Database!D1052)","v":""},{"$f":"IF(ISBLANK(BCU400_Database!E1052),\"\",BCU400_Database!E1052)","v":""},""]
[{"$f":"IF(ISBLANK(BCU400_Database!B1053),\"\",BCU400_Database!B1053)","v":""},{"$f":"IF(ISBLANK(BCU400_Database!C1053),\"\",BCU400_Database!C1053)","v":""},{"$f":"IF(ISBLANK(BCU400_Database!D1053),\"\",BCU400_Database!D1053)","v":""},{"$f":"IF(ISBLANK(BCU400_Database!E1053),\"\",BCU400_Database!E1053)","v":""},""]

{"sheet":"UVS","index":6,"n_rows":14,"n_cols":8,"rows_kept":14,"cut":false,"hidden":false,"merged":[]}
["ID_OLD","TXT_OLD","HINWEIS_OLD","REMARK_OLD","ID_NEW","TXT_NEW","HINWEIS_NEW","REMARK_NEW"]
[84315010,"UVS 1","Standard: Mit Silikonleitung 1,1m","Standard: with 1.1 m silicone cable",84315204,"UVS 10D0G1","Neue Anschlussleitung vorsehen, Wärmeschutz aus Quarzglas ist integriert, alten Wärmeschutz entfernen","Provide new connection cable, quartz glass heat guard integrated, remove existing heat guard"]
[84315015,"UVS 1Z","Sonderausführung: Mit PVC-Leitung 1,1m","Special version: with 1.1 m PVC cable",84315204,"UVS 10D0G1","Neue Anschlussleitung vorsehen, Wärmeschutz aus Quarzglas ist integriert, alten Wärmeschutz entfernen","Provide new connection cable, quartz glass heat guard integrated, remove existing heat guard"]
[84315020,"UVS 1Z","Sonderausführung: Mit Silikonleitung 2,5m","Special version: with 2.5 m silicone cable",84315204,"UVS 10D0G1","Neue Anschlussleitung vorsehen, Wärmeschutz aus Quarzglas ist integriert, alten Wärmeschutz entfernen","Provide new connection cable, quartz glass heat guard integrated, remove existing heat guard"]
[84315030,"UVS 1Z","Sonderausführung: Mit Ölflex-Leitung 3m","Special version: with 3 m Ölflex cable",84315204,"UVS 10D0G1","Neue Anschlussleitung vorsehen, Wärmeschutz aus Quarzglas ist integriert, alten Wärmeschutz entfernen","Provide new connection cable, quartz glass heat guard integrated, remove existing heat guard"]
[84315050,"UVS 1Z","Sonderausführung: Mit Silikonleitung 10m","Special version: with 10 m silicone cable ",84315204,"UVS 10D0G1","Neue Anschlussleitung vorsehen, Wärmeschutz aus Quarzglas ist integriert, alten Wärmeschutz entfernen","Provide new connection cable, quartz glass heat guard integrated, remove existing heat guard"]
[84315100,"UVS 6","Standard","Srandard",84315200,"UVS 10D0G1"]
[84333010,"UVS 5","Standard: Mit PVC-Leitung 1,1m","Standard: with 1.1 m PVC cable",84315200,"UVS 10D0G1","Ohne Anschlussleitung","No connection cable"]
[84333020,"UVS 5Z","Sonderausführung: Mit PVC-Leitung 2m","Special version: with 2 m PVC cable",84315200,"UVS 10D0G1","Ohne Anschlussleitung","No connection cable"]
[84333025,"UVS 5Z","Sonderausführung: Mit PVC-Leitung 4m","Special version: with 4 m PVC cable",84315200,"UVS 10D0G1","Ohne Anschlussleitung","No connection cable"]
[84333030,"UVS 5Z","Sonderausführung mit 5 m PVC-Leitung","Special version: with 5 m PVC cable",84315200,"UVS 10D0G1","Ohne Anschlussleitung","No connection cable"]
[84333120,"UVS 8T","Standard","Standard",84315205,"UVS 10D2"]
[84333121,"UVS 8TZ","Sonderausführung: Mit verlängertem NPT-Gewinde","Special version: with extended NPT",84315205,"UVS 10D2","Gewindelänge beachten","Note the thread length"]
[84333122,"UVS 8TZ","Sonderausführung: UV-Röhre kann getauscht werden","UVS 8TZ Special version: UV tube can be replaced",84315205,"UVS 10D2"]

{"sheet":"->Tools","index":7,"n_rows":0,"n_cols":0,"rows_kept":0,"cut":false,"hidden":false,"merged":[]}

{"sheet":"PFS_PFD_SelectionTool","index":8,"n_rows":205,"n_cols":15,"rows_kept":205,"cut":false,"hidden":false,"merged":[]}
[]
[null,null,"Exchange PFS/PFD -> PFU"]
[]
[null,null,"IdentNo",84603130,230,1]
[null,null,"S1",230,null,null,null,null,null,null,null,null,null,"Spannung"]
[null,null,"S2","na","\"na\" wenn nicht vorhanden (PF…S)",null,null,null,null,null,null,null,null,"Luftventil/Air valve"]
[null,null,"S3",3,null,null,null,null,null,null,null,null,null,"Wiederanlauf/Restart"]
[null,null,"S4",1,null,null,null,null,null,null,null,null,null,"Flammenstabilisierungszeit/Flame stab. time"]
[null,null,"S5",2,"=2 wenn S5 fehlt",null,null,null,null,null,null,null,null,"Luftventil TH/Air valve TH"]
[null,null,"P1",1,"=1 uA bei PFD",null,null,null,null,null,null,null,null,"Abschaltschwelle/Switch-Off threshold"]
[]
[null,null,"SEARCH",{"$f":"D4&D5&D6&D7&D8&D9&D10","v":"84603130230na3121"}]
[]
[null,null,{"$f":"SUM(M18:M230)","v":1},{"$f":"IF(C14=0,\"PFU-No. nicht vorhanden. Bitte Konfiguration in SAP anlegen.\",\"\")","v":""}]
[null,null,{"$f":"C14","v":1},{"$f":"IF(C15=0,\"Alte ID-No PFS/PFD + Schalterstellung -> Identifizierende Nummer an Roswitha Gaertner\",\"\")","v":""}]
[]
["SEARCH",null,"PF_Ident_Nr.","PF_Typschlüssel","S1 [V]","S2","S3","S4","S5","P1 [uA]","PFU No.","PFU_Txt"]
[{"$f":"C18&E18&F18&G18&H18&I18&J18","v":"8460317023023121"},null,84603170,"PFS 778L-3/1T/N",230,2,3,1,2,1,88650014,null,{"$f":"IF(A18=SEARCH,1,0)","v":0}]
[{"$f":"C19&E19&F19&G19&H19&I19&J19","v":"8460317023022121"},null,84603170,"PFS 778L-3/1T/N",230,2,2,1,2,1,88650014,null,0]
["8460367023022121",null,84603670,"PFD 778L-3/1T/N",230,2,2,1,2,1,88650014,null,0]
["8460318023022121",null,84603180,"PFS 778L-5/1T/N",230,2,2,1,2,1,88650015,null,0]
["8460368023022121",null,84603680,"PFD 778L-5/1T/N",230,2,2,1,2,1,88650015,null,0]
["8460391023022121",null,84603910,"PFD 748Z-5/1T/N",230,2,2,1,2,1,88650015,null,0,"Technische Rücksprache mit Kunden !"]
["8460308023022121",null,84603080,"PFS 748L-5/1T/N",230,2,2,1,2,1,88650015,null,0,"Technische Rücksprache mit Kunden !"]
["8460319023022121",null,84603190,"PFS 778L-10/1T/N",230,2,2,1,2,1,88650029,null,0]
["8460369023022121",null,84603690,"PFD 778L-10/1T/N",230,2,2,1,2,1,88650029,null,0]
["84603050230na3121",null,84603050,"PFS 748S-10/1T/N",230,"na",3,1,2,1,88650033,null,0,"Technische Rücksprache mit Kunden !"]
["84603650230na2121",null,84603650,"PFD 778S-10/1T/N",230,"na",2,1,2,1,88650033,null,0]
["84603150230na2121",null,84603150,"PFS 778S-10/1T/N",230,"na",2,1,2,1,88650033,null,0]
["84603130230na2121",null,84603130,"PFS 778S-3/1T/N",230,"na",2,1,2,1,88650034,null,0]
["84603140230na2121",null,84603140,"PFS 778S-5/1T/N",230,"na",2,1,2,1,88650035,null,0]
["8460364023022121",null,84603640,"PFD 778S-5/1T/N",230,2,2,1,2,1,88650035,null,0]
["84603640230na2121",null,84603640,"PFD 778S-5/1T/N",230,"na",2,1,2,1,88650035,null,0]
["8460314023022121",null,84603140,"PFS 778S-5/1T/N",230,2,2,1,2,1,88650035,null,0]
["84603130115na3111",null,84603130,"PFS 778S-3/1T/N",115,"na",3,1,1,1,88650037,null,0]
["8460379023022121",null,84603790,"PFD 778D-10/1T/N",230,2,2,1,2,1,88650039,null,0]
["8460379023022121",null,84603790,"PFD 778D-10/1T/N",230,2,2,1,2,1,88650039,null,0]
["8460378023022121",null,84603780,"PFD 778D-5/1T/N",230,2,2,1,2,1,88650040,null,0]
["8460328023022121",null,84603280,"PFS 778D-5/1T/N",230,2,2,1,2,1,88650040,null,0]
["8460318023012111",null,84603180,"PFS 778L-5/1T/N",230,1,2,1,1,1,88650057,null,0]
["8460318023012121",null,84603180,"PFD 778L-5/1T/N",230,1,2,1,2,1,88650057,null,0]
["8460368023021121",null,84603680,"PFD 778L-5/1T/N",230,2,1,1,2,1,88650073,null,0]
[{"$f":"C43&E43&F43&G43&H43&I43&J43","v":"84603640230na1121"},null,84603640,"PFS 778S-5/1T/N",230,"na",1,1,2,1,88650082,null,0]
["8460369023022111",null,84603690,"PFD 778L-10/1T/N",230,2,2,1,1,1,88650147,null,0]
["8460317023012121",null,84603170,"PFS 778L-3/1T/N",230,1,2,1,2,1,88650159,null,0]
["8460317023012111",null,84603170,"PFS 778L-3/1T/N",230,1,2,1,1,1,88650159,null,0]
["8460307023012111",null,84603070,"PFS 748L-3/1T/N",230,1,2,1,1,1,88650159,null,0,"Technische Rücksprache mit Kunden !","Technical discussion with customer !"]
["8460318023022221",null,84603180,"PFS 778L-5/1T/N",230,2,2,2,2,1,88650167,null,0]
["8460318023022111",null,84603180,"PFS 778L-5/1T/N",230,2,2,1,1,1,88650177,null,0]
["8460318023011111",null,84603180,"PFS 778L-5/1T/N",230,1,1,1,1,1,88650232,null,{"$f":"IF(A50=SEARCH,1,0)","v":0}]
["8460368023011111",null,84603680,"PFD 778L-5/1T/N",230,1,1,1,1,1,88650232,null,0]
["8460318023011124",null,84603180,"PFS 778L-5/1T/N",230,1,1,1,2,4,88650395,null,0]
["8460318011522221",null,84603180,"PFS 778L-5/1T/N",115,2,2,2,2,1,88650440,null,0]
["8460318023023113",null,84603180,"PFS 778L-5/1T/N",230,2,3,1,1,3,88650491,null,0]
["8460317023022111",null,84603170,"PFS 778L-3/1T/N",230,2,2,1,1,1,88650500,null,0]
["8460317023021121",null,84603170,"PFS 778L-3/1T/N",230,2,1,1,2,1,88650506,null,0]
["84603130230na2123",null,84603130,"PFS 778S-3/1T/N",230,"na",2,1,2,3,88650508,null,0]
["8460328023012121",null,84603280,"PFS 778D-5/1T/N",230,1,2,1,2,1,88650530,null,0]
["8460328023011111",null,84603280,"PFS 778D-5/1T/N",230,1,1,1,1,1,88650531,null,0]
["84603640230na2221",null,84603640,"PFD 778S-5/1T/N",230,"na",2,2,2,1,88650532,null,0]
["84603140230na2221",null,84603140,"PFS 778S-5/1T/N ",230,"na",2,2,2,1,88650532,null,0]
["8460318023011125",null,84603180,"PFS 778L-5/1T/N",230,1,1,1,2,5,88650546,null,0]
["8460318023011115",null,84603180,"PFS 778L-5/1T/N",230,1,1,1,1,5,88650546,null,0]
["8460318023011211",null,84603180,"PFS 778L-5/1T/N",230,1,1,2,1,1,88650547,null,0]
["8460318023011221",null,84603180,"PFS 778L-5/1T/N",230,1,1,2,2,1,88650547,null,0]
["8460318023031224",null,84603180,"PFS 778L-5/1T/N",230,3,1,2,2,4,88650550,null,0]
["8460317023033124",null,84603170,"PFS 778L-3/1T/N",230,3,3,1,2,4,88650555,null,0]
["8460369023021121",null,84603690,"PFD 778L-10/1T/N",230,2,1,1,2,1,88650557,null,0]
["84603640230na1221",null,84603640,"PFD 778S-5/1T/N",230,"na",1,2,2,1,88650608,null,0]
["8460318023012115",null,84603180,"PFS 778L-5/1T/N",230,1,2,1,1,5,88650629,null,0]
["84603140230na2122",null,84603140,"PFS 778S-5/1T/N",230,"na",2,1,2,2,88650639,null,0]
["84603180230222210",null,84603180,"PFS 778L-5/1T/N",230,2,2,2,2,10,88650641,null,0]
["8460318023021122",null,84603180,"PFS 778L-5/1T/N",230,2,1,1,2,2,88650645,null,0]
["8460368023022111",null,84603680,"PFD 778L-5/1T/N",230,2,2,1,1,1,88650177,null,0]
["8460367023033121",null,84603670,"PFD 778L-3/1T/N",230,3,3,1,2,1,88650243,null,0]
["8460309023022121",null,84603090,"PFS 748L-10/1T/N",230,2,2,1,2,1,88650029,null,0,"Technische Rücksprache mit Kunden !","Technical discussion with customer !"]
["8460318023012122",null,84603180,"PFS 778L-5/1T/N",230,1,2,1,2,2,88650630,null,0]
["8460318023011121",null,84603180,"PFS 778L-5/1T/N",230,1,1,1,2,1,88650232,null,0]
["8460318023011122",null,84603180,"PFS 778L-5/1T/N",230,1,1,1,2,2,88650722,null,0]
["8460329023022125",null,84603290,"PFS 778D-10/1T/N",230,2,2,1,2,5,88650725,null,0]
["8460329023022121",null,84603290,"PFS 778D-10/1T/N",230,2,2,1,2,1,88650039,null,0]
["8460318023012221",null,84603180,"PFS 778L-5/1T/N",230,1,2,2,2,1,88650445,null,0]
[{"$f":"C83&E83&F83&G83&H83&I83&J83","v":"8460368023032121"},null,84603680,"PFD 778L-5/1T/N",230,3,2,1,2,1,88650153,null,0]
["8460307023011111",null,84603070,"PFS 748L-3/1T/N",230,1,1,1,1,1,88650308,null,0,"Technische Rücksprache mit Kunden !","Technical discussion with customer !"]
["84603130230na1125",null,84603130,"PFS 778S-3/1T/N",230,"na",1,1,2,5,88650732,null,0]
["8460318023031121",null,84603180,"PFS 778L-5/1T/N",230,3,1,1,2,1,88650153,null,0]
["8460317023022125",null,84603170,"PFS 778L-3/1T/N",230,2,2,1,2,5,88650734,null,0]
["8460328023012111",null,84603280,"PFS 778D-5/1T/N",230,1,2,1,1,1,88650530,null,0]
["8460317023011121",null,84603170,"PFS 778L-3/1T/N",230,1,1,1,2,1,88650308,null,0]
["8460368023012111",null,84603680,"PFD 778L-5/1T/N",230,1,2,1,1,1,88650530,null,0]
["8460318023012112",null,84603180,"PFS 778L-5/1T/N",230,1,2,1,1,2,88650630,null,0]
["8460318011512114",null,84603180,"PFS 778L-5/1T/N",115,1,2,1,1,4,88650264,null,0]
["8460318023021121",null,84603180,"PFS 778L-5/1T/N",230,2,1,1,2,1,88650073,null,0]
[{"$f":"C94&E94&F94&G94&H94&I94&J94","v":"84603140230na2223"},null,84603140,"PFS 778S-5/1T/N ",230,"na",2,2,2,3,88650738,null,0]
["8460318023032211",null,84603180,"PFS 778L-5/1T/N",230,3,2,2,1,1,88650226,null,0]
["8460317023022111",null,84603170,"PFS 778L-3/1T/N",230,2,2,1,1,1,88650263,null,0]
["8460318023033121",null,84603180,"PFS 778L-5/1T/N",230,3,3,1,2,1,88650153,null,0]
["8460318023012125",null,84603180,"PFS 778L-5/1T/N",230,1,2,1,2,5,88650629,null,0]
["8460318023012124",null,84603180,"PFS 778L-5/1T/N",230,1,2,1,2,4,88650281,null,0]
["8460318023011123",null,84603180,"PFS 778L-5/1T/N",230,1,1,1,2,3,88650765,null,0]
["84603130230na2124",null,84603130,"PFS 778S-3/1T/N",230,"na",2,1,2,4,88650768,null,0]
["84603170230221210",null,84603170,"PFS 778L-3/1T/N",230,2,2,1,2,10,88650772,null,0]
["8460318023032121",null,84603180,"PFS 778L-5/1T/N",230,3,2,1,2,1,88650153,null,0]
["8460318023022113",null,84603180,"PFS 778L-5/1T/N",230,2,2,1,1,3,88650491,null,0]
["8460318023031121",null,84603180,"PFS 778L-5/1T/N",230,3,1,1,2,1,88650745,null,0]
["8460368023012121",null,84603680,"PFD 778D-5/1T/N",230,1,2,1,2,1,88650057,null,0]
["8460368023021111",null,84603680,"PFD 778D-5/1T/N",230,2,1,1,1,1,88650783,null,0]
["8460328023032211",null,84603280,"PFS 778D-5/1T/N",230,3,2,2,1,1,88650712,null,0]
["84603050230na2121",null,84603050,"PFS 748S-10/1T/N",230,"na",2,1,2,1,88650033,null,0]
["8460318011512124",null,84603180,"PFS 778L-5/1T/N",115,1,2,1,2,4,88650249,null,0]
["84603190230221210",null,84603190,"PFS 778L-10/1T/N",230,2,2,1,2,10,88650789,null,0]
["8460375023022121",null,84603750,"PFD 778M-10/1T/N",230,2,2,1,2,1,88650210,null,0]
["84603140230na1221",null,84603140,"PFS 778S-5/1T/N",230,"na",1,2,2,1,88650608,null,0]
["8460317023012214",null,84603170,"PFS 778L-3/1",230,1,2,2,1,4,88650803,null,{"$f":"IF(A114=SEARCH,1,0)","v":0}]
["8460317023012212",null,84603170,"PFS 778L-3/1",230,1,2,2,1,2,88650804,null,0]
["8460309011522121",null,84603090,"PFS 748L-10/1T/N",115,2,2,1,2,1,88650032,null,0]
["8460317023022211",null,84603170,"PFS 778L-3/1",230,2,2,2,1,1,88650819,null,{"$f":"IF(A117=SEARCH,1,0)","v":0}]
["8460318023022124",null,84603180,"PFS 778L-5/1T/N",230,2,2,1,2,4,88650682,null,0]
["8460317023013125",null,84603170,"PFS 778L-3/1T/N",230,1,3,1,2,5,88650962,null,0]
["8460307023012121",null,84603070,"PFS 748L-3/1T/N",230,1,2,1,2,1,88650159,null,0]
["8460368023022211",null,84603680,"PFD 778L-5/1",230,2,2,2,1,1,88650368,null,0]
["8460318023011123",null,84603180,"PFS 778L-5/1",230,1,1,1,2,3,88650765,null,0]
["84603130230na2122",null,84603130,"PFS 778S-3/1",230,"na",2,1,2,2,88650801,null,0]
["8460318023011113",null,84603180,"PFS 778L-5/1T/N",230,1,1,1,1,3,88650765,null,0]
["8460328023021121",null,84603280,"PFS 778D-5/1T/N",230,2,1,1,2,1,88650964,null,0]
["8460317023032114",null,84603170,"PFS 778L-3/1T/N",230,3,2,1,1,4,88650555,null,0]
["8460317023032112",null,84603170,"PFS 778L-3/1T/N",230,3,2,1,1,2,88650965,null,0]
["8460367023021221",null,84603670,"PFD 778L-3/1T/N",230,2,1,2,2,1,88650963,null,0]
["8460318023012114",null,84603180,"PFS 778L-5/1T/N",230,1,2,1,1,4,88650281,null,0]
["8460318011521211",null,84603180,"PFS 778L-5/1",115,2,1,2,1,1,88650856,null,0]
["8460318023022122",null,84603180,"PFS 778L-5/1T/N",230,2,2,1,2,2,88650966,null,0]
["8460378023022221",null,84603780,"PFD 778D-5/1T/N",230,2,2,2,2,1,88650933,null,0]
["8460369011522221",null,84603690,"PFD 778L-10/1T/N",115,2,2,2,2,1,88650967,null,0]
["8460369023022221",null,84603690,"PFD 778L-10/1T/N",230,2,2,2,2,1,88650174,null,0]
["84603180230111210",null,84603180,"PFS 778L-5/1T/N",230,1,1,1,2,10,88650873,null,0]
["8460318023021111",null,84603180,"PFS 778L-5/1T/N",230,2,1,1,1,1,88650783,null,0]
["8460318023011128",null,84603180,"PFS 778L-5/1T/N",230,1,1,1,2,8,88650968,null,0]
["8460317023021221",null,84603170,"PFS 778L-3/1T/N",230,2,1,2,2,1,88650963,null,0]
["8460317023012112",null,84603170,"PFS 778L-3/1T/N",230,1,2,1,1,2,88650969,null,0]
["8460317023013112",null,84603170,"PFS 778L-3/1T/N",230,1,3,1,1,2,88650969,null,0]
["8460318023011112",null,84603180,"PFS 778L-5/1T/N",230,1,1,1,1,2,88650722,null,0]
["8460317023023112",null,84603170,"PFS 778L-3/1T/N",230,2,3,1,1,2,88650021,null,0]
["8460317023023129",null,84603170,"PFS 778L-3/1T/N",230,2,3,1,2,9,88650924,null,0]
["84603150115na2121",null,84603150,"PFS 778S-10/1T/N",115,"na",2,1,2,1,88650036,null,0]
["8460318023023122",null,84603180,"PFS 778L-5/1T/N",230,2,3,1,2,2,88650966,null,0]
["8460318023023121",null,84603180,"PFS 778L-5/1T/N",230,2,3,1,2,1,88650015,null,0]
["8460328023011211",null,84603280,"PFS 778D-5/1T/N",230,1,1,2,1,1,88650938,null,0]
["8460328023012221",null,84603280,"PFS 778D-5/1T/N",230,1,2,2,2,1,88650939,null,0]
["8460328023022121",null,84603280,"PFS 778D-5/1T/N",230,2,2,1,2,1,88650939,null,0]
["8460317023022124",null,84603170,"PFS 778L-3/1T/N",230,2,2,1,2,4,88650972,null,0]
["8460319023012112",null,84603190,"PFS 778L-10/1T/N",230,1,2,1,1,2,88650971,null,0]
["8460317023022123",null,84603170,"PFS 778L-3/1T/N",230,2,2,1,2,3,88650970,null,0]
["84603140230na3121",null,84603140,"PFS 778S-5/1T/N",230,"na",3,1,2,1,88650035,null,0]
["8460328023021221",null,84603280,"PFS 778D-5/1T/N",230,2,1,2,2,1,88650974,null,0]
["8460318023012123",null,84603180,"PFS 778L-5/1T/N",230,1,2,1,2,3,88650376,null,0]
["8460318023012113",null,84603180,"PFS 778L-5/1T/N",230,1,2,1,1,3,88650376,null,0]
["84603180230111110",null,84603180,"PFS 778L-5/1T/N",230,1,1,1,1,10,88650873,null,0]
["8460369023023121",null,84603690,"PFD 778L-10/1T/N",230,2,3,1,2,1,88650029,null,0]
["8460379023022111",null,84603790,"PFD 778D-10/1T/N",230,2,2,1,1,1,88651054,null,0]
["8460368011531121",null,84603680,"PFD 778L-5/1T/N",115,3,1,1,2,1,88651061,null,0]
["84603640230na3121",null,84603640,"PFD 778S-5/1T/N",230,"na",3,1,2,1,88650035,null,0]
["8460328011522121",null,84603280,"PFS 778D-5/1T/N",115,2,2,1,2,1,88650042,null,0]
["8460379023021121",null,84603790,"PFD 778D-10/1T/N",230,2,1,1,2,1,88650690,null,0]
["8460368023011221",null,84603680,"PFD 778L-5/1T/N",230,1,1,2,2,1,88650547,null,0]
["8460367023022111",null,84603670,"PFD 778L-3/1T/N",230,2,2,1,1,1,88650263,null,0]
["8460369023013221",null,84603690,"PFD 778L-10/1T/N",230,1,3,2,2,1,88650980,null,0]
["8460317023012125",null,84603170,"PFS 778L-3/1T/N",230,1,2,1,2,5,88650962,null,0]
["8460308023011211",null,84603080,"PFS 748L-5/1T/N",230,1,1,2,1,1,88650547,null,0]
["8460367023013221",null,84603670,"PFD 778L-3/1T/N",230,1,3,2,2,1,88650808,null,0]
["8460318023023112",null,84603180,"PFS 778L-5/1T/N",230,2,3,1,1,2,88651208,null,0]
["8460317023013124",null,84603170,"PFS 778L-3/1T/N",230,1,3,1,2,4,88651210,null,0]
["8460317023013123",null,84603170,"PFS 778L-3/1T/N",230,1,3,1,2,3,88651211,null,0]
["8460318023021221",null,84603180,"PFS 778L-5/1T/N",230,2,1,2,2,1,88651266,null,0]
["8460307023022121",null,84603070,"PFS 748L-3/1T/N",230,2,2,1,2,1,88650014,null,0]
["8460318023022121",null,84603180,"PFS 778L-5/1",230,2,2,1,2,1,88650015,null,0]
["8460369023023211",null,84603690,"PFD 778L-10/1T/N",230,2,3,2,1,1,88651310,null,0]
["8460317023012114",null,84603170,"PFS 778L-3/1T/N",230,1,2,1,1,4,88651210,null,0]
["84603140230na3123",null,84603140,"PFS 778S-5/1T/N",230,"na",3,1,2,3,88650929,null,0]
["84603140230na2123",null,84603140,"PFS 778S-5/1T/N",230,"na",2,1,2,3,88650929,null,0]
["8460369023023221",null,84603690,"PFD 778L-10/1T/N",230,2,3,2,2,1,88650843,null,0]
["8460369023021221",null,84603690,"PFD 778L-10/1T/N",230,2,1,2,2,1,88651342,null,{"$f":"IF(A181=SEARCH,1,0)","v":0}]
["84603140230na2126",null,84603140,"PFS 778S-5/1T/N",230,"na",2,1,2,6,88651346,null,0]
["8460319023022221",null,84603190,"PFS 778L-10/1T/N",230,2,2,2,2,1,88651382,null,0]
["8460317023012222",null,84603170,"PFS 778L-3/1T/N",230,1,2,2,2,2,88650804,null,0]
["8460317023022221",null,84603170,"PFS 778L-3/1T/N",230,2,2,2,2,1,88651258,null,0]
["8460313023022121",null,84603130,"PFS 778S-3/1T/N",230,2,2,1,2,1,88650034,null,0]
["8460328023022221",null,84603280,"PFS 778D-5/1T/N",230,2,2,2,2,1,88650080,null,0]
["84603130230na3121",null,84603130,"PFS 778S-3/1T/N",230,"na",3,1,2,1,88650034,null,1]
["8460367023012121",null,84603670,"PFD 778L-3/1T/N",230,1,2,1,2,1,88650159,null,0]
["",null,null,null,null,null,null,null,null,null,null,null,0]
["",null,null,null,null,null,null,null,null,null,null,null,0]
["",null,null,null,null,null,null,null,null,null,null,null,0]
[""]
["",null,null,null,null,null,null,null,null,null,null,null,{"$f":"IF(A194=SEARCH,1,0)","v":0}]
["",null,null,null,null,null,null,null,null,null,null,null,0]
["",null,null,null,null,null,null,null,null,null,null,null,0]
["",null,null,null,null,null,null,null,null,null,null,null,0]
["",null,null,null,null,null,null,null,null,null,null,null,0]
["",null,null,null,null,null,null,null,null,null,null,null,0]
["",null,null,null,null,null,null,null,null,null,null,null,0]
["",null,null,null,null,null,null,null,null,null,null,null,0]
["",null,null,null,null,null,null,null,null,null,null,null,0]
["",null,null,null,null,null,null,null,null,null,null,null,0]
["",null,null,null,null,null,null,null,null,null,null,null,0]
[""]

{"sheet":"BCU400_Selection_Tool","index":9,"n_rows":27,"n_cols":7,"rows_kept":27,"cut":false,"hidden":false,"merged":[[11,2,11,6],[26,3,26,6],[22,3,22,6],[24,3,24,6],[16,3,16,6],[18,3,18,6],[20,3,20,6]]}
[]
[null,"Replacement list BCU 400"]
[null,"v. 2011-08-01, U.Engelmann"]
[]
[]
[null,null,"Old:","Order-No.:",84631368,null,"Format: 81234567"]
[null,null,null,"Parameter-No.:","P00001",null,"Format: P00001"]
[]
[]
[null,null,"New:","Order-No:",{"$f":"IF(ISERROR(VLOOKUP(E6&E7,List,5,FALSE)=0),\"not available\",VLOOKUP(E6&E7,List,5,FALSE))","v":"not available"}]
[]
[null,null,{"$f":"IF(E10=\"not available\",\"Please use new BCU 400 Orderform to define parameter settings\",\"\")","v":"Please use new BCU 400 Orderform to define parameter settings"}]
[]
[]
[null,"Please copy following text via Clipboard into customer document."]
[]
[null,null,"Text DE",{"$f":"\"Die neue Bestell-Nummer \"&E$10&\" ersetzt die alte Bestell-Nummer \" & E$6 &\" mit dem Parametersatz \" &E$7 & \". Bitte überprüfen Sie die Konfiguration.\"","v":"Die neue Bestell-Nummer not available ersetzt die alte Bestell-Nummer 84631368 mit dem Parametersatz P00001. Bitte überprüfen Sie die Konfiguration."}]
[]
[null,null,"Text EN",{"$f":"\"The new Order-No. \"&E$10&\" replaces the old Order-No. \" & E$6 &\" with parameter set \" &E$7 & \". Please check the configuration.\"","v":"The new Order-No. not available replaces the old Order-No. 84631368 with parameter set P00001. Please check the configuration."}]
[]
[null,null,"Text FR",{"$f":"\"PLEASE TRANSLATE The new Order-No. \"&E$10&\" replaces the old Order-No. \" & E$6 &\" with parameter set \" &E$7 & \". Please check the configuration.\"","v":"PLEASE TRANSLATE The new Order-No. not available replaces the old Order-No. 84631368 with parameter set P00001. Please check the configuration."}]
[]
[null,null,"Text ES",{"$f":"\"PLEASE TRANSLATE The new Order-No. \"&E$10&\" replaces the old Order-No. \" & E$6 &\" with parameter set \" &E$7 & \". Please check the configuration.\"","v":"PLEASE TRANSLATE The new Order-No. not available replaces the old Order-No. 84631368 with parameter set P00001. Please check the configuration."}]
[]
[null,null,"Text IT",{"$f":"\"PLEASE TRANSLATE The new Order-No. \"&E$10&\" replaces the old Order-No. \" & E$6 &\" with parameter set \" &E$7 & \". Please check the configuration.\"","v":"PLEASE TRANSLATE The new Order-No. not available replaces the old Order-No. 84631368 with parameter set P00001. Please check the configuration."}]
[]
[null,null,"Text ???",{"$f":"\"PLEASE TRANSLATE The new Order-No. \"&E$10&\" replaces the old Order-No. \" & E$6 &\" with parameter set \" &E$7 & \". Please check the configuration.\"","v":"PLEASE TRANSLATE The new Order-No. not available replaces the old Order-No. 84631368 with parameter set P00001. Please check the configuration."}]

{"sheet":"BCU400_Database","index":10,"n_rows":572,"n_cols":7,"rows_kept":572,"cut":false,"hidden":false,"merged":[]}
["OrderNoPara","OrderNoOld","Text","Parameter","OrderNoNew",null,"importieren aus MatNoListeSAP.XLS"]
["84631861P00006",84631861,"BCU 460-3/2WGBS2B1/1","P00006",88610001]
["84631800P00107",84631800,"BCU 465-5/1LW3GBS3AB1/1","P00107",88610002]
["84631533P00001",84631533,"BCU 460-3/1LW3GBB1/1","P00001",88610003]
["84631702P00001",84631702,"BCU 460-3/1LW3GBS2B1/1","P00001",88610004]
["84630261P00001",84630261,"BCU 460-3/1LW3GB","P00001",88610005]
["84630260P00001",84630260,"BCU 460-3/1W3GB","P00001",88610011]
["84631743P00073",84631743,"BCU 465-5/1LW3GBS4ACB1/1","P00073",88610012]
["84630463P00080",84630463,"BCU 460-10/1LW3GBP","P00080",88610013]
["84631743P00107",84631743,"BCU 465-5/1LW3GBS4ACB1/1","P00107",88610014]
["84631777P00039",84631777,"BCU 460-3/2W8GBS2B1/1","P00039",88610015]
["84631742P00223",84631742,"BCU 460-3/2LW8GBB1/1","P00223",88610016]
["84631533P00015",84631533,"BCU 460-3/1LW3GBB1/1","P00015",88610017]
["84631408P00001",84631408,"BCU 460-3/1W3GBD2","P00001",88610018]
["84630361P00001",84630361,"BCU 460-5/1LW3GB","P00001",88610019]
["84630350P00001",84630350,"BCU 460-5/1W1GB","P00001",88610020]
["84631622P00001",84631622,"BCU 480-5/3/1LW3GBB1/1","P00001",88610021]
["84631653P00001",84631653,"BCU 460-3/1W3GBS3","P00001",88610022]
["84631757P00103",84631757,"BCU 465-3/1LW2GBAB1/1","P00103",88610023]
["84632065P00223",84632065,"BCU 460-3/1LR8GBB1/2","P00223",88610024]
["84630250P00001",84630250,"BCU 460-3/1W1GB","P00001",88610025]
["84632153P00170",84632153,"BCU 465-3/1LW8GBS2AB1/2","P00170",88610026]
["84631547P00001",84631547,"BCU 480-10/5/1LW3GBCB1/1","P00001",88610027]
["84630360P00001",84630360,"BCU 460-5/1W3GB","P00001",88610028]
["84630060P00006",84630060,"BCU 440-5/1W3GB","P00006",88610029]
["84631797P00001",84631797,"BCU 480-5/3/1LW3GBS2/1B1/1","P00001",88610030]
["84632019P00223",84632019,"BCU 460-3/1LW8GBB1/2","P00223",88610031]
["84631787P00107",84631787,"BCU 465-5/1LW3GBS3ACB1/1","P00107",88610032]
["84631545P00001",84631545,"BCU 460-5/1LW3GBB1/1","P00001",88610033]
["84630050P00001",84630050,"BCU 440-5/1W1GB","P00001",88610034]
["84632129P00223",84632129,"BCU 460-3/1LW8GBD3B1/2","P00223",88610035]
["84631449P00145",84631449,"BCU 460-5/1LW3GBS3B1/1","P00145",88610036]
["84630010P00001",84630010,"BCU 440-3/1W3GB","P00001",88610037]
["84630060P00001",84630060,"BCU 440-5/1W3GB","P00001",88610038]
["84632153P00176",84632153,"BCU 465-3/1LW8GBS2AB1/2","P00176",88610039]
["84631742P00368",84631742,"BCU 460-3/2LW8GBB1/1","P00368",88610040]
["84631506P00010",84631506,"BCU 460-3/1W3GBB1/1","P00010",88610041]
["84631801P00001",84631801,"BCU 460-3/1R3GBD2","P00001",88610042]
["84632077P00414",84632077,"BCU 460-5/2W8GBB1/1","P00414",88610043]
["84631777P00001",84631777,"BCU 460-3/2W8GBS2B1/1","P00001",88610044]
["84631594P00001",84631594,"BCU 460-3/1LW2GBCB1/1","P00001",88610329]
["84631483P00223",84631483,"BCU 460-5/1LW8GBB1/1","P00223",88610046]
["84630055P00001",84630055,"BCU 440-5/1W2GB","P00001",88610047]
["84631744P00116",84631744,"BCU 465-5/1LW3GBS2AB1/1","P00116",88610048]
["84630661P00001",84630661,"BCU 480-5/3/1LW3GB","P00001",88610049]
["84631483P00001",84631483,"BCU 460-5/1LW8GBB1/1","P00001",88610050]
["84631661P00044",84631661,"BCU 460T-5/2LR3B1/1","P00044",88610051]
["84631779P00223",84631779,"BCU 460-3/1LW8GBB1/1","P00223",88610052]
["84631677P00001",84631677,"BCU 460-3/1LW3GBC","P00001",88610053]
["84631757P00087",84631757,"BCU 465-3/1LW2GBAB1/1","P00087",88610054]
["84631757P00023",84631757,"BCU 465-3/1LW2GBAB1/1","P00023",88610055]
["84631354P00221",84631354,"BCU 460-5/1LW3GBS3","P00221",88610056]
["84632036P00135",84632036,"BCU 465-5/1LR3GBS3ACB1/1","P00135",88610057]
["84630351P00001",84630351,"BCU 460-5/1LW1GB","P00001",88610058]
["84631358P00042",84631358,"BCU 460-10/1LW3GBS4","P00042",88610059]
["84631743P00072",84631743,"BCU 465-5/1LW3GBS4ACB1/1","P00072",88610060]
["84631761P00153",84631761,"BCU 460-5/1LW3GBS2B1/1","P00153",88610061]
["84631437P00044",84631437,"BCU 460T-5/2R3","P00044",88610062]
["84630956P00001",84630956,"BCU 480-10/5/1LW2GB","P00001",88610063]
["84632082P00057",84632082,"BCU 460-3/2LW8GBS3B1/1","P00057",88610064]
["84631506P00001",84631506,"BCU 460-3/1W3GBB1/1","P00001",88610065]
["84630481P00155",84630481,"BCU 460-10/1LR3GB","P00155",88610066]
["84631825P00001",84631825,"BCU 480-5/3/1LW3GBD3S2/1B1/1","P00001",88610067]
["84630358P00001",84630358,"BCU 460-5/1LW2GBP","P00001",88610068]
["84631744P00141",84631744,"BCU 465-5/1LW3GBS2AB1/1","P00141",88610069]
["84631545P00033",84631545,"BCU 460-5/1LW3GBB1/1","P00033",88610070]
["84631422P00001",84631422,"BCU 460-5/1LW3GBS2","P00001",88610071]
["84631682P00001",84631682,"BCU 460-5/1LW3GBD3S2B1/1","P00001",88610072]
["84632019P00376",84632019,"BCU 460-3/1LW8GBB1/2","P00376",88610073]
["84631909P00001",84631909,"BCU 460-5/1LW1GBS2C","P00001",88610074]
["84631673P00001",84631673,"BCU 460-5/1LW3GBCB1/1","P00001",88610075]
["84631617P00041",84631617,"BCU 465-5/1LW3GBS4A","P00041",88610076]
["84631761P00001",84631761,"BCU 460-5/1LW3GBS2B1/1","P00001",88610077]
["84630460P00001",84630460,"BCU 460-10/1W3GB","P00001",88610078]
["84632119P00025",84632119,"BCU 465T-10/2LR8D2OC","P00025",88610079]
["84631743P00068",84631743,"BCU 465-5/1LW3GBS4ACB1/1","P00068",88610080]
["84631779P00227",84631779,"BCU 460-3/1LW8GBB1/1","P00227",88610081]
["84632165P00175",84632165,"BCU 465-3/2LW8GBS2AB1/1","P00175",88610082]
["84631761P00030",84631761,"BCU 460-5/1LW3GBS2B1/1","P00030",88610083]
["84631545P00049",84631545,"BCU 460-5/1LW3GBB1/1","P00049",88610084]
["84631953P00341",84631953,"BCU 460-3/1LWGBB1/1","P00341",88610085]
["84632128P00140",84632128,"BCU 460-5/1LW8GBS2CB1/2","P00140",88610086]
["84631486P00105",84631486,"BCU 460-5/1W3GBS2B1/1","P00105",88610087]
["84631992P00010",84631992,"BCU 460-5/1LW8GBS2","P00010",88610088]
["84631592P00001",84631592,"BCU 480-5/3/1LW1GBB1/1","P00001",88610089]
["84631779P00222",84631779,"BCU 460-3/1LW8GBB1/1","P00222",88610090]
["84631743P00085",84631743,"BCU 465-5/1LW3GBS4ACB1/1","P00085",88610091]
["84631422P00420",84631422,"BCU 460-5/1LW3GBS2","P00420",88610092]
["84631693P00020",84631693,"BCU 460-3/1LR3GBB1/1","P00020",88610093]
["84632113P00140",84632113,"BCU 460-3/1LW8GBS2CB1/2","P00140",88610094]
["84632115P00163",84632115,"BCU 465T-3/1LR8D3OB1/1","P00163",88610095]
["84632171P00223",84632171,"BCU 460-3/1LW8GBS2B1/2","P00223",88610096]
["84632137P00230",84632137,"BCU 480T-10/10/1LR3D2B1/1","P00230",88610097]
["84631927P00320",84631927,"BCU 460-3/2RGBD3S2B1/1","P00320",88610098]
["84631922P00001",84631922,"BCU 460-3/1LR3GBD2","P00001",88610099]
["84631935P00001",84631935,"BCU 480-5/3/1LW3GBS2/2B1/1","P00001",88610100]
["84631913P00304",84631913,"BCU 480-5/3/1LW3GBS3/1B1/1","P00304",88610101]
["84631860P00008",84631860,"BCU 460-3/2LR8GBS2B1/1Z0001","P00008",88610102]
["84631579P00223",84631579,"BCU 460-3/1LW8GB","P00223",88610103]
["84630000P00001",84630000,"BCU 440-3/1W1GB","P00001",88610104]
["84631896P00329",84631896,"BCU 480T-5/3/2L5R1","P00329",88610105]
["84630080P00006",84630080,"BCU 440-5/1R3GB","P00006",88610106]
["84631743P00023",84631743,"BCU 465-5/1LW3GBS4ACB1/1","P00023",88610107]
["84631439P00044",84631439,"BCU 460T-5/2LR3","P00044",88610108]
["84631682P00345",84631682,"BCU 460-5/1LW3GBD3S2B1/1","P00345",88610109]
["84631533P00326",84631533,"BCU 460-3/1LW3GBB1/1","P00326",88610110]
["84632040P00399",84632040,"BCU 460-5/1LW8GBS2B1/2","P00399",88610111]
["84632159P00223",84632159,"BCU 460-3/1LW8GBD3S2B1/1Z0001","P00223",88610112]
["84632175P00223",84632175,"BCU 460-3/1LW8GBD3S2B1/2Z0001","P00223",88610113]
["84630761P00001",84630761,"BCU 480-10/3/1LW3GB","P00001",88610114]
["84631872P00001",84631872,"BCU 460-3/1W3GBD2S4","P00001",88610115]
["84630463P00001",84630463,"BCU 460-10/1LW3GBP","P00001",88610116]
["84632088P00140",84632088,"BCU 460-5/1LW3GBS2CB1/2","P00140",88610117]
["84631761P00258",84631761,"BCU 460-5/1LW3GBS2B1/1","P00258",88610118]
["84631713P00044",84631713,"BCU 460T-10/2LR3B1/1","P00044",88610119]
["84631483P00227",84631483,"BCU 460-5/1LW8GBB1/1","P00227",88610120]
["84631539P00143",84631539,"BCU 465-5/1LW1GBS3A","P00143",88610121]
["84631931P00163",84631931,"BCU 480-10/3/1LW3GBS2/1B1/1","P00163",88610122]
["84631628P00020",84631628,"BCU 465-10/1LWGBPAC","P00020",88610123]
["84631561P00223",84631561,"BCU 460-5/1LW8GB","P00223",88610124]
["84631716P00001",84631716,"BCU 480-5/3/1LW3GBD2S2/1B1/1","P00001",88610125]
["84630080P00001",84630080,"BCU 440-5/1R3GB","P00001",88610126]
["84632074P00026",84632074,"BCU 480T-10/10/2LR8D2B1/1","P00026",88610127]
["84631885P00223",84631885,"BCU 460-3/1LW8GBD3B1/1","P00223",88610128]
["84631834P00025",84631834,"BCU 465T-5/2LR8O","P00025",88610129]
["84630761P00305",84630761,"BCU 480-10/3/1LW3GB","P00305",88610130]
["84632094P00010",84632094,"BCU 460-3/2W8GBD3S2B1/1Z0001","P00010",88610131]
["84630361P00294",84630361,"BCU 460-5/1LW3GB","P00294",88610132]
["84630030P00001",84630030,"BCU 440-3/1R3GB","P00001",88610133]
["84631444P00177",84631444,"BCU 480-5/3/1LW1GBS2/1","P00177",88610134]
["84631763P00113",84631763,"BCU 465-5/1LW8GBAB1/1","P00113",88610135]
["84631736P00223",84631736,"BCU 460-3/1LW8GBS2","P00223",88610136]
["84631449P00006",84631449,"BCU 460-5/1LW3GBS3B1/1","P00006",88610137]
["84631746P00023",84631746,"BCU 465-3/1LW2GBA","P00023",88610138]
["84630361P00339",84630361,"BCU 460-5/1LW3GB","P00339",88610139]
["84631829P00084",84631829,"BCU 465-5/1LR8GBS2A","P00084",88610140]
["84631786P00001",84631786,"BCU 460-3/1W3GBD3S4CB1/1","P00001",88610141]
["84631906P00023",84631906,"BCU 465-10/1LW3GBPD2S4AC","P00023",88610142]
["84631763P00152",84631763,"BCU 465-5/1LW8GBAB1/1","P00152",88610143]
["84631856P00171",84631856,"BCU 460-10/1W8GBS3","P00171",88610144]
["84631878P00086",84631878,"BCU 465-5/1LR3GBS2AB1/1","P00086",88610155]
["84631884P00001",84631884,"BCU 480-10/5/2LW3GBS4/4B1/1","P00001",88610145]
["84631726P00001",84631726,"BCU 460-5/1LR3GBB1/1","P00001",88610146]
["84631448P00010",84631448,"BCU 460-5/1W3GBS2","P00010",88610147]
["84631750P00001",84631750,"BCU 460-3/1W3GBS2","P00001",88610148]
["84631613P00001",84631613,"BCU 460-5/1W3GBS3","P00001",88610149]
["84632166P00448",84632166,"BCU 480-10/5/1LR3GBD2B1/1","P00448",88610150]
["84631885P00333",84631885,"BCU 460-3/1LW8GBD3B1/1","P00333",88610151]
["84630060P00013",84630060,"BCU 440-5/1W3GB","P00013",88610152]
["84631832P00211",84631832,"BCU 460-5/1LW1GBS3B1/1Z0001","P00211",88610153]
["84632076P00453",84632076,"BCU 480-5/3/1LW3GBS3/3B1/1","P00453",88610154]
["84632087P00140",84632087,"BCU 460-5/1LR3GBS2CB1/2","P00140",88610156]
["84631619P00074",84631619,"BCU 465-5/1LW3GBPA","P00074",88610157]
["84631613P00010",84631613,"BCU 460-5/1W3GBS3","P00010",88610158]
["84631449P00001",84631449,"BCU 460-5/1LW3GBS3B1/1","P00001",88610159]
["84630350P00006",84630350,"BCU 460-5/1W1GB","P00006",88610160]
["84631631P00010",84631631,"BCU 460-5/1W3GBD3S2","P00010",88610161]
["84631871P00269",84631871,"BCU 460-3/1W2GBS3B1/1","P00269",88610162]
["84631440P00044",84631440,"BCU 460T-10/2LR3","P00044",88610163]
["84631763P00023",84631763,"BCU 465-5/1LW8GBAB1/1","P00023",88610164]
["84631779P00338",84631779,"BCU 460-3/1LW8GBB1/1","P00338",88610165]
["84630280P00001",84630280,"BCU 460-3/1R3GB","P00001",88610166]
["84631915P00010",84631915,"BCU 460-10/1W3GBS2B1/1","P00010",88610167]
["84631622P00266",84631622,"BCU 480-5/3/1LW3GBB1/1","P00266",88610168]
["84631617P00022",84631617,"BCU 465-5/1LW3GBS4A","P00022",88610169]
["84631474P00340",84631474,"BCU 480-5/3/1LR3GBD2","P00340",88610170]
["84630651P00001",84630651,"BCU 480-5/3/1LW1GB","P00001",88610171]
["84630251P00001",84630251,"BCU 460-3/1LW1GB","P00001",88610172]
["84631579P00001",84631579,"BCU 460-3/1LW8GB","P00001",88610173]
["84632148P00441",84632148,"BCU 460-3/1R3GBS2B1/2","P00441",88610174]
["84631826P00001",84631826,"BCU 460T-3/1R1","P00001",88610175]
["84631448P00006",84631448,"BCU 460-5/1W3GBS2","P00006",88610176]
["84630260P00006",84630260,"BCU 460-3/1W3GB","P00006",88610177]
["84631579P00080",84631579,"BCU 460-3/1LW8GB","P00080",88610178]
["84631933P00110",84631933,"BCU 465-3/1LW8GBD3S3AB1/1","P00110",88610179]
["84631465P00001",84631465,"BCU 460-5/1W3GBB1/1","P00001",88610180]
["84630265P00001",84630265,"BCU 460-3/1R1GB","P00001",88610181]
["84631985P00357",84631985,"BCU 460-5/1W2GBD3","P00357",88610182]
["84632007P00042",84632007,"BCU 460-10/1LW3GBD2S3","P00042",88610183]
["84630481P00010",84630481,"BCU 460-10/1LR3GB","P00010",88610184]
["84631936P00001",84631936,"BCU 460-3/1W1GBC","P00001",88610185]
["84631453P00001",84631453,"BCU 460-5/1W3GBCB1/1","P00001",88610186]
["84631726P00255",84631726,"BCU 460-5/1LR3GBB1/1","P00255",88610187]
["84630761P00185",84630761,"BCU 480-10/3/1LW3GB","P00185",88610188]
["84632003P00440",84632003,"BCU 460-5/1LW8GBS2B1/1","P00440",88610189]
["84631990P00329",84631990,"BCU 480-5/3/1L5W1GBS3/1","P00329",88610190]
["84631977P00325",84631977,"BCU 460-3/1LR8GBS2B1/1","P00325",88610191]
["84631545P00026",84631545,"BCU 460-5/1LW3GBB1/1","P00026",88610192]
["84631483P00363",84631483,"BCU 460-5/1LW8GBB1/1","P00363",88610193]
["84631847P00078",84631847,"BCU 465-5/1LR3GBAB1/1","P00078",88610194]
["84631579P00023",84631579,"BCU 460-3/1LW8GB","P00023",88610195]
["84631354P00001",84631354,"BCU 460-5/1LW3GBS3","P00001",88610196]
["84631392P00026",84631392,"BCU 460-5/1LW3GBP","P00026",88610197]
["84631893P00001",84631893,"BCU 460-3/1LW3GBD2B1/1","P00001",88610198]
["84630751P00001",84630751,"BCU 480-10/3/1LW1GB","P00001",88610199]
["84631444P00001",84631444,"BCU 480-5/3/1LW1GBS2/1","P00001",88610200]
["84631744P00131",84631744,"BCU 465-5/1LW3GBS2AB1/1","P00131",88610201]
["84630361P00060",84630361,"BCU 460-5/1LW3GB","P00060",88610202]
["84631841P00001",84631841,"BCU 480-5/3/1LR1GBS4/1B1/1","P00001",88610203]
["84631602P00001",84631602,"BCU 460-5/1LW3GBD3S2","P00001",88610204]
["84631931P00013",84631931,"BCU 480-10/3/1LW3GBS2/1B1/1","P00013",88610205]
["84630381P00001",84630381,"BCU 460-5/1LR3GB","P00001",88610206]
["84632086P00140",84632086,"BCU 460-3/1LR3GBS2CB1/2","P00140",88610207]
["84631789P00001",84631789,"BCU 460-3/1W1GBD2B1/1","P00001",88610208]
["84631422P00013",84631422,"BCU 460-5/1LW3GBS2","P00013",88610209]
["84631761P00362",84631761,"BCU 460-5/1LW3GBS2B1/1","P00362",88610210]
["84631422P00416",84631422,"BCU 460-5/1LW3GBS2","P00416",88610211]
["84631476P00280",84631476,"BCU 480-5/3/1LR1GBB1/1","P00280",88610212]
["84631462P00025",84631462,"BCU 465T-5/2LR3OC","P00025",88610213]
["84630150P00001",84630150,"BCU 440-10/1W1GB","P00001",88610214]
["84631456P00177",84631456,"BCU 460-5/1LR3GBS3","P00177",88610215]
["84631853P00001",84631853,"BCU 480-5/3/1LR1GBS2/1B1/1","P00001",88610216]
["84631793P00001",84631793,"BCU 460-3/1LW3GBD3S2B1/1","P00001",88610217]
["84631507P00092",84631507,"BCU 460-3/1LW3GBS3B1/1Z0001","P00092",88610218]
["84631533P00067",84631533,"BCU 460-3/1LW3GBB1/1","P00067",88610219]
["84631710P00010",84631710,"BCU 460-10/1W3GBS2","P00010",88610220]
["84632056P00001",84632056,"BCU 460-3/1R3GBPS3","P00001",88610221]
["84632170P00447",84632170,"BCU 480-3/5/1LW3GBCB1/1","P00447",88610222]
["84631552P00010",84631552,"BCU 460-5/1R3GBD3","P00010",88610223]
["84631878P00023",84631878,"BCU 465-5/1LR3GBS2AB1/1","P00023",88610224]
["84631434P00276",84631434,"BCU 460-5/1LW1GBB1/1","P00276",88610225]
["84631377P00001",84631377,"BCU 460-3/1LW3GBD3","P00001",88610226]
["84631870P00157",84631870,"BCU 480-5/3/1LR3GBD2S3/1B1/1","P00157",88610227]
["84631561P00033",84631561,"BCU 460-5/1LW8GB","P00033",88610228]
["84631533P00431",84631533,"BCU 460-3/1LW3GBB1/1","P00431",88610229]
["84631561P00001",84631561,"BCU 460-5/1LW8GB","P00001",88610230]
["84632033P00118",84632033,"BCU 465-5/1LR3GBS3AB1/1","P00118",88610231]
["84631693P00001",84631693,"BCU 460-3/1LR3GBB1/1","P00001",88610232]
["84631850P00256",84631850,"BCU 480-5/3/1LW3GBS4/1B1/1","P00256",88610233]
["84631714P00010",84631714,"BCU 480-5/3/1LW3GBS2/2","P00010",88610234]
["84631456P00013",84631456,"BCU 460-5/1LR3GBS3","P00013",88610235]
["84631761P00312",84631761,"BCU 460-5/1LW3GBS2B1/1","P00312",88610236]
["84632057P00357",84632057,"BCU 460-5/1W3GBD3S2B1/2","P00357",88610237]
["84631796P00325",84631796,"BCU 460-3/1LW8GBS2B1/1","P00325",88610238]
["84631740P00155",84631740,"BCU 465-5/1LW3GBA","P00155",88610239]
["84631826P00044",84631826,"BCU 460T-3/1R1","P00044",88610240]
["84631868P00263",84631868,"BCU 460-3/1LR8GBB1/1","P00263",88610241]
["84631779P00001",84631779,"BCU 460-3/1LW8GBB1/1","P00001",88610242]
["84631759P00013",84631759,"BCU 460-5/1R3GBS2","P00013",88610243]
["84631434P00319",84631434,"BCU 460-5/1LW1GBB1/1","P00319",88610244]
["84631605P00001",84631605,"BCU 480-5/3/1LW3GBS4/1","P00001",88610245]
["84630261P00342",84630261,"BCU 460-3/1LW3GB","P00342",88610246]
["84631744P00108",84631744,"BCU 465-5/1LW3GBS2AB1/1","P00108",88610247]
["84631850P00006",84631850,"BCU 480-5/3/1LW3GBS4/1B1/1","P00006",88610248]
["84631434P00001",84631434,"BCU 460-5/1LW1GBB1/1","P00001",88610249]
["84631495P00001",84631495,"BCU 460-3/1W3GBCB1/1","P00001",88610250]
["84632169P00044",84632169,"BCU 460T-3/1LR2CB1/1","P00044",88610251]
["84631905P00065",84631905,"BCU 465-5/1LR3GBACB1/1","P00065",88610252]
["84631843P00032",84631843,"BCU 465-3/1LW3GBAB1/1","P00032",88610253]
["84632083P00054",84632083,"BCU 465-5/1LW8GBPAC","P00054",88610254]
["84631925P00001",84631925,"BCU 460-3/1LW2GBD2S2B1/1","P00001",88610255]
["84631540P00279",84631540,"BCU 460-3/1W3GBS4B1/1","P00279",88610256]
["84630358P00255",84630358,"BCU 460-5/1LW2GBP","P00255",88610257]
["84631449P00050",84631449,"BCU 460-5/1LW3GBS3B1/1","P00050",88610258]
["84632152P00442",84632152,"BCU 480-5/3/1LW8GBD3S2/1B1/2","P00442",88610259]
["84631539P00022",84631539,"BCU 465-5/1LW1GBS3A","P00022",88610260]
["84631842P00245",84631842,"BCU 480-5/3/1LW3GBD2S3/1B1/1","P00245",88610261]
["84631693P00343",84631693,"BCU 460-3/1LR3GBB1/1","P00343",88610262]
["84632149P00386",84632149,"BCU 460-5/1R8GBPD2S4","P00386",88610263]
["84631987P00085",84631987,"BCU 460-3/1L5W3GBD3","P00085",88610264]
["84632030P00151",84632030,"BCU 465-5/1LW8GBAB1/2","P00151",88610265]
[{"$f":"B262&D262","v":"84631451P00052"},84631451,"BCU 460-5/2LW3GBP","P00052",88610534]
["84631415P00001",84631415,"BCU 460-5/1LW1GBPS2","P00001",88610615]
["84631353P00001",84631353,"BCU 480-5/3/1LW3GBD2","P00001",88610638]
["84631360P00001",84631360,"BCU 460-5/1W1GBZ","P00001",88610418]
["84631619P00071",84631619,"BCU 465-5/1LW3GBPA","P00071",88610719]
["84631989P00001",84631989,"BCU 460-5/1R3GBS2B1/1","P00001",88610720]
["84631541P00001",84631541,"BCU 460-3/1W3GBS4","P00001",88610745]
["84630561P00298",84630561,"BCU 480-3/3/1LW3GB","P00298",88610749]
["84631482P00029",84631482,"BCU 460-5/1LW3GBD2S2B1/1","P00029",88610767]
["84631383P00026",84631383,"BCU 460-3/1LW3DS2","P00026",88610513]
["84630250P00006",84630250,"BCU 460-3/1W1GB","P00006",88610768]
["84630861P00001",84630861,"BCU 480-5/5/1LW3GB","P00001",88610783]
["84631533P00020",84631533,"BCU 460-3/1LW3GBB1/1","P00020",88610784]
["84632246P00023",84632246,"BCU 465-3/1LW3GBS2AB1/1","P00023",88610278]
["84631827P00001",84631827,"BCU 480-5/3/1LW3GBD3S2/2CB1/1","P00001",88610785]
["84632195P00026",84632195,"BCU 480T-10/10/2LW8D2B1/1","P00026",88610892]
["84631574P00023",84631574,"BCU 465-3/1LW1GBAC","P00023",88610890]
["84631575P00023",84631575,"BCU 465-3/1LW3GBAC","P00023",88610282]
["84631576P00023",84631576,"BCU 465-5/1LW1GBAC","P00023",88610891]
["84631577P00023",84631577,"BCU 465-5/1LW3GBAC","P00023",88610660]
["84631629P00044",84631629,"BCU 460T-5/2LR2C","P00044",88610924]
["84631911P00383",84631911,"BCU 480-5/3/1LW3GBD3","P00383",88610965]
[{"$f":"B284&D284","v":"84631842P00304"},84631842,"BCU 480-5/3/1LW3GBD2S3/1B1/1","P00304",88610972]
[{"$f":"B285&D285","v":"84631452P00054"},84631452,"BCU 460-3/1LW2GBD2S2","P00054",88610994]
[{"$f":"B286&D286","v":"84631362P00001"},84631362,"BCU 460-5/1W1D","P00001",88610418]
[{"$f":"B287&D287","v":"84632191P00001"},84632191,"BCU 480-5/3/1LW1GBD2S41","P00001",88610999]
["84631807P00044 ",84631807,"BCU 480T-10/5/2LR3-B1/1","P00044",88610995]
[{"$f":"B289&D289","v":"84631755P00001"},84631755,"BCU 460-3/1W1GBD3","P00001",88610689]
["84632298P00001",84632298,"BCU 460-5/1WGBPD3S3","P00001",88610692]
["84631797P00268",84631797,"BCU 480-5/3/1LW3GBS2/1B1/1","P00268",88611053]
["84631774P00500",84631774,"BCU 480-5/3/1/LWGBU ","P00500",88611051]
[{"$f":"B293&D293","v":"84631804P00062"},84631804,"BCU 465-5/1LW3GBAB1/1","P00062",88611101]
["84631372P00001",84631372,"BCU 440-5/1W3GB","P00001",88610038]
["84631383P00001",84631383,"BCU 460-3/1LW3GBS2","P00001",88610727]
["84631557P00001",84631557,"BCU 480-5/5/1LW3GBS2/1","P00001",88611147]
["84632069P00001",84632069,"BCU 460-3/1W3GBD3S2B1/1","P00001",88611247]
["84631390P00002",84631390,"BCU 480-5/5/1LW3GB","P00002",88611256]
["84631354P00006",84631354,"BCU 460-5/1LW3GBS3","P00006",88611257]
["84631361P00037",84631361,"BCU 460-5/1LW3D","P00037",88611306]
["84631501P00020",84631501,"BCU 460-3/1LW3DB1/1","P00020",88610784]
["84631761P00029",84631761,"BCU 460-5/1LW3GBS2B1/1","P00029",88611393]
["84631761P00094",84631761,"BCU 460-5/1LW3GBS2B1/1","P00094",88611404]
["84631612P00001",84631612,"BCU 480-10/3/1LW1GBU","P00001",88610837]
["84631763P00004",84631763,"BCU 465-5/1LW8GBAB1/1","P00004",88611434]
["84630463P00033",84630463,"BCU 460-10/1LW3GBP","P00033",88611436]
["84631763P00054",84631763,"BCU 465-5/1LW8GBAB1/1","P00054",88611446]
["84631539P00122",84631539,"BCU 465-5/1LW1GBS3A","P00122",88611197]
["84631878P00131",84631878,"BCU 465-5/1LR3GBS2AB1/1","P00131",88611461]
["84631389P00002",84631389,"BCU 480-5/3/1LW3D","P00002",88610590]
["84631366P00034",84631366,"BCU 480-5/3/1LW3DS3/1U","P00034",88611470]
["84631606P00002",84631606,"BCU 460-3/1LW3GBS2","P00002",88610727]
["84631501P00001",84631501,"BCU 460-3/1LW3DB1/1","P00001",88610512]
[{"$f":"B314&D314","v":"84631594P00122"},84631594,"BCU 460-3/1LW2GBCB1/1","P00122",88611544]
["84631579P00114",84631579,"BCU 460-3/1LW8GB","P00114",88611546]
["84632130P00001",84632130,"BCU 480-5/3/1LW3GBD3S4/1","P00001",88611473]
["84631768P00001",84631768,"BCU 460-3/1W3GBD3S4B1/1","P00001",88611542]
["84631416P00001",84631416,"BCU 440-5/1W1D","P00001",88610034]
["84631507P00001",84631507,"BCU 460-3/1LW3GBS3B1/1Z0001","P00001",88611562]
["84631361P00001",84631361,"BCU 460-5/1LW3D","P00001",88610338]
["84631840P00075",84631840,"BCU465T-10/2LRD3OB1/1","P00075",88611575]
["84632184P00163",84632184,"BCU 480-10/10/1LW3GBS2/1B1/2","P00163",88611596]
[{"$f":"B323&D323","v":"84631930P00321"},84631930,"BCU 480-5/5/1LR3GBS2/2B1/1","P00321",88611355]
[{"$f":"B324&D324","v":"84631365P00001"},84631365,"BCU 480-5/3/1LW3GBU","P00001",88611598]
["84631569P00193",84631569,"BCU 465-3/1LW8GBPS2A","P00193",88611642]
[{"$f":"B326&D326","v":"84631563P00001"},84631563,"BCU 460-5/1W3GBS4CB1/1","P00001",88611657]
[{"$f":"B327&D327","v":"84631803P00001"},84631803,"BCU 480-5/3/1LW1GBS3/1","P00001",88610766]
[{"$f":"B328&D328","v":"84632262P00498"},84632262,"BCU 480-5/3/1LR3GBS2/1B1/2","P00498",88611701]
[{"$f":"B329&D329","v":"84632282P00023"},84632282,"BCU 465-5/1LW8GBD3AB1/1","P00023",88610392]
[{"$f":"B330&D330","v":"84631779P00368"},84631779,"BCU 460-3/1LW8GBB1/1","P00368",88610404]
["84631785P00001",84631785,"BCU 480-3/3/1LW1GBU","P00001",88611742]
[{"$f":"B332&D332","v":"84631358P00004"},84631358,"BCU 460-10/1LW3GBS4","P00004",88611750]
["84631556P00515",84631556,"BCU 460-3/1LW8GBP","P00515",88611751]
["84631488P00147",84631488,"BCU 460-5/1LW3DS2B1/1","P00147",88611785]
["84632170P00001",84632170,"BCU 480-3/5/1LW3GBCB1/1","P00001",88611714]
["84631561P00173",84631561,"BCU 460-5/1LW8GB","P00173",88611090]
["84631577P00154",84631577,"BCU 465-5/1LW3GBAC","P00154",88611808]
["84631648P00001",84631648,"BCU 480-10/3/1LW3GBS2/1U","P00001",88610561]
["84631618P00002",84631618,"BCU 465-5/1LW8GBPA","P00002",88611821]
["84632047P00172",84632047,"BCU 480-5/3/1LW3GBD3S4/4","P00172",88611800]
["84631904P00006",84631904,"BCU 460-10/1W3GBS3","P00006",88611305]
["84631424P00001",84631424,"BCU 480-10/10/1LW3GB","P00001",88611846]
["84631621P00001",84631621,"BCU 460-3/1W3GBD3","P00001",88610691]
["84632034P00010",84632034,"BCU 480-5/5/1LW3GBD2S4/1B1/1","P00010",88611890]
["84631981P00356",84631981,"BCU 480-5/5/1LW8GBU","P00356",88611909]
["84631408P00006",84631408,"BCU 460-3/1W3GBD2","P00006",88611921]
["84631728P00001",84631728,"BCU 460-3/1WGBB1/1","P00001",88611185]
["84631946P00001",84631946,"BCU 480-3/3/1LW1GBB1/1","P00001",88611651]
["84631686P00001",84631686,"BCU 460-5/1LW1GBC","P00001",88611134]
[{"$f":"B350&D350","v":"84632009P00049"},84632009,"BCU 480-5/3/1LW1GBD3S2/1C","P00049",88611264]
["84632285P00510",84632285,"BCU 460-5/1LW1GBB1/2","P00510",88611943]
["84631556P00069",84631556,"BCU 460-3/1LW8GBP","P00069",88611968]
["84631563P00010",84631563,"BCU 460-5/1W3GBS4CB1/1","P00010",88611976]
["84631518P00195",84631518,"BCU 465-5/1LW8GBA","P00195",88611984]
["84631350P00001",84631350,"BCU 460-5/1LW1D","P00001",88610410]
["84631932P00001",84631932,"BCU 460-3/1LW3GBD2S3B1/1","P00001",88611999]
["84631384P00011",84631384,"BCU 460-10/1LW3GBS2","P00011",88612006]
["84630481P00001",84630481,"BCU 460-10/1LR3GB","P00001",88611819]
["84632288P00514",84632288,"BCU 480-5/5/1LW3GBPD3S4/4U","P00514",88612019]
["84631538P00001",84631538,"BCU 460-5/1W3GBP","P00001",88611715]
["84631424P00001",84631424,"BCU 480-10/10/1LW3GB","P00001",88611846]
["84632028P00386",84632028,"BCU 460-5/1R8GBPD3","P00386",88612040]
["84631385P00001",84631385,"BCU 480-5/3/1LW3DU","P00001",88611598]
[{"$f":"B364&D364","v":"84632078P00001"},84632078,"BCU 460-5/1LWGBD3S2B1/2Z0001","P00001",88612043]
["84631389P00001",84631389,"BCU 480-5/3/1LW3D","P00001",88610317]
["84631392P00017",84631392,"BCU 460-5/1LW3GBP","P00017",88612069]
["84631599P00001",84631599,"BCU 460-3/1W1GBD3B1/1","P00001",88612070]
["84631575P00120",84631575,"BCU 465-3/1LW3GBAC","P00120",88612073]
["84631779P00080",84631779,"BCU 460-3/1LW8GBB1/1","P00080",88612092]
["84631388P00001",84631388,"BCU 460-3/1LW3GBPZ","P00001",88612098]
["84631493P00001",84631493,"BCU 480-10/5/1LW2GBD2S2/2","P00001",88612102]
["84631376P00001",84631376,"BCU 460-3/1LW3D","P00001",88610288]
["84631624P00133",84631624,"BCU 480-5/5/1LW1GBS4/2","P00133",88612105]
["84631618P00023",84631618,"BCU 465-5/1LW8GBPA","P00023",88612146]
["84631379P00001",84631379,"BCU 460-3/1W1D","P00001",88610417]
["84631393P00001",84631393,"BCU 440-10/1W1D","P00001",88610214]
["84632178P00010",84632178,"BCU 480-10/5/1LW3GBU","P00010",88612172]
["84631665P00010",84631665,"BCU 480-5/3/1LW1GBS3/1B1/1","P00010",88612210]
["84631877P00270",84631877,"BCU 480-5/3/2LW1GBS2/1CB1/1","P00270",88611278]
["84631717P00001",84631717,"BCU 480-5/5/1LR3GBB1/1","P00001",88610833]
["84632216P00137",84632216,"BCU 465-5/1LW3GBS2ACB1/1","P00137",88612212]
["84632002P00094",84632002,"BCU 480-5/3/1LW1GBS2/1C","P00094",88612243]
["84631757P00157",84631757,"BCU 465-3/1LW2GBAB1/1","P00157",88612260]
["84630656P00001",84630656,"BCU 480-5/3/1LW2GB","P00001",88610280]
["84630450P00001",84630450,"BCU 460-10/1W1GB","P00001",88610629]
["84631545P00221",84631545,"BCU 460-5/1LW3GBB1/1","P00221",88610657]
["84631842P00437",84631842,"BCU 480-5/3/1LW3GBD2S3/1B1/1","P00437",88612254]
["84632024P00388",84632024,"BCU 480-10/5/1LW3GBD2S2/1B1/2","P00388",88612396]
["84631376P00010",84631376,"BCU 460-3/1LW3D","P00010",88612487]
["84631422P00006",84631422,"BCU 460-5/1LW3GBS2","P00006",88611329]
["84631394P00001",84631394,"BCU 480-5/10/1LW1GB","P00001",88612390]
["84631888P00001",84631888,"BCU 480-10/5/1LW3GBS4/1","P00001",88612498]
["84630280P00001",84630280,"BCU 460-3/1R3GB ","P00001",88610498]
["84631859P00157",84631859,"BCU 480-5/3/1LW3GBD2S2/2CB1/1","P00157",88612513]
["84631439P00020",84631439,"BCU 460T-5/2LR3","P00020",88612531]
[{"$f":"B396&D396","v":"84631671P00001"},84631671,"BCU 460-3/1W3GBS3","P00001",88610359]
["84631422P00258",84631422,"BCU 460-5/1LW3GBS2","P00258",88612601]
["84631399P00017",84631399,"BCU 460-5/1LW8D","P00017",88610438]
["84631689P00160",84631689,"BCU 460-5/1W8GBP","P00160",88612323]
["84630261P00109",84630261,"BCU 460-3/1LW3GB","P00109",88612625]
["84632215P00001",84632215,"BCU 480-5/5/1LW3GBS2/1","P00001",88611147]
["84631958P00001",84631958,"BCU 460-3/1W3GBD3S3","P00001",88611555]
["84631626P00019",84631626,"BCU 480-10/5/1LW2GBS1/4C","P00019",88612723]
["84632010P00001",84632010,"BCU 480-3/3/1L5W1GBPD3U","P00001",88612584]
["84632055P00463",84632055,"BCU 480-10/5/2LW8GBS3/1B1/1","P00463",88612730]
["84631788P00308",84631788,"BCU 460-5/1LW8GBD3S2","P00308",88612758]
["84630681P00001",84630681,"BCU 480-5/3/1LR3GB","P00001",88610494]
["84631572P00112",84631572,"BCU 460-3/1W1GBB1/1","P00112",88612778]
["84631764P00001",84631764,"BCU 460-3/1LW1GBP","P00001",88612779]
["84632247P00198",84632247,"BCU 465-5/1LR8GBS3AB1/1","P00198",88612792]
["84632050P00268",84632050,"BCU 480-5/3/1LW3GBS2/1U","P00268",88612804]
["84631478P00463",84631478,"BCU 460-5/1LW3GBPD3U","P00463",88612834]
["84631813P00064",84631813,"BCU 465-3/1LW3GBPA","P00064",88612843]
["84631940P00025",84631940,"BCU 460-3/1LW1GBB1/1","P00025",88612904]
["84631744P00067",84631744,"BCU 465-5/1LW3GBS2AB1/1","P00067",88612905]
["84631715P00169",84631715,"BCU 480-10/3/1LW1GBS3/1B^/1","P00169",88612917]
["84630261P00028",84630261,"BCU 460-3/1LW3GB","P00028",88612944]
["84630261P00060",84630261,"BCU 460-3/1LW3GB","P00060",88611374]
["84631825P00165",84631825,"BCU 480-5/3/1LW3GBD3S2/1B1/1","P00165",88610429]
["84631709P00163",84631709,"BCU 460-5/1LR3GBD3S2CZ001","P00163",88612198]
["84631473P00186",84631473,"BCU 480-5/3/1LW3GBD2S2/1B1/1","P00186",88610828]
["84630261P00221",84630261,"BCU 460-3/1LW3GB","P00221",88611796]
["84630681P00299",84630681,"BCU 480-5/3/1LR3GB","P00299",88611733]
["84631830P00023",84631830,"BCU 480-5/3/1LW1GBS3/3B1/1","P00023",88613041]
["84631703P00006",84631703,"BCU 460-5/1LW3GBD2B1/1","P00006",88613067]
["84631473P00186",84631473,"BCU 480-5/3/1LW3GBD2S2/1B1/1","P00186",88613084]
["84630360P00398",84630360,"BCU 460-5/1W3GB","P00398",88613087]
[{"$f":"B428&D428","v":"84630380P00011"},84630380,"BCU 460-5/1R3GB","P00011",88610308]
["84631424P00002",84631424,"BCU 480-10/10/1LW3GB","P00002",88613137]
["84630353P00001",84630353,"BCU 460-5/1LW1GBP","P00001",88612638]
["84631939P00001",84631939,"BCU 460-3/1WGB   ","P00001",88610451]
["84631700P00020",84631700,"BCU 460-3/1LWGBU","P00020",88613204]
["84631496P00033",84631496,"BCU 460-5/1LW8GBCB1/1","P00033",88613197]
["84631779P00358",84631779,"BCU 460-3/1LW8GBB1/1","P00358",88613192]
["84631494P00001",84631494,"BCU 460-5/1LW3DB1/1","P00001",88610353]
["84631639P00001",84631639,"BCU 460-3/1W3GBU","P00001",88610270]
["84630361P00258",84630361,"BCU 460-5/1LW3GB","P00258",88610541]
["84630365P00001",84630365,"BCU 460-5/1R1GB","P00001",88612021]
["84631720P00001",84631720,"BCU 460-3/1LW3GBS3B1/1 ","P00001",88613315]
["84631518P00114",84631518,"BCU 465-5/1LW8GBA","P00114",88613362]
["84631415P00029",84631415,"BCU 460-5/1LW1GBPS2","P00029",88613383]
["84631594P00282",84631594,"BCU 460-3/1LW2GBCB1/1","P00282",88613385]
["84631716P00311",84631716,"BCU 480-5/3/1LW3GBD2S2/1B1/1","P00311",88613406]
["84631447P00024",84631447,"BCU 480-r/3/1LW1GBU","P00024",88613410]
["84631430P00001",84631430,"BCU 460-3/1W3DD2","P00001",88610642]
["84631577P00051",84631577,"BCU 465-5/1LW3GBAC","P00051",88613426]
["84631410P00029",84631410,"BCU 460-3/1LW3GBS3","P00029",88613430]
["84631564P00111",84631564,"BCU 480-5/3/2LW3GBD2","P00111",88613468]
["84632151P00168",84632151,"BCU 465-5/1LW1GBAB1/1","P00168",88613131]
["84631618P00111",84631618,"BCU 465-5/1LW8GBPA","P00111",88613499]
["84631960P00001",84631960,"BCU 480-5/3/1LW8GBS2/1","P00001",88613304]
["84630361P00258",84630361,"BCU 460-5/1LW3GB","P00258",88610541]
["84630661P00202",84630661,"BCU 480-5/3/1LW3GB","P00202",88613523]
["84631612P00002",84631612,"BCU 480-10/3/1LW1GBU","P00002",88613524]
["84631797P00288",84631797,"BCU 480-5/3/1LW3GBS2/1B1/1","P00288",88613527]
["84631761P00481",84631761,"BCU 460-5/1LW3GBS2B1/1","P00481",88613403]
["84630561P00034",84630561,"BCU 480-3/3/1LW3GB","P00034",88613567]
["84630361P00026",84630361,"BCU 460-5/1LW3GB","P00026",88610677]
["84631766P00055",84631766,"BCU 465-5/1LR3GBS4ACB1/1","P00055",88613560]
[{"$f":"B460&D460","v":"84631450P00001"},84631450,"BCU 480-5/3/1LR3GBPD3S4/2","P00001",88613562]
["84631427P00011",84631427,"BCU 480-5/3/1LR1GBD3","P00011",88613561]
["84631622P00015",84631622,"BCU 480-5/3/1LW3GBB1/1","P00015",88613598]
["84631444P00155",84631444,"BCU480-5/3/1LW1GBS2/1","P00155",88613605]
["84632186P00455",84632186,"BCU 460-5/2W3GBS4B1/1","P00455",88610578]
["84631873P00001",84631873,"BCU 480-5/3/1LW3GBD2CB1/1","P00001",88610285]
["84631972P00185",84631972,"BCU 465-5/1LW8GBD2S2AB1/1","P00185",88613618]
["84630866P00102",84630866,"BCU 480-5/5/1LR1GB","P00102",88613619]
["84632043P00001",84632043,"BCU 480-10/5/2LW3GBD3S2/1","P00001",88613629]
["84631619P00213",84631619,"BCU 465-5/1LW3GBPA","P00213",88610510]
["84631376P00322",84631376,"BCU 460-3/1LW3D","P00322",88613658]
["84631499P00001",84631499,"BCU 480-5/3/1LW3GBS2/1","P00001",88611443]
["84631797P00053",84631797,"BCU 480-5/3/1LW3BS2/1B1/1 ","P00053",88613675]
["84631365P00060",84631365,"BCU 480-5/3/1LW3GBU","P00060",88613339]
["84630350P00010",84630350,"BCU 460-5/1W1GB","P00010",88611002]
["84631392P00020",84631392,"BCU 460-5/1LW3GBP","P00020",88613794]
["84631761P00147",84631761,"BCU 460-5/1LW3GBS2B1/1","P00147",88611785]
["84631545P00243",84631545,"BCU 460-5/1LW3GBB1/1","P00243",88613812]
["84631955P00001",84631955,"BCU 480-5/3/1LW1GBS4/1B1/1","P00001",88611811]
["84631671P00001",84631671,"BCU 4600-3/1W3DS3","P00001",88610359]
["84631361P00020",84631361,"BCU 460-5/1LW3D","P00020",88611070]
["84631658P00133",84631658,"BCU 480-5/5/2LW1DS4/2","P00133",88612199]
["84632029P00387",84632029,"BCU 480-10/3/1LW3GBS2/1B1/2","P00387",88613964]
["84632041P00157",84632041,"BCU 480-10/5/2LW8GBS3/1BS3/1","P00157",88611062]
["84631804P00023",84631804,"BCU 465-5/1LW3GBAB1/1","P00023",88610535]
["84632001P00040",84632001,"BCU 460-3/1WGBD3S4U","P00040",88613114]
["84631949P00001",84631949,"BCU 480-10/5/1LWGBB1/1","P00001",88610694]
["84631917P00236",84631917,"BCU 480-5/3/1LR3GBS4/1","P00236",88614015]
["84631771P00024",84631771,"BCU 480-10/3/1LW3GBPD3","P00024",88610839]
["84632027P00001",84632027,"BCU 460-10/1LW3GBD3S4","P00001",88614115]
["84631913P00105",84631913,"BCU 480-5/3/1LW3GBS3/1B1/1","P00105",88614017]
["84631745P00048",84631745,"BCU 465-5/1L-LR3GBS4AB1/1","P00048",88613983]
[{"$f":"B492&D492","v":"84630656P00112"},84630656,"BCU 480-5/3/1LW2GB","P00112",88614089]
["84631718P00223",84631718,"BCU 460-5/1LW8GBP","P00223",88614154]
["84632104P00426",84632104,"BCU 460-5/1LW1GB3S3B1/1Z0001","P00426",88614156]
["84631392P00001",84631392,"BCU 460-25/1LW3GBP","P00001",88612398]
["84631746P00046",84631746,"BCU 465-3/1LW2GBA","P00046",88614197]
["84630460P00080",84630460,"BCU 460-10/1W3GB","P00080",88614198]
["84631930P00001",84631930,"BCU 480-5/5/1LR3GBS2/2B1/1","P00001",88614202]
["84631628P00020",84631628,"BCU 465-10/1LWGBPAC","P00020",88610123]
["84631618P00039",84631618,"BCU 465-5/1LW8GBPA","P00039",88612596]
["84631858P00165",84631858,"BCU 480-5/3/1LW3GBCB1/1","P00165",88612310]
["84631518P00001",84631518,"BCU 465-5/1LW8GBA","P00001",88614248]
["84631381P00001",84631381,"BCU 460-5/1W1GBD3","P00001",88610933]
["84631506P00026",84631506,"BCU 460-3/1W3GBB1/1","P00026",88610281]
["84631417P00033",84631417,"BCU 460-5/1LW3GBPD3","P00033",88614302]
["84631682P00015",84631682,"BCU 460-5/1LW3GBD3S2B1/1","P00015",88613717]
["84631364P00001",84631364,"BCU 480-5/3/1LW1D","P00001",88610390]
["84631818P00235",84631818,"BCU 480-5/3/1L5R3GBS3/1","P00235",88611957]
["84631842P00163",84631842,"BCU 480-5/3/1LW3GBD2S3/1B1/1","P00163",88614366]
["84630360P00398",84630360,"BCU 460-5/1W3GB","P00398",88613087]
["84631617P00022",84631617,"BCU 465-5/1LW3GBS4A","P00022",88610169]
["84631607P00005",84631607,"BCU 465-3/1LW8GBAC","P00005",88614388]
["84631604P00001",84631604,"BCU 460-5/1R3GBS3","P00001",88610748]
["84631404P00017",84631404,"BCU 460-5/2LW3GBD2S2","P00017",88614409]
["84631556P00138",84631556,"BCU 460-3/1LW8GBP","P00138",88614410]
["84631422P00026",84631422,"BCU 460-5/1LW3GBS2","P00026",88614425]
["84631803P00218",84631803,"BCU 480-5/3/1LW1GBS3/1","P00218",88614048]
["84630260P00083",84630260,"BCU 460-3/1W3GB","P00083",88610358]
["84631422P00026",84631422,"BCU 460-5/1LW3GBS2","P00026",88614425]
["84632250P00199",84632250,"BCU 465-3/1LW3GBS2A ","P00199",88614545]
["84630350P00010",84630350,"BCU 460-5/1W1GB","P00010",88611002]
["84630060P00125",84630060,"BCU 440-5/1W3GB","P00125",88610038]
["84632008P00001",84632008,"BCU480-5/5/1LR3GBS3/1B1/1  ","P00001",88610769]
["84631972P00119",84631972,"BCU 465-5/1LW8GBD2S2AB1/1","P00119",88614587]
["84631591P00190",84631591,"BCU 480-5/3/1LR3BGD3U ","P00190",88614592]
["84631591P00019",84631591,"BCU 480-5/3/1LR3GBD3U","P00019",88614593]
["84631545P00188",84631545,"BCU 460-5/1LW3GBB1/1","P00188",88614605]
["84631541P00099",84631541,"BCU 460-3/1W3GBS4","P00099",88610486]
["84631616P00361",84631616,"BCU 480-5/3/1LR3GBB1/1","P00361",88614611]
["84631616P00001",84631616,"BCU 480-5/3/1LR3GBB1/1  ","P00001",88610997]
["84631979P00354",84631979,"BCU 460-10/2LW3GBD2S3","P00354",88614653]
["84632012P00372",84632012,"BCU 480-10/5/2L5W3GBD2S3/1","P00372",88614654]
["84630661P00112",84630661,"BCU 480-5/3/1LW3GB","P00112",88613005]
["84631800P00061",84631800,"BCU 465-5/1LW3GBS3AB1/1","P00061",88614676]
["84632135P00001",84632135,"BCU 480-10/3/1LR3GBB1/1  ","P00001",88611851]
["84632116P00001",84632116,"BCU 460-5/1W8GBU","P00001",88613947]
["84632114P00089",84632114,"BCU 460-3/2WGBD3S3C","P00089",88611034]
["84631556P00222",84631556,"BCU 460-3/1LW8GBP","P00222",88614726]
["84631726P00015",84631726,"BCU 460-5/1LR3GBB1/1","P00015",88611736]
["84631390P00001",84631390,"BCU 480-5/5/1LW3GB","P00001",88610783]
["84631653P00247",84631653,"BCU 460-3/1W3GBS3","P00247",88611959]
["84632106P00208",84632106,"BCU 465-5/1LW8GBS2AB1/1","P00208",88614851]
["84631911P00383",84631911,"BCU 480-5/3/1LW3GBD3","P00383",88614853]
["84631714P00001",84631714,"BCU 480-5/3/1LW3GBS2/2","P00001",88610802]
["84631828P00069",84631828,"BCU 465-51L5W3GBS4A","P00069",88614895]
["84631376P00033",84631376,"BCU 460-3/1LW3D  ","P00033",88614916]
["84631569P00192",84631569,"BCU 465-3/1LW8GBPS2A","P00192",88610752]
["84631757P00001",84631757,"BCU 465-3/1LW2GBAB1/1","P00001",88614957]
["84632208P00001",84632208,"BCU 480-10/5/1LW3GBD2 ","P00001",88611503]
["84631367P00001",84631367,"BCU 480-5/3/1LW3GBS3/1B1/1","P00001",88610952]
["84631779P00234",84631779,"BCU 460-3/1LW8GBB1/1","P00234",88615018]
["84631749P00047",84631749,"BCU 465-3/1LR3GBPS2A","P00047",88615044]
["84631540P00279",84631540,"BCU 460-3/1W3GBS4B1/1 ","P00279",88610256]
["84631540P00099",84631540,"BCU 460-3/1W3GBS4B1/1 ","P00099",88610372]
[null,84632111,"BCU 460-3/1R3GBS4B1/1 ","P00279",88610373]
[null,84632111,"BCU 460-3/1R3GBS4B1/1 ","P00099",88610374]
[null,84631541,"BCU 460-3/1W3GBS4 ","P00279",88610485]
[null,84631541,"BCU 460-3/1W3GBS4 ","P00099",88610486]
[]
[]
[]
[]
[]
[]
[]
[]
[]
[]
[]
[""]
[""]
[""]

{"sheet":"Tabelle1","index":11,"n_rows":2358,"n_cols":2,"rows_kept":2358,"cut":false,"hidden":false,"merged":[]}
[88651063,"PFU 760LN"]
[88651064,"PFU 760LN"]
[88650935,"PFU 760LND"]
[88650967,"PFU 760LNK1"]
[88651021,"PFU 760LNK1"]
[88651035,"PFU 760LNK1"]
[88651061,"PFU 760LNK1"]
[88651065,"PFU 760LNK1"]
[88650936,"PFU 760LT"]
[88650973,"PFU 760LT"]
[88650977,"PFU 760LT"]
[88651032,"PFU 760LT"]
[88651036,"PFU 760LT"]
[88651041,"PFU 760LT"]
[88651047,"PFU 760LT"]
[88651048,"PFU 760LT"]
[88651049,"PFU 760LT"]
[88651055,"PFU 760LT"]
[88651056,"PFU 760LT"]
[88651060,"PFU 760LT"]
[88651066,"PFU 760LT"]
[88651073,"PFU 760LT"]
[88651080,"PFU 760LT"]
[88651081,"PFU 760LT"]
[88650990,"PFU 760LTD"]
[88651000,"PFU 760LTD"]
[88651030,"PFU 760LTD"]
[88651042,"PFU 760LTD"]
[88651043,"PFU 760LTD"]
[88651044,"PFU 760LTD"]
[88651045,"PFU 760LTD"]
[88651046,"PFU 760LTD"]
[88651050,"PFU 760LTD"]
[88651062,"PFU 760LTD"]
[88651010,"PFU 760LTDK2"]
[88651002,"PFU 760LTDU"]
[88651012,"PFU 760LTDUK2"]
[88650931,"PFU 760LTK1"]
[88650932,"PFU 760LTK1"]
[88650933,"PFU 760LTK1"]
[88650934,"PFU 760LTK1"]
[88650937,"PFU 760LTK1"]
[88650938,"PFU 760LTK1"]
[88650939,"PFU 760LTK1"]
[88650950,"PFU 760LTK1"]
[88650951,"PFU 760LTK1"]
[88650952,"PFU 760LTK1"]
[88650953,"PFU 760LTK1"]
[88650962,"PFU 760LTK1"]
[88650963,"PFU 760LTK1"]
[88650964,"PFU 760LTK1"]
[88650965,"PFU 760LTK1"]
[88650966,"PFU 760LTK1"]
[88650968,"PFU 760LTK1"]
[88650969,"PFU 760LTK1"]
[88650970,"PFU 760LTK1"]
[88650971,"PFU 760LTK1"]
[88650972,"PFU 760LTK1"]
[88650974,"PFU 760LTK1"]
[88650976,"PFU 760LTK1"]
[88650980,"PFU 760LTK1"]
[88650981,"PFU 760LTK1"]
[88651017,"PFU 760LTK1"]
[88651018,"PFU 760LTK1"]
[88651031,"PFU 760LTK1"]
[88651034,"PFU 760LTK1"]
[88651051,"PFU 760LTK1"]
[88651052,"PFU 760LTK1"]
[88651053,"PFU 760LTK1"]
[88651054,"PFU 760LTK1"]
[88651082,"PFU 760LTK1"]
[88650979,"PFU 760LTK2"]
[88651008,"PFU 760LTK2"]
[88651033,"PFU 760LTK2"]
[88651037,"PFU 760LTK2"]
[88651040,"PFU 760LTK2"]
[88651071,"PFU 760N"]
[88650930,"PFU 760NK1"]
[88651020,"PFU 760NK1"]
[88650928,"PFU 760T"]
[88650940,"PFU 760T"]
[88650975,"PFU 760T"]
[88651009,"PFU 760TDK2"]
[88651001,"PFU 760TDU"]
[88651011,"PFU 760TDUK2"]
[88650929,"PFU 760TK1"]
[88650960,"PFU 760TK1"]
[88650961,"PFU 760TK1"]
[88651019,"PFU 760TK1"]
[88651072,"PFU 760TK1"]
[88651007,"PFU 760TK2"]
[88650023,"PFU 760LN"]
[88650025,"PFU 760LN"]
[88650111,"PFU 760LN"]
[88650113,"PFU 760LN"]
[88650160,"PFU 760LN"]
[88650190,"PFU 760LN"]
[88650213,"PFU 760LN"]
[88650234,"PFU 760LN"]
[88650240,"PFU 760LN"]
[88650241,"PFU 760LN"]
[88650265,"PFU 760LN"]
[88650284,"PFU 760LN"]
[88650321,"PFU 760LN"]
[88650351,"PFU 760LN"]
[88650356,"PFU 760LN"]
[88650359,"PFU 760LN"]
[88650360,"PFU 760LN"]
[88650458,"PFU 760LN"]
[88650492,"PFU 760LN"]
[88650493,"PFU 760LN"]
[88650494,"PFU 760LN"]
[88650545,"PFU 760LN"]
[88650556,"PFU 760LN"]
[88650560,"PFU 760LN"]
[88650642,"PFU 760LN"]
[88650684,"PFU 760LN"]
[88650741,"PFU 760LN"]
[88650742,"PFU 760LN"]
[88650828,"PFU 760LN"]
[88650857,"PFU 760LN"]
[88650886,"PFU 760LN"]
[88650891,"PFU 760LN"]
[88650892,"PFU 760LN"]
[88650895,"PFU 760LN"]
[88650914,"PFU 760LN"]
[88650721,"PFU 760LND"]
[88650300,"PFU 760LNDU"]
[88650030,"PFU 760LNK1"]
[88650031,"PFU 760LNK1"]
[88650032,"PFU 760LNK1"]
[88650041,"PFU 760LNK1"]
[88650042,"PFU 760LNK1"]
[88650043,"PFU 760LNK1"]
[88650090,"PFU 760LNK1"]
[88650100,"PFU 760LNK1"]
[88650102,"PFU 760LNK1"]
[88650142,"PFU 760LNK1"]
[88650146,"PFU 760LNK1"]
[88650166,"PFU 760LNK1"]
[88650201,"PFU 760LNK1"]
[88650217,"PFU 760LNK1"]
[88650227,"PFU 760LNK1"]
[88650235,"PFU 760LNK1"]
[88650242,"PFU 760LNK1"]
[88650249,"PFU 760LNK1"]
[88650260,"PFU 760LNK1"]
[88650264,"PFU 760LNK1"]
[88650312,"PFU 760LNK1"]
[88650317,"PFU 760LNK1"]
[88650320,"PFU 760LNK1"]
[88650340,"PFU 760LNK1"]
[88650354,"PFU 760LNK1"]
[88650366,"PFU 760LNK1"]
[88650370,"PFU 760LNK1"]
[88650381,"PFU 760LNK1"]
[88650403,"PFU 760LNK1"]
[88650440,"PFU 760LNK1"]
[88650446,"PFU 760LNK1"]
[88650461,"PFU 760LNK1"]
[88650490,"PFU 760LNK1"]
[88650542,"PFU 760LNK1"]
[88650553,"PFU 760LNK1"]
[88650561,"PFU 760LNK1"]
[88650575,"PFU 760LNK1"]
[88650580,"PFU 760LNK1"]
[88650591,"PFU 760LNK1"]
[88650602,"PFU 760LNK1"]
[88650607,"PFU 760LNK1"]
[88650613,"PFU 760LNK1"]
[88650635,"PFU 760LNK1"]
[88650666,"PFU 760LNK1"]
[88650680,"PFU 760LNK1"]
[88650697,"PFU 760LNK1"]
[88650702,"PFU 760LNK1"]
[88650703,"PFU 760LNK1"]
[88650737,"PFU 760LNK1"]
[88650740,"PFU 760LNK1"]
[88650756,"PFU 760LNK1"]
[88650780,"PFU 760LNK1"]
[88650785,"PFU 760LNK1"]
[88650831,"PFU 760LNK1"]
[88650842,"PFU 760LNK1"]
[88650856,"PFU 760LNK1"]
[88650858,"PFU 760LNK1"]
[88650871,"PFU 760LNK1"]
[88650879,"PFU 760LNK1"]
[88650885,"PFU 760LNK1"]
[88650117,"PFU 760LNK2"]
[88650119,"PFU 760LNK2"]
[88650540,"PFU 760LNK2"]
[88650541,"PFU 760LNK2"]
[88650762,"PFU 760LNK2"]
[88650623,"PFU 760LNUK2"]
[88650000,"PFU 760LT"]
[88650001,"PFU 760LT"]
[88650002,"PFU 760LT"]
[88650003,"PFU 760LT"]
[88650004,"PFU 760LT"]
[88650005,"PFU 760LT"]
[88650007,"PFU 760LT"]
[88650008,"PFU 760LT"]
[88650009,"PFU 760LT"]
[88650010,"PFU 760LT"]
[88650011,"PFU 760LT"]
[88650012,"PFU 760LT"]
[88650013,"PFU 760LT"]
[88650016,"PFU 760LT"]
[88650020,"PFU 760LT"]
[88650022,"PFU 760LT"]
[88650026,"PFU 760LT"]
[88650046,"PFU 760LT"]
[88650050,"PFU 760LT"]
[88650054,"PFU 760LT"]
[88650062,"PFU 760LT"]
[88650064,"PFU 760LT"]
[88650066,"PFU 760LT"]
[88650070,"PFU 760LT"]
[88650074,"PFU 760LT"]
[88650075,"PFU 760LT"]
[88650077,"PFU 760LT"]
[88650083,"PFU 760LT"]
[88650088,"PFU 760LT"]
[88650089,"PFU 760LT"]
[88650091,"PFU 760LT"]
[88650092,"PFU 760LT"]
[88650093,"PFU 760LT"]
[88650094,"PFU 760LT"]
[88650097,"PFU 760LT"]
[88650099,"PFU 760LT"]
[88650105,"PFU 760LT"]
[88650107,"PFU 760LT"]
[88650110,"PFU 760LT"]
[88650112,"PFU 760LT"]
[88650130,"PFU 760LT"]
[88650135,"PFU 760LT"]
[88650136,"PFU 760LT"]
[88650143,"PFU 760LT"]
[88650144,"PFU 760LT"]
[88650145,"PFU 760LT"]
[88650150,"PFU 760LT"]
[88650151,"PFU 760LT"]
[88650154,"PFU 760LT"]
[88650158,"PFU 760LT"]
[88650162,"PFU 760LT"]
[88650171,"PFU 760LT"]
[88650175,"PFU 760LT"]
[88650181,"PFU 760LT"]
[88650182,"PFU 760LT"]
[88650188,"PFU 760LT"]
[88650191,"PFU 760LT"]
[88650203,"PFU 760LT"]
[88650205,"PFU 760LT"]
[88650206,"PFU 760LT"]
[88650207,"PFU 760LT"]
[88650212,"PFU 760LT"]
[88650214,"PFU 760LT"]
[88650223,"PFU 760LT"]
[88650228,"PFU 760LT"]
[88650236,"PFU 760LT"]
[88650244,"PFU 760LT"]
[88650245,"PFU 760LT"]
[88650266,"PFU 760LT"]
[88650273,"PFU 760LT"]
[88650274,"PFU 760LT"]
[88650275,"PFU 760LT"]
[88650276,"PFU 760LT"]
[88650277,"PFU 760LT"]
[88650278,"PFU 760LT"]
[88650283,"PFU 760LT"]
[88650293,"PFU 760LT"]
[88650301,"PFU 760LT"]
[88650303,"PFU 760LT"]
[88650315,"PFU 760LT"]
[88650323,"PFU 760LT"]
[88650324,"PFU 760LT"]
[88650326,"PFU 760LT"]
[88650350,"PFU 760LT"]
[88650353,"PFU 760LT"]
[88650384,"PFU 760LT"]
[88650385,"PFU 760LT"]
[88650392,"PFU 760LT"]
[88650396,"PFU 760LT"]
[88650397,"PFU 760LT"]
[88650432,"PFU 760LT"]
[88650441,"PFU 760LT"]
[88650443,"PFU 760LT"]
[88650456,"PFU 760LT"]
[88650495,"PFU 760LT"]
[88650548,"PFU 760LT"]
[88650554,"PFU 760LT"]
[88650569,"PFU 760LT"]
[88650571,"PFU 760LT"]
[88650577,"PFU 760LT"]
[88650579,"PFU 760LT"]
[88650582,"PFU 760LT"]
[88650600,"PFU 760LT"]
[88650612,"PFU 760LT"]
[88650614,"PFU 760LT"]
[88650617,"PFU 760LT"]
[88650628,"PFU 760LT"]
[88650636,"PFU 760LT"]
[88650638,"PFU 760LT"]
[88650650,"PFU 760LT"]
[88650664,"PFU 760LT"]
[88650673,"PFU 760LT"]
[88650674,"PFU 760LT"]
[88650675,"PFU 760LT"]
[88650692,"PFU 760LT"]
[88650713,"PFU 760LT"]
[88650723,"PFU 760LT"]
[88650739,"PFU 760LT"]
[88650743,"PFU 760LT"]
[88650755,"PFU 760LT"]
[88650758,"PFU 760LT"]
[88650759,"PFU 760LT"]
[88650760,"PFU 760LT"]
[88650761,"PFU 760LT"]
[88650766,"PFU 760LT"]
[88650792,"PFU 760LT"]
[88650807,"PFU 760LT"]
[88650809,"PFU 760LT"]
[88650812,"PFU 760LT"]
[88650820,"PFU 760LT"]
[88650825,"PFU 760LT"]
[88650870,"PFU 760LT"]
[88650898,"PFU 760LT"]
[88650902,"PFU 760LT"]
[88650908,"PFU 760LT"]
[88650910,"PFU 760LT"]
[88650060,"PFU 760LTD"]
[88650067,"PFU 760LTD"]
[88650096,"PFU 760LTD"]
[88650137,"PFU 760LTD"]
[88650138,"PFU 760LTD"]
[88650155,"PFU 760LTD"]
[88650165,"PFU 760LTD"]
[88650220,"PFU 760LTD"]
[88650221,"PFU 760LTD"]
[88650267,"PFU 760LTD"]
[88650269,"PFU 760LTD"]
[88650272,"PFU 760LTD"]
[88650377,"PFU 760LTD"]
[88650378,"PFU 760LTD"]
[88650447,"PFU 760LTD"]
[88650450,"PFU 760LTD"]
[88650451,"PFU 760LTD"]
[88650452,"PFU 760LTD"]
[88650476,"PFU 760LTD"]
[88650481,"PFU 760LTD"]
[88650482,"PFU 760LTD"]
[88650576,"PFU 760LTD"]
[88650578,"PFU 760LTD"]
[88650586,"PFU 760LTD"]
[88650662,"PFU 760LTD"]
[88650663,"PFU 760LTD"]
[88650683,"PFU 760LTD"]
[88650693,"PFU 760LTD"]
[88650698,"PFU 760LTD"]
[88650724,"PFU 760LTD"]
[88650726,"PFU 760LTD"]
[88650730,"PFU 760LTD"]
[88650750,"PFU 760LTD"]
[88650752,"PFU 760LTD"]
[88650786,"PFU 760LTD"]
[88650787,"PFU 760LTD"]
[88650821,"PFU 760LTD"]
[88650823,"PFU 760LTD"]
[88650844,"PFU 760LTD"]
[88650894,"PFU 760LTD"]
[88650899,"PFU 760LTD"]
[88650906,"PFU 760LTD"]
[88650909,"PFU 760LTD"]
[88650916,"PFU 760LTD"]
[88650917,"PFU 760LTD"]
[88650919,"PFU 760LTD"]
[88650925,"PFU 760LTD"]
[88650926,"PFU 760LTD"]
[88650927,"PFU 760LTD"]
[88650156,"PFU 760LTDK2"]
[88650225,"PFU 760LTDK2"]
[88650247,"PFU 760LTDK2"]
[88650369,"PFU 760LTDK2"]
[88650439,"PFU 760LTDK2"]
[88650478,"PFU 760LTDK2"]
[88650564,"PFU 760LTDK2"]
[88650590,"PFU 760LTDK2"]
[88650615,"PFU 760LTDK2"]
[88650633,"PFU 760LTDK2"]
[88650691,"PFU 760LTDK2"]
[88650746,"PFU 760LTDK2"]
[88650747,"PFU 760LTDK2"]
[88650748,"PFU 760LTDK2"]
[88650749,"PFU 760LTDK2"]
[88650794,"PFU 760LTDK2"]
[88650880,"PFU 760LTDK2"]
[88650876,"PFU 760LTDUK2"]
[88650014,"PFU 760LTK1"]
[88650015,"PFU 760LTK1"]
[88650018,"PFU 760LTK1"]
[88650019,"PFU 760LTK1"]
[88650021,"PFU 760LTK1"]
[88650028,"PFU 760LTK1"]
[88650029,"PFU 760LTK1"]
[88650039,"PFU 760LTK1"]
[88650040,"PFU 760LTK1"]
[88650045,"PFU 760LTK1"]
[88650049,"PFU 760LTK1"]
[88650055,"PFU 760LTK1"]
[88650056,"PFU 760LTK1"]
[88650057,"PFU 760LTK1"]
[88650061,"PFU 760LTK1"]
[88650063,"PFU 760LTK1"]
[88650065,"PFU 760LTK1"]
[88650071,"PFU 760LTK1"]
[88650072,"PFU 760LTK1"]
[88650073,"PFU 760LTK1"]
[88650078,"PFU 760LTK1"]
[88650080,"PFU 760LTK1"]
[88650085,"PFU 760LTK1"]
[88650086,"PFU 760LTK1"]
[88650147,"PFU 760LTK1"]
[88650153,"PFU 760LTK1"]
[88650157,"PFU 760LTK1"]
[88650159,"PFU 760LTK1"]
[88650163,"PFU 760LTK1"]
[88650167,"PFU 760LTK1"]
[88650168,"PFU 760LTK1"]
[88650170,"PFU 760LTK1"]
[88650174,"PFU 760LTK1"]
[88650176,"PFU 760LTK1"]
[88650177,"PFU 760LTK1"]
[88650180,"PFU 760LTK1"]
[88650183,"PFU 760LTK1"]
[88650184,"PFU 760LTK1"]
[88650185,"PFU 760LTK1"]
[88650186,"PFU 760LTK1"]
[88650187,"PFU 760LTK1"]
[88650189,"PFU 760LTK1"]
[88650202,"PFU 760LTK1"]
[88650211,"PFU 760LTK1"]
[88650215,"PFU 760LTK1"]
[88650216,"PFU 760LTK1"]
[88650226,"PFU 760LTK1"]
[88650231,"PFU 760LTK1"]
[88650232,"PFU 760LTK1"]
[88650233,"PFU 760LTK1"]
[88650243,"PFU 760LTK1"]
[88650246,"PFU 760LTK1"]
[88650251,"PFU 760LTK1"]
[88650263,"PFU 760LTK1"]
[88650271,"PFU 760LTK1"]
[88650281,"PFU 760LTK1"]
[88650294,"PFU 760LTK1"]
[88650296,"PFU 760LTK1"]
[88650307,"PFU 760LTK1"]
[88650308,"PFU 760LTK1"]
[88650313,"PFU 760LTK1"]
[88650355,"PFU 760LTK1"]
[88650367,"PFU 760LTK1"]
[88650368,"PFU 760LTK1"]
[88650376,"PFU 760LTK1"]
[88650383,"PFU 760LTK1"]
[88650393,"PFU 760LTK1"]
[88650394,"PFU 760LTK1"]
[88650395,"PFU 760LTK1"]
[88650400,"PFU 760LTK1"]
[88650401,"PFU 760LTK1"]
[88650402,"PFU 760LTK1"]
[88650405,"PFU 760LTK1"]
[88650433,"PFU 760LTK1"]
[88650444,"PFU 760LTK1"]
[88650445,"PFU 760LTK1"]
[88650448,"PFU 760LTK1"]
[88650475,"PFU 760LTK1"]
[88650477,"PFU 760LTK1"]
[88650491,"PFU 760LTK1"]
[88650500,"PFU 760LTK1"]
[88650506,"PFU 760LTK1"]
[88650522,"PFU 760LTK1"]
[88650530,"PFU 760LTK1"]
[88650531,"PFU 760LTK1"]
[88650543,"PFU 760LTK1"]
[88650546,"PFU 760LTK1"]
[88650547,"PFU 760LTK1"]
[88650549,"PFU 760LTK1"]
[88650550,"PFU 760LTK1"]
[88650555,"PFU 760LTK1"]
[88650557,"PFU 760LTK1"]
[88650562,"PFU 760LTK1"]
[88650567,"PFU 760LTK1"]
[88650572,"PFU 760LTK1"]
[88650592,"PFU 760LTK1"]
[88650593,"PFU 760LTK1"]
[88650594,"PFU 760LTK1"]
[88650596,"PFU 760LTK1"]
[88650618,"PFU 760LTK1"]
[88650621,"PFU 760LTK1"]
[88650626,"PFU 760LTK1"]
[88650627,"PFU 760LTK1"]
[88650629,"PFU 760LTK1"]
[88650630,"PFU 760LTK1"]
[88650640,"PFU 760LTK1"]
[88650641,"PFU 760LTK1"]
[88650644,"PFU 760LTK1"]
[88650645,"PFU 760LTK1"]
[88650646,"PFU 760LTK1"]
[88650670,"PFU 760LTK1"]
[88650671,"PFU 760LTK1"]
[88650672,"PFU 760LTK1"]
[88650681,"PFU 760LTK1"]
[88650682,"PFU 760LTK1"]
[88650686,"PFU 760LTK1"]
[88650687,"PFU 760LTK1"]
[88650690,"PFU 760LTK1"]
[88650695,"PFU 760LTK1"]
[88650696,"PFU 760LTK1"]
[88650699,"PFU 760LTK1"]
[88650700,"PFU 760LTK1"]
[88650704,"PFU 760LTK1"]
[88650710,"PFU 760LTK1"]
[88650711,"PFU 760LTK1"]
[88650712,"PFU 760LTK1"]
[88650720,"PFU 760LTK1"]
[88650722,"PFU 760LTK1"]
[88650725,"PFU 760LTK1"]
[88650734,"PFU 760LTK1"]
[88650735,"PFU 760LTK1"]
[88650736,"PFU 760LTK1"]
[88650745,"PFU 760LTK1"]
[88650753,"PFU 760LTK1"]
[88650765,"PFU 760LTK1"]
[88650767,"PFU 760LTK1"]
[88650772,"PFU 760LTK1"]
[88650773,"PFU 760LTK1"]
[88650783,"PFU 760LTK1"]
[88650784,"PFU 760LTK1"]
[88650788,"PFU 760LTK1"]
[88650789,"PFU 760LTK1"]
[88650800,"PFU 760LTK1"]
[88650803,"PFU 760LTK1"]
[88650804,"PFU 760LTK1"]
[88650806,"PFU 760LTK1"]
[88650808,"PFU 760LTK1"]
[88650811,"PFU 760LTK1"]
[88650813,"PFU 760LTK1"]
[88650814,"PFU 760LTK1"]
[88650815,"PFU 760LTK1"]
[88650819,"PFU 760LTK1"]
[88650822,"PFU 760LTK1"]
[88650824,"PFU 760LTK1"]
[88650827,"PFU 760LTK1"]
[88650829,"PFU 760LTK1"]
[88650832,"PFU 760LTK1"]
[88650833,"PFU 760LTK1"]
[88650834,"PFU 760LTK1"]
[88650835,"PFU 760LTK1"]
[88650840,"PFU 760LTK1"]
[88650843,"PFU 760LTK1"]
[88650850,"PFU 760LTK1"]
[88650852,"PFU 760LTK1"]
[88650853,"PFU 760LTK1"]
[88650859,"PFU 760LTK1"]
[88650860,"PFU 760LTK1"]
[88650872,"PFU 760LTK1"]
[88650873,"PFU 760LTK1"]
[88650875,"PFU 760LTK1"]
[88650878,"PFU 760LTK1"]
[88650884,"PFU 760LTK1"]
[88650890,"PFU 760LTK1"]
[88650893,"PFU 760LTK1"]
[88650896,"PFU 760LTK1"]
[88650897,"PFU 760LTK1"]
[88650903,"PFU 760LTK1"]
[88650904,"PFU 760LTK1"]
[88650905,"PFU 760LTK1"]
[88650911,"PFU 760LTK1"]
[88650924,"PFU 760LTK1"]
[88650053,"PFU 760LTK2"]
[88650084,"PFU 760LTK2"]
[88650087,"PFU 760LTK2"]
[88650098,"PFU 760LTK2"]
[88650103,"PFU 760LTK2"]
[88650118,"PFU 760LTK2"]
[88650120,"PFU 760LTK2"]
[88650131,"PFU 760LTK2"]
[88650132,"PFU 760LTK2"]
[88650164,"PFU 760LTK2"]
[88650173,"PFU 760LTK2"]
[88650237,"PFU 760LTK2"]
[88650238,"PFU 760LTK2"]
[88650239,"PFU 760LTK2"]
[88650248,"PFU 760LTK2"]
[88650268,"PFU 760LTK2"]
[88650270,"PFU 760LTK2"]
[88650318,"PFU 760LTK2"]
[88650398,"PFU 760LTK2"]
[88650453,"PFU 760LTK2"]
[88650511,"PFU 760LTK2"]
[88650610,"PFU 760LTK2"]
[88650611,"PFU 760LTK2"]
[88650665,"PFU 760LTK2"]
[88650689,"PFU 760LTK2"]
[88650763,"PFU 760LTK2"]
[88650769,"PFU 760LTK2"]
[88650770,"PFU 760LTK2"]
[88650810,"PFU 760LTK2"]
[88650826,"PFU 760LTK2"]
[88650851,"PFU 760LTK2"]
[88650861,"PFU 760LTK2"]
[88650918,"PFU 760LTK2"]
[88650920,"PFU 760LTK2"]
[88650442,"PFU 760LTU"]
[88650637,"PFU 760LTU"]
[88650661,"PFU 760LTU"]
[88650622,"PFU 760LTUK2"]
[88650874,"PFU 760LTUK2"]
[88650047,"PFU 760N"]
[88650048,"PFU 760N"]
[88650148,"PFU 760N"]
[88650252,"PFU 760N"]
[88650254,"PFU 760N"]
[88650255,"PFU 760N"]
[88650257,"PFU 760N"]
[88650259,"PFU 760N"]
[88650262,"PFU 760N"]
[88650282,"PFU 760N"]
[88650291,"PFU 760N"]
[88650322,"PFU 760N"]
[88650357,"PFU 760N"]
[88650358,"PFU 760N"]
[88650460,"PFU 760N"]
[88650552,"PFU 760N"]
[88650585,"PFU 760N"]
[88650597,"PFU 760N"]
[88650688,"PFU 760N"]
[88650729,"PFU 760N"]
[88650837,"PFU 760N"]
[88650877,"PFU 760N"]
[88650512,"PFU 760ND"]
[88650887,"PFU 760ND"]
[88650513,"PFU 760NDU"]
[88650036,"PFU 760NK1"]
[88650037,"PFU 760NK1"]
[88650038,"PFU 760NK1"]
[88650115,"PFU 760NK1"]
[88650122,"PFU 760NK1"]
[88650124,"PFU 760NK1"]
[88650292,"PFU 760NK1"]
[88650304,"PFU 760NK1"]
[88650352,"PFU 760NK1"]
[88650406,"PFU 760NK1"]
[88650462,"PFU 760NK1"]
[88650463,"PFU 760NK1"]
[88650489,"PFU 760NK1"]
[88650507,"PFU 760NK1"]
[88650520,"PFU 760NK1"]
[88650544,"PFU 760NK1"]
[88650551,"PFU 760NK1"]
[88650589,"PFU 760NK1"]
[88650603,"PFU 760NK1"]
[88650604,"PFU 760NK1"]
[88650605,"PFU 760NK1"]
[88650606,"PFU 760NK1"]
[88650619,"PFU 760NK1"]
[88650620,"PFU 760NK1"]
[88650631,"PFU 760NK1"]
[88650632,"PFU 760NK1"]
[88650685,"PFU 760NK1"]
[88650694,"PFU 760NK1"]
[88650727,"PFU 760NK1"]
[88650912,"PFU 760NK1"]
[88650913,"PFU 760NK1"]
[88650126,"PFU 760NK2"]
[88650128,"PFU 760NK2"]
[88650435,"PFU 760NK2"]
[88650437,"PFU 760NK2"]
[88650796,"PFU 760NK2"]
[88650455,"PFU 760NU"]
[88650488,"PFU 760NU"]
[88650024,"PFU 760T"]
[88650044,"PFU 760T"]
[88650052,"PFU 760T"]
[88650059,"PFU 760T"]
[88650076,"PFU 760T"]
[88650079,"PFU 760T"]
[88650081,"PFU 760T"]
[88650114,"PFU 760T"]
[88650152,"PFU 760T"]
[88650250,"PFU 760T"]
[88650253,"PFU 760T"]
[88650256,"PFU 760T"]
[88650258,"PFU 760T"]
[88650261,"PFU 760T"]
[88650295,"PFU 760T"]
[88650332,"PFU 760T"]
[88650790,"PFU 760T"]
[88650921,"PFU 760T"]
[88650922,"PFU 760T"]
[88650923,"PFU 760T"]
[88650058,"PFU 760TD"]
[88650222,"PFU 760TD"]
[88650316,"PFU 760TD"]
[88650521,"PFU 760TD"]
[88650595,"PFU 760TDU"]
[88650609,"PFU 760TDU"]
[88650033,"PFU 760TK1"]
[88650034,"PFU 760TK1"]
[88650035,"PFU 760TK1"]
[88650082,"PFU 760TK1"]
[88650116,"PFU 760TK1"]
[88650121,"PFU 760TK1"]
[88650123,"PFU 760TK1"]
[88650204,"PFU 760TK1"]
[88650210,"PFU 760TK1"]
[88650290,"PFU 760TK1"]
[88650309,"PFU 760TK1"]
[88650310,"PFU 760TK1"]
[88650314,"PFU 760TK1"]
[88650331,"PFU 760TK1"]
[88650382,"PFU 760TK1"]
[88650390,"PFU 760TK1"]
[88650464,"PFU 760TK1"]
[88650503,"PFU 760TK1"]
[88650504,"PFU 760TK1"]
[88650505,"PFU 760TK1"]
[88650508,"PFU 760TK1"]
[88650532,"PFU 760TK1"]
[88650563,"PFU 760TK1"]
[88650565,"PFU 760TK1"]
[88650566,"PFU 760TK1"]
[88650581,"PFU 760TK1"]
[88650608,"PFU 760TK1"]
[88650634,"PFU 760TK1"]
[88650639,"PFU 760TK1"]
[88650660,"PFU 760TK1"]
[88650732,"PFU 760TK1"]
[88650738,"PFU 760TK1"]
[88650757,"PFU 760TK1"]
[88650768,"PFU 760TK1"]
[88650791,"PFU 760TK1"]
[88650801,"PFU 760TK1"]
[88650854,"PFU 760TK1"]
[88650888,"PFU 760TK1"]
[88650125,"PFU 760TK2"]
[88650127,"PFU 760TK2"]
[88650434,"PFU 760TK2"]
[88650436,"PFU 760TK2"]
[88650362,"PFU 760TU"]
[88650901,"PFU 760TU"]
[88650161,"PFU 780LN"]
[88650200,"PFU 780LN"]
[88650365,"PFU 780LN"]
[88650109,"PFU 780LNDK2"]
[88650229,"PFU 780LNDK2"]
[88650364,"PFU 780LNDK2"]
[88650375,"PFU 780LNDK2"]
[88650302,"PFU 780LNDU"]
[88650305,"PFU 780LNDU"]
[88650306,"PFU 780LNDU"]
[88650374,"PFU 780LNDU"]
[88650363,"PFU 780LNK2"]
[88650371,"PFU 780LNK2"]
[88650372,"PFU 780LNUK2"]
[88650006,"PFU 780LT"]
[88650017,"PFU 780LT"]
[88650051,"PFU 780LT"]
[88650129,"PFU 780LT"]
[88650133,"PFU 780LT"]
[88650134,"PFU 780LT"]
[88650149,"PFU 780LT"]
[88650279,"PFU 780LT"]
[88650327,"PFU 780LT"]
[88650329,"PFU 780LT"]
[88650139,"PFU 780LTD"]
[88650140,"PFU 780LTD"]
[88650224,"PFU 780LTD"]
[88650325,"PFU 780LTD"]
[88650373,"PFU 780LTD"]
[88650379,"PFU 780LTD"]
[88650380,"PFU 780LTD"]
[88650104,"PFU 780LTDK2"]
[88650108,"PFU 780LTDK2"]
[88650141,"PFU 780LTDK2"]
[88650391,"PFU 780LTDU"]
[88650068,"PFU 780LTK2"]
[88650101,"PFU 780LTK2"]
[88650106,"PFU 780LTK2"]
[88650172,"PFU 780LTK2"]
[88650328,"PFU 780LTK2"]
[88650330,"PFU 780LTK2"]
[88650361,"PFU 780LTK2"]
[88650027,"PFU 780LTU"]
[88650169,"PFU 780LTUK2"]
[88650218,"PFU 780LTUK2"]
[88650230,"PFU 780LTUK2"]
[88650280,"PFU 780LTUK2"]
[88650311,"PFU 780LTUK2"]
[88650978,"PFU 780LT"]
[88651003,"PFU 780LT"]
[88651004,"PFU 780LTD"]
[88651057,"PFU 780LTD"]
[88651014,"PFU 780LTDK2"]
[88651006,"PFU 780LTDU"]
[88651070,"PFU 780LTDU"]
[88651016,"PFU 780LTDUK2"]
[88651013,"PFU 780LTK2"]
[88651005,"PFU 780LTU"]
[88651015,"PFU 780LTUK2"]
[88650411,"PFU 780LN"]
[88650465,"PFU 780LN"]
[88650466,"PFU 780LN"]
[88650467,"PFU 780LN"]
[88650474,"PFU 780LN"]
[88650559,"PFU 780LN"]
[88650584,"PFU 780LN"]
[88650587,"PFU 780LN"]
[88650836,"PFU 780LN"]
[88650471,"PFU 780LND"]
[88650900,"PFU 780LND"]
[88650907,"PFU 780LND"]
[88650412,"PFU 780LNDU"]
[88650624,"PFU 780LNDU"]
[88650625,"PFU 780LNDU"]
[88650728,"PFU 780LNDU"]
[88650797,"PFU 780LNDUK2"]
[88650855,"PFU 780LNDUK2"]
[88650468,"PFU 780LNK2"]
[88650469,"PFU 780LNK2"]
[88650470,"PFU 780LNK2"]
[88650818,"PFU 780LNK2"]
[88650410,"PFU 780LT"]
[88650431,"PFU 780LT"]
[88650502,"PFU 780LT"]
[88650573,"PFU 780LT"]
[88650583,"PFU 780LT"]
[88650701,"PFU 780LT"]
[88650764,"PFU 780LT"]
[88650781,"PFU 780LT"]
[88650798,"PFU 780LT"]
[88650816,"PFU 780LT"]
[88650817,"PFU 780LT"]
[88650830,"PFU 780LT"]
[88650420,"PFU 780LTD"]
[88650501,"PFU 780LTD"]
[88650558,"PFU 780LTD"]
[88650574,"PFU 780LTD"]
[88650731,"PFU 780LTD"]
[88650733,"PFU 780LTD"]
[88650841,"PFU 780LTD"]
[88650881,"PFU 780LTD"]
[88650882,"PFU 780LTD"]
[88650883,"PFU 780LTD"]
[88650399,"PFU 780LTDK2"]
[88650454,"PFU 780LTDK2"]
[88650570,"PFU 780LTDK2"]
[88650601,"PFU 780LTDK2"]
[88650643,"PFU 780LTDK2"]
[88650751,"PFU 780LTDK2"]
[88650771,"PFU 780LTDK2"]
[88650799,"PFU 780LTDK2"]
[88650802,"PFU 780LTDK2"]
[88650430,"PFU 780LTK2"]
[88650438,"PFU 780LTK2"]
[88650473,"PFU 780LTK2"]
[88650568,"PFU 780LTK2"]
[88650616,"PFU 780LTK2"]
[88650744,"PFU 780LTK2"]
[88650793,"PFU 780LTK2"]
[88650795,"PFU 780LTK2"]
[88650805,"PFU 780LTK2"]
[88650915,"PFU 780LTK2"]
[88650510,"PFU 780LTUK2"]
[88610163,"BCU 460T-10/2LR3-"]
[88610119,"BCU 460T-10/2LR3-B1/1"]
[88610284,"BCU 460T-10/2LR8-B1/1"]
[88610297,"BCU 460T-10/2LR8-B1/1"]
[88610334,"BCU 460T-10/2LR8-B1/1"]
[88610624,"BCU 460T-10/2LR8-D2B1/1"]
[88610283,"BCU 460T-10/2LR8-D3B1/1"]
[88610324,"BCU 460T-10/2LW3-"]
[88610475,"BCU 460T-10/2R3-B1/1"]
[88610505,"BCU 460T-10/2W3-"]
[88610597,"BCU 460T-10/2W8-D3B1/1"]
[88610251,"BCU 460T-3/1LR2-CB1/1"]
[88610658,"BCU 460T-3/1LR3-"]
[88610580,"BCU 460T-3/1LR3GB"]
[88610529,"BCU 460T-3/1LR8-B1/1"]
[88610524,"BCU 460T-3/1R-D2"]
[88610525,"BCU 460T-3/1R-D2B1/1"]
[88610175,"BCU 460T-3/1R1-"]
[88610240,"BCU 460T-3/1R1-"]
[88610686,"BCU 460T-3/1W1-D3"]
[88610584,"BCU 460T-5/1LR3-"]
[88610645,"BCU 460T-5/1R3-"]
[88610687,"BCU 460T-5/1W1-D3"]
[88610594,"BCU 460T-5/1W3-D3B1/1"]
[88610108,"BCU 460T-5/2LR3-"]
[88610654,"BCU 460T-5/2LR3-"]
[88610706,"BCU 460T-5/2LR3-"]
[88610051,"BCU 460T-5/2LR3-B1/1"]
[88610384,"BCU 460T-5/2LW3-"]
[88610626,"BCU 460T-5/2R1-D3"]
[88610062,"BCU 460T-5/2R3-"]
[88610602,"BCU 460T-5/2R3-"]
[88610395,"BCU 465T-10/2LR8-D2OB1/1"]
[88610625,"BCU 465T-10/2LR8-D2OB1/1"]
[88610079,"BCU 465T-10/2LR8-D2OC"]
[88610520,"BCU 465T-10/2LR8-OCB1/1"]
[88610715,"BCU 465T-10/2LR8-OCB1/1"]
[88610095,"BCU 465T-3/1LR8-D3OB1/1"]
[88610714,"BCU 465T-3/1LR8-OCB1/1"]
[88610718,"BCU 465T-3/1LW3-"]
[88610213,"BCU 465T-5/2LR3-OC"]
[88610363,"BCU 465T-5/2LR3-OC"]
[88610129,"BCU 465T-5/2LR8-O"]
[88610097,"BCU 480T-10/10/1LR3-D2B1/1"]
[88610446,"BCU 480T-10/10/2LR3-D2B1/1"]
[88610465,"BCU 480T-10/10/2LR3-D3B1/1"]
[88610127,"BCU 480T-10/10/2LR8-D2B1/1"]
[88610675,"BCU 480T-10/10/2LR8-D3B1/1"]
[88610682,"BCU 480T-10/10/2LR8-D3B1/1"]
[88610892,"BCU 480T-10/10/2LW8-D2B1/1"]
[88610321,"BCU 480T-10/5/2LR3-"]
[88610414,"BCU 480T-10/5/2LR3-"]
[88610377,"BCU 480T-10/5/2LR3-D3"]
[88610379,"BCU 480T-10/5/2LR3-D3"]
[88610772,"BCU 480T-10/5/2LR3GBD3"]
[88610506,"BCU 480T-3/3/1LR3-B1/1"]
[88610742,"BCU 480T-3/3/1LW-"]
[88610394,"BCU 480T-5/3/2LR3-B1/1"]
[88610635,"BCU 480T-5/3/2LR3-D2B1/1"]
[88611722,"BCU 460T-5/2R3-E1"]
[88611723,"BCU 460T-10/2R3-E1"]
[88611724,"BCU 460T-5/2LR3-E1"]
[88611725,"BCU 460T-10/2LR3-E1"]
[88611454,"BCU 460-10/1LR1GB"]
[88611293,"BCU 460-10/1LR3GBS3B1/1"]
[88610805,"BCU 460-10/1LW1GBP"]
[88610806,"BCU 460-10/1LW3GBP"]
[88611436,"BCU 460-10/1LW3GBP"]
[88610963,"BCU 460-10/1LW3GBS2B1/1"]
[88611080,"BCU 460-10/1LW3GBS2C"]
[88610818,"BCU 460-10/1LW3GBS4"]
[88611103,"BCU 460-10/1LW3GBS4"]
[88610931,"BCU 460-10/1LW3GBS4B1/1"]
[88611014,"BCU 460-10/1LWGBD2S3"]
[88610964,"BCU 460-10/1LWGBS2B1/1"]
[88610932,"BCU 460-10/1LWGBS4B1/1"]
[88611447,"BCU 460-10/1W3GBB1/1"]
[88611505,"BCU 460-10/1W3GBD3"]
[88611519,"BCU 460-10/1W3GBD3U"]
[88611525,"BCU 460-10/1W3GBE1"]
[88611305,"BCU 460-10/1W3GBS3"]
[88611307,"BCU 460-10/1WGBD2"]
[88611517,"BCU 460-10/2LR8GBD3B1/1"]
[88611052,"BCU 460-10/2W3GBD2B1/1"]
[88611419,"BCU 460-10/2W3GBD2B1/1"]
[88611265,"BCU 460-3/1L5W3GB"]
[88611206,"BCU 460-3/1L5W3GBB1/1"]
[88611174,"BCU 460-3/1L5W8GBB1/1"]
[88611512,"BCU 460-3/1LR3GB"]
[88611543,"BCU 460-3/1LR3GB"]
[88610817,"BCU 460-3/1LR3GBB1/1"]
[88611154,"BCU 460-3/1LR3GBD3S2B1/1"]
[88611514,"BCU 460-3/1LR3GBE1"]
[88610889,"BCU 460-3/1LR3GBPC"]
[88610888,"BCU 460-3/1LR3GBS2"]
[88611093,"BCU 460-3/1LR8GB"]
[88611510,"BCU 460-3/1LR8GBB1/1"]
[88611364,"BCU 460-3/1LW1GB"]
[88611467,"BCU 460-3/1LW1GBB1/1"]
[88611091,"BCU 460-3/1LW1GBC"]
[88611221,"BCU 460-3/1LW1GBD2S2U"]
[88611222,"BCU 460-3/1LW1GBD3S2U"]
[88611037,"BCU 460-3/1LW1GBS2"]
[88611220,"BCU 460-3/1LW1GBS2U"]
[88611544,"BCU 460-3/1LW2GBCB1/1"]
[88610994,"BCU 460-3/1LW2GBD2S2"]
[88611400,"BCU 460-3/1LW2GBP"]
[88610846,"BCU 460-3/1LW3GB"]
[88610939,"BCU 460-3/1LW3GB"]
[88611102,"BCU 460-3/1LW3GB"]
[88611229,"BCU 460-3/1LW3GB"]
[88611374,"BCU 460-3/1LW3GB"]
[88610863,"BCU 460-3/1LW3GBB1/1"]
[88611054,"BCU 460-3/1LW3GBB1/1"]
[88611268,"BCU 460-3/1LW3GBB1/1"]
[88611468,"BCU 460-3/1LW3GBB1/1E1"]
[88611513,"BCU 460-3/1LW3GBB1/1E1"]
[88611537,"BCU 460-3/1LW3GBB1/1E1"]
[88611105,"BCU 460-3/1LW3GBC"]
[88611356,"BCU 460-3/1LW3GBCB1/1"]
[88611495,"BCU 460-3/1LW3GBCB1/1"]
[88611280,"BCU 460-3/1LW3GBD2"]
[88611441,"BCU 460-3/1LW3GBD2"]
[88611453,"BCU 460-3/1LW3GBD2"]
[88610879,"BCU 460-3/1LW3GBD2B1/1"]
[88611365,"BCU 460-3/1LW3GBD2B1/1"]
[88611160,"BCU 460-3/1LW3GBD2S2"]
[88611333,"BCU 460-3/1LW3GBD2S2"]
[88611334,"BCU 460-3/1LW3GBD2S2"]
[88610819,"BCU 460-3/1LW3GBD3B1/1"]
[88611272,"BCU 460-3/1LW3GBD3B1/1"]
[88611259,"BCU 460-3/1LW3GBD3CB1/1"]
[88611450,"BCU 460-3/1LW3GBD3CB1/1E1"]
[88611308,"BCU 460-3/1LW3GBD3S2B1/1"]
[88611399,"BCU 460-3/1LW3GBD3S2CB1/1"]
[88611559,"BCU 460-3/1LW3GBD3S4UB1/1"]
[88611431,"BCU 460-3/1LW3GBE1"]
[88610914,"BCU 460-3/1LW3GBP"]
[88611120,"BCU 460-3/1LW3GBP"]
[88611115,"BCU 460-3/1LW3GBS2"]
[88611163,"BCU 460-3/1LW3GBS2"]
[88610851,"BCU 460-3/1LW3GBS2B1/1"]
[88610988,"BCU 460-3/1LW3GBS2B1/1"]
[88611003,"BCU 460-3/1LW3GBS2B1/1"]
[88611488,"BCU 460-3/1LW3GBS2B1/1"]
[88611494,"BCU 460-3/1LW3GBS2B1/1E1"]
[88611565,"BCU 460-3/1LW3GBS2CB1/1"]
[88610799,"BCU 460-3/1LW3GBS3"]
[88611269,"BCU 460-3/1LW3GBS3B1/1"]
[88611520,"BCU 460-3/1LW3GBS4B1/1"]
[88611567,"BCU 460-3/1LW3GBS4B1/1"]
[88611522,"BCU 460-3/1LW3GBS4C"]
[88611253,"BCU 460-3/1LW3GBU"]
[88610887,"BCU 460-3/1LW8GB"]
[88611279,"BCU 460-3/1LW8GB"]
[88611285,"BCU 460-3/1LW8GB"]
[88611546,"BCU 460-3/1LW8GB"]
[88610928,"BCU 460-3/1LW8GBB1/1"]
[88611142,"BCU 460-3/1LW8GBB1/1"]
[88611243,"BCU 460-3/1LW8GBB1/1"]
[88611351,"BCU 460-3/1LW8GBB1/1"]
[88611509,"BCU 460-3/1LW8GBB1/1"]
[88610921,"BCU 460-3/1LW8GBC"]
[88611048,"BCU 460-3/1LW8GBCB1/1"]
[88611491,"BCU 460-3/1LW8GBD2"]
[88610984,"BCU 460-3/1LW8GBPD2S2"]
[88611298,"BCU 460-3/1LW8GBPD3"]
[88610968,"BCU 460-3/1LW8GBPS2"]
[88610969,"BCU 460-3/1LW8GBPS2"]
[88611107,"BCU 460-3/1LW8GBS2"]
[88611367,"BCU 460-3/1LW8GBS2"]
[88611425,"BCU 460-3/1LW8GBS2"]
[88611104,"BCU 460-3/1LW8GBS2B1/1"]
[88611370,"BCU 460-3/1LW8GBS2B1/1"]
[88611371,"BCU 460-3/1LW8GBS2B1/1"]
[88611184,"BCU 460-3/1LWGB"]
[88611244,"BCU 460-3/1LWGB"]
[88610882,"BCU 460-3/1R1GBS4B1/1"]
[88610996,"BCU 460-3/1R3GBB1/1"]
[88610934,"BCU 460-3/1R3GBD2"]
[88611058,"BCU 460-3/1R3GBS3B1/1"]
[88611059,"BCU 460-3/1R3GBS3B1/1"]
[88610868,"BCU 460-3/1R3GBS4B1/1"]
[88611448,"BCU 460-3/1RGB"]
[88611366,"BCU 460-3/1W1GB"]
[88611533,"BCU 460-3/1W1GB"]
[88611563,"BCU 460-3/1W1GBB1/1"]
[88611571,"BCU 460-3/1W1GBB1/1E1"]
[88611534,"BCU 460-3/1W1GBC"]
[88611535,"BCU 460-3/1W1GBCE1"]
[88611314,"BCU 460-3/1W1GBD3B1/2"]
[88611183,"BCU 460-3/1W1GBP"]
[88611219,"BCU 460-3/1W1GBS2U"]
[88611181,"BCU 460-3/1W2GB"]
[88611401,"BCU 460-3/1W2GBP"]
[88610869,"BCU 460-3/1W3GB"]
[88611336,"BCU 460-3/1W3GB"]
[88611430,"BCU 460-3/1W3GB"]
[88611469,"BCU 460-3/1W3GBB1/1E1"]
[88611527,"BCU 460-3/1W3GBB1/1E1"]
[88611354,"BCU 460-3/1W3GBCB1/1"]
[88611526,"BCU 460-3/1W3GBD2E1"]
[88610849,"BCU 460-3/1W3GBD3"]
[88611247,"BCU 460-3/1W3GBD3S2B1/1"]
[88611555,"BCU 460-3/1W3GBD3S3"]
[88611428,"BCU 460-3/1W3GBD3S3B1/1"]
[88611542,"BCU 460-3/1W3GBD3S4B1/1"]
[88611449,"BCU 460-3/1W3GBE1"]
[88611201,"BCU 460-3/1W3GBP"]
[88611483,"BCU 460-3/1W3GBP"]
[88611202,"BCU 460-3/1W3GBPD2"]
[88611203,"BCU 460-3/1W3GBPU"]
[88610878,"BCU 460-3/1W3GBS2"]
[88611411,"BCU 460-3/1W3GBS2"]
[88611420,"BCU 460-3/1W3GBS2"]
[88611009,"BCU 460-3/1W3GBS2B1/1"]
[88611486,"BCU 460-3/1W3GBS2B1/1"]
[88611060,"BCU 460-3/1W3GBS3"]
[88611061,"BCU 460-3/1W3GBS3"]
[88610807,"BCU 460-3/1W3GBS3B1/1"]
[88611056,"BCU 460-3/1W3GBS3B1/1"]
[88611057,"BCU 460-3/1W3GBS3B1/1"]
[88611528,"BCU 460-3/1W3GBS3E1"]
[88611316,"BCU 460-3/1W3GBS4"]
[88611182,"BCU 460-3/1W8GB"]
[88611188,"BCU 460-3/1W8GB"]
[88610822,"BCU 460-3/1W8GBU"]
[88610947,"BCU 460-3/1WGB"]
[88611185,"BCU 460-3/1WGBB1/1"]
[88611191,"BCU 460-3/1WGBB1/2"]
[88610858,"BCU 460-3/1WGBD3"]
[88610861,"BCU 460-3/1WGBS3B1/1"]
[88610950,"BCU 460-3/1WGBS4"]
[88610937,"BCU 460-3/1WGBS4B1/2"]
[88611286,"BCU 460-3/2LR3GBP"]
[88611149,"BCU 460-3/2R3GBB1/1"]
[88611383,"BCU 460-3/2R3GBS2B1/1"]
[88611346,"BCU 460-3/2RGBD3S3C"]
[88611323,"BCU 460-3/2W1GBD3S2B1/2"]
[88611322,"BCU 460-3/2W1GBS2B1/2"]
[88611409,"BCU 460-3/2W8GBD3B1/2"]
[88611410,"BCU 460-3/2W8GBD3S2B1/2"]
[88611214,"BCU 460-3/2W8GBS2B1/1"]
[88611213,"BCU 460-3/2W8GBS2B1/2"]
[88611034,"BCU 460-3/2WGBD3S3C"]
[88610962,"BCU 460-5/1L5W3GBD3S2B1/1"]
[88611124,"BCU 460-5/1LR1GBC"]
[88611228,"BCU 460-5/1LR1GBS2"]
[88611303,"BCU 460-5/1LR3GB"]
[88611504,"BCU 460-5/1LR3GB"]
[88611455,"BCU 460-5/1LR3GBD3S2"]
[88611153,"BCU 460-5/1LR3GBD3S2B1/1"]
[88611055,"BCU 460-5/1LR3GBS4B1/1"]
[88610967,"BCU 460-5/1LW1GB"]
[88610993,"BCU 460-5/1LW1GB"]
[88611207,"BCU 460-5/1LW1GBB1/1"]
[88611111,"BCU 460-5/1LW1GBC"]
[88611134,"BCU 460-5/1LW1GBC"]
[88611408,"BCU 460-5/1LW1GBD3S3"]
[88611572,"BCU 460-5/1LW1GBP"]
[88611016,"BCU 460-5/1LW1GBPD3"]
[88611573,"BCU 460-5/1LW2GB"]
[88610825,"BCU 460-5/1LW3GB"]
[88610855,"BCU 460-5/1LW3GB"]
[88610910,"BCU 460-5/1LW3GB"]
[88611025,"BCU 460-5/1LW3GB"]
[88611070,"BCU 460-5/1LW3GB"]
[88611270,"BCU 460-5/1LW3GB"]
[88611291,"BCU 460-5/1LW3GB"]
[88611306,"BCU 460-5/1LW3GB"]
[88610866,"BCU 460-5/1LW3GBB1/1"]
[88611028,"BCU 460-5/1LW3GBB1/1"]
[88611208,"BCU 460-5/1LW3GBB1/1"]
[88611267,"BCU 460-5/1LW3GBB1/1"]
[88611294,"BCU 460-5/1LW3GBB1/1"]
[88611302,"BCU 460-5/1LW3GBB1/1"]
[88610930,"BCU 460-5/1LW3GBC"]
[88611262,"BCU 460-5/1LW3GBCB1/1"]
[88611066,"BCU 460-5/1LW3GBD2B1/1"]
[88611357,"BCU 460-5/1LW3GBD2S3B1/1"]
[88611033,"BCU 460-5/1LW3GBD3"]
[88611074,"BCU 460-5/1LW3GBD3"]
[88611133,"BCU 460-5/1LW3GBD3B1/1"]
[88611204,"BCU 460-5/1LW3GBD3B1/1"]
[88611482,"BCU 460-5/1LW3GBD3S2"]
[88610872,"BCU 460-5/1LW3GBD3S2B1/1"]
[88610960,"BCU 460-5/1LW3GBD3S2B1/1"]
[88611477,"BCU 460-5/1LW3GBD3S2B1/1"]
[88611049,"BCU 460-5/1LW3GBD3S2B1/2"]
[88610949,"BCU 460-5/1LW3GBP"]
[88611119,"BCU 460-5/1LW3GBP"]
[88611299,"BCU 460-5/1LW3GBP"]
[88611484,"BCU 460-5/1LW3GBP"]
[88611211,"BCU 460-5/1LW3GBS2"]
[88611329,"BCU 460-5/1LW3GBS2"]
[88611422,"BCU 460-5/1LW3GBS2"]
[88610864,"BCU 460-5/1LW3GBS2B1/1"]
[88610873,"BCU 460-5/1LW3GBS2B1/1"]
[88611393,"BCU 460-5/1LW3GBS2B1/1"]
[88611404,"BCU 460-5/1LW3GBS2B1/1"]
[88611131,"BCU 460-5/1LW3GBS2C"]
[88611159,"BCU 460-5/1LW3GBS2CB1/1"]
[88610800,"BCU 460-5/1LW3GBS3"]
[88611257,"BCU 460-5/1LW3GBS3"]
[88611284,"BCU 460-5/1LW3GBS3B1/1"]
[88611545,"BCU 460-5/1LW3GBS3B1/1"]
[88610883,"BCU 460-5/1LW3GBS4B1/1"]
[88611340,"BCU 460-5/1LW3GBS4B1/1"]
[88611090,"BCU 460-5/1LW8GB"]
[88610886,"BCU 460-5/1LW8GBB1/1"]
[88611200,"BCU 460-5/1LW8GBB1/1"]
[88611241,"BCU 460-5/1LW8GBB1/1"]
[88611508,"BCU 460-5/1LW8GBB1/1"]
[88611205,"BCU 460-5/1LW8GBD3B1/1"]
[88611209,"BCU 460-5/1LW8GBD3B1/1"]
[88611372,"BCU 460-5/1LW8GBP"]
[88611289,"BCU 460-5/1LW8GBS2"]
[88611531,"BCU 460-5/1LW8GBS2"]
[88611215,"BCU 460-5/1LW8GBS2B1/1"]
[88611288,"BCU 460-5/1LW8GBS3B1/1"]
[88611403,"BCU 460-5/1LWGB"]
[88611515,"BCU 460-5/1LWGBB1/1"]
[88610961,"BCU 460-5/1R3GB"]
[88611096,"BCU 460-5/1R3GB"]
[88610808,"BCU 460-5/1R3GBS4"]
[88611110,"BCU 460-5/1R3GBS4B1/1"]
[88611456,"BCU 460-5/1RGBD3S4U"]
[88611002,"BCU 460-5/1W1GB"]
[88611348,"BCU 460-5/1W1GBB1/1"]
[88611442,"BCU 460-5/1W1GBB1/1"]
[88611135,"BCU 460-5/1W1GBC"]
[88611024,"BCU 460-5/1W1GBD2"]
[88610933,"BCU 460-5/1W1GBD3"]
[88610951,"BCU 460-5/1W1GBD3"]
[88611020,"BCU 460-5/1W1GBP"]
[88610954,"BCU 460-5/1W1GBS2"]
[88610821,"BCU 460-5/1W1GBS2B1/1"]
[88611417,"BCU 460-5/1W1GBS3"]
[88610916,"BCU 460-5/1W1GBS4B1/1"]
[88611465,"BCU 460-5/1W2GB"]
[88610946,"BCU 460-5/1W2GBD2"]
[88611466,"BCU 460-5/1W2GBE1"]
[88610867,"BCU 460-5/1W2GBP"]
[88611077,"BCU 460-5/1W3GB"]
[88611116,"BCU 460-5/1W3GB"]
[88611145,"BCU 460-5/1W3GB"]
[88611218,"BCU 460-5/1W3GB"]
[88611223,"BCU 460-5/1W3GB"]
[88611506,"BCU 460-5/1W3GB"]
[88611551,"BCU 460-5/1W3GB"]
[88611068,"BCU 460-5/1W3GBB1/1"]
[88611118,"BCU 460-5/1W3GBD2B1/1"]
[88611193,"BCU 460-5/1W3GBD2S3B1/1"]
[88611113,"BCU 460-5/1W3GBD3S3"]
[88611152,"BCU 460-5/1W3GBD3S3"]
[88611132,"BCU 460-5/1W3GBD3S3B1/1"]
[88611426,"BCU 460-5/1W3GBS2"]
[88611194,"BCU 460-5/1W3GBS2B1/1"]
[88611195,"BCU 460-5/1W3GBS2B1/1"]
[88611378,"BCU 460-5/1W3GBS2B1/1"]
[88611437,"BCU 460-5/1W3GBS2B1/1"]
[88611475,"BCU 460-5/1W3GBS2U"]
[88611007,"BCU 460-5/1W3GBS3B1/1"]
[88611225,"BCU 460-5/1W3GBS4"]
[88611171,"BCU 460-5/1W3GBU"]
[88610829,"BCU 460-5/1W8GBD3"]
[88611432,"BCU 460-5/1W8GBD3"]
[88611363,"BCU 460-5/1WGB"]
[88610859,"BCU 460-5/1WGBD3"]
[88611006,"BCU 460-5/1WGBD3S3"]
[88611541,"BCU 460-5/1WGBPD3S3U"]
[88610811,"BCU 460-5/2LR3GB"]
[88611095,"BCU 460-5/2LW3GBP"]
[88611406,"BCU 460-5/2LW3GBPD3S2"]
[88611385,"BCU 460-5/2LW3GBPD3S3"]
[88611386,"BCU 460-5/2LW3GBPD3S4"]
[88611271,"BCU 460-5/2LW8GBD3S2B1/1"]
[88611276,"BCU 460-5/2LW8GBS2B1/1"]
[88611516,"BCU 460-5/2R1GB"]
[88611157,"BCU 460-5/2WGBS4CB1/1"]
[88611459,"BCU 460T-10/2LR1-"]
[88611392,"BCU 460T-10/2LR3-"]
[88610970,"BCU 460T-10/2LR3-B1/1"]
[88610986,"BCU 460T-10/2LR3-B1/1"]
[88611369,"BCU 460T-10/2LR3-B1/1"]
[88611098,"BCU 460T-10/2LR3-CB1/1"]
[88611339,"BCU 460T-10/2LR8-B1/1"]
[88611547,"BCU 460T-10/2LR8-D2B1/1"]
[88610832,"BCU 460T-10/2LR8-D3B1/1"]
[88611518,"BCU 460T-10/2LR8-D3B1/1"]
[88610915,"BCU 460T-10/2R-D2"]
[88610909,"BCU 460T-10/2R1-"]
[88610944,"BCU 460T-10/2R1-"]
[88611250,"BCU 460T-10/2R3-D2"]
[88611487,"BCU 460T-10/2R8-D2B1/1"]
[88610936,"BCU 460T-3/1LR2-"]
[88611106,"BCU 460T-3/1LR2-"]
[88611212,"BCU 460T-3/1LR2-CB1/1"]
[88611092,"BCU 460T-3/1LR8-"]
[88611094,"BCU 460T-3/1LR8-"]
[88610860,"BCU 460T-3/1LR8-B1/1"]
[88610945,"BCU 460T-3/1LR8-B1/1"]
[88610973,"BCU 460T-3/1LR8-B1/1"]
[88610991,"BCU 460T-3/1LR8-B1/2"]
[88611379,"BCU 460T-3/1LW3-"]
[88610942,"BCU 460T-3/1LW8-B1/1"]
[88611564,"BCU 460T-3/1R3-"]
[88611529,"BCU 460T-3/1R3-D2"]
[88611530,"BCU 460T-3/1R3-D2E1"]
[88610918,"BCU 460T-3/1W3-"]
[88611457,"BCU 460T-3/1W3-B1/1"]
[88611481,"BCU 460T-5/1L25R1-D3C"]
[88611479,"BCU 460T-5/1LR1-D2C"]
[88611478,"BCU 460T-5/1LR1-D3C"]
[88610911,"BCU 460T-5/1LR3-"]
[88611069,"BCU 460T-5/1LR3-"]
[88610815,"BCU 460T-5/1LR8-B1/1"]
[88611249,"BCU 460T-5/1LW1-D3C"]
[88611121,"BCU 460T-5/1LW1-D3CB1/1"]
[88611071,"BCU 460T-5/1LW3-"]
[88611026,"BCU 460T-5/1W3-"]
[88610924,"BCU 460T-5/2LR2-C"]
[88611554,"BCU 460T-5/2LR2-CB1/1"]
[88611381,"BCU 460T-5/2LR3-"]
[88610966,"BCU 460T-5/2LR3-B1/1"]
[88611072,"BCU 460T-5/2LW3-"]
[88611380,"BCU 460T-5/2LW3-"]
[88611395,"BCU 460T-5/2R1-"]
[88611396,"BCU 460T-5/2R1-D3"]
[88611413,"BCU 465-3/1LR2GBAC"]
[88611414,"BCU 465-3/1LR2GBPAC"]
[88611046,"BCU 465-3/1LR3GBAB1/1"]
[88611137,"BCU 465-3/1LR3GBAC"]
[88611300,"BCU 465-3/1LR3GBS4ACB1/1"]
[88611574,"BCU 465-3/1LR8GBD3S2AB1/2"]
[88611423,"BCU 465-3/1LW1GBA"]
[88611424,"BCU 465-3/1LW1GBA"]
[88611139,"BCU 465-3/1LW1GBAB1/1"]
[88611140,"BCU 465-3/1LW1GBACB1/1"]
[88611226,"BCU 465-3/1LW1GBD3S2A"]
[88610917,"BCU 465-3/1LW2GBD3A"]
[88611452,"BCU 465-3/1LW2GBD3ACE1"]
[88611451,"BCU 465-3/1LW2GBD3AE1"]
[88611416,"BCU 465-3/1LW2GBPD2AC"]
[88611433,"BCU 465-3/1LW2GBPD2ACE1"]
[88611196,"BCU 465-3/1LW3GBA"]
[88611277,"BCU 465-3/1LW3GBA"]
[88611331,"BCU 465-3/1LW3GBACB1/1"]
[88610836,"BCU 465-3/1LW3GBD2AB1/1"]
[88610816,"BCU 465-3/1LW3GBD3AC"]
[88611309,"BCU 465-3/1LW3GBD3S2AB1/1"]
[88611310,"BCU 465-3/1LW3GBD3S2AB1/1"]
[88611313,"BCU 465-3/1LW3GBS2A"]
[88611198,"BCU 465-3/1LW3GBS2AB1/1"]
[88611540,"BCU 465-3/1LW3GBS4ACB1/1"]
[88610926,"BCU 465-3/1LW8GBA"]
[88611011,"BCU 465-3/1LW8GBA"]
[88611015,"BCU 465-3/1LW8GBA"]
[88611328,"BCU 465-3/1LW8GBA"]
[88611044,"BCU 465-3/1LW8GBAB1/1"]
[88611008,"BCU 465-3/1LW8GBAB1/2"]
[88611553,"BCU 465-3/1LW8GBAB1/2"]
[88611047,"BCU 465-3/1LW8GBACB1/1"]
[88611501,"BCU 465-3/1LW8GBD3S2AB1/1"]
[88610927,"BCU 465-3/1LW8GBD3S2AB1/2"]
[88611570,"BCU 465-3/1LW8GBPA"]
[88611569,"BCU 465-3/1LW8GBPAC"]
[88610985,"BCU 465-3/1LW8GBPD3S2A"]
[88610845,"BCU 465-3/1LW8GBPS2A"]
[88611405,"BCU 465-3/1LW8GBS2A"]
[88611538,"BCU 465-3/1LW8GBS2AB1/1"]
[88610827,"BCU 465-3/1LW8GBS2AB1/2"]
[88610913,"BCU 465-3/1LW8GBS2AB1/2"]
[88611186,"BCU 465-3/1LWGBA"]
[88611390,"BCU 465-3/2LW8GBS2AB1/1"]
[88611317,"BCU 465-5/1L5W3GBS2AB1/1"]
[88610990,"BCU 465-5/1LR3GBAB1/1"]
[88611138,"BCU 465-5/1LR3GBAC"]
[88611234,"BCU 465-5/1LR3GBACB1/1"]
[88611235,"BCU 465-5/1LR3GBACB1/1"]
[88610809,"BCU 465-5/1LR3GBS2AB1/1"]
[88611461,"BCU 465-5/1LR3GBS2AB1/1"]
[88611050,"BCU 465-5/1LR3GBS3AB1/1"]
[88611232,"BCU 465-5/1LR3GBS3AB1/1"]
[88611418,"BCU 465-5/1LR3GBS3AB1/1"]
[88611245,"BCU 465-5/1LR3GBS4ACB1/1"]
[88611301,"BCU 465-5/1LR3GBS4ACB1/1"]
[88611197,"BCU 465-5/1LW1GBS3A"]
[88611125,"BCU 465-5/1LW2GBPS3A"]
[88611032,"BCU 465-5/1LW2GBS3AB1/1"]
[88611036,"BCU 465-5/1LW2GBS3AB1/1"]
[88611127,"BCU 465-5/1LW2GBS3AB1/1"]
[88611097,"BCU 465-5/1LW3GBA"]
[88611148,"BCU 465-5/1LW3GBA"]
[88611173,"BCU 465-5/1LW3GBA"]
[88610982,"BCU 465-5/1LW3GBAB1/1"]
[88611101,"BCU 465-5/1LW3GBAB1/1"]
[88611108,"BCU 465-5/1LW3GBAB1/1"]
[88611123,"BCU 465-5/1LW3GBAB1/1"]
[88611464,"BCU 465-5/1LW3GBAB1/1"]
[88611001,"BCU 465-5/1LW3GBACB1/1"]
[88610875,"BCU 465-5/1LW3GBD2AB1/1"]
[88611117,"BCU 465-5/1LW3GBD2AC"]
[88610876,"BCU 465-5/1LW3GBD2ACB1/1"]
[88611539,"BCU 465-5/1LW3GBPAE1"]
[88611017,"BCU 465-5/1LW3GBPS4A"]
[88611045,"BCU 465-5/1LW3GBS2A"]
[88610943,"BCU 465-5/1LW3GBS2AB1/1"]
[88611040,"BCU 465-5/1LW3GBS3AB1/1"]
[88611042,"BCU 465-5/1LW3GBS3AB1/1"]
[88611073,"BCU 465-5/1LW3GBS3AB1/1"]
[88610877,"BCU 465-5/1LW3GBS3ACB1/1"]
[88610841,"BCU 465-5/1LW8GBA"]
[88610842,"BCU 465-5/1LW8GBA"]
[88611231,"BCU 465-5/1LW8GBAB1/1"]
[88611434,"BCU 465-5/1LW8GBAB1/1"]
[88611446,"BCU 465-5/1LW8GBAB1/1"]
[88610824,"BCU 465-5/1LW8GBPA"]
[88610844,"BCU 465-5/1LW8GBPA"]
[88611260,"BCU 465-5/1LW8GBPA"]
[88611568,"BCU 465-5/1LW8GBPS2AC"]
[88611230,"BCU 465-5/1LW8GBS2AB1/1"]
[88611242,"BCU 465-5/1LW8GBS2AB1/1"]
[88611064,"BCU 465-5/2LW3GBAC"]
[88610810,"BCU 465-5/2LW3GBPD2S4AC"]
[88611387,"BCU 465-5/2LW3GBPD3S2A"]
[88611407,"BCU 465-5/2LW3GBPD3S2A"]
[88611010,"BCU 465T-10/2L5R3-OC"]
[88611575,"BCU 465T-10/2LR-D3OB1/1"]
[88610992,"BCU 465T-10/2LR8-D2OB1/1"]
[88611031,"BCU 465T-10/2LR8-D2OC"]
[88611330,"BCU 465T-10/2LR8-O"]
[88611281,"BCU 465T-3/1LR3-OB1/1"]
[88610865,"BCU 465T-3/1LR8-B1/1"]
[88610941,"BCU 465T-3/1LR8-B1/1"]
[88611296,"BCU 465T-3/1LR8-D3O"]
[88611282,"BCU 465T-3/1LR8-OB1/1"]
[88611462,"BCU 465T-5/1LR3-O"]
[88611353,"BCU 465T-5/1LR3-OB1/1"]
[88611550,"BCU 465T-5/2LR8-D3OB1/1"]
[88611480,"BCU 465T-5/2LR8-D3OCB1/1"]
[88610383,"BCU 460-10/1LR1GB"]
[88610066,"BCU 460-10/1LR3GB"]
[88610184,"BCU 460-10/1LR3GB"]
[88610458,"BCU 460-10/1LR3GBD2S3"]
[88610678,"BCU 460-10/1LR3GBD2S3U"]
[88610349,"BCU 460-10/1LR3GBP"]
[88610600,"BCU 460-10/1LW1GB"]
[88610650,"BCU 460-10/1LW1GBB1/1"]
[88610554,"BCU 460-10/1LW3GB"]
[88610550,"BCU 460-10/1LW3GBB1/1"]
[88610183,"BCU 460-10/1LW3GBD2S3"]
[88610732,"BCU 460-10/1LW3GBD2S3U"]
[88610013,"BCU 460-10/1LW3GBP"]
[88610116,"BCU 460-10/1LW3GBP"]
[88610655,"BCU 460-10/1LW3GBPS2"]
[88610059,"BCU 460-10/1LW3GBS4"]
[88610431,"BCU 460-10/1LW3GBS4"]
[88610737,"BCU 460-10/1LWGBB1/1"]
[88610398,"BCU 460-10/1LWGBS4"]
[88610629,"BCU 460-10/1W1GB"]
[88610370,"BCU 460-10/1W1GBB1/1"]
[88610795,"BCU 460-10/1W1GBD3"]
[88610078,"BCU 460-10/1W3GB"]
[88610663,"BCU 460-10/1W3GB"]
[88610220,"BCU 460-10/1W3GBS2"]
[88610360,"BCU 460-10/1W3GBS2"]
[88610167,"BCU 460-10/1W3GBS2B1/1"]
[88610688,"BCU 460-10/1W3GBS3"]
[88610415,"BCU 460-10/1W3GBS4"]
[88610271,"BCU 460-10/1W8GB"]
[88610144,"BCU 460-10/1W8GBS3"]
[88610453,"BCU 460-10/1WGB"]
[88610480,"BCU 460-10/2LR8-B1/1"]
[88610305,"BCU 460-10/2LR8GBB1/1"]
[88610307,"BCU 460-10/2LR8GBB1/1"]
[88610304,"BCU 460-10/2LR8GBD3B1/1"]
[88610295,"BCU 460-10/2LW8GBB1/1"]
[88610298,"BCU 460-10/2LW8GBB1/1"]
[88610296,"BCU 460-10/2LW8GBD3B1/1"]
[88610668,"BCU 460-10/2WGB"]
[88610685,"BCU 460-10/2WGBU"]
[88610547,"BCU 460-3/1LR2GBCB1/1"]
[88610093,"BCU 460-3/1LR3GBB1/1"]
[88610232,"BCU 460-3/1LR3GBB1/1"]
[88610262,"BCU 460-3/1LR3GBB1/1"]
[88610099,"BCU 460-3/1LR3GBD2"]
[88610502,"BCU 460-3/1LR3GBS2"]
[88610207,"BCU 460-3/1LR3GBS2CB1/2"]
[88610299,"BCU 460-3/1LR3GBS3"]
[88610301,"BCU 460-3/1LR3GBS3"]
[88610241,"BCU 460-3/1LR8GBB1/1"]
[88610315,"BCU 460-3/1LR8GBB1/1"]
[88610024,"BCU 460-3/1LR8GBB1/2"]
[88610191,"BCU 460-3/1LR8GBS2B1/1"]
[88610401,"BCU 460-3/1LR8GBS2B1/1"]
[88610172,"BCU 460-3/1LW1GB"]
[88610736,"BCU 460-3/1LW1GB"]
[88610558,"BCU 460-3/1LW1GBD3CB1/1"]
[88610897,"BCU 460-3/1LW1GBE1"]
[88610330,"BCU 460-3/1LW2GBB1/1"]
[88610548,"BCU 460-3/1LW2GBB1/1"]
[88610045,"BCU 460-3/1LW2GBCB1/1"]
[88610329,"BCU 460-3/1LW2GBCB1/1"]
[88610375,"BCU 460-3/1LW2GBCB1/1"]
[88610255,"BCU 460-3/1LW2GBD2S2B1/1"]
[88610005,"BCU 460-3/1LW3GB"]
[88610246,"BCU 460-3/1LW3GB"]
[88610288,"BCU 460-3/1LW3GB"]
[88610435,"BCU 460-3/1LW3GB"]
[88610573,"BCU 460-3/1LW3GB"]
[88610574,"BCU 460-3/1LW3GB"]
[88610613,"BCU 460-3/1LW3GB"]
[88610614,"BCU 460-3/1LW3GB"]
[88610003,"BCU 460-3/1LW3GBB1/1"]
[88610017,"BCU 460-3/1LW3GBB1/1"]
[88610110,"BCU 460-3/1LW3GBB1/1"]
[88610219,"BCU 460-3/1LW3GBB1/1"]
[88610229,"BCU 460-3/1LW3GBB1/1"]
[88610322,"BCU 460-3/1LW3GBB1/1"]
[88610437,"BCU 460-3/1LW3GBB1/1"]
[88610444,"BCU 460-3/1LW3GBB1/1"]
[88610512,"BCU 460-3/1LW3GBB1/1"]
[88610700,"BCU 460-3/1LW3GBB1/1"]
[88610704,"BCU 460-3/1LW3GBB1/1"]
[88610784,"BCU 460-3/1LW3GBB1/1"]
[88610457,"BCU 460-3/1LW3GBB1/2"]
[88610794,"BCU 460-3/1LW3GBB1/2"]
[88610053,"BCU 460-3/1LW3GBC"]
[88610357,"BCU 460-3/1LW3GBC"]
[88610651,"BCU 460-3/1LW3GBCB1/1"]
[88610792,"BCU 460-3/1LW3GBD2"]
[88610198,"BCU 460-3/1LW3GBD2B1/1"]
[88610294,"BCU 460-3/1LW3GBD2CB1/1"]
[88610226,"BCU 460-3/1LW3GBD3"]
[88610587,"BCU 460-3/1LW3GBD3"]
[88610217,"BCU 460-3/1LW3GBD3S2B1/1"]
[88610368,"BCU 460-3/1LW3GBD3S2B1/1"]
[88610648,"BCU 460-3/1LW3GBD3S4B1/1"]
[88610722,"BCU 460-3/1LW3GBD3S4B1/1"]
[88610898,"BCU 460-3/1LW3GBE1"]
[88610513,"BCU 460-3/1LW3GBS2"]
[88610519,"BCU 460-3/1LW3GBS2"]
[88610727,"BCU 460-3/1LW3GBS2"]
[88610755,"BCU 460-3/1LW3GBS2"]
[88610004,"BCU 460-3/1LW3GBS2B1/1"]
[88610445,"BCU 460-3/1LW3GBS2B1/1"]
[88610616,"BCU 460-3/1LW3GBS2B1/1"]
[88610300,"BCU 460-3/1LW3GBS3"]
[88610350,"BCU 460-3/1LW3GBS3"]
[88610467,"BCU 460-3/1LW3GBS3"]
[88610622,"BCU 460-3/1LW3GBS3"]
[88610623,"BCU 460-3/1LW3GBS3"]
[88610628,"BCU 460-3/1LW3GBS3"]
[88610781,"BCU 460-3/1LW3GBS4"]
[88610103,"BCU 460-3/1LW8GB"]
[88610173,"BCU 460-3/1LW8GB"]
[88610178,"BCU 460-3/1LW8GB"]
[88610195,"BCU 460-3/1LW8GB"]
[88610291,"BCU 460-3/1LW8GB"]
[88610385,"BCU 460-3/1LW8GB"]
[88610456,"BCU 460-3/1LW8GB"]
[88610463,"BCU 460-3/1LW8GB"]
[88610052,"BCU 460-3/1LW8GBB1/1"]
[88610081,"BCU 460-3/1LW8GBB1/1"]
[88610090,"BCU 460-3/1LW8GBB1/1"]
[88610165,"BCU 460-3/1LW8GBB1/1"]
[88610242,"BCU 460-3/1LW8GBB1/1"]
[88610319,"BCU 460-3/1LW8GBB1/1"]
[88610404,"BCU 460-3/1LW8GBB1/1"]
[88610031,"BCU 460-3/1LW8GBB1/2"]
[88610073,"BCU 460-3/1LW8GBB1/2"]
[88610496,"BCU 460-3/1LW8GBB1/2"]
[88610516,"BCU 460-3/1LW8GBB1/2"]
[88610564,"BCU 460-3/1LW8GBB1/2"]
[88610757,"BCU 460-3/1LW8GBC"]
[88610367,"BCU 460-3/1LW8GBCB1/1"]
[88610670,"BCU 460-3/1LW8GBD2B1/1"]
[88610545,"BCU 460-3/1LW8GBD2S2B1/2"]
[88610770,"BCU 460-3/1LW8GBD2S2B1/2"]
[88610128,"BCU 460-3/1LW8GBD3B1/1"]
[88610151,"BCU 460-3/1LW8GBD3B1/1"]
[88610636,"BCU 460-3/1LW8GBD3B1/1"]
[88610035,"BCU 460-3/1LW8GBD3B1/2"]
[88610409,"BCU 460-3/1LW8GBD3B1/2"]
[88610565,"BCU 460-3/1LW8GBD3B1/2"]
[88610112,"BCU 460-3/1LW8GBD3S2B1/1"]
[88610591,"BCU 460-3/1LW8GBD3S2B1/1"]
[88610113,"BCU 460-3/1LW8GBD3S2B1/2"]
[88610546,"BCU 460-3/1LW8GBD3S2B1/2"]
[88610710,"BCU 460-3/1LW8GBD3S2B1/2"]
[88610617,"BCU 460-3/1LW8GBPD3S2"]
[88610136,"BCU 460-3/1LW8GBS2"]
[88610238,"BCU 460-3/1LW8GBS2B1/1"]
[88610096,"BCU 460-3/1LW8GBS2B1/2"]
[88610094,"BCU 460-3/1LW8GBS2CB1/2"]
[88610583,"BCU 460-3/1LW8GBS2CB1/2"]
[88610085,"BCU 460-3/1LWGBB1/1"]
[88610582,"BCU 460-3/1LWGBS2"]
[88610336,"BCU 460-3/1LWGBS4"]
[88610610,"BCU 460-3/1LWGBU"]
[88610181,"BCU 460-3/1R1GB"]
[88610661,"BCU 460-3/1R1GBC"]
[88610166,"BCU 460-3/1R3GB"]
[88610498,"BCU 460-3/1R3GB"]
[88610042,"BCU 460-3/1R3GBD2"]
[88610571,"BCU 460-3/1R3GBD2S4"]
[88610426,"BCU 460-3/1R3GBD3S4CB1/1"]
[88610221,"BCU 460-3/1R3GBPS3"]
[88610174,"BCU 460-3/1R3GBS2B1/2"]
[88610472,"BCU 460-3/1R3GBS2B1/2"]
[88610373,"BCU 460-3/1R3GBS4B1/1"]
[88610374,"BCU 460-3/1R3GBS4B1/1"]
[88610488,"BCU 460-3/1RGB"]
[88610489,"BCU 460-3/1RGB"]
[88610025,"BCU 460-3/1W1GB"]
[88610417,"BCU 460-3/1W1GB"]
[88610768,"BCU 460-3/1W1GB"]
[88610185,"BCU 460-3/1W1GBC"]
[88610747,"BCU 460-3/1W1GBC"]
[88610208,"BCU 460-3/1W1GBD2B1/1"]
[88610689,"BCU 460-3/1W1GBD3"]
[88610893,"BCU 460-3/1W1GBE1"]
[88610649,"BCU 460-3/1W1GBS2C"]
[88610690,"BCU 460-3/1W1GBU"]
[88610162,"BCU 460-3/1W2GBS3B1/1"]
[88610011,"BCU 460-3/1W3GB"]
[88610177,"BCU 460-3/1W3GB"]
[88610358,"BCU 460-3/1W3GB"]
[88610041,"BCU 460-3/1W3GBB1/1"]
[88610065,"BCU 460-3/1W3GBB1/1"]
[88610281,"BCU 460-3/1W3GBB1/1"]
[88610250,"BCU 460-3/1W3GBCB1/1"]
[88610576,"BCU 460-3/1W3GBCB1/1"]
[88610018,"BCU 460-3/1W3GBD2"]
[88610642,"BCU 460-3/1W3GBD2"]
[88610666,"BCU 460-3/1W3GBD2"]
[88610386,"BCU 460-3/1W3GBD2B1/1"]
[88610115,"BCU 460-3/1W3GBD2S4"]
[88610579,"BCU 460-3/1W3GBD2S4"]
[88610691,"BCU 460-3/1W3GBD3"]
[88610683,"BCU 460-3/1W3GBD3S2"]
[88610538,"BCU 460-3/1W3GBD3S3"]
[88610141,"BCU 460-3/1W3GBD3S4CB1/1"]
[88610894,"BCU 460-3/1W3GBE1"]
[88610148,"BCU 460-3/1W3GBS2"]
[88610371,"BCU 460-3/1W3GBS2"]
[88610022,"BCU 460-3/1W3GBS3"]
[88610359,"BCU 460-3/1W3GBS3"]
[88610485,"BCU 460-3/1W3GBS4"]
[88610486,"BCU 460-3/1W3GBS4"]
[88610745,"BCU 460-3/1W3GBS4"]
[88610256,"BCU 460-3/1W3GBS4B1/1"]
[88610372,"BCU 460-3/1W3GBS4B1/1"]
[88610270,"BCU 460-3/1W3GBU"]
[88610575,"BCU 460-3/1W8GBCB1/1"]
[88610451,"BCU 460-3/1WGB"]
[88610671,"BCU 460-3/1WGBB1/1"]
[88610589,"BCU 460-3/1WGBS2"]
[88610598,"BCU 460-3/1WGBS3"]
[88610016,"BCU 460-3/2LW8GBB1/1"]
[88610040,"BCU 460-3/2LW8GBB1/1"]
[88610064,"BCU 460-3/2LW8GBS3B1/1"]
[88610098,"BCU 460-3/2RGBD3S2B1/1"]
[88610711,"BCU 460-3/2W3GBD3S2"]
[88610131,"BCU 460-3/2W8GBD3S2B1/1"]
[88610015,"BCU 460-3/2W8GBS2B1/1"]
[88610044,"BCU 460-3/2W8GBS2B1/1"]
[88610001,"BCU 460-3/2WGBS2B1/1"]
[88610790,"BCU 460-3/2WGBS2B1/2"]
[88610751,"BCU 460-5/1LR1GB"]
[88610206,"BCU 460-5/1LR3GB"]
[88610434,"BCU 460-5/1LR3GB"]
[88610146,"BCU 460-5/1LR3GBB1/1"]
[88610187,"BCU 460-5/1LR3GBB1/1"]
[88610156,"BCU 460-5/1LR3GBS2CB1/2"]
[88610215,"BCU 460-5/1LR3GBS3"]
[88610235,"BCU 460-5/1LR3GBS3"]
[88610303,"BCU 460-5/1LR3GBS3B1/1"]
[88610759,"BCU 460-5/1LR3GBS4B1/1"]
[88610313,"BCU 460-5/1LR8GB"]
[88610399,"BCU 460-5/1LR8GBS2"]
[88610058,"BCU 460-5/1LW1GB"]
[88610410,"BCU 460-5/1LW1GB"]
[88610447,"BCU 460-5/1LW1GB"]
[88610738,"BCU 460-5/1LW1GB"]
[88610739,"BCU 460-5/1LW1GB"]
[88610743,"BCU 460-5/1LW1GB"]
[88610225,"BCU 460-5/1LW1GBB1/1"]
[88610244,"BCU 460-5/1LW1GBB1/1"]
[88610249,"BCU 460-5/1LW1GBB1/1"]
[88610557,"BCU 460-5/1LW1GBD3"]
[88610559,"BCU 460-5/1LW1GBD3CB1/1"]
[88610899,"BCU 460-5/1LW1GBE1"]
[88610776,"BCU 460-5/1LW1GBPD2S4"]
[88610615,"BCU 460-5/1LW1GBPS2"]
[88610074,"BCU 460-5/1LW1GBS2C"]
[88610068,"BCU 460-5/1LW2GBP"]
[88610257,"BCU 460-5/1LW2GBP"]
[88610019,"BCU 460-5/1LW3GB"]
[88610132,"BCU 460-5/1LW3GB"]
[88610139,"BCU 460-5/1LW3GB"]
[88610202,"BCU 460-5/1LW3GB"]
[88610338,"BCU 460-5/1LW3GB"]
[88610541,"BCU 460-5/1LW3GB"]
[88610640,"BCU 460-5/1LW3GB"]
[88610677,"BCU 460-5/1LW3GB"]
[88610033,"BCU 460-5/1LW3GBB1/1"]
[88610070,"BCU 460-5/1LW3GBB1/1"]
[88610084,"BCU 460-5/1LW3GBB1/1"]
[88610192,"BCU 460-5/1LW3GBB1/1"]
[88610353,"BCU 460-5/1LW3GBB1/1"]
[88610551,"BCU 460-5/1LW3GBB1/1"]
[88610601,"BCU 460-5/1LW3GBB1/1"]
[88610657,"BCU 460-5/1LW3GBB1/1"]
[88610667,"BCU 460-5/1LW3GBB1/1"]
[88610708,"BCU 460-5/1LW3GBC"]
[88610075,"BCU 460-5/1LW3GBCB1/1"]
[88610552,"BCU 460-5/1LW3GBCB1/1"]
[88610344,"BCU 460-5/1LW3GBD2"]
[88610612,"BCU 460-5/1LW3GBD2B1/1"]
[88610767,"BCU 460-5/1LW3GBD2S2B1/1"]
[88610450,"BCU 460-5/1LW3GBD3"]
[88610340,"BCU 460-5/1LW3GBD3B1/1"]
[88610342,"BCU 460-5/1LW3GBD3B1/1"]
[88610204,"BCU 460-5/1LW3GBD3S2"]
[88610072,"BCU 460-5/1LW3GBD3S2B1/1"]
[88610109,"BCU 460-5/1LW3GBD3S2B1/1"]
[88610343,"BCU 460-5/1LW3GBD3S2B1/1"]
[88610665,"BCU 460-5/1LW3GBD3S2B1/1"]
[88610900,"BCU 460-5/1LW3GBE1"]
[88610197,"BCU 460-5/1LW3GBP"]
[88610325,"BCU 460-5/1LW3GBPC"]
[88610713,"BCU 460-5/1LW3GBPS2"]
[88610071,"BCU 460-5/1LW3GBS2"]
[88610092,"BCU 460-5/1LW3GBS2"]
[88610209,"BCU 460-5/1LW3GBS2"]
[88610211,"BCU 460-5/1LW3GBS2"]
[88610436,"BCU 460-5/1LW3GBS2"]
[88610603,"BCU 460-5/1LW3GBS2"]
[88610061,"BCU 460-5/1LW3GBS2B1/1"]
[88610077,"BCU 460-5/1LW3GBS2B1/1"]
[88610083,"BCU 460-5/1LW3GBS2B1/1"]
[88610118,"BCU 460-5/1LW3GBS2B1/1"]
[88610210,"BCU 460-5/1LW3GBS2B1/1"]
[88610236,"BCU 460-5/1LW3GBS2B1/1"]
[88610439,"BCU 460-5/1LW3GBS2B1/1"]
[88610117,"BCU 460-5/1LW3GBS2CB1/2"]
[88610517,"BCU 460-5/1LW3GBS2U"]
[88610599,"BCU 460-5/1LW3GBS2U"]
[88610056,"BCU 460-5/1LW3GBS3"]
[88610196,"BCU 460-5/1LW3GBS3"]
[88610351,"BCU 460-5/1LW3GBS3"]
[88610459,"BCU 460-5/1LW3GBS3"]
[88610462,"BCU 460-5/1LW3GBS3"]
[88610036,"BCU 460-5/1LW3GBS3B1/1"]
[88610137,"BCU 460-5/1LW3GBS3B1/1"]
[88610159,"BCU 460-5/1LW3GBS3B1/1"]
[88610258,"BCU 460-5/1LW3GBS3B1/1"]
[88610416,"BCU 460-5/1LW3GBS3CB1/1"]
[88610124,"BCU 460-5/1LW8GB"]
[88610228,"BCU 460-5/1LW8GB"]
[88610230,"BCU 460-5/1LW8GB"]
[88610290,"BCU 460-5/1LW8GB"]
[88610438,"BCU 460-5/1LW8GB"]
[88610464,"BCU 460-5/1LW8GB"]
[88610046,"BCU 460-5/1LW8GBB1/1"]
[88610050,"BCU 460-5/1LW8GBB1/1"]
[88610120,"BCU 460-5/1LW8GBB1/1"]
[88610193,"BCU 460-5/1LW8GBB1/1"]
[88610402,"BCU 460-5/1LW8GBD3B1/1"]
[88610639,"BCU 460-5/1LW8GBD3S2B1/2"]
[88610088,"BCU 460-5/1LW8GBS2"]
[88610189,"BCU 460-5/1LW8GBS2B1/1"]
[88610111,"BCU 460-5/1LW8GBS2B1/2"]
[88610086,"BCU 460-5/1LW8GBS2CB1/2"]
[88610765,"BCU 460-5/1LWGBS2U"]
[88610662,"BCU 460-5/1R1GBC"]
[88610308,"BCU 460-5/1R3GB"]
[88610620,"BCU 460-5/1R3GBD2"]
[88610223,"BCU 460-5/1R3GBD3"]
[88610243,"BCU 460-5/1R3GBS2"]
[88610720,"BCU 460-5/1R3GBS2B1/1"]
[88610341,"BCU 460-5/1R3GBS3"]
[88610748,"BCU 460-5/1R3GBS3"]
[88610263,"BCU 460-5/1R8GBPD2S4"]
[88610347,"BCU 460-5/1RGB"]
[88610020,"BCU 460-5/1W1GB"]
[88610160,"BCU 460-5/1W1GB"]
[88610418,"BCU 460-5/1W1GB"]
[88610528,"BCU 460-5/1W1GB"]
[88610647,"BCU 460-5/1W1GB"]
[88610421,"BCU 460-5/1W1GBC"]
[88610895,"BCU 460-5/1W1GBE1"]
[88610182,"BCU 460-5/1W2GBD3"]
[88610028,"BCU 460-5/1W3GB"]
[88610611,"BCU 460-5/1W3GB"]
[88610684,"BCU 460-5/1W3GB"]
[88610782,"BCU 460-5/1W3GB"]
[88610180,"BCU 460-5/1W3GBB1/1"]
[88610461,"BCU 460-5/1W3GBB1/1"]
[88610186,"BCU 460-5/1W3GBCB1/1"]
[88610161,"BCU 460-5/1W3GBD3S2"]
[88610560,"BCU 460-5/1W3GBD3S2"]
[88610493,"BCU 460-5/1W3GBD3S2B1/1"]
[88610237,"BCU 460-5/1W3GBD3S2B1/2"]
[88610896,"BCU 460-5/1W3GBE1"]
[88610147,"BCU 460-5/1W3GBS2"]
[88610176,"BCU 460-5/1W3GBS2"]
[88610633,"BCU 460-5/1W3GBS2"]
[88610087,"BCU 460-5/1W3GBS2B1/1"]
[88610585,"BCU 460-5/1W3GBS2B1/1"]
[88610149,"BCU 460-5/1W3GBS3"]
[88610158,"BCU 460-5/1W3GBS3"]
[88610422,"BCU 460-5/1W3GBU"]
[88610337,"BCU 460-5/1W8GB"]
[88610771,"BCU 460-5/1W8GB"]
[88610609,"BCU 460-5/1W8GBD3"]
[88610452,"BCU 460-5/1WGB"]
[88610443,"BCU 460-5/1WGBD3"]
[88610692,"BCU 460-5/1WGBPD3S3"]
[88610476,"BCU 460-5/2LW3-"]
[88610449,"BCU 460-5/2LW3GB"]
[88610432,"BCU 460-5/2LW3GBP"]
[88610534,"BCU 460-5/2LW3GBP"]
[88610553,"BCU 460-5/2LW3GBS4B1/1"]
[88610773,"BCU 460-5/2LWGBD3B1/1"]
[88610455,"BCU 460-5/2R3-"]
[88610448,"BCU 460-5/2R3GB"]
[88610397,"BCU 460-5/2W3GBS4B1/1"]
[88610578,"BCU 460-5/2W3GBS4B1/1"]
[88610043,"BCU 460-5/2W8GBB1/1"]
[88610562,"BCU 460-5/2WGBS4B1/1"]
[88611085,"BCU 460T-10/2LR3-"]
[88611083,"BCU 460T-10/2R3-"]
[88611084,"BCU 460T-5/2LR3-"]
[88610142,"BCU 465-10/1LW3GBPD2S4AC"]
[88610123,"BCU 465-10/1LWGBPAC"]
[88610536,"BCU 465-10/1LWGBPAC"]
[88610695,"BCU 465-3/1LR2GBPA"]
[88610702,"BCU 465-3/1LR2GBPA"]
[88610705,"BCU 465-3/1LR2GBPA"]
[88610306,"BCU 465-3/1LR3GBS2AB1/1"]
[88610890,"BCU 465-3/1LW1GBAC"]
[88610901,"BCU 465-3/1LW1GBACE1"]
[88610138,"BCU 465-3/1LW2GBA"]
[88610721,"BCU 465-3/1LW2GBA"]
[88610023,"BCU 465-3/1LW2GBAB1/1"]
[88610054,"BCU 465-3/1LW2GBAB1/1"]
[88610055,"BCU 465-3/1LW2GBAB1/1"]
[88610572,"BCU 465-3/1LW2GBACB1/1"]
[88610253,"BCU 465-3/1LW3GBAB1/1"]
[88610331,"BCU 465-3/1LW3GBAB1/1"]
[88610345,"BCU 465-3/1LW3GBAB1/1"]
[88610492,"BCU 465-3/1LW3GBAB1/1"]
[88610537,"BCU 465-3/1LW3GBAB1/1"]
[88610282,"BCU 465-3/1LW3GBAC"]
[88610902,"BCU 465-3/1LW3GBACE1"]
[88610696,"BCU 465-3/1LW3GBD3AB1/1"]
[88610699,"BCU 465-3/1LW3GBD3AB1/1"]
[88610354,"BCU 465-3/1LW3GBS2A"]
[88610278,"BCU 465-3/1LW3GBS2AB1/1"]
[88610292,"BCU 465-3/1LW3GBS2AB1/1"]
[88610293,"BCU 465-3/1LW3GBS2AB1/1"]
[88610499,"BCU 465-3/1LW3GBS2AB1/1"]
[88610508,"BCU 465-3/1LW3GBS2AB1/1"]
[88610526,"BCU 465-3/1LW8GBA"]
[88610637,"BCU 465-3/1LW8GBA"]
[88610411,"BCU 465-3/1LW8GBAB1/1"]
[88610413,"BCU 465-3/1LW8GBAB1/1"]
[88610469,"BCU 465-3/1LW8GBAB1/1"]
[88610509,"BCU 465-3/1LW8GBD2AB1/1"]
[88610327,"BCU 465-3/1LW8GBD2S2AB1/2"]
[88610540,"BCU 465-3/1LW8GBD2S2AB1/2"]
[88610543,"BCU 465-3/1LW8GBD2S2AB1/2"]
[88610653,"BCU 465-3/1LW8GBD3S2AB1/1"]
[88610539,"BCU 465-3/1LW8GBD3S2AB1/2"]
[88610544,"BCU 465-3/1LW8GBD3S2AB1/2"]
[88610724,"BCU 465-3/1LW8GBD3S2AB1/2"]
[88610725,"BCU 465-3/1LW8GBD3S2AB1/2"]
[88610726,"BCU 465-3/1LW8GBD3S2AB1/2"]
[88610179,"BCU 465-3/1LW8GBD3S3AB1/1"]
[88610527,"BCU 465-3/1LW8GBPA"]
[88610364,"BCU 465-3/1LW8GBPS2A"]
[88610752,"BCU 465-3/1LW8GBPS2A"]
[88610378,"BCU 465-3/1LW8GBS2A"]
[88610380,"BCU 465-3/1LW8GBS2A"]
[88610412,"BCU 465-3/1LW8GBS2A"]
[88610470,"BCU 465-3/1LW8GBS2A"]
[88610593,"BCU 465-3/1LW8GBS2A"]
[88610606,"BCU 465-3/1LW8GBS2A"]
[88610607,"BCU 465-3/1LW8GBS2A"]
[88610608,"BCU 465-3/1LW8GBS2A"]
[88610427,"BCU 465-3/1LW8GBS2AB1/1"]
[88610440,"BCU 465-3/1LW8GBS2AB1/1"]
[88610441,"BCU 465-3/1LW8GBS2AB1/1"]
[88610026,"BCU 465-3/1LW8GBS2AB1/2"]
[88610039,"BCU 465-3/1LW8GBS2AB1/2"]
[88610326,"BCU 465-3/1LW8GBS2AB1/2"]
[88610346,"BCU 465-3/1LW8GBS2AB1/2"]
[88610442,"BCU 465-3/1LW8GBS2AB1/2"]
[88610518,"BCU 465-3/1LW8GBS2AB1/2"]
[88610420,"BCU 465-3/2LW3GBAB1/1"]
[88610423,"BCU 465-3/2LW3GBAB1/1"]
[88610425,"BCU 465-3/2LW3GBAB1/1"]
[88610082,"BCU 465-3/2LW8GBS2AB1/1"]
[88610730,"BCU 465-5/1LR1GBAC"]
[88610194,"BCU 465-5/1LR3GBAB1/1"]
[88610252,"BCU 465-5/1LR3GBACB1/1"]
[88610500,"BCU 465-5/1LR3GBS2A"]
[88610155,"BCU 465-5/1LR3GBS2AB1/1"]
[88610224,"BCU 465-5/1LR3GBS2AB1/1"]
[88610231,"BCU 465-5/1LR3GBS3AB1/1"]
[88610057,"BCU 465-5/1LR3GBS3ACB1/1"]
[88610758,"BCU 465-5/1LR3GBS4AB1/1"]
[88610140,"BCU 465-5/1LR8GBS2A"]
[88610605,"BCU 465-5/1LW1GBA"]
[88610891,"BCU 465-5/1LW1GBAC"]
[88610903,"BCU 465-5/1LW1GBACE1"]
[88610121,"BCU 465-5/1LW1GBS3A"]
[88610260,"BCU 465-5/1LW1GBS3A"]
[88610679,"BCU 465-5/1LW1GBS3A"]
[88610487,"BCU 465-5/1LW2GBS3AB1/1"]
[88610511,"BCU 465-5/1LW2GBS3AB1/1"]
[88610239,"BCU 465-5/1LW3GBA"]
[88610483,"BCU 465-5/1LW3GBA"]
[88610701,"BCU 465-5/1LW3GBA"]
[88610481,"BCU 465-5/1LW3GBAB1/1"]
[88610482,"BCU 465-5/1LW3GBAB1/1"]
[88610484,"BCU 465-5/1LW3GBAB1/1"]
[88610535,"BCU 465-5/1LW3GBAB1/1"]
[88610660,"BCU 465-5/1LW3GBAC"]
[88610664,"BCU 465-5/1LW3GBAC"]
[88610904,"BCU 465-5/1LW3GBACE1"]
[88610566,"BCU 465-5/1LW3GBD3AB1/1"]
[88610393,"BCU 465-5/1LW3GBD3AC"]
[88610396,"BCU 465-5/1LW3GBD3AC"]
[88610157,"BCU 465-5/1LW3GBPA"]
[88610510,"BCU 465-5/1LW3GBPA"]
[88610719,"BCU 465-5/1LW3GBPA"]
[88610048,"BCU 465-5/1LW3GBS2AB1/1"]
[88610069,"BCU 465-5/1LW3GBS2AB1/1"]
[88610201,"BCU 465-5/1LW3GBS2AB1/1"]
[88610247,"BCU 465-5/1LW3GBS2AB1/1"]
[88610604,"BCU 465-5/1LW3GBS2AB1/1"]
[88610002,"BCU 465-5/1LW3GBS3AB1/1"]
[88610032,"BCU 465-5/1LW3GBS3ACB1/1"]
[88610076,"BCU 465-5/1LW3GBS4A"]
[88610169,"BCU 465-5/1LW3GBS4A"]
[88610012,"BCU 465-5/1LW3GBS4ACB1/1"]
[88610014,"BCU 465-5/1LW3GBS4ACB1/1"]
[88610060,"BCU 465-5/1LW3GBS4ACB1/1"]
[88610080,"BCU 465-5/1LW3GBS4ACB1/1"]
[88610091,"BCU 465-5/1LW3GBS4ACB1/1"]
[88610107,"BCU 465-5/1LW3GBS4ACB1/1"]
[88610460,"BCU 465-5/1LW3GBS4ACB1/1"]
[88610586,"BCU 465-5/1LW3GBS4ACB1/1"]
[88610135,"BCU 465-5/1LW8GBAB1/1"]
[88610143,"BCU 465-5/1LW8GBAB1/1"]
[88610164,"BCU 465-5/1LW8GBAB1/1"]
[88610595,"BCU 465-5/1LW8GBAB1/1"]
[88610746,"BCU 465-5/1LW8GBAB1/1"]
[88610265,"BCU 465-5/1LW8GBAB1/2"]
[88610339,"BCU 465-5/1LW8GBAB1/2"]
[88610392,"BCU 465-5/1LW8GBD3AB1/1"]
[88610254,"BCU 465-5/1LW8GBPAC"]
[88610618,"BCU 465-5/1LW8GBPS2A"]
[88611086,"BCU 465T-5/2LR3-"]
[88611087,"BCU 465T-5/2LR3-D3"]
[88611088,"BCU 465T-5/2LR3-D3OC"]
[88611726,"BCU 465T-5/2LR3-E1"]
[88611727,"BCU 465T-5/2LR3-D3E1"]
[88611728,"BCU 465T-5/2LR3-D3OCE1"]
[88611729,"BCU 465T-5/2LR3-OCE1"]
[74960625,"PCO 200 inklusive CD-ROM BCSoft"]
[74960617,"PCO 300 inklusive CD-ROM BCSoft"]
[74960621,"PROFIBUS-Stecker mit Schutzbeschaltung"]
[88611332,"BCU 480-10/10/1LR3GBD3S4/1U"]
[88611338,"BCU 480-10/10/1LR3GBD3S4/1U"]
[88611412,"BCU 480-10/10/1LW3GB"]
[88611021,"BCU 480-10/10/1LWGBD2CB1/1"]
[88611013,"BCU 480-10/3/1LR3GB"]
[88611326,"BCU 480-10/3/1LR3GBS3/1B1/1"]
[88611327,"BCU 480-10/3/1LR3GBS3/1B1/1"]
[88611035,"BCU 480-10/3/1LRGBS2/1"]
[88611162,"BCU 480-10/3/1LW1GBS2/1"]
[88611109,"BCU 480-10/3/1LW1GBS3/1B1/1"]
[88610837,"BCU 480-10/3/1LW1GBU"]
[88611143,"BCU 480-10/3/1LW3GB"]
[88611027,"BCU 480-10/3/1LW3GBB1/1"]
[88611063,"BCU 480-10/3/1LW3GBB1/1"]
[88611100,"BCU 480-10/3/1LW3GBB1/1"]
[88611041,"BCU 480-10/3/1LW3GBD2S2/1B1/1"]
[88611507,"BCU 480-10/3/1LW3GBD3B1/1"]
[88611511,"BCU 480-10/3/1LW3GBD3B1/1"]
[88610840,"BCU 480-10/3/1LW3GBPD2"]
[88610839,"BCU 480-10/3/1LW3GBPD3"]
[88611099,"BCU 480-10/3/1LW3GBS2/1B1/1"]
[88611444,"BCU 480-10/3/1LW3GBS2/1CB1/2"]
[88610955,"BCU 480-10/3/1LW3GBU"]
[88610813,"BCU 480-10/3/1LW8GBD2B1/1"]
[88610814,"BCU 480-10/3/1LW8GBD2B1/1"]
[88611345,"BCU 480-10/3/1LWGB"]
[88611177,"BCU 480-10/3/2LW1GBS2/1"]
[88611189,"BCU 480-10/3/2LW3GB"]
[88611190,"BCU 480-10/3/2LW3GBS2/1"]
[88611352,"BCU 480-10/5/1LR3GBD2B1/1"]
[88611342,"BCU 480-10/5/1LR3GBD3"]
[88611492,"BCU 480-10/5/1LW1GB"]
[88611362,"BCU 480-10/5/1LW1GBD3"]
[88611493,"BCU 480-10/5/1LW1GBD3"]
[88611258,"BCU 480-10/5/1LW1GBS4/1"]
[88611552,"BCU 480-10/5/1LW2GBS1/4C"]
[88611030,"BCU 480-10/5/1LW3GB"]
[88611161,"BCU 480-10/5/1LW3GB"]
[88611503,"BCU 480-10/5/1LW3GBD2"]
[88611524,"BCU 480-10/5/1LW3GBD2E1"]
[88610812,"BCU 480-10/5/1LW3GBD2S1/2"]
[88611210,"BCU 480-10/5/1LW3GBD2S2/1B1/1"]
[88611076,"BCU 480-10/5/1LW3GBD3S2/2B1/1"]
[88610831,"BCU 480-10/5/1LW3GBPS4/1"]
[88611458,"BCU 480-10/5/1LW3GBS4/1"]
[88611172,"BCU 480-10/5/1LW3GBU"]
[88610820,"BCU 480-10/5/2LW3GBD2S2/2"]
[88611062,"BCU 480-10/5/2LW8GBS3/1"]
[88611275,"BCU 480-10/5/2LWGB"]
[88611029,"BCU 480-10/5/2LWGBD2S2/1"]
[88611158,"BCU 480-3/3/1LW1GB"]
[88611337,"BCU 480-3/3/1LW1GBB1/2"]
[88611156,"BCU 480-3/3/1LW1GBD2S2/2B1/2"]
[88611178,"BCU 480-3/3/1LW1GBD2S2/2B1/2"]
[88610956,"BCU 480-3/3/1LW1GBS4/1"]
[88611067,"BCU 480-3/3/1LW1GBU"]
[88611384,"BCU 480-3/3/1LW2GB"]
[88611065,"BCU 480-3/3/1LW3GB"]
[88611141,"BCU 480-3/3/1LW3GB"]
[88611556,"BCU 480-3/3/1LW3GBB1/2"]
[88610998,"BCU 480-3/3/1LW3GBCB1/1"]
[88611549,"BCU 480-3/3/1LW3GBD3S2/2"]
[88611344,"BCU 480-3/3/1LW3GBD3U"]
[88611360,"BCU 480-3/3/1LW3GBS3/1"]
[88611144,"BCU 480-3/3/1LW3GBS3/1B1/1"]
[88610826,"BCU 480-3/3/1LW3GBU"]
[88610880,"BCU 480-3/3/1LW3GBU"]
[88611474,"BCU 480-3/3/1LW8GB"]
[88611155,"BCU 480-3/3/1LW8GBD2S2/2B1/2"]
[88611187,"BCU 480-3/3/1LWGB"]
[88611146,"BCU 480-3/3/2LR3GBB1/1"]
[88611273,"BCU 480-3/5/1LW1GBD3"]
[88611274,"BCU 480-3/5/1LW1GBD3B1/1"]
[88611292,"BCU 480-5/10/1LW1GB"]
[88611335,"BCU 480-5/10/1LW3GBD2S2/2B1/1"]
[88611081,"BCU 480-5/10/1LW3GBS3/1"]
[88610881,"BCU 480-5/10/1LW8GB"]
[88611039,"BCU 480-5/3/1L5W1GB"]
[88611038,"BCU 480-5/3/1L5W3GB"]
[88611521,"BCU 480-5/3/1L5W3GBS2/2B1/1"]
[88611122,"BCU 480-5/3/1L5W3GBS3/1"]
[88611078,"BCU 480-5/3/1LR1GBB1/1"]
[88611082,"BCU 480-5/3/1LR1GBS2/1"]
[88611445,"BCU 480-5/3/1LR1GBS2/1B1/1"]
[88611359,"BCU 480-5/3/1LR1GBS3/1"]
[88610925,"BCU 480-5/3/1LR1GBS4/1B1/1"]
[88611324,"BCU 480-5/3/1LR1GBU"]
[88610850,"BCU 480-5/3/1LR3GB"]
[88610989,"BCU 480-5/3/1LR3GB"]
[88611377,"BCU 480-5/3/1LR3GB"]
[88610997,"BCU 480-5/3/1LR3GBB1/1"]
[88611176,"BCU 480-5/3/1LR3GBD2"]
[88611502,"BCU 480-5/3/1LR3GBD2"]
[88611297,"BCU 480-5/3/1LR3GBD2B1/1"]
[88611382,"BCU 480-5/3/1LR3GBD2B1/1"]
[88610852,"BCU 480-5/3/1LR3GBD2S3/1"]
[88610853,"BCU 480-5/3/1LR3GBD2S3/1"]
[88611136,"BCU 480-5/3/1LR3GBD3S2/1B1/1"]
[88610856,"BCU 480-5/3/1LR3GBS2/1B1/1"]
[88610854,"BCU 480-5/3/1LR3GBS3/1"]
[88611375,"BCU 480-5/3/1LR3GBS3/2B1/1"]
[88611150,"BCU 480-5/3/1LRGBU"]
[88610843,"BCU 480-5/3/1LW1GB"]
[88611224,"BCU 480-5/3/1LW1GB"]
[88611255,"BCU 480-5/3/1LW1GB"]
[88611321,"BCU 480-5/3/1LW1GB"]
[88611402,"BCU 480-5/3/1LW1GB"]
[88611018,"BCU 480-5/3/1LW1GBD2"]
[88611471,"BCU 480-5/3/1LW1GBD2S2/2B1/2"]
[88610999,"BCU 480-5/3/1LW1GBD2S4/1"]
[88611019,"BCU 480-5/3/1LW1GBD3"]
[88611361,"BCU 480-5/3/1LW1GBD3"]
[88610870,"BCU 480-5/3/1LW1GBD3S2/1"]
[88610953,"BCU 480-5/3/1LW1GBD3S2/1B1/1"]
[88611264,"BCU 480-5/3/1LW1GBD3S2/1C"]
[88611397,"BCU 480-5/3/1LW1GBD3S2/2CB1/1"]
[88611398,"BCU 480-5/3/1LW1GBD3S2/2CB1/1"]
[88611463,"BCU 480-5/3/1LW1GBD3S2/2CB1/1E1"]
[88611304,"BCU 480-5/3/1LW1GBD3U"]
[88611075,"BCU 480-5/3/1LW1GBS3/1B1/1"]
[88611283,"BCU 480-5/3/1LW1GBS3/1B1/1"]
[88610884,"BCU 480-5/3/1LW1GBU"]
[88611427,"BCU 480-5/3/1LW1GBU"]
[88611485,"BCU 480-5/3/1LW1GBU"]
[88610847,"BCU 480-5/3/1LW2GBS3/1B1/1"]
[88610823,"BCU 480-5/3/1LW3GB"]
[88611311,"BCU 480-5/3/1LW3GB"]
[88610862,"BCU 480-5/3/1LW3GBB1/1"]
[88611389,"BCU 480-5/3/1LW3GBB1/1"]
[88611023,"BCU 480-5/3/1LW3GBCB1/1"]
[88611248,"BCU 480-5/3/1LW3GBD2"]
[88610981,"BCU 480-5/3/1LW3GBD2B1/1"]
[88610987,"BCU 480-5/3/1LW3GBD2B1/1"]
[88611043,"BCU 480-5/3/1LW3GBD2B1/1"]
[88611391,"BCU 480-5/3/1LW3GBD2B1/1"]
[88610885,"BCU 480-5/3/1LW3GBD2CB1/1"]
[88610828,"BCU 480-5/3/1LW3GBD2S2/1"]
[88611012,"BCU 480-5/3/1LW3GBD2S2/1"]
[88611192,"BCU 480-5/3/1LW3GBD2S2/1B1/2"]
[88611290,"BCU 480-5/3/1LW3GBD2S2/1B1/2"]
[88611151,"BCU 480-5/3/1LW3GBD2S2/2B1/1"]
[88610912,"BCU 480-5/3/1LW3GBD2S3/1B1/1"]
[88610929,"BCU 480-5/3/1LW3GBD2S3/1B1/1"]
[88610971,"BCU 480-5/3/1LW3GBD2S3/1B1/1"]
[88610972,"BCU 480-5/3/1LW3GBD2S3/1B1/1"]
[88611004,"BCU 480-5/3/1LW3GBD2S3/1B1/1"]
[88611005,"BCU 480-5/3/1LW3GBD2S3/1B1/1"]
[88611358,"BCU 480-5/3/1LW3GBD2S3/1B1/1"]
[88611429,"BCU 480-5/3/1LW3GBD2S3/2B1/1"]
[88611341,"BCU 480-5/3/1LW3GBD2S4/4B1/1"]
[88610965,"BCU 480-5/3/1LW3GBD3"]
[88611266,"BCU 480-5/3/1LW3GBD3"]
[88611435,"BCU 480-5/3/1LW3GBD3CB1/1"]
[88610834,"BCU 480-5/3/1LW3GBD3S2/1B1/1"]
[88610983,"BCU 480-5/3/1LW3GBD3S2/1B1/1"]
[88611532,"BCU 480-5/3/1LW3GBD3S2/2"]
[88610835,"BCU 480-5/3/1LW3GBD3S2/2B1/1"]
[88611252,"BCU 480-5/3/1LW3GBD3S2/2CB1/1"]
[88611548,"BCU 480-5/3/1LW3GBD3S3/1C"]
[88611561,"BCU 480-5/3/1LW3GBD3S3/1C"]
[88611349,"BCU 480-5/3/1LW3GBD3S3/2CB1/1"]
[88611473,"BCU 480-5/3/1LW3GBD3S4/1"]
[88610940,"BCU 480-5/3/1LW3GBS2/1"]
[88611175,"BCU 480-5/3/1LW3GBS2/1"]
[88611443,"BCU 480-5/3/1LW3GBS2/1"]
[88611053,"BCU 480-5/3/1LW3GBS2/1B1/1"]
[88611373,"BCU 480-5/3/1LW3GBS2/1B1/1"]
[88611394,"BCU 480-5/3/1LW3GBS2/1B1/1"]
[88611261,"BCU 480-5/3/1LW3GBS2/1C"]
[88610802,"BCU 480-5/3/1LW3GBS2/2"]
[88611489,"BCU 480-5/3/1LW3GBS2/2"]
[88611490,"BCU 480-5/3/1LW3GBS2/2"]
[88611315,"BCU 480-5/3/1LW3GBS2/2B1/1"]
[88610952,"BCU 480-5/3/1LW3GBS3/1"]
[88611415,"BCU 480-5/3/1LW3GBS3/1U"]
[88611470,"BCU 480-5/3/1LW3GBS3/1U"]
[88610874,"BCU 480-5/3/1LW3GBS3/3C"]
[88610958,"BCU 480-5/3/1LW3GBU"]
[88611126,"BCU 480-5/3/1LW3GBU"]
[88611350,"BCU 480-5/3/1LW3GBU"]
[88611476,"BCU 480-5/3/1LW3GBUE1"]
[88611558,"BCU 480-5/3/1LW8GBB1/1"]
[88610948,"BCU 480-5/3/1LWGBB1/1"]
[88611368,"BCU 480-5/3/1LWGBD3B1/1"]
[88611233,"BCU 480-5/3/1LWGBD3S4/1CB1/1"]
[88610857,"BCU 480-5/3/1LWGBS2/1B1/1"]
[88611312,"BCU 480-5/3/1LWGBS4/1U"]
[88611051,"BCU 480-5/3/1LWGBU"]
[88611263,"BCU 480-5/3/2L5W3GBD2B1/1"]
[88611278,"BCU 480-5/3/2LW1GBS2/1CB1/1"]
[88611421,"BCU 480-5/3/2LW3GBD3S2/1B1/1"]
[88611388,"BCU 480-5/3/2LW3GBPD3S2/2"]
[88611114,"BCU 480-5/3/2LW3GBS4/1B1/1"]
[88611536,"BCU 480-5/5/1L5W3GBD2S2/1"]
[88610833,"BCU 480-5/5/1LR3GBB1/1"]
[88611355,"BCU 480-5/5/1LR3GBS2/2B1/1"]
[88611216,"BCU 480-5/5/1LW1GB"]
[88611217,"BCU 480-5/5/1LW1GBB1/1"]
[88610838,"BCU 480-5/5/1LW3GB"]
[88611256,"BCU 480-5/5/1LW3GB"]
[88611000,"BCU 480-5/5/1LW3GBPD3S4/4U"]
[88611147,"BCU 480-5/5/1LW3GBS2/1"]
[88610871,"BCU 480-5/5/1LW3GBS3/3C"]
[88611287,"BCU 480-5/5/1LW3GBS3/3CB1/1"]
[88610830,"BCU 480-5/5/1LW8GBS2/1B1/1"]
[88611112,"BCU 480-5/5/1LW8GBU"]
[88611472,"BCU 480-5/5/1LW8GBU"]
[88611347,"BCU 480-5/5/2LW8GBS2/1B1/1"]
[88611022,"BCU 480T-10/10/1LW-D2CB1/1"]
[88611227,"BCU 480T-10/10/2LR-B1/1"]
[88611128,"BCU 480T-10/10/2LR8-B1/1"]
[88610848,"BCU 480T-10/10/2LR8-D3B1/1"]
[88611376,"BCU 480T-10/5/1LR3-D3"]
[88610995,"BCU 480T-10/5/2LR3-B1/1"]
[88611251,"BCU 480T-10/5/2LR3-D2"]
[88611343,"BCU 480T-10/5/2LW3-D3"]
[88611079,"BCU 480T-5/3/1LR1-D2"]
[88611295,"BCU 480T-5/3/1LR3-D3"]
[88611246,"BCU 480T-5/5/2LR3-D2B1/1"]
[88610774,"BCU 480-10/10/1LW1GB"]
[88610787,"BCU 480-10/10/1LW1GB"]
[88610596,"BCU 480-10/10/1LW3GBD3S2/2"]
[88610477,"BCU 480-10/10/2LR3-D2B1/1"]
[88610478,"BCU 480-10/10/2LR3-D3B1/1"]
[88610531,"BCU 480-10/3/1LR3GBS3/1B1/1"]
[88610199,"BCU 480-10/3/1LW1GB"]
[88610592,"BCU 480-10/3/1LW1GBD2B1/1"]
[88610907,"BCU 480-10/3/1LW1GBE1"]
[88610786,"BCU 480-10/3/1LW1GBS2/2"]
[88610424,"BCU 480-10/3/1LW1GBU"]
[88610114,"BCU 480-10/3/1LW3GB"]
[88610130,"BCU 480-10/3/1LW3GB"]
[88610188,"BCU 480-10/3/1LW3GB"]
[88610778,"BCU 480-10/3/1LW3GBD2S3/3"]
[88610504,"BCU 480-10/3/1LW3GBD3S3/1"]
[88610908,"BCU 480-10/3/1LW3GBE1"]
[88610122,"BCU 480-10/3/1LW3GBS2/1B1/1"]
[88610205,"BCU 480-10/3/1LW3GBS2/1B1/1"]
[88610561,"BCU 480-10/3/1LW3GBS2/1U"]
[88610779,"BCU 480-10/3/2LW3GBD2S3/3B1/1"]
[88610530,"BCU 480-10/3/2LW3GBPD3S3/1"]
[88610150,"BCU 480-10/5/1LR3GBD2B1/1"]
[88610627,"BCU 480-10/5/1LW1GB"]
[88610632,"BCU 480-10/5/1LW1GB"]
[88610669,"BCU 480-10/5/1LW1GBB1/1"]
[88610063,"BCU 480-10/5/1LW2GB"]
[88610621,"BCU 480-10/5/1LW2GBD3S2/4C"]
[88610555,"BCU 480-10/5/1LW2GBS2/4C"]
[88610027,"BCU 480-10/5/1LW3GBCB1/1"]
[88610320,"BCU 480-10/5/1LW3GBD3S2/2"]
[88610369,"BCU 480-10/5/1LW3GBD3S2/2"]
[88610388,"BCU 480-10/5/1LW3GBS2/1B1/1"]
[88610389,"BCU 480-10/5/1LW3GBS2/1U"]
[88610740,"BCU 480-10/5/1LW3GBS2/2"]
[88610694,"BCU 480-10/5/1LWGBB1/1"]
[88610348,"BCU 480-10/5/1LWGBS1/2"]
[88610419,"BCU 480-10/5/2LR3GB"]
[88610145,"BCU 480-10/5/2LW3GBS4/4B1/1"]
[88610723,"BCU 480-3/10/1LW1GB"]
[88610728,"BCU 480-3/10/1LW1GB"]
[88610549,"BCU 480-3/3/1LR1GBD3"]
[88610521,"BCU 480-3/3/1LR3GBD2B1/1"]
[88610471,"BCU 480-3/3/1LR3GBD2S2/1B1/2"]
[88610312,"BCU 480-3/3/1LR3GBS3/1B1/1"]
[88610652,"BCU 480-3/3/1LW1GB"]
[88610268,"BCU 480-3/3/1LW1GBCB1/1"]
[88610433,"BCU 480-3/3/1LW3GB"]
[88610468,"BCU 480-3/3/1LW3GB"]
[88610749,"BCU 480-3/3/1LW3GB"]
[88610788,"BCU 480-3/3/1LW3GB"]
[88610273,"BCU 480-3/3/1LW3GBB1/1"]
[88610276,"BCU 480-3/3/1LW3GBD2CB1/1"]
[88610428,"BCU 480-3/3/1LW3GBD3B1/1"]
[88610286,"BCU 480-3/3/1LW3GBD3CB1/1"]
[88610729,"BCU 480-3/3/1LW3GBD3S2/1U"]
[88610581,"BCU 480-3/3/1LW3GBD3U"]
[88610643,"BCU 480-3/3/1LW3GBS2/2"]
[88610274,"BCU 480-3/3/1LWGBB1/1"]
[88610275,"BCU 480-3/3/1LWGBD3CB1/1"]
[88610222,"BCU 480-3/5/1LW3GBCB1/1"]
[88610638,"BCU 480-3/5/1LW3GBD2"]
[88610750,"BCU 480-5/10/1LW2GBPD3S4/2U"]
[88610680,"BCU 480-5/3/1LR1GB"]
[88610707,"BCU 480-5/3/1LR1GB"]
[88610212,"BCU 480-5/3/1LR1GBB1/1"]
[88610532,"BCU 480-5/3/1LR1GBB1/1"]
[88610328,"BCU 480-5/3/1LR1GBD2S3/1"]
[88610644,"BCU 480-5/3/1LR1GBD2S4/1B1/1"]
[88610703,"BCU 480-5/3/1LR1GBS2/1"]
[88610216,"BCU 480-5/3/1LR1GBS2/1B1/1"]
[88610203,"BCU 480-5/3/1LR1GBS4/1B1/1"]
[88610316,"BCU 480-5/3/1LR1GBS4/1B1/1"]
[88610698,"BCU 480-5/3/1LR2GBD2S2/1"]
[88610289,"BCU 480-5/3/1LR3GB"]
[88610494,"BCU 480-5/3/1LR3GB"]
[88610761,"BCU 480-5/3/1LR3GB"]
[88610762,"BCU 480-5/3/1LR3GB"]
[88610793,"BCU 480-5/3/1LR3GB"]
[88610335,"BCU 480-5/3/1LR3GBB1/1"]
[88610170,"BCU 480-5/3/1LR3GBD2"]
[88610522,"BCU 480-5/3/1LR3GBD2B1/1"]
[88610681,"BCU 480-5/3/1LR3GBD2B1/1"]
[88610227,"BCU 480-5/3/1LR3GBD2S3/1B1/1"]
[88610634,"BCU 480-5/3/1LR3GBD3U"]
[88610355,"BCU 480-5/3/1LR3GBS3/1B1/1"]
[88610407,"BCU 480-5/3/1LR3GBS3/1B1/1"]
[88610588,"BCU 480-5/3/1LR3GBS3/1B1/1"]
[88610171,"BCU 480-5/3/1LW1GB"]
[88610390,"BCU 480-5/3/1LW1GB"]
[88610542,"BCU 480-5/3/1LW1GB"]
[88610089,"BCU 480-5/3/1LW1GBB1/1"]
[88610497,"BCU 480-5/3/1LW1GBB1/1"]
[88610631,"BCU 480-5/3/1LW1GBD3B1/1"]
[88610676,"BCU 480-5/3/1LW1GBD3S2/1B1/2"]
[88610905,"BCU 480-5/3/1LW1GBE1"]
[88610134,"BCU 480-5/3/1LW1GBS2/1"]
[88610200,"BCU 480-5/3/1LW1GBS2/1"]
[88610766,"BCU 480-5/3/1LW1GBS3/1"]
[88610287,"BCU 480-5/3/1LW1GBS4/4"]
[88610280,"BCU 480-5/3/1LW2GB"]
[88610269,"BCU 480-5/3/1LW2GBCB1/1"]
[88610049,"BCU 480-5/3/1LW3GB"]
[88610317,"BCU 480-5/3/1LW3GB"]
[88610491,"BCU 480-5/3/1LW3GB"]
[88610590,"BCU 480-5/3/1LW3GB"]
[88610021,"BCU 480-5/3/1LW3GBB1/1"]
[88610168,"BCU 480-5/3/1LW3GBB1/1"]
[88610332,"BCU 480-5/3/1LW3GBB1/1"]
[88610365,"BCU 480-5/3/1LW3GBB1/1"]
[88610501,"BCU 480-5/3/1LW3GBB1/1"]
[88610514,"BCU 480-5/3/1LW3GBB1/1"]
[88610279,"BCU 480-5/3/1LW3GBCB1/1"]
[88610272,"BCU 480-5/3/1LW3GBD2"]
[88610659,"BCU 480-5/3/1LW3GBD2"]
[88610775,"BCU 480-5/3/1LW3GBD2"]
[88610408,"BCU 480-5/3/1LW3GBD2B1/1"]
[88610473,"BCU 480-5/3/1LW3GBD2B1/1"]
[88610744,"BCU 480-5/3/1LW3GBD2B1/1"]
[88610285,"BCU 480-5/3/1LW3GBD2CB1/1"]
[88610777,"BCU 480-5/3/1LW3GBD2S2/1"]
[88610125,"BCU 480-5/3/1LW3GBD2S2/1B1/1"]
[88610754,"BCU 480-5/3/1LW3GBD2S2/1B1/1"]
[88610323,"BCU 480-5/3/1LW3GBD2S2/1B1/2"]
[88610261,"BCU 480-5/3/1LW3GBD2S3/1B1/1"]
[88610405,"BCU 480-5/3/1LW3GBD2S3/1B1/1"]
[88610733,"BCU 480-5/3/1LW3GBD2S3/1B1/1"]
[88610734,"BCU 480-5/3/1LW3GBD2S3/1B1/1"]
[88610302,"BCU 480-5/3/1LW3GBD3"]
[88610309,"BCU 480-5/3/1LW3GBD3"]
[88610067,"BCU 480-5/3/1LW3GBD3S2/1B1/1"]
[88610403,"BCU 480-5/3/1LW3GBD3S2/1B1/1"]
[88610429,"BCU 480-5/3/1LW3GBD3S2/1B1/1"]
[88610646,"BCU 480-5/3/1LW3GBD3S2/1B1/2"]
[88610567,"BCU 480-5/3/1LW3GBD3S2/1CB1/1"]
[88610474,"BCU 480-5/3/1LW3GBD3S2/2B1/1"]
[88610785,"BCU 480-5/3/1LW3GBD3S2/2CB1/1"]
[88610764,"BCU 480-5/3/1LW3GBD3S3/1B1/1"]
[88610533,"BCU 480-5/3/1LW3GBD3S3/1CB1/1"]
[88610712,"BCU 480-5/3/1LW3GBD3S3/3"]
[88610731,"BCU 480-5/3/1LW3GBD3S3/3B1/1"]
[88610310,"BCU 480-5/3/1LW3GBD3U"]
[88610906,"BCU 480-5/3/1LW3GBE1"]
[88610430,"BCU 480-5/3/1LW3GBP"]
[88610030,"BCU 480-5/3/1LW3GBS2/1B1/1"]
[88610490,"BCU 480-5/3/1LW3GBS2/1B1/1"]
[88610577,"BCU 480-5/3/1LW3GBS2/1B1/2"]
[88610716,"BCU 480-5/3/1LW3GBS2/1U"]
[88610234,"BCU 480-5/3/1LW3GBS2/2"]
[88610753,"BCU 480-5/3/1LW3GBS2/2"]
[88610100,"BCU 480-5/3/1LW3GBS2/2B1/1"]
[88610101,"BCU 480-5/3/1LW3GBS3/1B1/1"]
[88610406,"BCU 480-5/3/1LW3GBS3/1B1/1"]
[88610154,"BCU 480-5/3/1LW3GBS3/3B1/1"]
[88610245,"BCU 480-5/3/1LW3GBS4/1"]
[88610709,"BCU 480-5/3/1LW3GBS4/1"]
[88610233,"BCU 480-5/3/1LW3GBS4/1B1/1"]
[88610248,"BCU 480-5/3/1LW3GBS4/1B1/1"]
[88610311,"BCU 480-5/3/1LW3GBS4/2B1/1"]
[88610259,"BCU 480-5/3/1LW8GBD3S2/1B1/2"]
[88610630,"BCU 480-5/3/1LWGB"]
[88610693,"BCU 480-5/3/1LWGBD3"]
[88610352,"BCU 480-5/3/1LWGBD3S3/1B1/1"]
[88610361,"BCU 480-5/3/1LWGBD3S3/1CB1/1"]
[88610466,"BCU 480-5/3/2LR3-B1/1"]
[88610797,"BCU 480-5/3/2LW3GBD2B1/1"]
[88610798,"BCU 480-5/3/2LW3GBD2S2/1B1/1"]
[88610760,"BCU 480-5/5/1LR3GBPD2S4/4"]
[88610769,"BCU 480-5/5/1LR3GBS3/1B1/1"]
[88610314,"BCU 480-5/5/1LR8GBS2/1B1/1"]
[88610391,"BCU 480-5/5/1LW1GB"]
[88610791,"BCU 480-5/5/1LW1GBU"]
[88610783,"BCU 480-5/5/1LW3GB"]
[88610382,"BCU 480-5/5/1LW3GBD2"]
[88610515,"BCU 480-5/5/1LW3GBD2"]
[88610656,"BCU 480-5/5/1LW3GBD2S2/1B1/1"]
[88610763,"BCU 480-5/5/1LW3GBPD3S4/4"]
[88610503,"BCU 480-5/5/1LW3GBS2/2"]
[88610507,"BCU 480-5/5/1LW3GBS2/2B1/1"]
[88610789,"BCU 480-5/5/1LW3GBU"]
[88610318,"BCU 480-5/5/1LW8GBS2/1B1/1"]
[88610796,"BCU 480-5/5/1LW8GBU"]
[88610277,"BCU 480-5/5/1LWGBD2S4/2"]
[88610362,"BCU 480-5/5/1LWGBS4/1CB1/1"]
[88610780,"BCU 480-5/5/2LR3GB"]
[88610400,"BCU 480-5/5/2LR8GBS2/1B1/1"]
[88611089,"BCU 480T-5/5/2LR3-"]
[88611730,"BCU 480T-5/5/2LR3-E1"]
[88611731,"BCU 480T-10/5/2LR3-E1"]

{"sheet":"Tabelle3","index":12,"n_rows":0,"n_cols":0,"rows_kept":0,"cut":false,"hidden":false,"merged":[]}